{"text_format":"1","workbook":"xlsx","n_sheets":24,"sheets":["Megrendelő","Segéd","ST","Árlista","Fúrók","Racsnis kulcs","Csavarbehajtók","Sarokcsiszolók","Egyenes csiszolók","Szalag- és excentercsiszolók","Polír- és fiber csiszolók","Légkulcsok","Dugókulcsok","Vésők, leverők ...","Vágók, fűrészek, szegecshúzók","Szóró- és lefúvató pisztolyok","ABAC termékek","Csatlakozók","Abroncstöltők","Garázsipari eszközök","Akkumulátoros gépek","Tömlők, tömlődobok","Szűrők, szabályzók, olajzók","Balancerek"],"not_rendered":{"charts":0,"images":929,"macros":1,"external_links":0,"defined_names":15,"comments":1,"pivot_tables":0},"unopened":[],"bounds":{"document_bytes":16777216,"sheet_cells":100000,"rows_first":2000,"rows_last":500,"rows_between":2000,"halvings":0,"cell_chars":16384,"cell_head_chars":4096},"cells_cut":0,"cells_raw":0,"read":"whole","date_system":"1900"}

{"sheet":"Megrendelő","index":0,"n_rows":60,"n_cols":30,"rows_kept":60,"cut":false,"hidden":false,"merged":[[34,29,34,31],[26,29,26,31],[27,29,27,31],[28,29,28,31],[29,29,29,31],[30,29,30,31],[31,29,31,31],[24,29,24,31],[25,29,25,31],[11,32,13,32],[32,29,32,31],[33,29,33,31],[19,29,19,31],[20,29,20,31],[21,29,21,31],[22,29,22,31],[23,29,23,31],[14,29,14,31],[15,29,15,31],[16,29,16,31],[17,29,17,31],[18,29,18,31],[35,23,37,23],[35,25,37,25],[19,21,21,21],[19,19,21,19],[19,23,21,23],[19,25,21,25],[27,19,29,19],[27,21,29,21],[11,27,12,27],[19,27,20,27],[40,3,40,7],[42,0,42,1],[42,3,42,7],[38,0,38,1],[38,3,38,7],[39,0,39,1],[27,23,29,23],[27,25,29,25],[11,19,12,19],[11,21,12,21],[11,23,12,23],[11,25,12,25],[35,19,37,19],[35,21,37,21],[39,3,39,7],[5,0,5,1],[4,0,4,1],[5,2,5,6],[1,2,1,6],[3,0,3,1],[3,2,3,6],[4,2,4,6],[6,0,6,1],[7,0,7,1]]}
[]
[null,null,"MEGRENDELŐ"]
[null,null,null,null,null,null,null,null,null,null,null,null,null,null,null,null,null,null,null,null,null,null,null,null,null,null,null,null,null,"Új árlista Rodcraft és Chicago Pneumatic 2020"]
["Cég neve:",null,null,null,null,null,null,null,null,null,null,null,null,null,null,null,null,null,null,null,null,null,null,null,null,null,null,null,null,"Új Rodcraft TOPS és CP Stars 2020 árak"]
["Számlázási cím:",null,null,null,null,null,null,"Adószám:"]
["Szállítási cím:"]
["Megrendelő neve:",null,null,"Fizetési mód:",null,null,1,"Pénznem:",1]
["Telefon:",null,null,"Kedvezmény:",null,null,0,"Szállítás:",1]
[null,null,null,"Árfolyam:",{"$f":"F9-3","v":0},3,340,"HUF/EU",{"$f":"ROUND(G9/5,0)*5","v":340}]
[]
[null,"Cikkszám","Megnevezés","Mennyiség","Kedvez- mény","Súly","Nettó listaár",{"$f":"\"Nettó kedvezményes egységár \"&IF($I$7=1,\"HUF\",\"EUR\")","v":"Nettó kedvezményes egységár HUF"},{"$f":"\"Összesen \"&IF($I$7=1,\"HUF\",\"EUR\")","v":"Összesen HUF"},null,null,"LÉGSZERSZÁMOK"]
[1,{"$f":"IFERROR(IF(ST!C3>0,ST!C3,\"\"),\"\")","v":""},{"$f":"IFERROR(IF(ST!D3>0,ST!D3,\"\"),\"\")","v":""},null,{"$f":"IFERROR(IF(ISNUMBER(G12),IF(AND(0.12<G$8,0.16>G$8),IF(ST!G3>0,0.15,G$8),IF(G$8>0.15,G$8-ST!G3,G$8)),\"\"),\"\")","v":""},{"$f":"IFERROR(ST!H3*D12,\"\")","v":""},{"$f":"IFERROR(IF(AND(E$8=\"ws\",ST!L3>0),ST!L3,IF(ST!K3>0,ST!K3,IF(ST!J3>0,ST!J3,\"\"))),\"\")","v":""},{"$f":"IFERROR(ROUND(IF(G12>0,IF(I$7>1,(1-E12)*G12/340,(1-E12)*G12/340*I$9),\"\"),E$9),\"\")","v":""},{"$f":"IFERROR(H12*D12,\"\")","v":""},null,null,"Árlista",null,null,null,null,null,null,null,"Légkulcsok",null,"Fúrók",null,"Racsnis kulcsok",null,"Csavar-behajtók",null,"Sarok- csiszolók"]
[2,{"$f":"IFERROR(IF(ST!C4>0,ST!C4,\"\"),\"\")","v":""},{"$f":"IFERROR(IF(ST!D4>0,ST!D4,\"\"),\"\")","v":""},null,{"$f":"IFERROR(IF(ISNUMBER(G13),IF(AND(0.12<G$8,0.16>G$8),IF(ST!G4>0,0.15,G$8),IF(G$8>0.15,G$8-ST!G4,G$8)),\"\"),\"\")","v":""},{"$f":"IFERROR(ST!H4*D13,\"\")","v":""},{"$f":"IFERROR(IF(AND(E$8=\"ws\",ST!L4>0),ST!L4,IF(ST!K4>0,ST!K4,IF(ST!J4>0,ST!J4,\"\"))),\"\")","v":""},{"$f":"IFERROR(ROUND(IF(G13>0,IF(I$7>1,(1-E13)*G13/340,(1-E13)*G13/340*I$9),\"\"),E$9),\"\")","v":""},"",null,null,"Megrendelő"]
[3,{"$f":"IFERROR(IF(ST!C5>0,ST!C5,\"\"),\"\")","v":""},{"$f":"IFERROR(IF(ST!D5>0,ST!D5,\"\"),\"\")","v":""},null,{"$f":"IFERROR(IF(ISNUMBER(G14),IF(AND(0.12<G$8,0.16>G$8),IF(ST!G5>0,0.15,G$8),IF(G$8>0.15,G$8-ST!G5,G$8)),\"\"),\"\")","v":""},{"$f":"IFERROR(ST!H5*D14,\"\")","v":""},{"$f":"IFERROR(IF(AND(E$8=\"ws\",ST!L5>0),ST!L5,IF(ST!K5>0,ST!K5,IF(ST!J5>0,ST!J5,\"\"))),\"\")","v":""},"","",null,null,"Fúrók"]
[4,{"$f":"IFERROR(IF(ST!C6>0,ST!C6,\"\"),\"\")","v":""},{"$f":"IFERROR(IF(ST!D6>0,ST!D6,\"\"),\"\")","v":""},null,{"$f":"IFERROR(IF(ISNUMBER(G15),IF(AND(0.12<G$8,0.16>G$8),IF(ST!G6>0,0.15,G$8),IF(G$8>0.15,G$8-ST!G6,G$8)),\"\"),\"\")","v":""},{"$f":"IFERROR(ST!H6*D15,\"\")","v":""},{"$f":"IFERROR(IF(AND(E$8=\"ws\",ST!L6>0),ST!L6,IF(ST!K6>0,ST!K6,IF(ST!J6>0,ST!J6,\"\"))),\"\")","v":""},"","",null,null,"Racsnis kulcsok",null,null,null,null,null,null,null,null,null,null,null,null,null,null,null,null,null,{"$f":"Fúrók!A25","v":"A feltüntett árak a 2020.02.01.-től "}]
[5,{"$f":"IFERROR(IF(ST!C7>0,ST!C7,\"\"),\"\")","v":""},{"$f":"IFERROR(IF(ST!D7>0,ST!D7,\"\"),\"\")","v":""},null,{"$f":"IFERROR(IF(ISNUMBER(G16),IF(AND(0.12<G$8,0.16>G$8),IF(ST!G7>0,0.15,G$8),IF(G$8>0.15,G$8-ST!G7,G$8)),\"\"),\"\")","v":""},{"$f":"IFERROR(ST!H7*D16,\"\")","v":""},{"$f":"IFERROR(IF(AND(E$8=\"ws\",ST!L7>0),ST!L7,IF(ST!K7>0,ST!K7,IF(ST!J7>0,ST!J7,\"\"))),\"\")","v":""},"","",null,null,"Csavarbehajtók",null,null,null,null,null,null,null,null,null,null,null,null,null,null,null,null,null,{"$f":"Fúrók!A26","v":"érvényes listaárak."}]
[6,{"$f":"IFERROR(IF(ST!C8>0,ST!C8,\"\"),\"\")","v":""},{"$f":"IFERROR(IF(ST!D8>0,ST!D8,\"\"),\"\")","v":""},null,{"$f":"IFERROR(IF(ISNUMBER(G17),IF(AND(0.12<G$8,0.16>G$8),IF(ST!G8>0,0.15,G$8),IF(G$8>0.15,G$8-ST!G8,G$8)),\"\"),\"\")","v":""},{"$f":"IFERROR(ST!H8*D17,\"\")","v":""},{"$f":"IFERROR(IF(AND(E$8=\"ws\",ST!L8>0),ST!L8,IF(ST!K8>0,ST!K8,IF(ST!J8>0,ST!J8,\"\"))),\"\")","v":""},"","",null,null,"Sarokcsiszolók"]
[7,{"$f":"IFERROR(IF(ST!C9>0,ST!C9,\"\"),\"\")","v":""},{"$f":"IFERROR(IF(ST!D9>0,ST!D9,\"\"),\"\")","v":""},null,{"$f":"IFERROR(IF(ISNUMBER(G18),IF(AND(0.12<G$8,0.16>G$8),IF(ST!G9>0,0.15,G$8),IF(G$8>0.15,G$8-ST!G9,G$8)),\"\"),\"\")","v":""},{"$f":"IFERROR(ST!H9*D18,\"\")","v":""},{"$f":"IFERROR(IF(AND(E$8=\"ws\",ST!L9>0),ST!L9,IF(ST!K9>0,ST!K9,IF(ST!J9>0,ST!J9,\"\"))),\"\")","v":""},"","",null,null,"Légkulcsok",null,null,null,null,null,null,null,null,null,null,null,null,null,null,null,null,null,{"$f":"Fúrók!A27","v":"* jelöléssel ellátott termékek a "}]
[8,{"$f":"IFERROR(IF(ST!C10>0,ST!C10,\"\"),\"\")","v":""},{"$f":"IFERROR(IF(ST!D10>0,ST!D10,\"\"),\"\")","v":""},null,{"$f":"IFERROR(IF(ISNUMBER(G19),IF(AND(0.12<G$8,0.16>G$8),IF(ST!G10>0,0.15,G$8),IF(G$8>0.15,G$8-ST!G10,G$8)),\"\"),\"\")","v":""},{"$f":"IFERROR(ST!H10*D19,\"\")","v":""},{"$f":"IFERROR(IF(AND(E$8=\"ws\",ST!L10>0),ST!L10,IF(ST!K10>0,ST!K10,IF(ST!J10>0,ST!J10,\"\"))),\"\")","v":""},"","",null,null,"Egyenes csiszolók",null,null,null,null,null,null,null,null,null,null,null,null,null,null,null,null,null,{"$f":"Fúrók!A28","v":"RC TOPS és CP STAR akciós"}]
[9,{"$f":"IFERROR(IF(ST!C11>0,ST!C11,\"\"),\"\")","v":""},{"$f":"IFERROR(IF(ST!D11>0,ST!D11,\"\"),\"\")","v":""},null,{"$f":"IFERROR(IF(ISNUMBER(G20),IF(AND(0.12<G$8,0.16>G$8),IF(ST!G11>0,0.15,G$8),IF(G$8>0.15,G$8-ST!G11,G$8)),\"\"),\"\")","v":""},{"$f":"IFERROR(ST!H11*D20,\"\")","v":""},{"$f":"IFERROR(IF(AND(E$8=\"ws\",ST!L11>0),ST!L11,IF(ST!K11>0,ST!K11,IF(ST!J11>0,ST!J11,\"\"))),\"\")","v":""},"","",null,null,"Szalag és excenter csiszolók",null,null,null,null,null,null,null,"Egyenes csiszolók",null,"Szalag- és excentercsiszolók",null,"Polír- és fiber- csiszolók",null,"Vésők és leverők",null,"Szóró és lefuvató pisztolyok",null,{"$f":"Fúrók!A29","v":"kiadvány árai"}]
[10,{"$f":"IFERROR(IF(ST!C12>0,ST!C12,\"\"),\"\")","v":""},{"$f":"IFERROR(IF(ST!D12>0,ST!D12,\"\"),\"\")","v":""},null,{"$f":"IFERROR(IF(ISNUMBER(G21),IF(AND(0.12<G$8,0.16>G$8),IF(ST!G12>0,0.15,G$8),IF(G$8>0.15,G$8-ST!G12,G$8)),\"\"),\"\")","v":""},{"$f":"IFERROR(ST!H12*D21,\"\")","v":""},{"$f":"IFERROR(IF(AND(E$8=\"ws\",ST!L12>0),ST!L12,IF(ST!K12>0,ST!K12,IF(ST!J12>0,ST!J12,\"\"))),\"\")","v":""},"","",null,null,"Polír- és fiber csiszolók",null,null,null,null,null,null,null,null,null,null,null,null,null,null,null,null,null,{"$f":"Fúrók!A30","v":"SP jelöléssel ellátott termékekre"}]
[11,{"$f":"IFERROR(IF(ST!C13>0,ST!C13,\"\"),\"\")","v":""},{"$f":"IFERROR(IF(ST!D13>0,ST!D13,\"\"),\"\")","v":""},null,{"$f":"IFERROR(IF(ISNUMBER(G22),IF(AND(0.12<G$8,0.16>G$8),IF(ST!G13>0,0.15,G$8),IF(G$8>0.15,G$8-ST!G13,G$8)),\"\"),\"\")","v":""},{"$f":"IFERROR(ST!H13*D22,\"\")","v":""},{"$f":"IFERROR(IF(AND(E$8=\"ws\",ST!L13>0),ST!L13,IF(ST!K13>0,ST!K13,IF(ST!J13>0,ST!J13,\"\"))),\"\")","v":""},"","",null,null,"Vésők, leverők …",null,null,null,null,null,null,null,null,null,null,null,null,null,null,null,null,null,{"$f":"Fúrók!A31","v":"speciális viszonteladói árkézés"}]
[12,{"$f":"IFERROR(IF(ST!C14>0,ST!C14,\"\"),\"\")","v":""},{"$f":"IFERROR(IF(ST!D14>0,ST!D14,\"\"),\"\")","v":""},null,{"$f":"IFERROR(IF(ISNUMBER(G23),IF(AND(0.12<G$8,0.16>G$8),IF(ST!G14>0,0.15,G$8),IF(G$8>0.15,G$8-ST!G14,G$8)),\"\"),\"\")","v":""},{"$f":"IFERROR(ST!H14*D23,\"\")","v":""},{"$f":"IFERROR(IF(AND(E$8=\"ws\",ST!L14>0),ST!L14,IF(ST!K14>0,ST!K14,IF(ST!J14>0,ST!J14,\"\"))),\"\")","v":""},"","",null,null,"Szóró- és lefúvató pisztolyok",null,null,null,null,null,null,null,null,null,null,null,null,null,null,null,null,null,{"$f":"Fúrók!A32","v":"vonatkozik. Az Extra árak"}]
[13,{"$f":"IFERROR(IF(ST!C15>0,ST!C15,\"\"),\"\")","v":""},{"$f":"IFERROR(IF(ST!D15>0,ST!D15,\"\"),\"\")","v":""},null,{"$f":"IFERROR(IF(ISNUMBER(G24),IF(AND(0.12<G$8,0.16>G$8),IF(ST!G15>0,0.15,G$8),IF(G$8>0.15,G$8-ST!G15,G$8)),\"\"),\"\")","v":""},{"$f":"IFERROR(ST!H15*D24,\"\")","v":""},{"$f":"IFERROR(IF(AND(E$8=\"ws\",ST!L15>0),ST!L15,IF(ST!K15>0,ST!K15,IF(ST!J15>0,ST!J15,\"\"))),\"\")","v":""},"","",null,null,"Vágók, fűrészek, szegecshúzók"]
[14,{"$f":"IFERROR(IF(ST!C16>0,ST!C16,\"\"),\"\")","v":""},{"$f":"IFERROR(IF(ST!D16>0,ST!D16,\"\"),\"\")","v":""},null,{"$f":"IFERROR(IF(ISNUMBER(G25),IF(AND(0.12<G$8,0.16>G$8),IF(ST!G16>0,0.15,G$8),IF(G$8>0.15,G$8-ST!G16,G$8)),\"\"),\"\")","v":""},{"$f":"IFERROR(ST!H16*D25,\"\")","v":""},{"$f":"IFERROR(IF(AND(E$8=\"ws\",ST!L16>0),ST!L16,IF(ST!K16>0,ST!K16,IF(ST!J16>0,ST!J16,\"\"))),\"\")","v":""},"","",null,null,"Dugókulcsok",null,null,null,null,null,null,null,null,null,null,null,null,null,null,null,null,null,{"$f":"Fúrók!A35","v":"Az árista a Techtomat Kft és"}]
[15,{"$f":"IFERROR(IF(ST!C17>0,ST!C17,\"\"),\"\")","v":""},{"$f":"IFERROR(IF(ST!D17>0,ST!D17,\"\"),\"\")","v":""},null,{"$f":"IFERROR(IF(ISNUMBER(G26),IF(AND(0.12<G$8,0.16>G$8),IF(ST!G17>0,0.15,G$8),IF(G$8>0.15,G$8-ST!G17,G$8)),\"\"),\"\")","v":""},{"$f":"IFERROR(ST!H17*D26,\"\")","v":""},{"$f":"IFERROR(IF(AND(E$8=\"ws\",ST!L17>0),ST!L17,IF(ST!K17>0,ST!K17,IF(ST!J17>0,ST!J17,\"\"))),\"\")","v":""},"","",null,null,"Csatlakozók",null,null,null,null,null,null,null,null,null,null,null,null,null,null,null,null,null,{"$f":"Fúrók!A36","v":"Kapitár Kft közös gondozásában"}]
[16,{"$f":"IFERROR(IF(ST!C18>0,ST!C18,\"\"),\"\")","v":""},{"$f":"IFERROR(IF(ST!D18>0,ST!D18,\"\"),\"\")","v":""},null,{"$f":"IFERROR(IF(ISNUMBER(G27),IF(AND(0.12<G$8,0.16>G$8),IF(ST!G18>0,0.15,G$8),IF(G$8>0.15,G$8-ST!G18,G$8)),\"\"),\"\")","v":""},{"$f":"IFERROR(ST!H18*D27,\"\")","v":""},{"$f":"IFERROR(IF(AND(E$8=\"ws\",ST!L18>0),ST!L18,IF(ST!K18>0,ST!K18,IF(ST!J18>0,ST!J18,\"\"))),\"\")","v":""},"","",null,null,"Abroncstöltők",null,null,null,null,null,null,null,null,null,null,null,null,null,null,null,null,null,{"$f":"Fúrók!A37","v":" jelent meg."}]
[17,{"$f":"IFERROR(IF(ST!C19>0,ST!C19,\"\"),\"\")","v":""},{"$f":"IFERROR(IF(ST!D19>0,ST!D19,\"\"),\"\")","v":""},null,{"$f":"IFERROR(IF(ISNUMBER(G28),IF(AND(0.12<G$8,0.16>G$8),IF(ST!G19>0,0.15,G$8),IF(G$8>0.15,G$8-ST!G19,G$8)),\"\"),\"\")","v":""},{"$f":"IFERROR(ST!H19*D28,\"\")","v":""},{"$f":"IFERROR(IF(AND(E$8=\"ws\",ST!L19>0),ST!L19,IF(ST!K19>0,ST!K19,IF(ST!J19>0,ST!J19,\"\"))),\"\")","v":""},"","",null,null,"ABAC Levegős szerszámok",null,null,null,null,null,null,null,"Vágók, fűrészek, szegecshúzók",null,"Dugókulcsok",null,"Csatlakozók",null,"Abroncs- töltők",null,"ABAC TOOLS",null,{"$f":"Fúrók!A38","v":"Minden jog fenntartva."}]
[18,{"$f":"IFERROR(IF(ST!C20>0,ST!C20,\"\"),\"\")","v":""},{"$f":"IFERROR(IF(ST!D20>0,ST!D20,\"\"),\"\")","v":""},null,{"$f":"IFERROR(IF(ISNUMBER(G29),IF(AND(0.12<G$8,0.16>G$8),IF(ST!G20>0,0.15,G$8),IF(G$8>0.15,G$8-ST!G20,G$8)),\"\"),\"\")","v":""},{"$f":"IFERROR(ST!H20*D29,\"\")","v":""},{"$f":"IFERROR(IF(AND(E$8=\"ws\",ST!L20>0),ST!L20,IF(ST!K20>0,ST!K20,IF(ST!J20>0,ST!J20,\"\"))),\"\")","v":""},"","",null,null,"Garázsipari eszközök",null,null,null,null,null,null,null,null,null,null,null,null,null,null,null,"TOOLS"]
[19,{"$f":"IFERROR(IF(ST!C21>0,ST!C21,\"\"),\"\")","v":""},{"$f":"IFERROR(IF(ST!D21>0,ST!D21,\"\"),\"\")","v":""},null,{"$f":"IFERROR(IF(ISNUMBER(G30),IF(AND(0.12<G$8,0.16>G$8),IF(ST!G21>0,0.15,G$8),IF(G$8>0.15,G$8-ST!G21,G$8)),\"\"),\"\")","v":""},{"$f":"IFERROR(ST!H21*D30,\"\")","v":""},{"$f":"IFERROR(IF(AND(E$8=\"ws\",ST!L21>0),ST!L21,IF(ST!K21>0,ST!K21,IF(ST!J21>0,ST!J21,\"\"))),\"\")","v":""},"","",null,null,"AKKUMULÁTOROS GÉPEK",null,null,null,null,null,null,null,null,null,null,null,null,null,null,null,null,null,{"$f":"Fúrók!A40","v":"Bővebb információ:"}]
[20,{"$f":"IFERROR(IF(ST!C22>0,ST!C22,\"\"),\"\")","v":""},{"$f":"IFERROR(IF(ST!D22>0,ST!D22,\"\"),\"\")","v":""},null,{"$f":"IFERROR(IF(ISNUMBER(G31),IF(AND(0.12<G$8,0.16>G$8),IF(ST!G22>0,0.15,G$8),IF(G$8>0.15,G$8-ST!G22,G$8)),\"\"),\"\")","v":""},{"$f":"IFERROR(ST!H22*D31,\"\")","v":""},{"$f":"IFERROR(IF(AND(E$8=\"ws\",ST!L22>0),ST!L22,IF(ST!K22>0,ST!K22,IF(ST!J22>0,ST!J22,\"\"))),\"\")","v":""},"","",null,null,"Tömlők, tömlődobok",null,null,null,null,null,null,null,null,null,null,null,null,null,null,null,null,null,{"$f":"Fúrók!A41","v":"Szabó Attila"}]
[21,{"$f":"IFERROR(IF(ST!C23>0,ST!C23,\"\"),\"\")","v":""},{"$f":"IFERROR(IF(ST!D23>0,ST!D23,\"\"),\"\")","v":""},null,{"$f":"IFERROR(IF(ISNUMBER(G32),IF(AND(0.12<G$8,0.16>G$8),IF(ST!G23>0,0.15,G$8),IF(G$8>0.15,G$8-ST!G23,G$8)),\"\"),\"\")","v":""},{"$f":"IFERROR(ST!H23*D32,\"\")","v":""},{"$f":"IFERROR(IF(AND(E$8=\"ws\",ST!L23>0),ST!L23,IF(ST!K23>0,ST!K23,IF(ST!J23>0,ST!J23,\"\"))),\"\")","v":""},"","",null,null,"Szűrők, szabályozók",null,null,null,null,null,null,null,null,null,null,null,null,null,null,null,null,null,{"$f":"Fúrók!A42","v":"30/201-4931 vagy 30/626-8687"}]
[22,{"$f":"IFERROR(IF(ST!C24>0,ST!C24,\"\"),\"\")","v":""},{"$f":"IFERROR(IF(ST!D24>0,ST!D24,\"\"),\"\")","v":""},null,{"$f":"IFERROR(IF(ISNUMBER(G33),IF(AND(0.12<G$8,0.16>G$8),IF(ST!G24>0,0.15,G$8),IF(G$8>0.15,G$8-ST!G24,G$8)),\"\"),\"\")","v":""},{"$f":"IFERROR(ST!H24*D33,\"\")","v":""},{"$f":"IFERROR(IF(AND(E$8=\"ws\",ST!L24>0),ST!L24,IF(ST!K24>0,ST!K24,IF(ST!J24>0,ST!J24,\"\"))),\"\")","v":""},"","",null,null,"Balancerek",null,null,null,null,null,null,null,null,null,null,null,null,null,null,null,null,null,{"$f":"Fúrók!A43","v":"e-mail"}]
[23,{"$f":"IFERROR(IF(ST!C25>0,ST!C25,\"\"),\"\")","v":""},{"$f":"IFERROR(IF(ST!D25>0,ST!D25,\"\"),\"\")","v":""},null,{"$f":"IFERROR(IF(ISNUMBER(G34),IF(AND(0.12<G$8,0.16>G$8),IF(ST!G25>0,0.15,G$8),IF(G$8>0.15,G$8-ST!G25,G$8)),\"\"),\"\")","v":""},{"$f":"IFERROR(ST!H25*D34,\"\")","v":""},{"$f":"IFERROR(IF(AND(E$8=\"ws\",ST!L25>0),ST!L25,IF(ST!K25>0,ST!K25,IF(ST!J25>0,ST!J25,\"\"))),\"\")","v":""},"","",null,null,null,null,null,null,null,null,null,null,null,null,null,null,null,null,null,null,null,null,{"$f":"Fúrók!A44","v":"Tóth Tamás"}]
[24,{"$f":"IFERROR(IF(ST!C26>0,ST!C26,\"\"),\"\")","v":""},{"$f":"IFERROR(IF(ST!D26>0,ST!D26,\"\"),\"\")","v":""},null,{"$f":"IFERROR(IF(ISNUMBER(G35),IF(AND(0.12<G$8,0.16>G$8),IF(ST!G26>0,0.15,G$8),IF(G$8>0.15,G$8-ST!G26,G$8)),\"\"),\"\")","v":""},{"$f":"IFERROR(ST!H26*D35,\"\")","v":""},{"$f":"IFERROR(IF(AND(E$8=\"ws\",ST!L26>0),ST!L26,IF(ST!K26>0,ST!K26,IF(ST!J26>0,ST!J26,\"\"))),\"\")","v":""},"","",null,null,null,null,null,null,null,null,null,null,null,null,null,null,null,null,null,null,null,null,{"$f":"Fúrók!A45","v":"30/603-1596"}]
[25,{"$f":"IFERROR(IF(ST!C27>0,ST!C27,\"\"),\"\")","v":""},{"$f":"IFERROR(IF(ST!D27>0,ST!D27,\"\"),\"\")","v":""},null,{"$f":"IFERROR(IF(ISNUMBER(G36),IF(AND(0.12<G$8,0.16>G$8),IF(ST!G27>0,0.15,G$8),IF(G$8>0.15,G$8-ST!G27,G$8)),\"\"),\"\")","v":""},{"$f":"IFERROR(ST!H27*D36,\"\")","v":""},{"$f":"IFERROR(IF(AND(E$8=\"ws\",ST!L27>0),ST!L27,IF(ST!K27>0,ST!K27,IF(ST!J27>0,ST!J27,\"\"))),\"\")","v":""},"","",null,null,null,null,null,null,null,null,null,null,"Garázsipari eszközök",null,"Akkus gépek",null,"Tömlők, tömlódobok",null,"Levegő kezelés",null,"Balancerek"]
[26,{"$f":"IFERROR(IF(ST!C28>0,ST!C28,\"\"),\"\")","v":""},{"$f":"IFERROR(IF(ST!D28>0,ST!D28,\"\"),\"\")","v":""},null,{"$f":"IFERROR(IF(ISNUMBER(G37),IF(AND(0.12<G$8,0.16>G$8),IF(ST!G28>0,0.15,G$8),IF(G$8>0.15,G$8-ST!G28,G$8)),\"\"),\"\")","v":""},{"$f":"IFERROR(ST!H28*D37,\"\")","v":""},{"$f":"IFERROR(IF(AND(E$8=\"ws\",ST!L28>0),ST!L28,IF(ST!K28>0,ST!K28,IF(ST!J28>0,ST!J28,\"\"))),\"\")","v":""},"",""]
[27,{"$f":"IFERROR(IF(ST!C29>0,ST!C29,\"\"),\"\")","v":""},{"$f":"IFERROR(IF(ST!D29>0,ST!D29,\"\"),\"\")","v":""},null,{"$f":"IFERROR(IF(ISNUMBER(G38),IF(AND(0.12<G$8,0.16>G$8),IF(ST!G29>0,0.15,G$8),IF(G$8>0.15,G$8-ST!G29,G$8)),\"\"),\"\")","v":""},{"$f":"IFERROR(ST!H29*D38,\"\")","v":""},{"$f":"IFERROR(IF(AND(E$8=\"ws\",ST!L29>0),ST!L29,IF(ST!K29>0,ST!K29,IF(ST!J29>0,ST!J29,\"\"))),\"\")","v":""},"",""]
["Súly (kg):",null,{"$f":"SUM(F12:F38)/1000","v":0},{"$f":"\"Nettó ár összesen \"&IF($I$7=1,\"HUF\",\"EUR\")","v":"Nettó ár összesen HUF"},null,null,null,null,{"$f":"SUM(I12:I38)","v":0}]
["Szállítási mód:",null,1,{"$f":"\"ÁFA \"&IF($I$7=1,\"HUF\",\"EUR\")","v":"ÁFA HUF"},null,null,null,null,{"$f":"I39*0.27","v":0}]
[30,{"$f":"A41*I9","v":10200},{"$f":"IF($I$7=1,B41,A41)","v":10200},{"$f":"IF($I$7=1,I39,I39*I$9)","v":0},null,null,null,null,{"$f":"IF($I$7=2,I39,I39/I$9)","v":0}]
[null,{"$f":"IF(C39<3,3,IF(C39<5,5,IF(C39<10,10,IF(C39<15,15,IF(C39<20,20,IF(C39<25,25,IF(C39<31,31,IF(C39<50,50,\"túlsúly\"))))))))","v":3},{"$f":"IF($I$7=1,D42+H42,(D42+H42)/I9)","v":1566},{"$f":"VLOOKUP(B42,Segéd!A$25:C$33,3,0)","v":1166},null,null,{"$f":"IF(D41<50000,50000,IF(D41<100000,100000,IF(D41<300000,300000,IF(D41<500000,500000,\"Limit\"))))","v":50000},{"$f":"IF(OR(G7=4,AND(I8=1,G7=1)),VLOOKUP(G$42,Segéd!A$35:B$38,2,0),0)","v":400}]
[{"$f":"\"Szállítási díj: \"&IF($I$7=1,\"HUF\",\"EUR\")","v":"Szállítási díj: HUF"},null,{"$f":"IF(I8=2,0,(IF(C40=1,IF(D41>50000,0,C42),IF(I41>400,0,C41))))","v":1566},{"$f":"\"Bruttó ár öszesen \"&IF($I$7=1,\"HUF\",\"EUR\")","v":"Bruttó ár öszesen HUF"},null,null,null,null,{"$f":"I39+I40+C43","v":1566}]
[]
[]
[]
[]
[]
[]
[]
[]
[]
[]
[]
[]
[]
[]
[]
[null,null,"+36-30/626 8687",null,null,null,"+36-30/201-4931"]
[null,null,"ertekesites@kapitarkft.hu",null,null,null,"info@techtomat.hu"]

{"sheet":"Segéd","index":1,"n_rows":38,"n_cols":6,"rows_kept":38,"cut":false,"hidden":true,"merged":[]}
["Pénznem"]
["HUF",1,300]
["EUR",2,1]
["Szállítás"]
["Csomagküldés",1,1]
["Érte jön",2,0.97]
["Kiszállítás",3,1]
["Fizetési mód"]
["KP",1,0.99]
["Banki utalás",2,1]
["Előre utalás",3,0.99]
["Utánvét",4,0.99]
["Kedvezmény"]
["Alap ár",1,{"$f":"IF(ISBLANK(Megrendelő!D9),1,1-Megrendelő!D9)","v":{"$error":"#VALUE!"}}]
[0.2,2,0.8]
[0.21,3,{"$f":"1-A16","v":0.79}]
[0.22,4,{"$f":"1-A17","v":0.78}]
[0.23,5,{"$f":"1-A18","v":0.77},null,null,{"$f":"IFERROR(ROUND(IF(VLOOKUP($A18,ST!$A:$O,17,0)>0,VLOOKUP($A18,ST!$A:$O,17,0),VLOOKUP($A18,ST!$A:$O,15,0))*H$9,-1),\"\")","v":""}]
[0.24,6,{"$f":"1-A19","v":0.76}]
[0.25,7,{"$f":"1-A20","v":0.75}]
["Szállítási mód"]
["Normál"]
["Sűrgősségi"]
["Súly",1.06]
[3,1100,{"$f":"B25*B$24","v":1166}]
[5,1300,{"$f":"B26*B$24","v":1378}]
[10,1400,1484]
[15,1500,1590]
[20,1600,1696]
[25,1900,2014]
[31,2300,2438]
[50,3500,{"$f":"B32*B$24","v":3710}]
[1000,15000,15900]
["Utánvét"]
[50000,400]
[100000,800]
[300000,1500]
[500000,3000]

{"sheet":"ST","index":2,"n_rows":31,"n_cols":13,"rows_kept":31,"cut":false,"hidden":true,"merged":[[0,9,0,10],[0,11,0,12]]}
[null,null,null,null,null,null,null,null,null,"Javasolt eladási árak"]
[null,"Type","Référence","Description",null,null,null,"Súly","Oldal","Listaár","TOPS STARS árak","Webshop","Mennyiség"]
[1,null,{"$f":"IF(COUNTIF(Árlista!$A$3:$A$3792,$A3)>0,VLOOKUP($A3,Árlista!$A:$L,2,0),\"\")","v":""},{"$f":"IF(COUNTIF(Árlista!$A$3:$A$3792,$A3)>0,VLOOKUP($A3,Árlista!$A:$L,3,0),\"\")","v":""},null,null,{"$f":"IF(COUNTIF(Árlista!$A$3:$A$3792,$A3)>0,IF(VLOOKUP($A3,Árlista!$A:$L,8,0)=\"C\",4%,0),\"\")","v":""},{"$f":"IF(COUNTIF(Árlista!$A$3:$A$3792,$A3)>0,VLOOKUP($A3,Árlista!$A:$L,7,0),\"\")","v":""},null,{"$f":"IF(COUNTIF(Árlista!$A$3:$A$3792,$A3)>0,VLOOKUP($A3,Árlista!$A:$L,9,0),\"\")","v":""},{"$f":"IF(COUNTIF(Árlista!$A$3:$A$3792,$A3)>0,VLOOKUP($A3,Árlista!$A:$L,10,0),\"\")","v":""},{"$f":"IF(COUNTIF(Árlista!$A$3:$A$3792,$A3)>0,VLOOKUP($A3,Árlista!$A:$L,11,0),\"\")","v":""},{"$f":"IF(COUNTIF(Árlista!$A$3:$A$3792,$A3)>0,VLOOKUP($A3,Árlista!$A:$L,12,0),\"\")","v":""}]
[2,null,{"$f":"IF(COUNTIF(Árlista!$A$3:$A$3792,$A4)>0,VLOOKUP($A4,Árlista!$A:$L,2,0),\"\")","v":""},{"$f":"IF(COUNTIF(Árlista!$A$3:$A$3792,$A4)>0,VLOOKUP($A4,Árlista!$A:$L,3,0),\"\")","v":""},null,null,{"$f":"IF(COUNTIF(Árlista!$A$3:$A$3792,$A4)>0,IF(VLOOKUP($A4,Árlista!$A:$L,8,0)=\"C\",4%,0),\"\")","v":""},{"$f":"IF(COUNTIF(Árlista!$A$3:$A$3792,$A4)>0,VLOOKUP($A4,Árlista!$A:$L,7,0),\"\")","v":""},null,{"$f":"IF(COUNTIF(Árlista!$A$3:$A$3792,$A4)>0,VLOOKUP($A4,Árlista!$A:$L,9,0),\"\")","v":""},{"$f":"IF(COUNTIF(Árlista!$A$3:$A$3792,$A4)>0,VLOOKUP($A4,Árlista!$A:$L,10,0),\"\")","v":""},{"$f":"IF(COUNTIF(Árlista!$A$3:$A$3792,$A4)>0,VLOOKUP($A4,Árlista!$A:$L,11,0),\"\")","v":""},{"$f":"IF(COUNTIF(Árlista!$A$3:$A$3792,$A4)>0,VLOOKUP($A4,Árlista!$A:$L,12,0),\"\")","v":""}]
[3,null,{"$f":"IF(COUNTIF(Árlista!$A$3:$A$3792,$A5)>0,VLOOKUP($A5,Árlista!$A:$L,2,0),\"\")","v":""},{"$f":"IF(COUNTIF(Árlista!$A$3:$A$3792,$A5)>0,VLOOKUP($A5,Árlista!$A:$L,3,0),\"\")","v":""},null,null,{"$f":"IF(COUNTIF(Árlista!$A$3:$A$3792,$A5)>0,IF(VLOOKUP($A5,Árlista!$A:$L,8,0)=\"C\",4%,0),\"\")","v":""},{"$f":"IF(COUNTIF(Árlista!$A$3:$A$3792,$A5)>0,VLOOKUP($A5,Árlista!$A:$L,7,0),\"\")","v":""},null,{"$f":"IF(COUNTIF(Árlista!$A$3:$A$3792,$A5)>0,VLOOKUP($A5,Árlista!$A:$L,9,0),\"\")","v":""},{"$f":"IF(COUNTIF(Árlista!$A$3:$A$3792,$A5)>0,VLOOKUP($A5,Árlista!$A:$L,10,0),\"\")","v":""},{"$f":"IF(COUNTIF(Árlista!$A$3:$A$3792,$A5)>0,VLOOKUP($A5,Árlista!$A:$L,11,0),\"\")","v":""},{"$f":"IF(COUNTIF(Árlista!$A$3:$A$3792,$A5)>0,VLOOKUP($A5,Árlista!$A:$L,12,0),\"\")","v":""}]
[4,null,{"$f":"IF(COUNTIF(Árlista!$A$3:$A$3792,$A6)>0,VLOOKUP($A6,Árlista!$A:$L,2,0),\"\")","v":""},{"$f":"IF(COUNTIF(Árlista!$A$3:$A$3792,$A6)>0,VLOOKUP($A6,Árlista!$A:$L,3,0),\"\")","v":""},null,null,{"$f":"IF(COUNTIF(Árlista!$A$3:$A$3792,$A6)>0,IF(VLOOKUP($A6,Árlista!$A:$L,8,0)=\"C\",4%,0),\"\")","v":""},{"$f":"IF(COUNTIF(Árlista!$A$3:$A$3792,$A6)>0,VLOOKUP($A6,Árlista!$A:$L,7,0),\"\")","v":""},null,{"$f":"IF(COUNTIF(Árlista!$A$3:$A$3792,$A6)>0,VLOOKUP($A6,Árlista!$A:$L,9,0),\"\")","v":""},{"$f":"IF(COUNTIF(Árlista!$A$3:$A$3792,$A6)>0,VLOOKUP($A6,Árlista!$A:$L,10,0),\"\")","v":""},{"$f":"IF(COUNTIF(Árlista!$A$3:$A$3792,$A6)>0,VLOOKUP($A6,Árlista!$A:$L,11,0),\"\")","v":""},{"$f":"IF(COUNTIF(Árlista!$A$3:$A$3792,$A6)>0,VLOOKUP($A6,Árlista!$A:$L,12,0),\"\")","v":""}]
[5,null,{"$f":"IF(COUNTIF(Árlista!$A$3:$A$3792,$A7)>0,VLOOKUP($A7,Árlista!$A:$L,2,0),\"\")","v":""},{"$f":"IF(COUNTIF(Árlista!$A$3:$A$3792,$A7)>0,VLOOKUP($A7,Árlista!$A:$L,3,0),\"\")","v":""},null,null,{"$f":"IF(COUNTIF(Árlista!$A$3:$A$3792,$A7)>0,IF(VLOOKUP($A7,Árlista!$A:$L,8,0)=\"C\",4%,0),\"\")","v":""},{"$f":"IF(COUNTIF(Árlista!$A$3:$A$3792,$A7)>0,VLOOKUP($A7,Árlista!$A:$L,7,0),\"\")","v":""},null,{"$f":"IF(COUNTIF(Árlista!$A$3:$A$3792,$A7)>0,VLOOKUP($A7,Árlista!$A:$L,9,0),\"\")","v":""},{"$f":"IF(COUNTIF(Árlista!$A$3:$A$3792,$A7)>0,VLOOKUP($A7,Árlista!$A:$L,10,0),\"\")","v":""},{"$f":"IF(COUNTIF(Árlista!$A$3:$A$3792,$A7)>0,VLOOKUP($A7,Árlista!$A:$L,11,0),\"\")","v":""},{"$f":"IF(COUNTIF(Árlista!$A$3:$A$3792,$A7)>0,VLOOKUP($A7,Árlista!$A:$L,12,0),\"\")","v":""}]
[6,null,{"$f":"IF(COUNTIF(Árlista!$A$3:$A$3792,$A8)>0,VLOOKUP($A8,Árlista!$A:$L,2,0),\"\")","v":""},{"$f":"IF(COUNTIF(Árlista!$A$3:$A$3792,$A8)>0,VLOOKUP($A8,Árlista!$A:$L,3,0),\"\")","v":""},null,null,{"$f":"IF(COUNTIF(Árlista!$A$3:$A$3792,$A8)>0,IF(VLOOKUP($A8,Árlista!$A:$L,8,0)=\"C\",4%,0),\"\")","v":""},{"$f":"IF(COUNTIF(Árlista!$A$3:$A$3792,$A8)>0,VLOOKUP($A8,Árlista!$A:$L,7,0),\"\")","v":""},null,{"$f":"IF(COUNTIF(Árlista!$A$3:$A$3792,$A8)>0,VLOOKUP($A8,Árlista!$A:$L,9,0),\"\")","v":""},{"$f":"IF(COUNTIF(Árlista!$A$3:$A$3792,$A8)>0,VLOOKUP($A8,Árlista!$A:$L,10,0),\"\")","v":""},{"$f":"IF(COUNTIF(Árlista!$A$3:$A$3792,$A8)>0,VLOOKUP($A8,Árlista!$A:$L,11,0),\"\")","v":""},{"$f":"IF(COUNTIF(Árlista!$A$3:$A$3792,$A8)>0,VLOOKUP($A8,Árlista!$A:$L,12,0),\"\")","v":""}]
[7,null,{"$f":"IF(COUNTIF(Árlista!$A$3:$A$3792,$A9)>0,VLOOKUP($A9,Árlista!$A:$L,2,0),\"\")","v":""},{"$f":"IF(COUNTIF(Árlista!$A$3:$A$3792,$A9)>0,VLOOKUP($A9,Árlista!$A:$L,3,0),\"\")","v":""},null,null,{"$f":"IF(COUNTIF(Árlista!$A$3:$A$3792,$A9)>0,IF(VLOOKUP($A9,Árlista!$A:$L,8,0)=\"C\",4%,0),\"\")","v":""},{"$f":"IF(COUNTIF(Árlista!$A$3:$A$3792,$A9)>0,VLOOKUP($A9,Árlista!$A:$L,7,0),\"\")","v":""},null,{"$f":"IF(COUNTIF(Árlista!$A$3:$A$3792,$A9)>0,VLOOKUP($A9,Árlista!$A:$L,9,0),\"\")","v":""},{"$f":"IF(COUNTIF(Árlista!$A$3:$A$3792,$A9)>0,VLOOKUP($A9,Árlista!$A:$L,10,0),\"\")","v":""},{"$f":"IF(COUNTIF(Árlista!$A$3:$A$3792,$A9)>0,VLOOKUP($A9,Árlista!$A:$L,11,0),\"\")","v":""},{"$f":"IF(COUNTIF(Árlista!$A$3:$A$3792,$A9)>0,VLOOKUP($A9,Árlista!$A:$L,12,0),\"\")","v":""}]
[8,null,{"$f":"IF(COUNTIF(Árlista!$A$3:$A$3792,$A10)>0,VLOOKUP($A10,Árlista!$A:$L,2,0),\"\")","v":""},{"$f":"IF(COUNTIF(Árlista!$A$3:$A$3792,$A10)>0,VLOOKUP($A10,Árlista!$A:$L,3,0),\"\")","v":""},null,null,{"$f":"IF(COUNTIF(Árlista!$A$3:$A$3792,$A10)>0,IF(VLOOKUP($A10,Árlista!$A:$L,8,0)=\"C\",4%,0),\"\")","v":""},{"$f":"IF(COUNTIF(Árlista!$A$3:$A$3792,$A10)>0,VLOOKUP($A10,Árlista!$A:$L,7,0),\"\")","v":""},null,{"$f":"IF(COUNTIF(Árlista!$A$3:$A$3792,$A10)>0,VLOOKUP($A10,Árlista!$A:$L,9,0),\"\")","v":""},{"$f":"IF(COUNTIF(Árlista!$A$3:$A$3792,$A10)>0,VLOOKUP($A10,Árlista!$A:$L,10,0),\"\")","v":""},{"$f":"IF(COUNTIF(Árlista!$A$3:$A$3792,$A10)>0,VLOOKUP($A10,Árlista!$A:$L,11,0),\"\")","v":""},{"$f":"IF(COUNTIF(Árlista!$A$3:$A$3792,$A10)>0,VLOOKUP($A10,Árlista!$A:$L,12,0),\"\")","v":""}]
[9,null,{"$f":"IF(COUNTIF(Árlista!$A$3:$A$3792,$A11)>0,VLOOKUP($A11,Árlista!$A:$L,2,0),\"\")","v":""},{"$f":"IF(COUNTIF(Árlista!$A$3:$A$3792,$A11)>0,VLOOKUP($A11,Árlista!$A:$L,3,0),\"\")","v":""},null,null,{"$f":"IF(COUNTIF(Árlista!$A$3:$A$3792,$A11)>0,IF(VLOOKUP($A11,Árlista!$A:$L,8,0)=\"C\",4%,0),\"\")","v":""},{"$f":"IF(COUNTIF(Árlista!$A$3:$A$3792,$A11)>0,VLOOKUP($A11,Árlista!$A:$L,7,0),\"\")","v":""},null,{"$f":"IF(COUNTIF(Árlista!$A$3:$A$3792,$A11)>0,VLOOKUP($A11,Árlista!$A:$L,9,0),\"\")","v":""},{"$f":"IF(COUNTIF(Árlista!$A$3:$A$3792,$A11)>0,VLOOKUP($A11,Árlista!$A:$L,10,0),\"\")","v":""},{"$f":"IF(COUNTIF(Árlista!$A$3:$A$3792,$A11)>0,VLOOKUP($A11,Árlista!$A:$L,11,0),\"\")","v":""},{"$f":"IF(COUNTIF(Árlista!$A$3:$A$3792,$A11)>0,VLOOKUP($A11,Árlista!$A:$L,12,0),\"\")","v":""}]
[10,null,{"$f":"IF(COUNTIF(Árlista!$A$3:$A$3792,$A12)>0,VLOOKUP($A12,Árlista!$A:$L,2,0),\"\")","v":""},{"$f":"IF(COUNTIF(Árlista!$A$3:$A$3792,$A12)>0,VLOOKUP($A12,Árlista!$A:$L,3,0),\"\")","v":""},null,null,{"$f":"IF(COUNTIF(Árlista!$A$3:$A$3792,$A12)>0,IF(VLOOKUP($A12,Árlista!$A:$L,8,0)=\"C\",4%,0),\"\")","v":""},{"$f":"IF(COUNTIF(Árlista!$A$3:$A$3792,$A12)>0,VLOOKUP($A12,Árlista!$A:$L,7,0),\"\")","v":""},null,{"$f":"IF(COUNTIF(Árlista!$A$3:$A$3792,$A12)>0,VLOOKUP($A12,Árlista!$A:$L,9,0),\"\")","v":""},{"$f":"IF(COUNTIF(Árlista!$A$3:$A$3792,$A12)>0,VLOOKUP($A12,Árlista!$A:$L,10,0),\"\")","v":""},{"$f":"IF(COUNTIF(Árlista!$A$3:$A$3792,$A12)>0,VLOOKUP($A12,Árlista!$A:$L,11,0),\"\")","v":""},{"$f":"IF(COUNTIF(Árlista!$A$3:$A$3792,$A12)>0,VLOOKUP($A12,Árlista!$A:$L,12,0),\"\")","v":""}]
[11,null,{"$f":"IF(COUNTIF(Árlista!$A$3:$A$3792,$A13)>0,VLOOKUP($A13,Árlista!$A:$L,2,0),\"\")","v":""},{"$f":"IF(COUNTIF(Árlista!$A$3:$A$3792,$A13)>0,VLOOKUP($A13,Árlista!$A:$L,3,0),\"\")","v":""},null,null,{"$f":"IF(COUNTIF(Árlista!$A$3:$A$3792,$A13)>0,IF(VLOOKUP($A13,Árlista!$A:$L,8,0)=\"C\",4%,0),\"\")","v":""},{"$f":"IF(COUNTIF(Árlista!$A$3:$A$3792,$A13)>0,VLOOKUP($A13,Árlista!$A:$L,7,0),\"\")","v":""},null,{"$f":"IF(COUNTIF(Árlista!$A$3:$A$3792,$A13)>0,VLOOKUP($A13,Árlista!$A:$L,9,0),\"\")","v":""},{"$f":"IF(COUNTIF(Árlista!$A$3:$A$3792,$A13)>0,VLOOKUP($A13,Árlista!$A:$L,10,0),\"\")","v":""},{"$f":"IF(COUNTIF(Árlista!$A$3:$A$3792,$A13)>0,VLOOKUP($A13,Árlista!$A:$L,11,0),\"\")","v":""},{"$f":"IF(COUNTIF(Árlista!$A$3:$A$3792,$A13)>0,VLOOKUP($A13,Árlista!$A:$L,12,0),\"\")","v":""}]
[12,null,{"$f":"IF(COUNTIF(Árlista!$A$3:$A$3792,$A14)>0,VLOOKUP($A14,Árlista!$A:$L,2,0),\"\")","v":""},{"$f":"IF(COUNTIF(Árlista!$A$3:$A$3792,$A14)>0,VLOOKUP($A14,Árlista!$A:$L,3,0),\"\")","v":""},null,null,{"$f":"IF(COUNTIF(Árlista!$A$3:$A$3792,$A14)>0,IF(VLOOKUP($A14,Árlista!$A:$L,8,0)=\"C\",4%,0),\"\")","v":""},{"$f":"IF(COUNTIF(Árlista!$A$3:$A$3792,$A14)>0,VLOOKUP($A14,Árlista!$A:$L,7,0),\"\")","v":""},null,{"$f":"IF(COUNTIF(Árlista!$A$3:$A$3792,$A14)>0,VLOOKUP($A14,Árlista!$A:$L,9,0),\"\")","v":""},{"$f":"IF(COUNTIF(Árlista!$A$3:$A$3792,$A14)>0,VLOOKUP($A14,Árlista!$A:$L,10,0),\"\")","v":""},{"$f":"IF(COUNTIF(Árlista!$A$3:$A$3792,$A14)>0,VLOOKUP($A14,Árlista!$A:$L,11,0),\"\")","v":""},{"$f":"IF(COUNTIF(Árlista!$A$3:$A$3792,$A14)>0,VLOOKUP($A14,Árlista!$A:$L,12,0),\"\")","v":""}]
[13,null,{"$f":"IF(COUNTIF(Árlista!$A$3:$A$3792,$A15)>0,VLOOKUP($A15,Árlista!$A:$L,2,0),\"\")","v":""},{"$f":"IF(COUNTIF(Árlista!$A$3:$A$3792,$A15)>0,VLOOKUP($A15,Árlista!$A:$L,3,0),\"\")","v":""},null,null,{"$f":"IF(COUNTIF(Árlista!$A$3:$A$3792,$A15)>0,IF(VLOOKUP($A15,Árlista!$A:$L,8,0)=\"C\",4%,0),\"\")","v":""},{"$f":"IF(COUNTIF(Árlista!$A$3:$A$3792,$A15)>0,VLOOKUP($A15,Árlista!$A:$L,7,0),\"\")","v":""},null,{"$f":"IF(COUNTIF(Árlista!$A$3:$A$3792,$A15)>0,VLOOKUP($A15,Árlista!$A:$L,9,0),\"\")","v":""},{"$f":"IF(COUNTIF(Árlista!$A$3:$A$3792,$A15)>0,VLOOKUP($A15,Árlista!$A:$L,10,0),\"\")","v":""},{"$f":"IF(COUNTIF(Árlista!$A$3:$A$3792,$A15)>0,VLOOKUP($A15,Árlista!$A:$L,11,0),\"\")","v":""},{"$f":"IF(COUNTIF(Árlista!$A$3:$A$3792,$A15)>0,VLOOKUP($A15,Árlista!$A:$L,12,0),\"\")","v":""}]
[14,null,{"$f":"IF(COUNTIF(Árlista!$A$3:$A$3792,$A16)>0,VLOOKUP($A16,Árlista!$A:$L,2,0),\"\")","v":""},{"$f":"IF(COUNTIF(Árlista!$A$3:$A$3792,$A16)>0,VLOOKUP($A16,Árlista!$A:$L,3,0),\"\")","v":""},null,null,{"$f":"IF(COUNTIF(Árlista!$A$3:$A$3792,$A16)>0,IF(VLOOKUP($A16,Árlista!$A:$L,8,0)=\"C\",4%,0),\"\")","v":""},{"$f":"IF(COUNTIF(Árlista!$A$3:$A$3792,$A16)>0,VLOOKUP($A16,Árlista!$A:$L,7,0),\"\")","v":""},null,{"$f":"IF(COUNTIF(Árlista!$A$3:$A$3792,$A16)>0,VLOOKUP($A16,Árlista!$A:$L,9,0),\"\")","v":""},{"$f":"IF(COUNTIF(Árlista!$A$3:$A$3792,$A16)>0,VLOOKUP($A16,Árlista!$A:$L,10,0),\"\")","v":""},{"$f":"IF(COUNTIF(Árlista!$A$3:$A$3792,$A16)>0,VLOOKUP($A16,Árlista!$A:$L,11,0),\"\")","v":""},{"$f":"IF(COUNTIF(Árlista!$A$3:$A$3792,$A16)>0,VLOOKUP($A16,Árlista!$A:$L,12,0),\"\")","v":""}]
[15,null,{"$f":"IF(COUNTIF(Árlista!$A$3:$A$3792,$A17)>0,VLOOKUP($A17,Árlista!$A:$L,2,0),\"\")","v":""},{"$f":"IF(COUNTIF(Árlista!$A$3:$A$3792,$A17)>0,VLOOKUP($A17,Árlista!$A:$L,3,0),\"\")","v":""},null,null,{"$f":"IF(COUNTIF(Árlista!$A$3:$A$3792,$A17)>0,IF(VLOOKUP($A17,Árlista!$A:$L,8,0)=\"C\",4%,0),\"\")","v":""},{"$f":"IF(COUNTIF(Árlista!$A$3:$A$3792,$A17)>0,VLOOKUP($A17,Árlista!$A:$L,7,0),\"\")","v":""},null,{"$f":"IF(COUNTIF(Árlista!$A$3:$A$3792,$A17)>0,VLOOKUP($A17,Árlista!$A:$L,9,0),\"\")","v":""},{"$f":"IF(COUNTIF(Árlista!$A$3:$A$3792,$A17)>0,VLOOKUP($A17,Árlista!$A:$L,10,0),\"\")","v":""},{"$f":"IF(COUNTIF(Árlista!$A$3:$A$3792,$A17)>0,VLOOKUP($A17,Árlista!$A:$L,11,0),\"\")","v":""},{"$f":"IF(COUNTIF(Árlista!$A$3:$A$3792,$A17)>0,VLOOKUP($A17,Árlista!$A:$L,12,0),\"\")","v":""}]
[16,null,{"$f":"IF(COUNTIF(Árlista!$A$3:$A$3792,$A18)>0,VLOOKUP($A18,Árlista!$A:$L,2,0),\"\")","v":""},{"$f":"IF(COUNTIF(Árlista!$A$3:$A$3792,$A18)>0,VLOOKUP($A18,Árlista!$A:$L,3,0),\"\")","v":""},null,null,{"$f":"IF(COUNTIF(Árlista!$A$3:$A$3792,$A18)>0,IF(VLOOKUP($A18,Árlista!$A:$L,8,0)=\"C\",4%,0),\"\")","v":""},{"$f":"IF(COUNTIF(Árlista!$A$3:$A$3792,$A18)>0,VLOOKUP($A18,Árlista!$A:$L,7,0),\"\")","v":""},null,{"$f":"IF(COUNTIF(Árlista!$A$3:$A$3792,$A18)>0,VLOOKUP($A18,Árlista!$A:$L,9,0),\"\")","v":""},{"$f":"IF(COUNTIF(Árlista!$A$3:$A$3792,$A18)>0,VLOOKUP($A18,Árlista!$A:$L,10,0),\"\")","v":""},{"$f":"IF(COUNTIF(Árlista!$A$3:$A$3792,$A18)>0,VLOOKUP($A18,Árlista!$A:$L,11,0),\"\")","v":""},{"$f":"IF(COUNTIF(Árlista!$A$3:$A$3792,$A18)>0,VLOOKUP($A18,Árlista!$A:$L,12,0),\"\")","v":""}]
[17,null,{"$f":"IF(COUNTIF(Árlista!$A$3:$A$3792,$A19)>0,VLOOKUP($A19,Árlista!$A:$L,2,0),\"\")","v":""},{"$f":"IF(COUNTIF(Árlista!$A$3:$A$3792,$A19)>0,VLOOKUP($A19,Árlista!$A:$L,3,0),\"\")","v":""},null,null,{"$f":"IF(COUNTIF(Árlista!$A$3:$A$3792,$A19)>0,IF(VLOOKUP($A19,Árlista!$A:$L,8,0)=\"C\",4%,0),\"\")","v":""},{"$f":"IF(COUNTIF(Árlista!$A$3:$A$3792,$A19)>0,VLOOKUP($A19,Árlista!$A:$L,7,0),\"\")","v":""},null,{"$f":"IF(COUNTIF(Árlista!$A$3:$A$3792,$A19)>0,VLOOKUP($A19,Árlista!$A:$L,9,0),\"\")","v":""},{"$f":"IF(COUNTIF(Árlista!$A$3:$A$3792,$A19)>0,VLOOKUP($A19,Árlista!$A:$L,10,0),\"\")","v":""},{"$f":"IF(COUNTIF(Árlista!$A$3:$A$3792,$A19)>0,VLOOKUP($A19,Árlista!$A:$L,11,0),\"\")","v":""},{"$f":"IF(COUNTIF(Árlista!$A$3:$A$3792,$A19)>0,VLOOKUP($A19,Árlista!$A:$L,12,0),\"\")","v":""}]
[18,null,{"$f":"IF(COUNTIF(Árlista!$A$3:$A$3792,$A20)>0,VLOOKUP($A20,Árlista!$A:$L,2,0),\"\")","v":""},{"$f":"IF(COUNTIF(Árlista!$A$3:$A$3792,$A20)>0,VLOOKUP($A20,Árlista!$A:$L,3,0),\"\")","v":""},null,null,{"$f":"IF(COUNTIF(Árlista!$A$3:$A$3792,$A20)>0,IF(VLOOKUP($A20,Árlista!$A:$L,8,0)=\"C\",4%,0),\"\")","v":""},{"$f":"IF(COUNTIF(Árlista!$A$3:$A$3792,$A20)>0,VLOOKUP($A20,Árlista!$A:$L,7,0),\"\")","v":""},null,{"$f":"IF(COUNTIF(Árlista!$A$3:$A$3792,$A20)>0,VLOOKUP($A20,Árlista!$A:$L,9,0),\"\")","v":""},{"$f":"IF(COUNTIF(Árlista!$A$3:$A$3792,$A20)>0,VLOOKUP($A20,Árlista!$A:$L,10,0),\"\")","v":""},{"$f":"IF(COUNTIF(Árlista!$A$3:$A$3792,$A20)>0,VLOOKUP($A20,Árlista!$A:$L,11,0),\"\")","v":""},{"$f":"IF(COUNTIF(Árlista!$A$3:$A$3792,$A20)>0,VLOOKUP($A20,Árlista!$A:$L,12,0),\"\")","v":""}]
[19,null,{"$f":"IF(COUNTIF(Árlista!$A$3:$A$3792,$A21)>0,VLOOKUP($A21,Árlista!$A:$L,2,0),\"\")","v":""},{"$f":"IF(COUNTIF(Árlista!$A$3:$A$3792,$A21)>0,VLOOKUP($A21,Árlista!$A:$L,3,0),\"\")","v":""},null,null,{"$f":"IF(COUNTIF(Árlista!$A$3:$A$3792,$A21)>0,IF(VLOOKUP($A21,Árlista!$A:$L,8,0)=\"C\",4%,0),\"\")","v":""},{"$f":"IF(COUNTIF(Árlista!$A$3:$A$3792,$A21)>0,VLOOKUP($A21,Árlista!$A:$L,7,0),\"\")","v":""},null,{"$f":"IF(COUNTIF(Árlista!$A$3:$A$3792,$A21)>0,VLOOKUP($A21,Árlista!$A:$L,9,0),\"\")","v":""},{"$f":"IF(COUNTIF(Árlista!$A$3:$A$3792,$A21)>0,VLOOKUP($A21,Árlista!$A:$L,10,0),\"\")","v":""},{"$f":"IF(COUNTIF(Árlista!$A$3:$A$3792,$A21)>0,VLOOKUP($A21,Árlista!$A:$L,11,0),\"\")","v":""},{"$f":"IF(COUNTIF(Árlista!$A$3:$A$3792,$A21)>0,VLOOKUP($A21,Árlista!$A:$L,12,0),\"\")","v":""}]
[20,null,{"$f":"IF(COUNTIF(Árlista!$A$3:$A$3792,$A22)>0,VLOOKUP($A22,Árlista!$A:$L,2,0),\"\")","v":""},{"$f":"IF(COUNTIF(Árlista!$A$3:$A$3792,$A22)>0,VLOOKUP($A22,Árlista!$A:$L,3,0),\"\")","v":""},null,null,{"$f":"IF(COUNTIF(Árlista!$A$3:$A$3792,$A22)>0,IF(VLOOKUP($A22,Árlista!$A:$L,8,0)=\"C\",4%,0),\"\")","v":""},{"$f":"IF(COUNTIF(Árlista!$A$3:$A$3792,$A22)>0,VLOOKUP($A22,Árlista!$A:$L,7,0),\"\")","v":""},null,{"$f":"IF(COUNTIF(Árlista!$A$3:$A$3792,$A22)>0,VLOOKUP($A22,Árlista!$A:$L,9,0),\"\")","v":""},{"$f":"IF(COUNTIF(Árlista!$A$3:$A$3792,$A22)>0,VLOOKUP($A22,Árlista!$A:$L,10,0),\"\")","v":""},{"$f":"IF(COUNTIF(Árlista!$A$3:$A$3792,$A22)>0,VLOOKUP($A22,Árlista!$A:$L,11,0),\"\")","v":""},{"$f":"IF(COUNTIF(Árlista!$A$3:$A$3792,$A22)>0,VLOOKUP($A22,Árlista!$A:$L,12,0),\"\")","v":""}]
[21,null,{"$f":"IF(COUNTIF(Árlista!$A$3:$A$3792,$A23)>0,VLOOKUP($A23,Árlista!$A:$L,2,0),\"\")","v":""},{"$f":"IF(COUNTIF(Árlista!$A$3:$A$3792,$A23)>0,VLOOKUP($A23,Árlista!$A:$L,3,0),\"\")","v":""},null,null,{"$f":"IF(COUNTIF(Árlista!$A$3:$A$3792,$A23)>0,IF(VLOOKUP($A23,Árlista!$A:$L,8,0)=\"C\",4%,0),\"\")","v":""},{"$f":"IF(COUNTIF(Árlista!$A$3:$A$3792,$A23)>0,VLOOKUP($A23,Árlista!$A:$L,7,0),\"\")","v":""},null,{"$f":"IF(COUNTIF(Árlista!$A$3:$A$3792,$A23)>0,VLOOKUP($A23,Árlista!$A:$L,9,0),\"\")","v":""},{"$f":"IF(COUNTIF(Árlista!$A$3:$A$3792,$A23)>0,VLOOKUP($A23,Árlista!$A:$L,10,0),\"\")","v":""},{"$f":"IF(COUNTIF(Árlista!$A$3:$A$3792,$A23)>0,VLOOKUP($A23,Árlista!$A:$L,11,0),\"\")","v":""},{"$f":"IF(COUNTIF(Árlista!$A$3:$A$3792,$A23)>0,VLOOKUP($A23,Árlista!$A:$L,12,0),\"\")","v":""}]
[22,null,{"$f":"IF(COUNTIF(Árlista!$A$3:$A$3792,$A24)>0,VLOOKUP($A24,Árlista!$A:$L,2,0),\"\")","v":""},{"$f":"IF(COUNTIF(Árlista!$A$3:$A$3792,$A24)>0,VLOOKUP($A24,Árlista!$A:$L,3,0),\"\")","v":""},null,null,{"$f":"IF(COUNTIF(Árlista!$A$3:$A$3792,$A24)>0,IF(VLOOKUP($A24,Árlista!$A:$L,8,0)=\"C\",4%,0),\"\")","v":""},{"$f":"IF(COUNTIF(Árlista!$A$3:$A$3792,$A24)>0,VLOOKUP($A24,Árlista!$A:$L,7,0),\"\")","v":""},null,{"$f":"IF(COUNTIF(Árlista!$A$3:$A$3792,$A24)>0,VLOOKUP($A24,Árlista!$A:$L,9,0),\"\")","v":""},{"$f":"IF(COUNTIF(Árlista!$A$3:$A$3792,$A24)>0,VLOOKUP($A24,Árlista!$A:$L,10,0),\"\")","v":""},{"$f":"IF(COUNTIF(Árlista!$A$3:$A$3792,$A24)>0,VLOOKUP($A24,Árlista!$A:$L,11,0),\"\")","v":""},{"$f":"IF(COUNTIF(Árlista!$A$3:$A$3792,$A24)>0,VLOOKUP($A24,Árlista!$A:$L,12,0),\"\")","v":""}]
[23,null,{"$f":"IF(COUNTIF(Árlista!$A$3:$A$3792,$A25)>0,VLOOKUP($A25,Árlista!$A:$L,2,0),\"\")","v":""},{"$f":"IF(COUNTIF(Árlista!$A$3:$A$3792,$A25)>0,VLOOKUP($A25,Árlista!$A:$L,3,0),\"\")","v":""},null,null,{"$f":"IF(COUNTIF(Árlista!$A$3:$A$3792,$A25)>0,IF(VLOOKUP($A25,Árlista!$A:$L,8,0)=\"C\",4%,0),\"\")","v":""},{"$f":"IF(COUNTIF(Árlista!$A$3:$A$3792,$A25)>0,VLOOKUP($A25,Árlista!$A:$L,7,0),\"\")","v":""},null,{"$f":"IF(COUNTIF(Árlista!$A$3:$A$3792,$A25)>0,VLOOKUP($A25,Árlista!$A:$L,9,0),\"\")","v":""},{"$f":"IF(COUNTIF(Árlista!$A$3:$A$3792,$A25)>0,VLOOKUP($A25,Árlista!$A:$L,10,0),\"\")","v":""},{"$f":"IF(COUNTIF(Árlista!$A$3:$A$3792,$A25)>0,VLOOKUP($A25,Árlista!$A:$L,11,0),\"\")","v":""},{"$f":"IF(COUNTIF(Árlista!$A$3:$A$3792,$A25)>0,VLOOKUP($A25,Árlista!$A:$L,12,0),\"\")","v":""}]
[24,null,{"$f":"IF(COUNTIF(Árlista!$A$3:$A$3792,$A26)>0,VLOOKUP($A26,Árlista!$A:$L,2,0),\"\")","v":""},{"$f":"IF(COUNTIF(Árlista!$A$3:$A$3792,$A26)>0,VLOOKUP($A26,Árlista!$A:$L,3,0),\"\")","v":""},null,null,{"$f":"IF(COUNTIF(Árlista!$A$3:$A$3792,$A26)>0,IF(VLOOKUP($A26,Árlista!$A:$L,8,0)=\"C\",4%,0),\"\")","v":""},{"$f":"IF(COUNTIF(Árlista!$A$3:$A$3792,$A26)>0,VLOOKUP($A26,Árlista!$A:$L,7,0),\"\")","v":""},null,{"$f":"IF(COUNTIF(Árlista!$A$3:$A$3792,$A26)>0,VLOOKUP($A26,Árlista!$A:$L,9,0),\"\")","v":""},{"$f":"IF(COUNTIF(Árlista!$A$3:$A$3792,$A26)>0,VLOOKUP($A26,Árlista!$A:$L,10,0),\"\")","v":""},{"$f":"IF(COUNTIF(Árlista!$A$3:$A$3792,$A26)>0,VLOOKUP($A26,Árlista!$A:$L,11,0),\"\")","v":""},{"$f":"IF(COUNTIF(Árlista!$A$3:$A$3792,$A26)>0,VLOOKUP($A26,Árlista!$A:$L,12,0),\"\")","v":""}]
[25,null,{"$f":"IF(COUNTIF(Árlista!$A$3:$A$3792,$A27)>0,VLOOKUP($A27,Árlista!$A:$L,2,0),\"\")","v":""},{"$f":"IF(COUNTIF(Árlista!$A$3:$A$3792,$A27)>0,VLOOKUP($A27,Árlista!$A:$L,3,0),\"\")","v":""},null,null,{"$f":"IF(COUNTIF(Árlista!$A$3:$A$3792,$A27)>0,IF(VLOOKUP($A27,Árlista!$A:$L,8,0)=\"C\",4%,0),\"\")","v":""},{"$f":"IF(COUNTIF(Árlista!$A$3:$A$3792,$A27)>0,VLOOKUP($A27,Árlista!$A:$L,7,0),\"\")","v":""},null,{"$f":"IF(COUNTIF(Árlista!$A$3:$A$3792,$A27)>0,VLOOKUP($A27,Árlista!$A:$L,9,0),\"\")","v":""},{"$f":"IF(COUNTIF(Árlista!$A$3:$A$3792,$A27)>0,VLOOKUP($A27,Árlista!$A:$L,10,0),\"\")","v":""},{"$f":"IF(COUNTIF(Árlista!$A$3:$A$3792,$A27)>0,VLOOKUP($A27,Árlista!$A:$L,11,0),\"\")","v":""},{"$f":"IF(COUNTIF(Árlista!$A$3:$A$3792,$A27)>0,VLOOKUP($A27,Árlista!$A:$L,12,0),\"\")","v":""}]
[26,null,{"$f":"IF(COUNTIF(Árlista!$A$3:$A$3792,$A28)>0,VLOOKUP($A28,Árlista!$A:$L,2,0),\"\")","v":""},{"$f":"IF(COUNTIF(Árlista!$A$3:$A$3792,$A28)>0,VLOOKUP($A28,Árlista!$A:$L,3,0),\"\")","v":""},null,null,{"$f":"IF(COUNTIF(Árlista!$A$3:$A$3792,$A28)>0,IF(VLOOKUP($A28,Árlista!$A:$L,8,0)=\"C\",4%,0),\"\")","v":""},{"$f":"IF(COUNTIF(Árlista!$A$3:$A$3792,$A28)>0,VLOOKUP($A28,Árlista!$A:$L,7,0),\"\")","v":""},null,{"$f":"IF(COUNTIF(Árlista!$A$3:$A$3792,$A28)>0,VLOOKUP($A28,Árlista!$A:$L,9,0),\"\")","v":""},{"$f":"IF(COUNTIF(Árlista!$A$3:$A$3792,$A28)>0,VLOOKUP($A28,Árlista!$A:$L,10,0),\"\")","v":""},{"$f":"IF(COUNTIF(Árlista!$A$3:$A$3792,$A28)>0,VLOOKUP($A28,Árlista!$A:$L,11,0),\"\")","v":""},{"$f":"IF(COUNTIF(Árlista!$A$3:$A$3792,$A28)>0,VLOOKUP($A28,Árlista!$A:$L,12,0),\"\")","v":""}]
[27,null,{"$f":"IF(COUNTIF(Árlista!$A$3:$A$3792,$A29)>0,VLOOKUP($A29,Árlista!$A:$L,2,0),\"\")","v":""},{"$f":"IF(COUNTIF(Árlista!$A$3:$A$3792,$A29)>0,VLOOKUP($A29,Árlista!$A:$L,3,0),\"\")","v":""},null,null,{"$f":"IF(COUNTIF(Árlista!$A$3:$A$3792,$A29)>0,IF(VLOOKUP($A29,Árlista!$A:$L,8,0)=\"C\",4%,0),\"\")","v":""},{"$f":"IF(COUNTIF(Árlista!$A$3:$A$3792,$A29)>0,VLOOKUP($A29,Árlista!$A:$L,7,0),\"\")","v":""},null,{"$f":"IF(COUNTIF(Árlista!$A$3:$A$3792,$A29)>0,VLOOKUP($A29,Árlista!$A:$L,9,0),\"\")","v":""},{"$f":"IF(COUNTIF(Árlista!$A$3:$A$3792,$A29)>0,VLOOKUP($A29,Árlista!$A:$L,10,0),\"\")","v":""},{"$f":"IF(COUNTIF(Árlista!$A$3:$A$3792,$A29)>0,VLOOKUP($A29,Árlista!$A:$L,11,0),\"\")","v":""},{"$f":"IF(COUNTIF(Árlista!$A$3:$A$3792,$A29)>0,VLOOKUP($A29,Árlista!$A:$L,12,0),\"\")","v":""}]
[28,null,{"$f":"IF(COUNTIF(Árlista!$A$3:$A$3792,$A30)>0,VLOOKUP($A30,Árlista!$A:$L,2,0),\"\")","v":""},{"$f":"IF(COUNTIF(Árlista!$A$3:$A$3792,$A30)>0,VLOOKUP($A30,Árlista!$A:$L,3,0),\"\")","v":""},null,null,{"$f":"IF(COUNTIF(Árlista!$A$3:$A$3792,$A30)>0,IF(VLOOKUP($A30,Árlista!$A:$L,8,0)=\"C\",4%,0),\"\")","v":""},{"$f":"IF(COUNTIF(Árlista!$A$3:$A$3792,$A30)>0,VLOOKUP($A30,Árlista!$A:$L,7,0),\"\")","v":""},null,{"$f":"IF(COUNTIF(Árlista!$A$3:$A$3792,$A30)>0,VLOOKUP($A30,Árlista!$A:$L,9,0),\"\")","v":""},{"$f":"IF(COUNTIF(Árlista!$A$3:$A$3792,$A30)>0,VLOOKUP($A30,Árlista!$A:$L,10,0),\"\")","v":""},{"$f":"IF(COUNTIF(Árlista!$A$3:$A$3792,$A30)>0,VLOOKUP($A30,Árlista!$A:$L,11,0),\"\")","v":""},{"$f":"IF(COUNTIF(Árlista!$A$3:$A$3792,$A30)>0,VLOOKUP($A30,Árlista!$A:$L,12,0),\"\")","v":""}]
[29,null,{"$f":"IF(COUNTIF(Árlista!$A$3:$A$3792,$A31)>0,VLOOKUP($A31,Árlista!$A:$L,2,0),\"\")","v":""},{"$f":"IF(COUNTIF(Árlista!$A$3:$A$3792,$A31)>0,VLOOKUP($A31,Árlista!$A:$L,3,0),\"\")","v":""},null,null,{"$f":"IF(COUNTIF(Árlista!$A$3:$A$3792,$A31)>0,IF(VLOOKUP($A31,Árlista!$A:$L,8,0)=\"C\",4%,0),\"\")","v":""},{"$f":"IF(COUNTIF(Árlista!$A$3:$A$3792,$A31)>0,VLOOKUP($A31,Árlista!$A:$L,7,0),\"\")","v":""},null,{"$f":"IF(COUNTIF(Árlista!$A$3:$A$3792,$A31)>0,VLOOKUP($A31,Árlista!$A:$L,9,0),\"\")","v":""},{"$f":"IF(COUNTIF(Árlista!$A$3:$A$3792,$A31)>0,VLOOKUP($A31,Árlista!$A:$L,10,0),\"\")","v":""},{"$f":"IF(COUNTIF(Árlista!$A$3:$A$3792,$A31)>0,VLOOKUP($A31,Árlista!$A:$L,11,0),\"\")","v":""},{"$f":"IF(COUNTIF(Árlista!$A$3:$A$3792,$A31)>0,VLOOKUP($A31,Árlista!$A:$L,12,0),\"\")","v":""}]

{"sheet":"Árlista","index":3,"n_rows":3800,"n_cols":16,"rows_kept":3800,"cut":false,"hidden":false,"merged":[]}
["CP7125",null,null,null,null,null,null,null,1,1,null,false]
[null,"Cikkszám","Termék megnevezése",null,"Típusa","Termék fajtája","Tömeg","Ár kategória","2020 Katalógus HUF","TOPS/Stars 2020\nHUF","WEBSHOP","KOSÁR"]
[{"$f":"IF(L3=FALSE,0,1)","v":0},8951000156,"RC TOPS 2018 kiadvány",{"$f":"IF(H3=\"SP\",IF(J3>0,\"SP: \"&DOLLAR(J3*I$1,0),\"SP: \"&DOLLAR(I3*I$1,0)),IF(J3>0,\"*(\"&DOLLAR(I3*I$1,0)&\") \"&DOLLAR(J3*J$1,0),DOLLAR(I3*I$1,0)))","v":"0 Ft"},null,null,5246,null,null,null,null,null,null,null,null,"Árlista"]
[{"$f":"IF(L4=FALSE,0,COUNTIF(A$3:A3,\">0\")+1)","v":0},8951011333,"1\" IMPACT CSATLAKOZÓ SET 4 PCS",{"$f":"IF(H4=\"SP\",IF(J4>0,\"SP: \"&TEXT(J4*I$1,\"# ###,-Ft  \"),\"SP: \"&TEXT(I4*I$1,\"# ###,-Ft\")),IF(J4>0,\"*\"&TEXT(J4*J$1,\"# ###,-Ft\"),TEXT(I4*I$1,\"# ###,-Ft  \")))","v":"30 900,-Ft "},"RC S.anyag",null,2555,null,30900,null,null,null,null,null,null,"Légkulcsok"]
[{"$f":"IF(L5=FALSE,0,COUNTIF(A$3:A4,\">0\")+1)","v":0},8940168576,"1/2 MD2-12 SZŰRŐ-SZABÁLYOZÓ-OLAJZÓ",{"$f":"IF(H5=\"SP\",IF(J5>0,\"SP: \"&TEXT(J5*I$1,\"# ###,-Ft  \"),\"SP: \"&TEXT(I5*I$1,\"# ###,-Ft\")),IF(J5>0,\"*(\"&TEXT(I5*I$1,\"# ###,-\")&\") \n\"&TEXT(J5*J$1,\"# ###,-Ft\"),TEXT(I5*I$1,\"# ###,-Ft  \")))","v":"73 000,-Ft "},"RC S.anyag",null,2000,null,73000,null,null,null,null,null,null,"Egyenes csiszolók"]
[{"$f":"IF(L6=FALSE,0,COUNTIF(A$3:A5,\">0\")+1)","v":0},8940168482,"1/2 MD2LAK-12 FILTR-REG SZÓRÓ PAINT UNIT",{"$f":"IF(H6=\"SP\",IF(J6>0,\"SP: \"&TEXT(J6*I$1,\"# ###,-Ft  \"),\"SP: \"&TEXT(I6*I$1,\"# ###,-Ft\")),IF(J6>0,\"TOPS* \"&TEXT(J6*J$1,\"# ###,-Ft\"),TEXT(I6*I$1,\"# ###,-Ft  \")))","v":"TOPS* 95 100,-Ft"},"RC S.anyag",null,3470,null,106800,95100,null,null,null,null,null,"Szalag és excenter csiszolók"]
[{"$f":"IF(L7=FALSE,0,COUNTIF(A$3:A6,\">0\")+1)","v":0},8940168577,"1/2 MD3-12 SZŰRŐ-SZABÁLYOZÓ-OLAJZÓ","82 200,-Ft ","RC S.anyag",null,2680,null,82200,null,null,null,null,null,null,"Polír- és fiber csiszolók"]
[{"$f":"IF(L8=FALSE,0,COUNTIF(A$3:A7,\">0\")+1)","v":0},8951011396,"1/2\" ASKS11 IMPACT CSATLAKOZÓ SET SH.","35 910,-Ft ","RC S.anyag",null,1155,null,35910,null,null,null,null,null,null,"Vésők, leverők …"]
[{"$f":"IF(L9=FALSE,0,COUNTIF(A$3:A8,\">0\")+1)","v":0},8951011397,"1/2\" ASLS7 IMPACT CSATLAKOZÓ SET LON.",",-Ft ","RC S.anyag",null,2904,null,null,null,null,null,null,null,null,"Szóró- és lefúvató pisztolyok"]
[{"$f":"IF(L10=FALSE,0,COUNTIF(A$3:A9,\">0\")+1)","v":0},8951011330,"1/2\"IMPACT CSATLAKOZÓ SET","8 120,-Ft ","RC S.anyag",null,1240,null,8120,null,null,null,null,null,null,"Vágók, fűrészek, szegecshúzók"]
[{"$f":"IF(L11=FALSE,0,COUNTIF(A$3:A10,\">0\")+1)","v":0},8940168574,"1/4 MN2-14 SZŰRŐ-SZABÁLYOZÓ-OLAJZÓ",{"$f":"IF(H11=\"SP\",IF(J11>0,\"SP: \"&TEXT(J11*I$1,\"# ###,-Ft  \"),\"SP: \"&TEXT(I11*I$1,\"# ###,-Ft\")),IF(J11>0,\"*(\"&TEXT(I11*I$1,\"# ###,-\")&\") \n\"&TEXT(J11*J$1,\"# ###,-Ft\"),TEXT(I11*I$1,\"# ###,-Ft  \")))","v":"48 440,-Ft "},"RC S.anyag",null,1925,null,48440,null,null,null,null,null,null,"Dugókulcsok"]
[{"$f":"IF(L12=FALSE,0,COUNTIF(A$3:A11,\">0\")+1)","v":0},8940168575,"1/4 MN3-14 SZŰRŐ-SZABÁLYOZÓ-OLAJZÓ","53 730,-Ft ","RC S.anyag",null,2320,null,53730,null,null,null,null,null,null,"Csatlakozók"]
[{"$f":"IF(L13=FALSE,0,COUNTIF(A$3:A12,\">0\")+1)","v":0},8951011835,"10/17M SPIRÁL CSŐS","29 230,-Ft ","RC S.anyag",null,715,null,29230,null,null,null,null,null,null,"Abroncstöltők"]
[{"$f":"IF(L14=FALSE,0,COUNTIF(A$3:A13,\">0\")+1)","v":0},8951011453,"100 B KEY","1 120,-Ft ","RC S.anyag",null,45,null,1120,null,null,null,null,null,null,"ABAC Levegős szerszámok"]
[{"$f":"IF(L15=FALSE,0,COUNTIF(A$3:A14,\">0\")+1)","v":0},8951011451,"100 FÚRÓ CHUCK W. KEY","5 320,-Ft ","RC S.anyag",null,209,null,5320,null,null,null,null,null,null,"Garázsipari eszközök"]
[{"$f":"IF(L16=FALSE,0,COUNTIF(A$3:A15,\">0\")+1)","v":0},8951011458,"100 P QUICK CHUCK 10 MM / P",{"$f":"IF(H16=\"SP\",IF(J16>0,\"SP: \"&TEXT(J16*I$1,\"# ###,-Ft  \"),\"SP: \"&TEXT(I16*I$1,\"# ###,-Ft\")),IF(J16>0,\"TOPS* \"&TEXT(J16*J$1,\"# ###,-Ft\"),TEXT(I16*I$1,\"# ###,-Ft  \")))","v":"8 400,-Ft "},"RC S.anyag",null,176,null,8400,null,null,null,null,null,null,"AKKUMULÁTOROS GÉPEK"]
[{"$f":"IF(L17=FALSE,0,COUNTIF(A$3:A16,\">0\")+1)","v":0},8951011606,"100 SL SISAL-BRUSH",",-Ft ","RC S.anyag",null,465,null,null,null,null,null,null,null,null,"Tömlők, tömlődobok"]
[{"$f":"IF(L18=FALSE,0,COUNTIF(A$3:A17,\">0\")+1)","v":0},8951012037,"10-02 TÖMLŐ INC.P21,P23 HPP10","22 130,-Ft ","RC S.anyag",null,851,null,22130,null,null,null,null,null,null,"Szűrők, szabályozók"]
[{"$f":"IF(L19=FALSE,0,COUNTIF(A$3:A18,\">0\")+1)","v":0},8951012039,"10-05 HOSSZABBÍTÓ CSŐ 25\" LOCK ON","14 570,-Ft ","RC S.anyag",null,3137,null,14570,null,null,null,null,null,null,"Balancerek"]
[{"$f":"IF(L20=FALSE,0,COUNTIF(A$3:A19,\">0\")+1)","v":0},8951012040,"10-06 20\" LOCK ON/ HOSSZABBÍTÓ CSŐ","12 050,-Ft ","RC S.anyag",null,2496,null,12050]
[{"$f":"IF(L21=FALSE,0,COUNTIF(A$3:A20,\">0\")+1)","v":0},8951012041,"10-07 10\" LOCK ON/HOSSZABBÍTÓ CSŐ","8 400,-Ft ","RC S.anyag",null,1127,null,8400]
[{"$f":"IF(L22=FALSE,0,COUNTIF(A$3:A21,\">0\")+1)","v":0},8951011064,"101 KAROSSZÉRIA HUTATÓ CSIPESZ","24 930,-Ft ","RC S.anyag",null,2105,null,24930]
[{"$f":"IF(L23=FALSE,0,COUNTIF(A$3:A22,\">0\")+1)","v":0},8951011066,"101 N KAROSSZÉRIA HUTATÓ CSIPESZ","33 130,-Ft ","RC S.anyag",null,2290,null,33130]
[{"$f":"IF(L24=FALSE,0,COUNTIF(A$3:A23,\">0\")+1)","v":0},8951011076,"101 S SCREWSET","4 200,-Ft ","RC S.anyag",null,186,null,4200]
[{"$f":"IF(L25=FALSE,0,COUNTIF(A$3:A24,\">0\")+1)","v":0},8951012044,"10-10 LAPOS BASE","9 530,-Ft ","RC S.anyag",null,1578,null,9530]
[{"$f":"IF(L26=FALSE,0,COUNTIF(A$3:A25,\">0\")+1)","v":0},8951012047,"10-13 SPREADER PLUNGER TOE","8 970,-Ft ","RC S.anyag",null,874,null,8970]
[{"$f":"IF(L27=FALSE,0,COUNTIF(A$3:A26,\">0\")+1)","v":0},8951012050,"10-16 HÜVELY CONNECTOR","8 680,-Ft ","RC S.anyag",null,250,null,8680]
[{"$f":"IF(L28=FALSE,0,COUNTIF(A$3:A27,\">0\")+1)","v":0},8951012051,"10-17 SERRATED SADDLE","5 320,-Ft ","RC S.anyag",null,373,null,5320]
[{"$f":"IF(L29=FALSE,0,COUNTIF(A$3:A28,\">0\")+1)","v":0},8951011065,"102 KAROSSZÉRIA HUTATÓ CSIPESZ","29 790,-Ft ","RC S.anyag",null,2066,null,29790]
[{"$f":"IF(L30=FALSE,0,COUNTIF(A$3:A29,\">0\")+1)","v":0},8951011067,"102 N KAROSSZÉRIA HUTATÓ CSIPESZ","33 130,-Ft ","RC S.anyag",null,2002,null,33130]
[{"$f":"IF(L31=FALSE,0,COUNTIF(A$3:A30,\">0\")+1)","v":0},8951011068,"102 NN KAROSSZÉRIA HUTATÓ CSIPESZ","42 600,-Ft ","RC S.anyag",null,2196,null,42600]
[{"$f":"IF(L32=FALSE,0,COUNTIF(A$3:A31,\">0\")+1)","v":0},8951011078,"102 NS SCREWSET","4 200,-Ft ","RC S.anyag",null,195,null,4200]
[{"$f":"IF(L33=FALSE,0,COUNTIF(A$3:A32,\">0\")+1)","v":0},8951011077,"102 S SCREWSET","4 200,-Ft ","RC S.anyag",null,138,null,4200]
[{"$f":"IF(L34=FALSE,0,COUNTIF(A$3:A33,\">0\")+1)","v":0},8951012058,"10-26 PULL CSIPESZ","43 710,-Ft ","RC S.anyag",null,2045,null,43710]
[{"$f":"IF(L35=FALSE,0,COUNTIF(A$3:A34,\">0\")+1)","v":0},8951011998,"110 02 TÖMLŐ INC.P21,P23 HRS04","23 250,-Ft ","RC S.anyag",null,1005,null,23250]
[{"$f":"IF(L36=FALSE,0,COUNTIF(A$3:A35,\">0\")+1)","v":0},8951011999,"110 05 HOSSZABBÍTÓ","6 160,-Ft ","RC S.anyag",null,1199,null,6160]
[{"$f":"IF(L37=FALSE,0,COUNTIF(A$3:A36,\">0\")+1)","v":0},8951012002,"110 08 HOSSZABBÍTÓ","3 360,-Ft ","RC S.anyag",null,440,null,3360]
[{"$f":"IF(L38=FALSE,0,COUNTIF(A$3:A37,\">0\")+1)","v":0},8951012003,"110 09 ADAPTER","2 520,-Ft ","RC S.anyag",null,205,null,2520]
[{"$f":"IF(L39=FALSE,0,COUNTIF(A$3:A38,\">0\")+1)","v":0},8951012005,"110 11 LAPOS BASE","3 080,-Ft ","RC S.anyag",null,714,null,3080]
[{"$f":"IF(L40=FALSE,0,COUNTIF(A$3:A39,\">0\")+1)","v":0},8951012006,"110 12 V.-BASE","2 800,-Ft ","RC S.anyag",null,247,null,2800]
[{"$f":"IF(L41=FALSE,0,COUNTIF(A$3:A40,\">0\")+1)","v":0},8951012007,"110 13 WEDGE HEAD","2 800,-Ft ","RC S.anyag",null,265,null,2800]
[{"$f":"IF(L42=FALSE,0,COUNTIF(A$3:A41,\">0\")+1)","v":0},8951012008,"110 14 SPREADER PLUNGER TOE","3 360,-Ft ","RC S.anyag",null,421,null,3360]
[{"$f":"IF(L43=FALSE,0,COUNTIF(A$3:A42,\">0\")+1)","v":0},8951012012,"110 15C COLLAR TOE","3 360,-Ft ","RC S.anyag",null,347,null,3360]
[{"$f":"IF(L44=FALSE,0,COUNTIF(A$3:A43,\">0\")+1)","v":0},8951011452,"110 FÚRÓ CHUCK W. KEY",{"$f":"IF(H44=\"SP\",IF(J44>0,\"SP: \"&TEXT(J44*I$1,\"# ###,-Ft  \"),\"SP: \"&TEXT(I44*I$1,\"# ###,-Ft\")),IF(J44>0,\"*(\"&TEXT(I44*I$1,\"# ###,-\")&\") \n\"&TEXT(J44*J$1,\"# ###,-Ft\"),TEXT(I44*I$1,\"# ###,-Ft  \")))","v":"13 170,-Ft "},"RC S.anyag",null,376,null,13170]
[{"$f":"IF(L45=FALSE,0,COUNTIF(A$3:A44,\">0\")+1)","v":0},8951011978,"111 01 PUMP_881001","53 450,-Ft ","RC Termék",null,5553,null,53450]
[{"$f":"IF(L46=FALSE,0,COUNTIF(A$3:A45,\">0\")+1)","v":0},8951012230,"111 01S PUMP - SET","78 300,-Ft ","RC S.anyag",null,6800,null,78300]
[{"$f":"IF(L47=FALSE,0,COUNTIF(A$3:A46,\">0\")+1)","v":0},8951011979,"111 02 TÖMLŐ W.P21,P23 HRS10/PHP10","24 930,-Ft ","RC S.anyag",null,869,null,24930]
[{"$f":"IF(L48=FALSE,0,COUNTIF(A$3:A47,\">0\")+1)","v":0},8951011980,"111 04 SPREADER 0,5 TO.","28 120,-Ft ","RC S.anyag",null,1824,null,28120]
[{"$f":"IF(L49=FALSE,0,COUNTIF(A$3:A48,\">0\")+1)","v":0},8951011981,"111 05 HOSSZABBÍTÓ","11 210,-Ft ","RC S.anyag",null,2784,null,11210]
[{"$f":"IF(L50=FALSE,0,COUNTIF(A$3:A49,\">0\")+1)","v":0},8951011982,"111 06 HOSSZABBÍTÓ CSŐ","10 370,-Ft ","RC S.anyag",null,2259,null,10370]
[{"$f":"IF(L51=FALSE,0,COUNTIF(A$3:A50,\">0\")+1)","v":0},8951011983,"111 07 HOSSZABBÍTÓ","7 840,-Ft ","RC S.anyag",null,1801,null,7840]
[{"$f":"IF(L52=FALSE,0,COUNTIF(A$3:A51,\">0\")+1)","v":0},8951011984,"111 08 HOSSZABBÍTÓ","6 440,-Ft ","RC S.anyag",null,1157,null,6440]
[{"$f":"IF(L53=FALSE,0,COUNTIF(A$3:A52,\">0\")+1)","v":0},8951011985,"111 09 ADAPTER","4 480,-Ft ","RC S.anyag",null,689,null,4480]
[{"$f":"IF(L54=FALSE,0,COUNTIF(A$3:A53,\">0\")+1)","v":0},8951011986,"111 10 SERRATED SADDLE","6 440,-Ft ","RC S.anyag",null,407,null,6440]
[{"$f":"IF(L55=FALSE,0,COUNTIF(A$3:A54,\">0\")+1)","v":0},8951011987,"111 11 LAPOS BASE","9 810,-Ft ","RC S.anyag",null,2170,null,9810]
[{"$f":"IF(L56=FALSE,0,COUNTIF(A$3:A55,\">0\")+1)","v":0},8951011989,"111 13 WEDGE HEAD","5 320,-Ft ","RC S.anyag",null,640,null,5320]
[{"$f":"IF(L57=FALSE,0,COUNTIF(A$3:A56,\">0\")+1)","v":0},8951011990,"111 14 SPREADER PLUNGER TOE","6 160,-Ft ","RC S.anyag",null,1269,null,6160]
[{"$f":"IF(L58=FALSE,0,COUNTIF(A$3:A57,\">0\")+1)","v":0},8951011996,"111 15D SPREADER RAM TOE","6 720,-Ft ","RC S.anyag",null,870,null,6720]
[{"$f":"IF(L59=FALSE,0,COUNTIF(A$3:A58,\">0\")+1)","v":0},8951011991,"111 16 FLEX HEAD","6 160,-Ft ","RC S.anyag",null,634,null,6160]
[{"$f":"IF(L60=FALSE,0,COUNTIF(A$3:A59,\">0\")+1)","v":0},8951011992,"111 17 BOX PVC","35 080,-Ft ","RC S.anyag",null,4105,null,35080]
[{"$f":"IF(L61=FALSE,0,COUNTIF(A$3:A60,\">0\")+1)","v":0},8951012013,"112 01 AUTOMATIC 2 SPEED PUMP","96 800,-Ft ","RC S.anyag",null,8379,null,96800]
[{"$f":"IF(L62=FALSE,0,COUNTIF(A$3:A61,\">0\")+1)","v":0},8951012015,"112 03 HOSSZABBÍTÓ","63 100,-Ft ","RC S.anyag",null,6112,null,63100]
[{"$f":"IF(L63=FALSE,0,COUNTIF(A$3:A62,\">0\")+1)","v":0},8951012016,"112 04 HOSSZABBÍTÓ","45 660,-Ft ","RC S.anyag",null,4413,null,45660]
[{"$f":"IF(L64=FALSE,0,COUNTIF(A$3:A63,\">0\")+1)","v":0},8951012017,"112 05 HOSSZABBÍTÓ","28 120,-Ft ","RC S.anyag",null,2607,null,28120]
[{"$f":"IF(L65=FALSE,0,COUNTIF(A$3:A64,\">0\")+1)","v":0},8951012019,"112 07 LOCK PIN","2 800,-Ft ","RC S.anyag",null,91,null,2800]
[{"$f":"IF(L66=FALSE,0,COUNTIF(A$3:A65,\">0\")+1)","v":0},8951012020,"112 08 DUGÓ CONNECTOR HRS 20","14 570,-Ft ","RC S.anyag",null,133,null,14570]
[{"$f":"IF(L67=FALSE,0,COUNTIF(A$3:A66,\">0\")+1)","v":0},8951012021,"112 09 THREADED KUPLUNG HRS 20","18 490,-Ft ","RC S.anyag",null,1184,null,18490]
[{"$f":"IF(L68=FALSE,0,COUNTIF(A$3:A67,\">0\")+1)","v":0},8951012023,"112 11 RAM BASE","30 350,-Ft ","RC S.anyag",null,4008,null,30350]
[{"$f":"IF(L69=FALSE,0,COUNTIF(A$3:A68,\">0\")+1)","v":0},8951012026,"112 14 WEDGE HEAD","22 970,-Ft ","RC S.anyag",null,1254,null,22970]
[{"$f":"IF(L70=FALSE,0,COUNTIF(A$3:A69,\">0\")+1)","v":0},8951012027,"112 15 SERRATED SANDDLE","19 890,-Ft ","RC S.anyag",null,1393,null,19890]
[{"$f":"IF(L71=FALSE,0,COUNTIF(A$3:A70,\">0\")+1)","v":0},8951012029,"112 17 TÖMLŐ INC.P21,P23 HRS20","24 930,-Ft ","RC S.anyag",null,968,null,24930]
[{"$f":"IF(L72=FALSE,0,COUNTIF(A$3:A71,\">0\")+1)","v":0},8951011539,"115 TR VÁGÓ KERÉK",",-Ft ","RC S.anyag",null,71]
[{"$f":"IF(L73=FALSE,0,COUNTIF(A$3:A72,\">0\")+1)","v":0},8951011459,"120 P QUICK CHUCK 13 MM / P",{"$f":"IF(H73=\"SP\",IF(J73>0,\"SP: \"&TEXT(J73*I$1,\"# ###,-Ft  \"),\"SP: \"&TEXT(I73*I$1,\"# ###,-Ft\")),IF(J73>0,\"TOPS* \"&TEXT(J73*J$1,\"# ###,-Ft\"),TEXT(I73*I$1,\"# ###,-Ft  \")))","v":"11 210,-Ft "},"RC S.anyag",null,252,null,11210]
[{"$f":"IF(L74=FALSE,0,COUNTIF(A$3:A73,\">0\")+1)","v":0},8951011967,"1210 STAPLE",{"$f":"IF(H74=\"SP\",IF(J74>0,\"SP: \"&TEXT(J74*I$1,\"# ###,-Ft  \"),\"SP: \"&TEXT(I74*I$1,\"# ###,-Ft\")),IF(J74>0,\"*(\"&TEXT(I74*I$1,\"# ###,-\")&\") \n\"&TEXT(J74*J$1,\"# ###,-Ft\"),TEXT(I74*I$1,\"# ###,-Ft  \")))","v":"3 640,-Ft "},"RC S.anyag",null,709,null,3640]
[{"$f":"IF(L75=FALSE,0,COUNTIF(A$3:A74,\">0\")+1)","v":0},8951011969,"1219 STAPLE",{"$f":"IF(H75=\"SP\",IF(J75>0,\"SP: \"&TEXT(J75*I$1,\"# ###,-Ft  \"),\"SP: \"&TEXT(I75*I$1,\"# ###,-Ft\")),IF(J75>0,\"*(\"&TEXT(I75*I$1,\"# ###,-\")&\") \n\"&TEXT(J75*J$1,\"# ###,-Ft\"),TEXT(I75*I$1,\"# ###,-Ft  \")))","v":"6 440,-Ft "},"RC S.anyag",null,1146,null,6440]
[{"$f":"IF(L76=FALSE,0,COUNTIF(A$3:A75,\">0\")+1)","v":0},8951011111,"205SE DUPLA TÖMLŐ 5M CLICK",{"$f":"IF(H76=\"SP\",IF(J76>0,\"SP: \"&TEXT(J76*I$1,\"# ###,-Ft  \"),\"SP: \"&TEXT(I76*I$1,\"# ###,-Ft\")),IF(J76>0,\"TOPS* \"&TEXT(J76*J$1,\"# ###,-Ft\"),TEXT(I76*I$1,\"# ###,-Ft  \")))","v":"60 600,-Ft "},"RC S.anyag",null,1839,null,60600]
[{"$f":"IF(L77=FALSE,0,COUNTIF(A$3:A76,\">0\")+1)","v":0},8951011237,"211 ES80 ADAPTERF.BEG211/212",{"$f":"IF(H77=\"SP\",IF(J77>0,\"SP: \"&TEXT(J77*I$1,\"# ###,-Ft  \"),\"SP: \"&TEXT(I77*I$1,\"# ###,-Ft\")),IF(J77>0,\"*(\"&TEXT(I77*I$1,\"# ###,-\")&\") \n\"&TEXT(J77*J$1,\"# ###,-Ft\"),TEXT(I77*I$1,\"# ###,-Ft  \")))","v":"69 700,-Ft "},"RC S.anyag",null,32,null,69700]
[{"$f":"IF(L78=FALSE,0,COUNTIF(A$3:A77,\">0\")+1)","v":0},8951011197,"214 E20 ADAPTERF. BEG214","17 650,-Ft ","RC S.anyag",null,85,null,17650]
[{"$f":"IF(L79=FALSE,0,COUNTIF(A$3:A78,\">0\")+1)","v":0},8951011435,"2205R OPENING KEY SET WRENCHES","82 700,-Ft ","RC S.anyag",null,10,null,82700]
[{"$f":"IF(L80=FALSE,0,COUNTIF(A$3:A79,\">0\")+1)","v":0},8951011445,"2363R OPENING KEY 2363 2 PCS.","140 200,-Ft ","RC S.anyag",null,101,null,140200]
[{"$f":"IF(L81=FALSE,0,COUNTIF(A$3:A80,\">0\")+1)","v":0},8951011484,"3.00 MM BEFOGÓ FOR 7050B","18 490,-Ft ","RC S.anyag",null,11,null,18490]
[{"$f":"IF(L82=FALSE,0,COUNTIF(A$3:A81,\">0\")+1)","v":0},8951011069,"301 KAROSSZÉRIA HUZATÓ CSIPESZ","33 130,-Ft ","RC S.anyag",null,1648,null,33130]
[{"$f":"IF(L83=FALSE,0,COUNTIF(A$3:A82,\">0\")+1)","v":0},8951011544,"316-2 BACKING PAD","1 960,-Ft ","RC S.anyag",null,12,null,1960]
[{"$f":"IF(L84=FALSE,0,COUNTIF(A$3:A83,\">0\")+1)","v":0},8951011631,"3M2TA2 ROLOC ADAPTER","2 800,-Ft ","RC S.anyag",null,36,null,2800]
[{"$f":"IF(L85=FALSE,0,COUNTIF(A$3:A84,\">0\")+1)","v":0},8951011634,"3M50K120 BRISTLE DISC","6 160,-Ft ","RC S.anyag",null,20,null,6160]
[{"$f":"IF(L86=FALSE,0,COUNTIF(A$3:A85,\">0\")+1)","v":0},8951011633,"3M50K50 BRISTLE DISC","6 160,-Ft ","RC S.anyag",null,1,null,6160]
[{"$f":"IF(L87=FALSE,0,COUNTIF(A$3:A86,\">0\")+1)","v":0},8951011635,"3M50K80 BRISTLE DISC","6 160,-Ft ","RC S.anyag",null,19,null,6160]
[{"$f":"IF(L88=FALSE,0,COUNTIF(A$3:A87,\">0\")+1)","v":0},8951011629,"3MA 0615 ROLOC ADAPTER","6 160,-Ft ","RC S.anyag",null,12,null,6160]
[{"$f":"IF(L89=FALSE,0,COUNTIF(A$3:A88,\">0\")+1)","v":0},8951011070,"402 CSIPESZ UNIVERSAL","74 700,-Ft ","RC S.anyag",null,2594,null,74700]
[{"$f":"IF(L90=FALSE,0,COUNTIF(A$3:A89,\">0\")+1)","v":0},8951011545,"416-2 BACKING PAD","1 960,-Ft ","RC S.anyag",null,22.2,null,1960]
[{"$f":"IF(L91=FALSE,0,COUNTIF(A$3:A90,\">0\")+1)","v":0},8951011974,"4816 STAPLE",{"$f":"IF(H91=\"SP\",IF(J91>0,\"SP: \"&TEXT(J91*I$1,\"# ###,-Ft  \"),\"SP: \"&TEXT(I91*I$1,\"# ###,-Ft\")),IF(J91>0,\"*(\"&TEXT(I91*I$1,\"# ###,-\")&\") \n\"&TEXT(J91*J$1,\"# ###,-Ft\"),TEXT(I91*I$1,\"# ###,-Ft  \")))","v":"4 480,-Ft "},"RC S.anyag",null,844,null,4480]
[{"$f":"IF(L92=FALSE,0,COUNTIF(A$3:A91,\">0\")+1)","v":0},8951011977,"4825 STAPLE","8 400,-Ft ","RC S.anyag",null,1309,null,8400]
[{"$f":"IF(L93=FALSE,0,COUNTIF(A$3:A92,\">0\")+1)","v":0},8951011831,"5/8.5M SPIRÁL CSŐS","20 450,-Ft ","RC S.anyag",null,566,null,20450]
[{"$f":"IF(L94=FALSE,0,COUNTIF(A$3:A93,\">0\")+1)","v":0},8951011830,"5/8.5M SPIRÁL CSŐS W/O KUPLUNG","11 490,-Ft ","RC S.anyag",null,360,null,11490]
[{"$f":"IF(L95=FALSE,0,COUNTIF(A$3:A94,\">0\")+1)","v":0},8951011487,"5030-03 TŰ 5030","20 450,-Ft ","RC S.anyag",null,4.5,null,20450]
[{"$f":"IF(L96=FALSE,0,COUNTIF(A$3:A95,\">0\")+1)","v":0},8951011922,"5060 SS SCRAPER PENGE","15 410,-Ft ","RC S.anyag",null,26,null,15410]
[{"$f":"IF(L97=FALSE,0,COUNTIF(A$3:A96,\">0\")+1)","v":0},8951011548,"516-2 BACKING PAD","1 400,-Ft ","RC S.anyag",null,32,null,1400]
[{"$f":"IF(L98=FALSE,0,COUNTIF(A$3:A97,\">0\")+1)","v":0},8951011497,"5602 VÉSŐ","8 400,-Ft ","RC S.anyag",null,200,null,8400]
[{"$f":"IF(L99=FALSE,0,COUNTIF(A$3:A98,\">0\")+1)","v":0},8951011510,"5610 P3 TŰ PLATE 3 MM","8 400,-Ft ","RC S.anyag",null,82,null,8400]
[{"$f":"IF(L100=FALSE,0,COUNTIF(A$3:A99,\">0\")+1)","v":0},8951011502,"5620 P3 TŰ PLATE 3 MM","17 650,-Ft ","RC S.anyag",null,201,null,17650]
[{"$f":"IF(L101=FALSE,0,COUNTIF(A$3:A100,\">0\")+1)","v":0},8951011503,"5620 P4 TŰ PLATE 4 MM","15 410,-Ft ","RC S.anyag",null,209,null,15410]
[{"$f":"IF(L102=FALSE,0,COUNTIF(A$3:A101,\">0\")+1)","v":0},8951011500,"5620 ST3 TŰ SET 3 MM (28 PCS)","9 530,-Ft ","RC S.anyag",null,282,null,9530]
[{"$f":"IF(L103=FALSE,0,COUNTIF(A$3:A102,\">0\")+1)","v":0},8951011501,"5620 ST4 TŰ SET 4 MM (14 PCS)","6 440,-Ft ","RC S.anyag",null,243,null,6440]
[{"$f":"IF(L104=FALSE,0,COUNTIF(A$3:A103,\">0\")+1)","v":0},8951011504,"5625 ST2 TŰ SET 2 MM (29 PCS)",{"$f":"IF(H104=\"SP\",IF(J104>0,\"SP: \"&TEXT(J104*I$1,\"# ###,-Ft  \"),\"SP: \"&TEXT(I104*I$1,\"# ###,-Ft\")),IF(J104>0,\"*(\"&TEXT(I104*I$1,\"# ###,-\")&\") \n\"&TEXT(J104*J$1,\"# ###,-Ft\"),TEXT(I104*I$1,\"# ###,-Ft  \")))","v":"20 450,-Ft "},"RC S.anyag",null,125,null,20450]
[{"$f":"IF(L105=FALSE,0,COUNTIF(A$3:A104,\">0\")+1)","v":0},8951011508,"5630 P3 TŰ PLATE 3 MM","27 560,-Ft ","RC S.anyag",null,333,null,27560]
[{"$f":"IF(L106=FALSE,0,COUNTIF(A$3:A105,\">0\")+1)","v":0},8951011509,"5630 P4 TŰ PLATE 4 MM","26 620,-Ft ","RC S.anyag",null,324,null,26620]
[{"$f":"IF(L107=FALSE,0,COUNTIF(A$3:A106,\">0\")+1)","v":0},8951011506,"5630 ST3 TŰ SET 3 MM (49 PCS)","27 560,-Ft ","RC S.anyag",null,484,null,27560]
[{"$f":"IF(L108=FALSE,0,COUNTIF(A$3:A107,\">0\")+1)","v":0},8951011507,"5630 ST4 TŰ SET 4 MM (35 PCS)","26 620,-Ft ","RC S.anyag",null,615,null,26620]
[{"$f":"IF(L109=FALSE,0,COUNTIF(A$3:A108,\">0\")+1)","v":0},8951011845,"6,5/10.6MO SPIRAL H. W/O COUPL.","15 410,-Ft ","RC S.anyag",null,515,null,15410]
[{"$f":"IF(L110=FALSE,0,COUNTIF(A$3:A109,\">0\")+1)","v":0},8951011072,"601 KAROSSZÉRIA HUTATÓ CSIPESZ",{"$f":"IF(H110=\"SP\",IF(J110>0,\"SP: \"&TEXT(J110*I$1,\"# ###,-Ft  \"),\"SP: \"&TEXT(I110*I$1,\"# ###,-Ft\")),IF(J110>0,\"*(\"&TEXT(I110*I$1,\"# ###,-\")&\") \n\"&TEXT(J110*J$1,\"# ###,-Ft\"),TEXT(I110*I$1,\"# ###,-Ft  \")))","v":"67 000,-Ft "},"RC S.anyag",null,2415,null,67000]
[{"$f":"IF(L111=FALSE,0,COUNTIF(A$3:A110,\">0\")+1)","v":0},8951011073,"601 N KAROSSZÉRIA HUTATÓ CSIPESZ","86 300,-Ft ","RC S.anyag",null,2874,null,86300]
[{"$f":"IF(L112=FALSE,0,COUNTIF(A$3:A111,\">0\")+1)","v":0},8951011531,"6067A FILE ADAPTER 6MM","5 320,-Ft ","RC S.anyag",null,29,null,5320]
[{"$f":"IF(L113=FALSE,0,COUNTIF(A$3:A112,\">0\")+1)","v":0},8951011535,"6067D SHANK FILE TRIANGULAR","2 800,-Ft ","RC S.anyag",null,18,null,2800]
[{"$f":"IF(L114=FALSE,0,COUNTIF(A$3:A113,\">0\")+1)","v":0},8951011532,"6067F SHANK FILE-RECT. 10 X 3MM","2 800,-Ft ","RC S.anyag",null,1,null,2800]
[{"$f":"IF(L115=FALSE,0,COUNTIF(A$3:A114,\">0\")+1)","v":0},8951011534,"6067H FILE HALF ROUND 10X3,8MM","3 080,-Ft ","RC S.anyag",null,21,null,3080]
[{"$f":"IF(L116=FALSE,0,COUNTIF(A$3:A115,\">0\")+1)","v":0},8951011533,"6067R SHANK FILE ROUND 6MM","2 800,-Ft ","RC S.anyag",null,21,null,2800]
[{"$f":"IF(L117=FALSE,0,COUNTIF(A$3:A116,\">0\")+1)","v":0},8951011526,"6453GH140 HOOK 5,5\"","32 850,-Ft ","RC S.anyag",null,975,null,32850]
[{"$f":"IF(L118=FALSE,0,COUNTIF(A$3:A117,\">0\")+1)","v":0},8951011525,"6453GH75 HOOK 3\"","23 530,-Ft ","RC S.anyag",null,413,null,23530]
[{"$f":"IF(L119=FALSE,0,COUNTIF(A$3:A118,\">0\")+1)","v":0},8951011430,"6605-39 PIN WRENCH","2 800,-Ft ","RC S.anyag",null,65,null,2800]
[{"$f":"IF(L120=FALSE,0,COUNTIF(A$3:A119,\">0\")+1)","v":0},8951012227,"6605R OPENING KEY INNER GEAR","184 500,-Ft ","RC S.anyag",null,10,null,184500]
[{"$f":"IF(L121=FALSE,0,COUNTIF(A$3:A120,\">0\")+1)","v":0},8951011529,"6901 FILE SET 4 PCS FOR 6900","9 810,-Ft ","RC S.anyag",null,86,null,9810]
[{"$f":"IF(L122=FALSE,0,COUNTIF(A$3:A121,\">0\")+1)","v":0},8951011678,"7035 A BEFOGÓ ADAPTER",{"$f":"IF(H122=\"SP\",IF(J122>0,\"SP: \"&TEXT(J122*I$1,\"# ###,-Ft  \"),\"SP: \"&TEXT(I122*I$1,\"# ###,-Ft\")),IF(J122>0,\"TOPS* \"&TEXT(J122*J$1,\"# ###,-Ft\"),TEXT(I122*I$1,\"# ###,-Ft  \")))","v":"TOPS* 2 280,-Ft"},"RC S.anyag",null,27,null,3080,2280]
[{"$f":"IF(L123=FALSE,0,COUNTIF(A$3:A122,\">0\")+1)","v":0},8951011677,"7035 D RADÍR KERÉK FOR 7035",{"$f":"IF(H123=\"SP\",IF(J123>0,\"SP: \"&TEXT(J123*I$1,\"# ###,-Ft  \"),\"SP: \"&TEXT(I123*I$1,\"# ###,-Ft\")),IF(J123>0,\"TOPS* \"&TEXT(J123*J$1,\"# ###,-Ft\"),TEXT(I123*I$1,\"# ###,-Ft  \")))","v":"TOPS* 2 850,-Ft"},"RC S.anyag",null,174,null,5040,2850]
[{"$f":"IF(L124=FALSE,0,COUNTIF(A$3:A123,\">0\")+1)","v":0},8951012289,"7035L5T RADÍR KERÉKS W. 1 THREAD",{"$f":"IF(H124=\"SP\",IF(J124>0,\"SP: \"&TEXT(J124*I$1,\"# ###,-Ft  \"),\"SP: \"&TEXT(I124*I$1,\"# ###,-Ft\")),IF(J124>0,\"TOPS* \"&TEXT(J124*J$1,\"# ###,-Ft\"),TEXT(I124*I$1,\"# ###,-Ft  \")))","v":",-Ft "},"RC S.anyag",null,801]
[{"$f":"IF(L125=FALSE,0,COUNTIF(A$3:A124,\">0\")+1)","v":0},8951011536,"70TR VÁGÓ KERÉK (db)",{"$f":"IF(H125=\"SP\",IF(J125>0,\"SP: \"&TEXT(J125*I$1,\"# ###,-Ft  \"),\"SP: \"&TEXT(I125*I$1,\"# ###,-Ft\")),IF(J125>0,\"TOPS* \"&TEXT(J125*J$1,\"# ###,-Ft\"),TEXT(I125*I$1,\"# ###,-Ft  \")))","v":"560,-Ft "},"RC S.anyag",null,15,null,560]
[{"$f":"IF(L126=FALSE,0,COUNTIF(A$3:A125,\">0\")+1)","v":0},8951011538,"7150-S SAFETY GUARD","3 640,-Ft ","RC S.anyag",null,110,null,3640]
[{"$f":"IF(L127=FALSE,0,COUNTIF(A$3:A126,\">0\")+1)","v":0},8951011620,"7164DS PAINT & RUST REMOVER","2 520,-Ft ","RC S.anyag",null,10,null,2520]
[{"$f":"IF(L128=FALSE,0,COUNTIF(A$3:A127,\">0\")+1)","v":0},8951011618,"7164S GRINDSTONE","2 520,-Ft ","RC S.anyag",null,28,null,2520]
[{"$f":"IF(L129=FALSE,0,COUNTIF(A$3:A128,\">0\")+1)","v":0},8951011674,"7601 FINGER VELCRO 7605REB-58",{"$f":"IF(H129=\"SP\",IF(J129>0,\"SP: \"&TEXT(J129*I$1,\"# ###,-Ft  \"),\"SP: \"&TEXT(I129*I$1,\"# ###,-Ft\")),IF(J129>0,\"*(\"&TEXT(I129*I$1,\"# ###,-\")&\") \n\"&TEXT(J129*J$1,\"# ###,-Ft\"),TEXT(I129*I$1,\"# ###,-Ft  \")))","v":"3 360,-Ft "},"RC S.anyag",null,17,null,3360]
[{"$f":"IF(L130=FALSE,0,COUNTIF(A$3:A129,\">0\")+1)","v":0},8951011676,"7603 METALSHOE 7605REB-56",{"$f":"IF(H130=\"SP\",IF(J130>0,\"SP: \"&TEXT(J130*I$1,\"# ###,-Ft  \"),\"SP: \"&TEXT(I130*I$1,\"# ###,-Ft\")),IF(J130>0,\"*(\"&TEXT(I130*I$1,\"# ###,-\")&\") \n\"&TEXT(J130*J$1,\"# ###,-Ft\"),TEXT(I130*I$1,\"# ###,-Ft  \")))","v":"2 800,-Ft "},"RC S.anyag",null,10,null,2800]
[{"$f":"IF(L131=FALSE,0,COUNTIF(A$3:A130,\">0\")+1)","v":0},8951011607,"7606-56 PAD HOLDER",{"$f":"IF(H131=\"SP\",IF(J131>0,\"SP: \"&TEXT(J131*I$1,\"# ###,-Ft  \"),\"SP: \"&TEXT(I131*I$1,\"# ###,-Ft\")),IF(J131>0,\"*(\"&TEXT(I131*I$1,\"# ###,-\")&\") \n\"&TEXT(J131*J$1,\"# ###,-Ft\"),TEXT(I131*I$1,\"# ###,-Ft  \")))","v":"3 360,-Ft "},"RC S.anyag",null,6,null,3360]
[{"$f":"IF(L132=FALSE,0,COUNTIF(A$3:A131,\">0\")+1)","v":0},8951011624,"7706KP CSISZOLÓ PLATE 7706",{"$f":"IF(H132=\"SP\",IF(J132>0,\"SP: \"&TEXT(J132*I$1,\"# ###,-Ft  \"),\"SP: \"&TEXT(I132*I$1,\"# ###,-Ft\")),IF(J132>0,\"*(\"&TEXT(I132*I$1,\"# ###,-\")&\") \n\"&TEXT(J132*J$1,\"# ###,-Ft\"),TEXT(I132*I$1,\"# ###,-Ft  \")))","v":",-Ft "},"RC S.anyag",null,45]
[{"$f":"IF(L133=FALSE,0,COUNTIF(A$3:A132,\">0\")+1)","v":0},8951011446,"7802SA29 SUCTION PORT (29MM)",{"$f":"IF(H133=\"SP\",IF(J133>0,\"SP: \"&TEXT(J133*I$1,\"# ###,-Ft  \"),\"SP: \"&TEXT(I133*I$1,\"# ###,-Ft\")),IF(J133>0,\"*(\"&TEXT(I133*I$1,\"# ###,-\")&\") \n\"&TEXT(J133*J$1,\"# ###,-Ft\"),TEXT(I133*I$1,\"# ###,-Ft  \")))","v":"1 960,-Ft "},"RC S.anyag",null,10,null,1960]
[{"$f":"IF(L134=FALSE,0,COUNTIF(A$3:A133,\">0\")+1)","v":0},8951011524,"78F SPOTTLE FÚRÓ","4 480,-Ft ","RC S.anyag",null,15,null,4480]
[{"$f":"IF(L135=FALSE,0,COUNTIF(A$3:A134,\">0\")+1)","v":0},8951011131,"7900/10KA CONNECTOR VAC-TÖMLŐ","6 720,-Ft ","RC S.anyag",null,67,null,6720]
[{"$f":"IF(L136=FALSE,0,COUNTIF(A$3:A135,\">0\")+1)","v":0},8951011102,"7900/10SC VACUUM TÖMLŐ GREY 5M","37 590,-Ft ","RC S.anyag",null,860,null,37590]
[{"$f":"IF(L137=FALSE,0,COUNTIF(A$3:A136,\">0\")+1)","v":0},8951011098,"7900PB SZŰRŐ 10 PCS","26 050,-Ft ","RC S.anyag",null,504,null,26050]
[{"$f":"IF(L138=FALSE,0,COUNTIF(A$3:A137,\">0\")+1)","v":0},8951011103,"7900SBP SZŰRŐ BAG POLYESTER 5PCS","17 650,-Ft ","RC S.anyag",null,418,null,17650]
[{"$f":"IF(L139=FALSE,0,COUNTIF(A$3:A138,\">0\")+1)","v":0},8951011100,"7900SF SZŰRŐ STANDARD","15 410,-Ft ","RC S.anyag",null,475,null,15410]
[{"$f":"IF(L140=FALSE,0,COUNTIF(A$3:A139,\">0\")+1)","v":0},8951000016,"7905 23L PORSZÍVÓ",{"$f":"IF(H140=\"SP\",IF(J140>0,\"SP: \"&TEXT(J140*I$1,\"# ###,-Ft  \"),\"SP: \"&TEXT(I140*I$1,\"# ###,-Ft\")),IF(J140>0,\"TOPS* \"&TEXT(J140*J$1,\"# ###,-Ft\"),TEXT(I140*I$1,\"# ###,-Ft  \")))","v":",-Ft "},"RC Termék",null,12700]
[{"$f":"IF(L141=FALSE,0,COUNTIF(A$3:A140,\">0\")+1)","v":0},8951089014,"7910 PORSZÍVÓ 77L_822015",{"$f":"IF(H141=\"C\",IF(J141>0,\"C #: \"&TEXT(J141*I$1,\"# ###,-Ft  \"),\"C #: \"&TEXT(I141*I$1,\"# ###,-Ft\")),IF(J141>0,\"TOPS* \"&TEXT(J141*J$1,\"# ###,-Ft\"),TEXT(I141*I$1,\"# ###,-Ft  \")))","v":"C #: 579 000,-Ft"},"RC Termék",null,28200,"C",579000]
[{"$f":"IF(L142=FALSE,0,COUNTIF(A$3:A141,\">0\")+1)","v":0},8951011094,"7910KU BASKET LOWER","26 050,-Ft ","RC S.anyag",null,756,null,26050]
[{"$f":"IF(L143=FALSE,0,COUNTIF(A$3:A142,\">0\")+1)","v":0},8951011099,"7910PB SZŰRŐ 5 PCS","38 700,-Ft ","RC S.anyag",null,435,null,38700]
[{"$f":"IF(L144=FALSE,0,COUNTIF(A$3:A143,\">0\")+1)","v":0},8951011104,"7910SBP SZŰRŐ BAG POLYESTER 5PCS","43 430,-Ft ","RC S.anyag",null,642,null,43430]
[{"$f":"IF(L145=FALSE,0,COUNTIF(A$3:A144,\">0\")+1)","v":0},8951011101,"7910SF SZŰRŐ STANDARD","26 340,-Ft ","RC S.anyag",null,420,null,26340]
[{"$f":"IF(L146=FALSE,0,COUNTIF(A$3:A145,\">0\")+1)","v":0},8951011130,"7910VD DISTRIB. AIR W/2 COUPL.","37 590,-Ft ","RC S.anyag",null,274,null,37590]
[{"$f":"IF(L147=FALSE,0,COUNTIF(A$3:A146,\">0\")+1)","v":0},8951011842,"8/12.4M SPIRÁL CSŐ WITH FITTINGS","21 850,-Ft ","RC S.anyag",null,675,null,21850]
[{"$f":"IF(L148=FALSE,0,COUNTIF(A$3:A147,\">0\")+1)","v":0},8951011847,"8/12.4MO SPIRÁL CSŐS W/O COUPL.","16 250,-Ft ","RC S.anyag",null,532,null,16250]
[{"$f":"IF(L149=FALSE,0,COUNTIF(A$3:A148,\">0\")+1)","v":0},8951011843,"8/12.6M SPIRÁL CSŐ WITH FITTINGS","24 370,-Ft ","RC S.anyag",null,790,null,24370]
[{"$f":"IF(L150=FALSE,0,COUNTIF(A$3:A149,\">0\")+1)","v":0},8951011846,"8/12.6MO SPIRÁL CSŐ W/O COUPL.","19 330,-Ft ","RC S.anyag",null,753,null,19330]
[{"$f":"IF(L151=FALSE,0,COUNTIF(A$3:A150,\">0\")+1)","v":0},8951011844,"8/12.8M SPIRÁL CSŐ WITH FITTINGS",{"$f":"IF(H151=\"SP\",IF(J151>0,\"SP: \"&TEXT(J151*I$1,\"# ###,-Ft  \"),\"SP: \"&TEXT(I151*I$1,\"# ###,-Ft\")),IF(J151>0,\"TOPS* \"&TEXT(J151*J$1,\"# ###,-Ft\"),TEXT(I151*I$1,\"# ###,-Ft  \")))","v":"TOPS* 22 240,-Ft"},"RC S.anyag",null,995,null,27840,22240]
[{"$f":"IF(L152=FALSE,0,COUNTIF(A$3:A151,\">0\")+1)","v":0},8951011848,"8/12.8MO SPIRÁL CSŐS W/O COUPL.",{"$f":"IF(H152=\"SP\",IF(J152>0,\"SP: \"&TEXT(J152*I$1,\"# ###,-Ft  \"),\"SP: \"&TEXT(I152*I$1,\"# ###,-Ft\")),IF(J152>0,\"TOPS* \"&TEXT(J152*J$1,\"# ###,-Ft\"),TEXT(I152*I$1,\"# ###,-Ft  \")))","v":"22 970,-Ft "},"RC S.anyag",null,935,null,22970]
[{"$f":"IF(L153=FALSE,0,COUNTIF(A$3:A152,\">0\")+1)","v":0},8951011833,"8/13.6M SPIRÁL CSŐS","25 770,-Ft ","RC S.anyag",null,721,null,25770]
[{"$f":"IF(L154=FALSE,0,COUNTIF(A$3:A153,\">0\")+1)","v":0},8951011129,"800 DUPLA CONNECTION","Kifutó, érdeklődj!","RC S.anyag",null,268,null,21290]
[{"$f":"IF(L155=FALSE,0,COUNTIF(A$3:A154,\">0\")+1)","v":0},8951011702,"8006-36 FUVÓKA HEGYES 8006/8007","1 120,-Ft ","RC S.anyag",null,11,null,1120]
[{"$f":"IF(L156=FALSE,0,COUNTIF(A$3:A155,\">0\")+1)","v":0},8951011694,"8010-ST PIPE","1 680,-Ft ","RC S.anyag",null,18,null,1680]
[{"$f":"IF(L157=FALSE,0,COUNTIF(A$3:A156,\">0\")+1)","v":0},8951011679,"8011-STD SUCTION PIPE+FUVÓKA 3PCS","3 360,-Ft ","RC S.anyag",null,137,null,3360]
[{"$f":"IF(L158=FALSE,0,COUNTIF(A$3:A157,\">0\")+1)","v":0},8951011699,"8101-08 FUVÓKA-SET 0,8 MM","33 130,-Ft ","RC S.anyag",null,57,null,33130]
[{"$f":"IF(L159=FALSE,0,COUNTIF(A$3:A158,\">0\")+1)","v":0},8951011700,"8101-10 FUVÓKA-SET 1,0 MM","33 130,-Ft ","RC S.anyag",null,59,null,33130]
[{"$f":"IF(L160=FALSE,0,COUNTIF(A$3:A159,\">0\")+1)","v":0},8951011701,"8101-12 FUVÓKA-SET 1,2 MM","32 850,-Ft ","RC S.anyag",null,53,null,32850]
[{"$f":"IF(L161=FALSE,0,COUNTIF(A$3:A160,\">0\")+1)","v":0},8951011695,"8101-B CUP FOR 8101/8102/8106","7 840,-Ft ","RC S.anyag",null,253,null,7840]
[{"$f":"IF(L162=FALSE,0,COUNTIF(A$3:A161,\">0\")+1)","v":0},8951011703,"8102-14 FUVÓKA-SET","19 330,-Ft ","RC S.anyag",null,159,null,19330]
[{"$f":"IF(L163=FALSE,0,COUNTIF(A$3:A162,\">0\")+1)","v":0},8951011704,"8102-17 FUVÓKA-SET","19 330,-Ft ","RC S.anyag",null,162,null,19330]
[{"$f":"IF(L164=FALSE,0,COUNTIF(A$3:A163,\">0\")+1)","v":0},8951011705,"8102-20 FUVÓKA-SET","19 330,-Ft ","RC S.anyag",null,156,null,19330]
[{"$f":"IF(L165=FALSE,0,COUNTIF(A$3:A164,\">0\")+1)","v":0},8951011706,"8102-25 FUVÓKA-SET","28 680,-Ft ","RC S.anyag",null,157,null,28680]
[{"$f":"IF(L166=FALSE,0,COUNTIF(A$3:A165,\">0\")+1)","v":0},8951011707,"8102-DS GASKET KIT 8102","3 360,-Ft ","RC S.anyag",null,23,null,3360]
[{"$f":"IF(L167=FALSE,0,COUNTIF(A$3:A166,\">0\")+1)","v":0},8951011708,"8103-05 FUVÓKA-SET",{"$f":"IF(H167=\"SP\",IF(J167>0,\"SP: \"&TEXT(J167*I$1,\"# ###,-Ft  \"),\"SP: \"&TEXT(I167*I$1,\"# ###,-Ft\")),IF(J167>0,\"TOPS* \"&TEXT(J167*J$1,\"# ###,-Ft\"),TEXT(I167*I$1,\"# ###,-Ft  \")))","v":"19 330,-Ft "},"RC S.anyag",null,57,null,19330]
[{"$f":"IF(L168=FALSE,0,COUNTIF(A$3:A167,\">0\")+1)","v":0},8951011709,"8103-08 FUVÓKA-SET","19 330,-Ft ","RC S.anyag",null,55,null,19330]
[{"$f":"IF(L169=FALSE,0,COUNTIF(A$3:A168,\">0\")+1)","v":0},8951011710,"8103-10 FUVÓKA-SET","19 330,-Ft ","RC S.anyag",null,55,null,19330]
[{"$f":"IF(L170=FALSE,0,COUNTIF(A$3:A169,\">0\")+1)","v":0},8951011711,"8103-B CUP FOR 8103","6 160,-Ft ","RC S.anyag",null,76,null,6160]
[{"$f":"IF(L171=FALSE,0,COUNTIF(A$3:A170,\">0\")+1)","v":0},8951011712,"8105-14 FUVÓKA SET FOR 8105","31 740,-Ft ","RC S.anyag",null,92,null,31740]
[{"$f":"IF(L172=FALSE,0,COUNTIF(A$3:A171,\">0\")+1)","v":0},8951011713,"8106-130 FUVÓKA SET","31 740,-Ft ","RC S.anyag",null,160,null,31740]
[{"$f":"IF(L173=FALSE,0,COUNTIF(A$3:A172,\">0\")+1)","v":0},8951011714,"8106-170 FUVÓKA-SET","31 740,-Ft ","RC S.anyag",null,160,null,31740]
[{"$f":"IF(L174=FALSE,0,COUNTIF(A$3:A173,\">0\")+1)","v":0},8951011715,"8106-200 FUVÓKA-SET","31 740,-Ft ","RC S.anyag",null,162,null,31740]
[{"$f":"IF(L175=FALSE,0,COUNTIF(A$3:A174,\">0\")+1)","v":0},8951011716,"8106-46 SZABÁLYOZÓ","27 840,-Ft ","RC S.anyag",null,153,null,27840]
[{"$f":"IF(L176=FALSE,0,COUNTIF(A$3:A175,\">0\")+1)","v":0},8951011718,"8107-170 FUVÓKA-SET F.8107","45 940,-Ft ","RC S.anyag",null,62,null,45940]
[{"$f":"IF(L177=FALSE,0,COUNTIF(A$3:A176,\">0\")+1)","v":0},8951011719,"8107-200 FUVÓKA-SET F.8107","45 940,-Ft ","RC S.anyag",null,159,null,45940]
[{"$f":"IF(L178=FALSE,0,COUNTIF(A$3:A177,\">0\")+1)","v":0},8951011720,"8107-32+33 CUP FOR 8107","6 720,-Ft ","RC S.anyag",null,225,null,6720]
[{"$f":"IF(L179=FALSE,0,COUNTIF(A$3:A178,\">0\")+1)","v":0},8951011681,"8112-10 DUST PROTECT. MASK","2 240,-Ft ","RC S.anyag",null,29,null,2240]
[{"$f":"IF(L180=FALSE,0,COUNTIF(A$3:A179,\">0\")+1)","v":0},8951011689,"8112-16B FUVÓKA SET CERAMIC 5 PCS","10 650,-Ft ","RC S.anyag",null,60,null,10650]
[{"$f":"IF(L181=FALSE,0,COUNTIF(A$3:A180,\">0\")+1)","v":0},8951011690,"8112-25B BLASTING PISZTOLY F. 8112","21 010,-Ft ","RC S.anyag",null,328,null,21010]
[{"$f":"IF(L182=FALSE,0,COUNTIF(A$3:A181,\">0\")+1)","v":0},8951011682,"8112-61A FUVÓKA SET 5PC.",",-Ft ","RC S.anyag",null,59]
[{"$f":"IF(L183=FALSE,0,COUNTIF(A$3:A182,\">0\")+1)","v":0},8951011693,"8113-D BRUSH F. 8113","4 200,-Ft ","RC S.anyag",null,37,null,4200]
[{"$f":"IF(L184=FALSE,0,COUNTIF(A$3:A183,\">0\")+1)","v":0},8951011686,"8116 G DUST COLLECTING BAG","6 440,-Ft ","RC S.anyag",null,49,null,6440]
[{"$f":"IF(L185=FALSE,0,COUNTIF(A$3:A184,\">0\")+1)","v":0},8951011683,"8116-06 AIR TÖMLŐ 8116A/C-06","3 360,-Ft ","RC S.anyag",null,41,null,3360]
[{"$f":"IF(L186=FALSE,0,COUNTIF(A$3:A185,\">0\")+1)","v":0},8951011688,"8116-11 BRUSH FUVÓKA 8116A/C-11","2 800,-Ft ","RC S.anyag",null,20,null,2800]
[{"$f":"IF(L187=FALSE,0,COUNTIF(A$3:A186,\">0\")+1)","v":0},8951011684,"8116-FR FUVÓKA-SET LAPOS AND ROUND","3 080,-Ft ","RC S.anyag",null,19,null,3080]
[{"$f":"IF(L188=FALSE,0,COUNTIF(A$3:A187,\">0\")+1)","v":0},8951011697,"8118C-04 FUVÓKA-SET 4 PCS","4 480,-Ft ","RC S.anyag",null,11,null,4480]
[{"$f":"IF(L189=FALSE,0,COUNTIF(A$3:A188,\">0\")+1)","v":0},8951011698,"8118C-SK SZÓRÓHEAD COMPLETE",{"$f":"IF(H189=\"SP\",IF(J189>0,\"SP: \"&TEXT(J189*I$1,\"# ###,-Ft  \"),\"SP: \"&TEXT(I189*I$1,\"# ###,-Ft\")),IF(J189>0,\"*(\"&TEXT(I189*I$1,\"# ###,-\")&\") \n\"&TEXT(J189*J$1,\"# ###,-Ft\"),TEXT(I189*I$1,\"# ###,-Ft  \")))","v":"7 840,-Ft "},"RC S.anyag",null,61,null,7840]
[{"$f":"IF(L190=FALSE,0,COUNTIF(A$3:A189,\">0\")+1)","v":0},8951012204,"8150 ZSIRZÓ PISZTOLY W. 2 CARTR.FILLED",{"$f":"IF(H190=\"SP\",IF(J190>0,\"SP: \"&TEXT(J190*I$1,\"# ###,-Ft  \"),\"SP: \"&TEXT(I190*I$1,\"# ###,-Ft\")),IF(J190>0,\"TOPS* \"&TEXT(J190*J$1,\"# ###,-Ft\"),TEXT(I190*I$1,\"# ###,-Ft  \")))","v":"TOPS* 7 980,-Ft"},"RC S.anyag",null,213,null,10370,7980]
[{"$f":"IF(L191=FALSE,0,COUNTIF(A$3:A190,\">0\")+1)","v":0},8951012205,"8150FZSIRZÓ PISZTOLY FILLED",{"$f":"IF(H191=\"SP\",IF(J191>0,\"SP: \"&TEXT(J191*I$1,\"# ###,-Ft  \"),\"SP: \"&TEXT(I191*I$1,\"# ###,-Ft\")),IF(J191>0,\"*(\"&TEXT(I191*I$1,\"# ###,-\")&\") \n\"&TEXT(J191*J$1,\"# ###,-Ft\"),TEXT(I191*I$1,\"# ###,-Ft  \")))","v":"3 640,-Ft "},"RC S.anyag",null,102,null,3640]
[{"$f":"IF(L192=FALSE,0,COUNTIF(A$3:A191,\">0\")+1)","v":0},8951012206,"8150K ZSIRZÓ CARTR. FILLED 5PCS",{"$f":"IF(H192=\"SP\",IF(J192>0,\"SP: \"&TEXT(J192*I$1,\"# ###,-Ft  \"),\"SP: \"&TEXT(I192*I$1,\"# ###,-Ft\")),IF(J192>0,\"*(\"&TEXT(I192*I$1,\"# ###,-\")&\") \n\"&TEXT(J192*J$1,\"# ###,-Ft\"),TEXT(I192*I$1,\"# ###,-Ft  \")))","v":"12 610,-Ft "},"RC S.anyag",null,260,null,12610]
[{"$f":"IF(L193=FALSE,0,COUNTIF(A$3:A192,\">0\")+1)","v":0},8951012208,"8160 MINI ZSIRZÓ PISZTOLY",{"$f":"IF(H193=\"SP\",IF(J193>0,\"SP: \"&TEXT(J193*I$1,\"# ###,-Ft  \"),\"SP: \"&TEXT(I193*I$1,\"# ###,-Ft\")),IF(J193>0,\"*(\"&TEXT(I193*I$1,\"# ###,-\")&\") \n\"&TEXT(J193*J$1,\"# ###,-Ft\"),TEXT(I193*I$1,\"# ###,-Ft  \")))","v":",-Ft "},"RC S.anyag",null,50]
[{"$f":"IF(L194=FALSE,0,COUNTIF(A$3:A193,\">0\")+1)","v":0},8951011024,"8502 POCKET FUJATÓ TOLL EURO7.2",{"$f":"IF(H194=\"SP\",IF(J194>0,\"SP: \"&TEXT(J194*I$1,\"# ###,-Ft  \"),\"SP: \"&TEXT(I194*I$1,\"# ###,-Ft\")),IF(J194>0,\"TOPS* \"&TEXT(J194*J$1,\"# ###,-Ft\"),TEXT(I194*I$1,\"# ###,-Ft  \")))","v":"5 320,-Ft "},"RC S.anyag",null,22,null,5320]
[{"$f":"IF(L195=FALSE,0,COUNTIF(A$3:A194,\">0\")+1)","v":0},8951011071,"901 CSIPESZ",{"$f":"IF(H195=\"SP\",IF(J195>0,\"SP: \"&TEXT(J195*I$1,\"# ###,-Ft  \"),\"SP: \"&TEXT(I195*I$1,\"# ###,-Ft\")),IF(J195>0,\"*(\"&TEXT(I195*I$1,\"# ###,-\")&\") \n\"&TEXT(J195*J$1,\"# ###,-Ft\"),TEXT(I195*I$1,\"# ###,-Ft  \")))","v":"23 530,-Ft "},"RC S.anyag",null,1262,null,23530]
[{"$f":"IF(L196=FALSE,0,COUNTIF(A$3:A195,\">0\")+1)","v":0},8955511866,"9021A BATTERY PACK NI-CD",",-Ft ","RC S.anyag",null,1010]
[{"$f":"IF(L197=FALSE,0,COUNTIF(A$3:A196,\">0\")+1)","v":0},8951011256,"9200 TÖMLŐ BALANCER","74 700,-Ft ","RC S.anyag",null,1396,null,74700]
[{"$f":"IF(L198=FALSE,0,COUNTIF(A$3:A197,\">0\")+1)","v":0},8951011257,"9201 TÖMLŐ BALANCER","74 400,-Ft ","RC S.anyag",null,1450,null,74400]
[{"$f":"IF(L199=FALSE,0,COUNTIF(A$3:A198,\">0\")+1)","v":0},8951011258,"9202 TÖMLŐ BALANCER","76 400,-Ft ","RC S.anyag",null,1400,null,76400]
[{"$f":"IF(L200=FALSE,0,COUNTIF(A$3:A199,\">0\")+1)","v":0},8951011260,"9311 BALANCER 0,4-1,0 / 1600",{"$f":"IF(H200=\"SP\",IF(J200>0,\"SP: \"&TEXT(J200*I$1,\"# ###,-Ft  \"),\"SP: \"&TEXT(I200*I$1,\"# ###,-Ft\")),IF(J200>0,\"TOPS* \"&TEXT(J200*J$1,\"# ###,-Ft\"),TEXT(I200*I$1,\"# ###,-Ft  \")))","v":"24 930,-Ft "},"RC S.anyag",null,650,null,24930]
[{"$f":"IF(L201=FALSE,0,COUNTIF(A$3:A200,\">0\")+1)","v":0},8951011261,"9312 BALANCER 1,0-2,0 / 2000",{"$f":"IF(H201=\"SP\",IF(J201>0,\"SP: \"&TEXT(J201*I$1,\"# ###,-Ft  \"),\"SP: \"&TEXT(I201*I$1,\"# ###,-Ft\")),IF(J201>0,\"TOPS* \"&TEXT(J201*J$1,\"# ###,-Ft\"),TEXT(I201*I$1,\"# ###,-Ft  \")))","v":"28 120,-Ft "},"RC S.anyag",null,705,null,28120]
[{"$f":"IF(L202=FALSE,0,COUNTIF(A$3:A201,\">0\")+1)","v":0},8951011262,"9313 BALANCER 2,0-3,0 / 1600",{"$f":"IF(H202=\"SP\",IF(J202>0,\"SP: \"&TEXT(J202*I$1,\"# ###,-Ft  \"),\"SP: \"&TEXT(I202*I$1,\"# ###,-Ft\")),IF(J202>0,\"TOPS* \"&TEXT(J202*J$1,\"# ###,-Ft\"),TEXT(I202*I$1,\"# ###,-Ft  \")))","v":"29 790,-Ft "},"RC S.anyag",null,830,null,29790]
[{"$f":"IF(L203=FALSE,0,COUNTIF(A$3:A202,\">0\")+1)","v":0},8951011263,"9320 BALANCER 1,0-2,5 / 2000","53 730,-Ft ","RC S.anyag",null,1828,null,53730]
[{"$f":"IF(L204=FALSE,0,COUNTIF(A$3:A203,\">0\")+1)","v":0},8951011264,"9321 BALANCER 2,0-4,0 / 2000",{"$f":"IF(H204=\"SP\",IF(J204>0,\"SP: \"&TEXT(J204*I$1,\"# ###,-Ft  \"),\"SP: \"&TEXT(I204*I$1,\"# ###,-Ft\")),IF(J204>0,\"TOPS* \"&TEXT(J204*J$1,\"# ###,-Ft\"),TEXT(I204*I$1,\"# ###,-Ft  \")))","v":"60 300,-Ft "},"RC S.anyag",null,2093,null,60300]
[{"$f":"IF(L205=FALSE,0,COUNTIF(A$3:A204,\">0\")+1)","v":0},8951011265,"9322 BALANCER 4,0-6,0 / 2000","76 100,-Ft ","RC S.anyag",null,2227,null,76100]
[{"$f":"IF(L206=FALSE,0,COUNTIF(A$3:A205,\">0\")+1)","v":0},8951011266,"9323 BALANCER 6,0-8,0 / 2000","86 300,-Ft ","RC S.anyag",null,2620,null,86300]
[{"$f":"IF(L207=FALSE,0,COUNTIF(A$3:A206,\">0\")+1)","v":0},8951011267,"9336 BALANCER 2,0-4,0 / 2500","78 800,-Ft ","RC S.anyag",null,3420,null,78800]
[{"$f":"IF(L208=FALSE,0,COUNTIF(A$3:A207,\">0\")+1)","v":0},8951011268,"9337 BALANCER 4,0-6,0 / 2500","86 300,-Ft ","RC S.anyag",null,3612,null,86300]
[{"$f":"IF(L209=FALSE,0,COUNTIF(A$3:A208,\">0\")+1)","v":0},8951011269,"9338 BALANCER 6,0-8,0 / 2500","93 000,-Ft ","RC S.anyag",null,3680,null,93000]
[{"$f":"IF(L210=FALSE,0,COUNTIF(A$3:A209,\">0\")+1)","v":0},8951011270,"9339 BALANCER 8,0-10,0 / 2500","104 300,-Ft ","RC S.anyag",null,3890,null,104300]
[{"$f":"IF(L211=FALSE,0,COUNTIF(A$3:A210,\">0\")+1)","v":0},8951011271,"9340 BALANCER 10,0-14,0 / 2500","117 100,-Ft ","RC S.anyag",null,3879,null,117100]
[{"$f":"IF(L212=FALSE,0,COUNTIF(A$3:A211,\">0\")+1)","v":0},8951011272,"9346 BALANCER 2,0-4,0 / 2500","90 500,-Ft ","RC S.anyag",null,3450,null,90500]
[{"$f":"IF(L213=FALSE,0,COUNTIF(A$3:A212,\">0\")+1)","v":0},8951011273,"9347 BALANCER 4,0-6,0 / 2500","102 400,-Ft ","RC S.anyag",null,3645,null,102400]
[{"$f":"IF(L214=FALSE,0,COUNTIF(A$3:A213,\">0\")+1)","v":0},8951011274,"9348 BALANCER 6,0-8,0 / 2500 B","109 400,-Ft ","RC S.anyag",null,3671,null,109400]
[{"$f":"IF(L215=FALSE,0,COUNTIF(A$3:A214,\">0\")+1)","v":0},8951011275,"9349 BALANCER 8,0-10,0 / 2500","122 300,-Ft ","RC S.anyag",null,4000,null,122300]
[{"$f":"IF(L216=FALSE,0,COUNTIF(A$3:A215,\">0\")+1)","v":0},8951011276,"9354 BALANCER 4,0-7,0 / 2000","194 400,-Ft ","RC S.anyag",null,5925,null,194400]
[{"$f":"IF(L217=FALSE,0,COUNTIF(A$3:A216,\">0\")+1)","v":0},8951011277,"9355 BALANCER 7,0-10,0 / 2000","194 400,-Ft ","RC S.anyag",null,7350,null,194400]
[{"$f":"IF(L218=FALSE,0,COUNTIF(A$3:A217,\">0\")+1)","v":0},8951011278,"9356 BALANCER 10,0-14,0 / 2000","206 200,-Ft ","RC S.anyag",null,7350,null,206200]
[{"$f":"IF(L219=FALSE,0,COUNTIF(A$3:A218,\">0\")+1)","v":0},8951011279,"9357 BALANCER 14,0-18,0 / 2000","206 200,-Ft ","RC S.anyag",null,8400,null,206200]
[{"$f":"IF(L220=FALSE,0,COUNTIF(A$3:A219,\">0\")+1)","v":0},8951011280,"9358 BALANCER 18,0-22,0 / 2000","215 800,-Ft ","RC S.anyag",null,7870,null,215800]
[{"$f":"IF(L221=FALSE,0,COUNTIF(A$3:A220,\">0\")+1)","v":0},8951011285,"9364 BALANCER 25,0-30,0 / 2000","356 000,-Ft ","RC S.anyag",null,12070,null,356000]
[{"$f":"IF(L222=FALSE,0,COUNTIF(A$3:A221,\">0\")+1)","v":0},8951011287,"9366 BALANCER 35,0-45,0 / 2000","387 000,-Ft ","RC S.anyag",null,13020,null,387000]
[{"$f":"IF(L223=FALSE,0,COUNTIF(A$3:A222,\">0\")+1)","v":0},8951011288,"9367 BALANCER 45,0-55,0 / 2000","457 000,-Ft ","RC S.anyag",null,13120,null,457000]
[{"$f":"IF(L224=FALSE,0,COUNTIF(A$3:A223,\">0\")+1)","v":0},8951011290,"9369 BALANCER 65,0-75,0 / 2000",{"$f":"IF(H224=\"C\",IF(J224>0,\"C #: \"&TEXT(J224*I$1,\"# ###,-Ft  \"),\"C #: \"&TEXT(I224*I$1,\"# ###,-Ft\")),IF(J224>0,\"TOPS* \"&TEXT(J224*J$1,\"# ###,-Ft\"),TEXT(I224*I$1,\"# ###,-Ft  \")))","v":"C #: 533 000,-Ft"},"RC S.anyag",null,15895,"C",533000]
[{"$f":"IF(L225=FALSE,0,COUNTIF(A$3:A224,\">0\")+1)","v":0},8955000032,"ABRASIVES 2\" GRIT 180 SET OF 10 PCS","1 960,-Ft ","RC S.anyag",null,9,null,1960]
[{"$f":"IF(L226=FALSE,0,COUNTIF(A$3:A225,\">0\")+1)","v":0},8955000030,"ABRASIVES 2\" GRIT 320 SET OF 10 PCS","1 960,-Ft ","RC S.anyag",null,9,null,1960]
[{"$f":"IF(L227=FALSE,0,COUNTIF(A$3:A226,\">0\")+1)","v":0},8955000028,"ABRASIVES 2\" GRIT 600 SET OF 10 PCS","1 960,-Ft ","RC S.anyag",null,8,null,1960]
[{"$f":"IF(L228=FALSE,0,COUNTIF(A$3:A227,\">0\")+1)","v":0},8955000033,"ABRASIVES 3\" GRIT 180 SET OF 10 PCS","2 800,-Ft ","RC S.anyag",null,19,null,2800]
[{"$f":"IF(L229=FALSE,0,COUNTIF(A$3:A228,\">0\")+1)","v":0},8955000031,"ABRASIVES 3\" GRIT 320 SET OF 10 PCS","2 800,-Ft ","RC S.anyag",null,20,null,2800]
[{"$f":"IF(L230=FALSE,0,COUNTIF(A$3:A229,\">0\")+1)","v":0},8955000029,"ABRASIVES 3\" GRIT 600 SET OF 10 PCS","2 800,-Ft ","RC S.anyag",null,17,null,2800]
[{"$f":"IF(L231=FALSE,0,COUNTIF(A$3:A230,\">0\")+1)","v":0},8951011877,"ABS 20 EXHAUST TÖMLŐ F.DUS 20, 1M","4 200,-Ft ","RC S.anyag",null,98,null,4200]
[{"$f":"IF(L232=FALSE,0,COUNTIF(A$3:A231,\">0\")+1)","v":0},8951011085,"AGD186 WIRE FOR AGS 0,6X0,6 /50M","12 890,-Ft ","RC S.anyag",null,147,null,12890]
[{"$f":"IF(L233=FALSE,0,COUNTIF(A$3:A232,\">0\")+1)","v":0},8951089055,"AGS185 WINDOW SHIELD REMOVER","50 390,-Ft ","RC S.anyag",null,1725,null,50390]
[{"$f":"IF(L234=FALSE,0,COUNTIF(A$3:A233,\">0\")+1)","v":0},8951081000,"AK03 OLAJ-SUCTION-UNIT 24 LTR._810188",{"$f":"IF(H234=\"SP\",IF(J234>0,\"SP: \"&TEXT(J234*I$1,\"# ###,-Ft  \"),\"SP: \"&TEXT(I234*I$1,\"# ###,-Ft\")),IF(J234>0,\"TOPS* \"&TEXT(J234*J$1,\"# ###,-Ft\"),TEXT(I234*I$1,\"# ###,-Ft  \")))","v":",-Ft "},"RC Termék",null,15500]
[{"$f":"IF(L235=FALSE,0,COUNTIF(A$3:A234,\">0\")+1)","v":0},8951011048,"AK3-SFL5 CSŐ","9 250,-Ft ","RC S.anyag",null,46,null,9250]
[{"$f":"IF(L236=FALSE,0,COUNTIF(A$3:A235,\">0\")+1)","v":0},8951011049,"AK3-SFL6 CSŐ","9 250,-Ft ","RC S.anyag",null,50,null,9250]
[{"$f":"IF(L237=FALSE,0,COUNTIF(A$3:A236,\">0\")+1)","v":0},8951011050,"AK3-SFL8 CSŐ","9 810,-Ft ","RC S.anyag",null,51,null,9810]
[{"$f":"IF(L238=FALSE,0,COUNTIF(A$3:A237,\">0\")+1)","v":0},8951011028,"AK-5A1 ADAPTER",{"$f":"IF(H238=\"SP\",IF(J238>0,\"SP: \"&TEXT(J238*I$1,\"# ###,-Ft  \"),\"SP: \"&TEXT(I238*I$1,\"# ###,-Ft\")),IF(J238>0,\"*(\"&TEXT(I238*I$1,\"# ###,-\")&\") \n\"&TEXT(J238*J$1,\"# ###,-Ft\"),TEXT(I238*I$1,\"# ###,-Ft  \")))","v":"13 170,-Ft "},"RC S.anyag",null,20,null,13170]
[{"$f":"IF(L239=FALSE,0,COUNTIF(A$3:A238,\">0\")+1)","v":0},8951011470,"ALLEN KEY 5.0MM IBS 5",{"$f":"IF(H239=\"SP\",IF(J239>0,\"SP: \"&TEXT(J239*I$1,\"# ###,-Ft  \"),\"SP: \"&TEXT(I239*I$1,\"# ###,-Ft\")),IF(J239>0,\"*(\"&TEXT(I239*I$1,\"# ###,-\")&\") \n\"&TEXT(J239*J$1,\"# ###,-Ft\"),TEXT(I239*I$1,\"# ###,-Ft  \")))","v":"1 120,-Ft "},"RC S.anyag",null,20,null,1120]
[{"$f":"IF(L240=FALSE,0,COUNTIF(A$3:A239,\">0\")+1)","v":0},8951011472,"ALLEN KEY 8.0MM IBS 8",{"$f":"IF(H240=\"SP\",IF(J240>0,\"SP: \"&TEXT(J240*I$1,\"# ###,-Ft  \"),\"SP: \"&TEXT(I240*I$1,\"# ###,-Ft\")),IF(J240>0,\"*(\"&TEXT(I240*I$1,\"# ###,-\")&\") \n\"&TEXT(J240*J$1,\"# ###,-Ft\"),TEXT(I240*I$1,\"# ###,-Ft  \")))","v":"1 120,-Ft "},"RC S.anyag",null,30,null,1120]
[{"$f":"IF(L241=FALSE,0,COUNTIF(A$3:A240,\">0\")+1)","v":0},8951011784,"Gyorscsatlakozó kuplung AM001 1/4\" KM",{"$f":"IF(H241=\"SP\",IF(J241>0,\"SP: \"&TEXT(J241*I$1,\"# ###,-Ft  \"),\"SP: \"&TEXT(I241*I$1,\"# ###,-Ft\")),IF(J241>0,\"TOPS* \"&TEXT(J241*J$1,\"# ###,-Ft\"),TEXT(I241*I$1,\"# ###,-Ft  \")))","v":"TOPS* 1 090,-Ft"},"RC S.anyag",null,72,null,1960,1090,null,null,null,1090]
[{"$f":"IF(L242=FALSE,0,COUNTIF(A$3:A241,\">0\")+1)","v":0},8951011785,"Gyorscsatlakozó kuplung AM002 3/8\" KM",{"$f":"IF(H242=\"SP\",IF(J242>0,\"SP: \"&TEXT(J242*I$1,\"# ###,-Ft  \"),\"SP: \"&TEXT(I242*I$1,\"# ###,-Ft\")),IF(J242>0,\"TOPS* \"&TEXT(J242*J$1,\"# ###,-Ft\"),TEXT(I242*I$1,\"# ###,-Ft  \")))","v":"TOPS* 1 090,-Ft"},"RC S.anyag",null,75,null,1960,1090,null,null,null,1090]
[{"$f":"IF(L243=FALSE,0,COUNTIF(A$3:A242,\">0\")+1)","v":0},8951011786,"Gyorscsatlakozó kuplung AM003 1/2\" KM","TOPS* 1 170,-Ft","RC S.anyag",null,87,null,1960,1170,null,null,null,1170]
[{"$f":"IF(L244=FALSE,0,COUNTIF(A$3:A243,\">0\")+1)","v":0},8951011787,"Gyorscsatlakozó kuplung AM004 1/4\" BM","TOPS* 1 170,-Ft","RC S.anyag",null,92,null,1960,1170,null,null,null,1170]
[{"$f":"IF(L245=FALSE,0,COUNTIF(A$3:A244,\">0\")+1)","v":0},8951011788,"Gyorscsatlakozó kuplung AM005 3/8\" BM","TOPS* 1 170,-Ft","RC S.anyag",null,84,null,1960,1170,null,null,null,1170]
[{"$f":"IF(L246=FALSE,0,COUNTIF(A$3:A245,\">0\")+1)","v":0},8951011789,"Gyorscsatlakozó kuplung AM006 1/2\" BM","TOPS* 1 200,-Ft","RC S.anyag",null,89,null,1960,1200,null,null,null,1200]
[{"$f":"IF(L247=FALSE,0,COUNTIF(A$3:A246,\">0\")+1)","v":0},8951011790,"Gyorscsatlakozó kuplung AM007 TV Ø 6 .. 7 mm","TOPS* 1 130,-Ft","RC S.anyag",null,71,null,1960,1130,null,null,null,1130]
[{"$f":"IF(L248=FALSE,0,COUNTIF(A$3:A247,\">0\")+1)","v":0},8951011791,"Gyorscsatlakozó kuplung AM008 TV Ø 9 .. 10 mm","TOPS* 1 130,-Ft","RC S.anyag",null,74,null,1960,1130,null,null,null,1130]
[{"$f":"IF(L249=FALSE,0,COUNTIF(A$3:A248,\">0\")+1)","v":0},8951011792,"Gyorscsatlakozó kuplung AM009 TV Ø 13 mm","TOPS* 1 130,-Ft","RC S.anyag",null,59,null,1960,1130,null,null,null,1130]
[{"$f":"IF(L250=FALSE,0,COUNTIF(A$3:A249,\">0\")+1)","v":0},8951011795,"Gyorscsatlakozó dugó AM014 TV Ø 6 .. 7 mm","TOPS* 190,-Ft","RC S.anyag",null,14,null,560,190,null,null,null,190]
[{"$f":"IF(L251=FALSE,0,COUNTIF(A$3:A250,\">0\")+1)","v":0},8951011796,"Gyorscsatlakozó dugó AM015 TV Ø 9 mm","TOPS* 210,-Ft","RC S.anyag",null,13,null,560,210,null,null,null,210]
[{"$f":"IF(L252=FALSE,0,COUNTIF(A$3:A251,\">0\")+1)","v":0},8951011797,"Gyorscsatlakozó dugó AM016 TV Ø 13 mm","TOPS* 300,-Ft","RC S.anyag",null,21,null,560,300,null,null,null,300]
[{"$f":"IF(L253=FALSE,0,COUNTIF(A$3:A252,\">0\")+1)","v":0},8951011798,"AM017 TÖMLŐ STEMP DUPLA","1 120,-Ft ","RC S.anyag",null,15,null,1120]
[{"$f":"IF(L254=FALSE,0,COUNTIF(A$3:A253,\">0\")+1)","v":0},8951011799,"AM018 TÖMLŐ STEMP DUPLA","1 400,-Ft ","RC S.anyag",null,25,null,1400]
[{"$f":"IF(L255=FALSE,0,COUNTIF(A$3:A254,\">0\")+1)","v":0},8951011800,"AM019 TÖMLŐ STEMP DUPLA","1 680,-Ft ","RC S.anyag",null,15,null,1680]
[{"$f":"IF(L256=FALSE,0,COUNTIF(A$3:A255,\">0\")+1)","v":0},8951011801,"AM020 TÖMLŐ STEMP  1/4\" AG 6 mm",{"$f":"IF(H256=\"SP\",IF(J256>0,\"SP: \"&TEXT(J256*I$1,\"# ###,-Ft  \"),\"SP: \"&TEXT(I256*I$1,\"# ###,-Ft\")),IF(J256>0,\"*(\"&TEXT(I256*I$1,\"# ###,-\")&\") \n\"&TEXT(J256*J$1,\"# ###,-Ft\"),TEXT(I256*I$1,\"# ###,-Ft  \")))","v":"560,-Ft "},"RC S.anyag",null,12,null,560]
[{"$f":"IF(L257=FALSE,0,COUNTIF(A$3:A256,\">0\")+1)","v":0},8951011802,"AM021 TÖMLŐ STEMP  1/4\" AG 9 mm","560,-Ft ","RC S.anyag",null,17,null,560]
[{"$f":"IF(L258=FALSE,0,COUNTIF(A$3:A257,\">0\")+1)","v":0},8951011803,"AM022 TÖMLŐ STEMP  3/8\" AG 9 mm","840,-Ft ","RC S.anyag",null,25,null,840]
[{"$f":"IF(L259=FALSE,0,COUNTIF(A$3:A258,\">0\")+1)","v":0},8951011804,"AM023 TÖMLŐ STEMP  3/8\" AG 13 mm","840,-Ft ","RC S.anyag",null,28,null,840]
[{"$f":"IF(L260=FALSE,0,COUNTIF(A$3:A259,\">0\")+1)","v":0},8951011805,"AM024 TÖMLŐ STEMP",{"$f":"IF(H260=\"SP\",IF(J260>0,\"SP: \"&TEXT(J260*I$1,\"# ###,-Ft  \"),\"SP: \"&TEXT(I260*I$1,\"# ###,-Ft\")),IF(J260>0,\"TOPS* \"&TEXT(J260*J$1,\"# ###,-Ft\"),TEXT(I260*I$1,\"# ###,-Ft  \")))","v":"TOPS* 780,-Ft"},"RC S.anyag",null,44,null,1400,780,null,null,null,780]
[{"$f":"IF(L261=FALSE,0,COUNTIF(A$3:A260,\">0\")+1)","v":0},8951011806,"AM025 TÖMLŐ STEMP","1 400,-Ft ","RC S.anyag",null,41,null,1400]
[{"$f":"IF(L262=FALSE,0,COUNTIF(A$3:A261,\">0\")+1)","v":0},8951011808,"AM027 DUGÓ  1/4\" AG (Acél)",{"$f":"IF(H262=\"SP\",IF(J262>0,\"SP: \"&TEXT(J262*I$1,\"# ###,-Ft  \"),\"SP: \"&TEXT(I262*I$1,\"# ###,-Ft\")),IF(J262>0,\"TOPS* \"&TEXT(J262*J$1,\"# ###,-Ft\"),TEXT(I262*I$1,\"# ###,-Ft  \")))","v":"560,-Ft "},"RC S.anyag",null,16,null,560]
[{"$f":"IF(L263=FALSE,0,COUNTIF(A$3:A262,\">0\")+1)","v":0},8951011809,"Gyorscsatlakozó dugó AM028 1/4\" KM","TOPS* 300,-Ft","RC S.anyag",null,20,null,560,300,null,null,null,300]
[{"$f":"IF(L264=FALSE,0,COUNTIF(A$3:A263,\">0\")+1)","v":0},8951011810,"Gyorscsatlakozó dugó AM029 3/8\" KM","TOPS* 370,-Ft","RC S.anyag",null,19,null,560,370,null,null,null,370]
[{"$f":"IF(L265=FALSE,0,COUNTIF(A$3:A264,\">0\")+1)","v":0},8951011811,"Gyorscsatlakozó dugó AM030 1/2\" KM","TOPS* 650,-Ft","RC S.anyag",null,31,null,1120,650,null,null,null,650]
[{"$f":"IF(L266=FALSE,0,COUNTIF(A$3:A265,\">0\")+1)","v":0},8951011812,"Gyorscsatlakozó dugó AM031 1/4\" BM","TOPS* 290,-Ft","RC S.anyag",null,24,null,560,290,null,null,null,290]
[{"$f":"IF(L267=FALSE,0,COUNTIF(A$3:A266,\">0\")+1)","v":0},8951011813,"Gyorscsatlakozó dugó AM032 3/8\" BM","TOPS* 340,-Ft","RC S.anyag",null,24,null,560,340,null,null,null,340]
[{"$f":"IF(L268=FALSE,0,COUNTIF(A$3:A267,\">0\")+1)","v":0},8951011814,"Gyorscsatlakozó dugó AM034 1/2\" BM","TOPS* 620,-Ft","RC S.anyag",null,30,null,1120,620,null,null,null,620]
[{"$f":"IF(L269=FALSE,0,COUNTIF(A$3:A268,\">0\")+1)","v":0},8951011819,"Gyorscsatlakozó Y2 kuplung AM060 3/8\" BM","TOPS* 3 490,-Ft","RC S.anyag",null,239,null,5320,3490,null,null,null,3490]
[{"$f":"IF(L270=FALSE,0,COUNTIF(A$3:A269,\">0\")+1)","v":0},8951011820,"Gyorscsatlakozó Y3 kuplung AM061 3/8\" BM","TOPS* 5 400,-Ft","RC S.anyag",null,387,null,9250,5400,null,null,null,5400]
[{"$f":"IF(L271=FALSE,0,COUNTIF(A$3:A270,\">0\")+1)","v":0},8951011821,"AM062 DUPLA NIPPLE",{"$f":"IF(H271=\"SP\",IF(J271>0,\"SP: \"&TEXT(J271*I$1,\"# ###,-Ft  \"),\"SP: \"&TEXT(I271*I$1,\"# ###,-Ft\")),IF(J271>0,\"*(\"&TEXT(I271*I$1,\"# ###,-\")&\") \n\"&TEXT(J271*J$1,\"# ###,-Ft\"),TEXT(I271*I$1,\"# ###,-Ft  \")))","v":"560,-Ft "},"RC S.anyag",null,26,null,560]
[{"$f":"IF(L272=FALSE,0,COUNTIF(A$3:A271,\">0\")+1)","v":0},8951011822,"AM063 DUPLA NIPPLE","560,-Ft ","RC S.anyag",null,19,null,560]
[{"$f":"IF(L273=FALSE,0,COUNTIF(A$3:A272,\">0\")+1)","v":0},8951011823,"AM064 DUPLA NIPPEL","560,-Ft ","RC S.anyag",null,11,null,560]
[{"$f":"IF(L274=FALSE,0,COUNTIF(A$3:A273,\">0\")+1)","v":0},8951011824,"AM065 DUPLA NIPPLE","840,-Ft ","RC S.anyag",null,30,null,840]
[{"$f":"IF(L275=FALSE,0,COUNTIF(A$3:A274,\">0\")+1)","v":0},8951011825,"AM066 DUPLA NIPPLE","1 120,-Ft ","RC S.anyag",null,35,null,1120]
[{"$f":"IF(L276=FALSE,0,COUNTIF(A$3:A275,\">0\")+1)","v":0},8951011827,"AM068 DUPLA NIPPLE","1 120,-Ft ","RC S.anyag",null,43,null,1120]
[{"$f":"IF(L277=FALSE,0,COUNTIF(A$3:A276,\">0\")+1)","v":0},8951011828,"AM069 DUPLA NIPPLE","840,-Ft ","RC S.anyag",null,15,null,840]
[{"$f":"IF(L278=FALSE,0,COUNTIF(A$3:A277,\">0\")+1)","v":0},8951011839,"AM092 REDUCTION PIECE 1/4\"TO 1/2\"","1 400,-Ft ","RC S.anyag",null,23,null,1400]
[{"$f":"IF(L279=FALSE,0,COUNTIF(A$3:A278,\">0\")+1)","v":0},8951011849,"AM094 TÖMLŐ-SET 3/8\"","4 760,-Ft ","RC S.anyag",null,78,null,4760]
[{"$f":"IF(L280=FALSE,0,COUNTIF(A$3:A279,\">0\")+1)","v":0},8951277030,"AM2023 ÜTVE CSAVAROZÓ 3/4\"_106203",{"$f":"IF(H280=\"SP\",IF(J280>0,\"SP: \"&TEXT(J280*I$1,\"# ###,-Ft  \"),\"SP: \"&TEXT(I280*I$1,\"# ###,-Ft\")),IF(J280>0,\"*(\"&TEXT(I280*I$1,\"# ###,-\")&\") \n\"&TEXT(J280*J$1,\"# ###,-Ft\"),TEXT(I280*I$1,\"# ###,-Ft  \")))","v":"111 100,-Ft "},"RC Termék",null,5099,null,111100]
[{"$f":"IF(L281=FALSE,0,COUNTIF(A$3:A280,\">0\")+1)","v":0},8951211001,"AM330 MÁGNESES BAR",{"$f":"IF(H281=\"SP\",IF(J281>0,\"SP: \"&TEXT(J281*I$1,\"# ###,-Ft  \"),\"SP: \"&TEXT(I281*I$1,\"# ###,-Ft\")),IF(J281>0,\"*(\"&TEXT(I281*I$1,\"# ###,-\")&\") \n\"&TEXT(J281*J$1,\"# ###,-Ft\"),TEXT(I281*I$1,\"# ###,-Ft  \")))","v":"2 520,-Ft "},"RC S.anyag",null,39,null,2520]
[{"$f":"IF(L282=FALSE,0,COUNTIF(A$3:A281,\">0\")+1)","v":0},8951211003,"AM333 MÁGNESES BAR 1,6",{"$f":"IF(H282=\"SP\",IF(J282>0,\"SP: \"&TEXT(J282*I$1,\"# ###,-Ft  \"),\"SP: \"&TEXT(I282*I$1,\"# ###,-Ft\")),IF(J282>0,\"*(\"&TEXT(I282*I$1,\"# ###,-\")&\") \n\"&TEXT(J282*J$1,\"# ###,-Ft\"),TEXT(I282*I$1,\"# ###,-Ft  \")))","v":"7 000,-Ft "},"RC S.anyag",null,69,null,7000]
[{"$f":"IF(L283=FALSE,0,COUNTIF(A$3:A282,\">0\")+1)","v":0},8951272051,"AM7085 EXCENTER CSISZOLÓ 5 MM_106713","Kifutó, érdeklődj!","RC Termék",null,1085,null,83000]
[{"$f":"IF(L284=FALSE,0,COUNTIF(A$3:A283,\">0\")+1)","v":0},8951211004,"AM8080 ABRONCSTÖLTŐ_106800",{"$f":"IF(H284=\"SP\",IF(J284>0,\"SP: \"&TEXT(J284*I$1,\"# ###,-Ft  \"),\"SP: \"&TEXT(I284*I$1,\"# ###,-Ft\")),IF(J284>0,\"*(\"&TEXT(I284*I$1,\"# ###,-\")&\") \n\"&TEXT(J284*J$1,\"# ###,-Ft\"),TEXT(I284*I$1,\"# ###,-Ft  \")))","v":",-Ft "},"RC Termék",null,484]
[{"$f":"IF(L285=FALSE,0,COUNTIF(A$3:A284,\">0\")+1)","v":0},8951211017,"AM8080A-03 GAUGE 0-10BAR 5-16\"-32",{"$f":"IF(H285=\"SP\",IF(J285>0,\"SP: \"&TEXT(J285*I$1,\"# ###,-Ft  \"),\"SP: \"&TEXT(I285*I$1,\"# ###,-Ft\")),IF(J285>0,\"*(\"&TEXT(I285*I$1,\"# ###,-\")&\") \n\"&TEXT(J285*J$1,\"# ###,-Ft\"),TEXT(I285*I$1,\"# ###,-Ft  \")))","v":"2 800,-Ft "},"RC S.anyag",null,112,null,2800]
[{"$f":"IF(L286=FALSE,0,COUNTIF(A$3:A285,\">0\")+1)","v":0},8951211006,"AM8082 AIRMAINTENANCE 1/4\"",{"$f":"IF(H286=\"SP\",IF(J286>0,\"SP: \"&TEXT(J286*I$1,\"# ###,-Ft  \"),\"SP: \"&TEXT(I286*I$1,\"# ###,-Ft\")),IF(J286>0,\"*(\"&TEXT(I286*I$1,\"# ###,-\")&\") \n\"&TEXT(J286*J$1,\"# ###,-Ft\"),TEXT(I286*I$1,\"# ###,-Ft  \")))","v":"24 650,-Ft "},"RC S.anyag",null,1531,null,24650]
[{"$f":"IF(L287=FALSE,0,COUNTIF(A$3:A286,\">0\")+1)","v":0},8951211008,"AM8085 AIRMAINTENANCE 3/8\"",{"$f":"IF(H287=\"SP\",IF(J287>0,\"SP: \"&TEXT(J287*I$1,\"# ###,-Ft  \"),\"SP: \"&TEXT(I287*I$1,\"# ###,-Ft\")),IF(J287>0,\"*(\"&TEXT(I287*I$1,\"# ###,-\")&\") \n\"&TEXT(J287*J$1,\"# ###,-Ft\"),TEXT(I287*I$1,\"# ###,-Ft  \")))","v":"24 650,-Ft "},"RC S.anyag",null,1538,null,24650]
[{"$f":"IF(L288=FALSE,0,COUNTIF(A$3:A287,\">0\")+1)","v":0},8951211009,"AM8086 AIRMAINTENANCE 1/2\"","24 650,-Ft ","RC S.anyag",null,1491,null,24650]
[{"$f":"IF(L289=FALSE,0,COUNTIF(A$3:A288,\">0\")+1)","v":0},8951211010,"AM8087 ABRONCSTÖLTŐ 40CM TÖMLŐ+CLIP_106807",{"$f":"IF(H289=\"SP\",IF(J289>0,\"SP: \"&TEXT(J289*I$1,\"# ###,-Ft  \"),\"SP: \"&TEXT(I289*I$1,\"# ###,-Ft\")),IF(J289>0,\"TOPS* \"&TEXT(J289*J$1,\"# ###,-Ft\"),TEXT(I289*I$1,\"# ###,-Ft  \")))","v":"TOPS* 2 500,-Ft"},"RC Termék",null,398,null,null,2500]
[{"$f":"IF(L290=FALSE,0,COUNTIF(A$3:A289,\">0\")+1)","v":0},8951211011,"AM8088 ABRONCSTÖLTŐ 2 M TÖMLŐ+CLIP_106808","TOPS* 2 750,-Ft","RC Termék",null,630,null,null,2750]
[{"$f":"IF(L291=FALSE,0,COUNTIF(A$3:A290,\">0\")+1)","v":0},8951270002,"AM8089 SZÓRÓ PISZTOLY_106809","TOPS* 7 500,-Ft","RC Termék",null,1215,null,22970,7500]
[{"$f":"IF(L292=FALSE,0,COUNTIF(A$3:A291,\">0\")+1)","v":0},8951211020,"AM8089-140 FUVÓKA-SET","8 120,-Ft ","RC S.anyag",null,144,null,8120]
[{"$f":"IF(L293=FALSE,0,COUNTIF(A$3:A292,\">0\")+1)","v":0},8951011858,"AR1 SZABÁLYOZÓ","5 320,-Ft ","RC S.anyag",null,71,null,5320]
[{"$f":"IF(L294=FALSE,0,COUNTIF(A$3:A293,\">0\")+1)","v":0},8951011647,"AS009 ADAPTER SYSTEM 23MM","12 330,-Ft ","RC S.anyag",null,104,null,12330]
[{"$f":"IF(L295=FALSE,0,COUNTIF(A$3:A294,\">0\")+1)","v":0},8951011648,"AS012 ADAPTER SYSTEM 11MM","12 330,-Ft ","RC S.anyag",null,96,null,12330]
[{"$f":"IF(L296=FALSE,0,COUNTIF(A$3:A295,\">0\")+1)","v":0},8951012286,"ATF100C7120 ABRASIVE 100MM GR120","26 900,-Ft ","RC S.anyag",null,469,null,26900]
[{"$f":"IF(L297=FALSE,0,COUNTIF(A$3:A296,\">0\")+1)","v":0},8951012287,"ATF100C7180 ABRASIVE 100MM GR180","26 900,-Ft ","RC S.anyag",null,410,null,26900]
[{"$f":"IF(L298=FALSE,0,COUNTIF(A$3:A297,\">0\")+1)","v":0},8951011012,"AVH-LG 9 KESZTYŰ CARPAL T. 163-10","Kifutó, érdeklődj!","RC S.anyag",null,140,null,17370]
[{"$f":"IF(L299=FALSE,0,COUNTIF(A$3:A298,\">0\")+1)","v":0},8951011011,"AVH-XL 9,5 KESZTYŰ CARPAL T. 163-11","Kifutó, érdeklődj!","RC S.anyag",null,159,null,18210]
[{"$f":"IF(L300=FALSE,0,COUNTIF(A$3:A299,\">0\")+1)","v":0},8951012351,"BATTERY 18V/2.6AH LITHIUM ION 2PC","229 700,-Ft ","RC S.anyag",null,755,null,229700]
[{"$f":"IF(L301=FALSE,0,COUNTIF(A$3:A300,\">0\")+1)","v":0},8951011194,"BEGAB35 BRAKE BLEEDER ADAPTER","32 300,-Ft ","RC S.anyag",null,104,null,32300]
[{"$f":"IF(L302=FALSE,0,COUNTIF(A$3:A301,\">0\")+1)","v":0},8951011201,"BEGAE20W BRAKE BLEEDER ADAPTER","21 010,-Ft ","RC S.anyag",null,129,null,21010]
[{"$f":"IF(L303=FALSE,0,COUNTIF(A$3:A302,\">0\")+1)","v":0},8951011255,"BEGAS4 ADAPTER SET","109 700,-Ft ","RC S.anyag",null,1097,null,109700]
[{"$f":"IF(L304=FALSE,0,COUNTIF(A$3:A303,\">0\")+1)","v":0},8951089032,"BFT02 POCKET BRAKE FLUID TESTER_832206","14 850,-Ft ","RC Termék",null,47,null,14850]
[{"$f":"IF(L305=FALSE,0,COUNTIF(A$3:A304,\">0\")+1)","v":0},8955000001,"BODY SAW BLADE 63MM -S63- NEUTRAL","14 290,-Ft ","RC S.anyag",null,22,null,14290]
[{"$f":"IF(L306=FALSE,0,COUNTIF(A$3:A305,\">0\")+1)","v":0},8955000000,"BODY SAW BLADE 80MM -S80- NEUTRAL","16 810,-Ft ","RC S.anyag",null,19,null,16810]
[{"$f":"IF(L307=FALSE,0,COUNTIF(A$3:A306,\">0\")+1)","v":0},8951011653,"BU002 BRUSH SZALAG COARSE 23MM 1PC.",{"$f":"IF(H307=\"SP\",IF(J307>0,\"SP: \"&TEXT(J307*I$1,\"# ###,-Ft  \"),\"SP: \"&TEXT(I307*I$1,\"# ###,-Ft\")),IF(J307>0,\"*(\"&TEXT(I307*I$1,\"# ###,-\")&\") \n\"&TEXT(J307*J$1,\"# ###,-Ft\"),TEXT(I307*I$1,\"# ###,-Ft  \")))","v":"10 650,-Ft "},"RC S.anyag",null,52,null,10650]
[{"$f":"IF(L308=FALSE,0,COUNTIF(A$3:A307,\">0\")+1)","v":0},8951011657,"BU006 BRUSH SZALAG FINE 23MM 1PC.","10 650,-Ft ","RC S.anyag",null,48,null,10650]
[{"$f":"IF(L309=FALSE,0,COUNTIF(A$3:A308,\">0\")+1)","v":0},8951011661,"BU008 BRUSH B. STA.W/OK 23MM 1PC.","12 890,-Ft ","RC S.anyag",null,48,null,12890]
[{"$f":"IF(L310=FALSE,0,COUNTIF(A$3:A309,\">0\")+1)","v":0},8951011655,"BU010 BRUSH SZALAG MEDIUM 23MM 1PC.","10 650,-Ft ","RC S.anyag",null,56,null,10650]
[{"$f":"IF(L311=FALSE,0,COUNTIF(A$3:A310,\">0\")+1)","v":0},8951011659,"BU012 BRUSH SZALAG STA WK 23MM 1PC.","12 890,-Ft ","RC S.anyag",null,49,null,12890]
[{"$f":"IF(L312=FALSE,0,COUNTIF(A$3:A311,\">0\")+1)","v":0},8951011663,"BU015 BRUSH SZALAG 23MM",{"$f":"IF(H312=\"SP\",IF(J312>0,\"SP: \"&TEXT(J312*I$1,\"# ###,-Ft  \"),\"SP: \"&TEXT(I312*I$1,\"# ###,-Ft\")),IF(J312>0,\"TOPS* \"&TEXT(J312*J$1,\"# ###,-Ft\"),TEXT(I312*I$1,\"# ###,-Ft  \")))","v":"TOPS* 48 160,-Ft"},"RC S.anyag",null,345,null,53180,48160]
[{"$f":"IF(L313=FALSE,0,COUNTIF(A$3:A312,\">0\")+1)","v":0},8951011667,"BU017-5 BRUSH SZALAG FINE 23MM",{"$f":"IF(H313=\"SP\",IF(J313>0,\"SP: \"&TEXT(J313*I$1,\"# ###,-Ft  \"),\"SP: \"&TEXT(I313*I$1,\"# ###,-Ft\")),IF(J313>0,\"TOPS* \"&TEXT(J313*J$1,\"# ###,-Ft\"),TEXT(I313*I$1,\"# ###,-Ft  \")))","v":"TOPS* 48 160,-Ft"},"RC S.anyag",null,265,null,53180,48160]
[{"$f":"IF(L314=FALSE,0,COUNTIF(A$3:A313,\">0\")+1)","v":0},8951011671,"BU018-5 BRUSH B. STA.W/OK 23MM",{"$f":"IF(H314=\"SP\",IF(J314>0,\"SP: \"&TEXT(J314*I$1,\"# ###,-Ft  \"),\"SP: \"&TEXT(I314*I$1,\"# ###,-Ft\")),IF(J314>0,\"TOPS* \"&TEXT(J314*J$1,\"# ###,-Ft\"),TEXT(I314*I$1,\"# ###,-Ft  \")))","v":"TOPS* 55 700,-Ft"},"RC S.anyag",null,307,null,64700,55700]
[{"$f":"IF(L315=FALSE,0,COUNTIF(A$3:A314,\">0\")+1)","v":0},8951011669,"BU019-5 BRUSH SZALAG STA WK 23MM",{"$f":"IF(H315=\"SP\",IF(J315>0,\"SP: \"&TEXT(J315*I$1,\"# ###,-Ft  \"),\"SP: \"&TEXT(I315*I$1,\"# ###,-Ft\")),IF(J315>0,\"TOPS* \"&TEXT(J315*J$1,\"# ###,-Ft\"),TEXT(I315*I$1,\"# ###,-Ft  \")))","v":"TOPS* 55 700,-Ft"},"RC S.anyag",null,322,null,64700,55700]
[{"$f":"IF(L316=FALSE,0,COUNTIF(A$3:A315,\">0\")+1)","v":0},8951011654,"BU020 BRUSH SZALAG COARSE 11MM 1PC.","10 650,-Ft ","RC S.anyag",null,1,null,10650]
[{"$f":"IF(L317=FALSE,0,COUNTIF(A$3:A316,\">0\")+1)","v":0},8951011664,"BU020-5 BRUSH SZALAG COARSE 11MM",{"$f":"IF(H317=\"SP\",IF(J317>0,\"SP: \"&TEXT(J317*I$1,\"# ###,-Ft  \"),\"SP: \"&TEXT(I317*I$1,\"# ###,-Ft\")),IF(J317>0,\"TOPS* \"&TEXT(J317*J$1,\"# ###,-Ft\"),TEXT(I317*I$1,\"# ###,-Ft  \")))","v":"TOPS* 48 160,-Ft"},"RC S.anyag",null,215,null,51230,48160]
[{"$f":"IF(L318=FALSE,0,COUNTIF(A$3:A317,\">0\")+1)","v":0},8951011656,"BU021 BRUSH SZALAG MEDIUM 11MM 1PC.","10 650,-Ft ","RC S.anyag",null,27,null,10650]
[{"$f":"IF(L319=FALSE,0,COUNTIF(A$3:A318,\">0\")+1)","v":0},8951011666,"BU021-5 BRUSH SZALAG MEDIUM 11MM",{"$f":"IF(H319=\"SP\",IF(J319>0,\"SP: \"&TEXT(J319*I$1,\"# ###,-Ft  \"),\"SP: \"&TEXT(I319*I$1,\"# ###,-Ft\")),IF(J319>0,\"TOPS* \"&TEXT(J319*J$1,\"# ###,-Ft\"),TEXT(I319*I$1,\"# ###,-Ft  \")))","v":"TOPS* 48 160,-Ft"},"RC S.anyag",null,215,null,51230,48160]
[{"$f":"IF(L320=FALSE,0,COUNTIF(A$3:A319,\">0\")+1)","v":0},8951011665,"BU022-5 BRUSH SZALAG MEDIUM 23MM",{"$f":"IF(H320=\"SP\",IF(J320>0,\"SP: \"&TEXT(J320*I$1,\"# ###,-Ft  \"),\"SP: \"&TEXT(I320*I$1,\"# ###,-Ft\")),IF(J320>0,\"TOPS* \"&TEXT(J320*J$1,\"# ###,-Ft\"),TEXT(I320*I$1,\"# ###,-Ft  \")))","v":"TOPS* 48 160,-Ft"},"RC S.anyag",null,346,null,53180,48160]
[{"$f":"IF(L321=FALSE,0,COUNTIF(A$3:A320,\">0\")+1)","v":0},8951011658,"BU028 BRUSH SZALAG FINE 11MM 1PC.","10 650,-Ft ","RC S.anyag",null,26,null,10650]
[{"$f":"IF(L322=FALSE,0,COUNTIF(A$3:A321,\">0\")+1)","v":0},8951011668,"BU028-5 BRUSH SZALAG FINE 11MM",{"$f":"IF(H322=\"SP\",IF(J322>0,\"SP: \"&TEXT(J322*I$1,\"# ###,-Ft  \"),\"SP: \"&TEXT(I322*I$1,\"# ###,-Ft\")),IF(J322>0,\"TOPS* \"&TEXT(J322*J$1,\"# ###,-Ft\"),TEXT(I322*I$1,\"# ###,-Ft  \")))","v":"TOPS* 48 160,-Ft"},"RC S.anyag",null,215,null,51230,48160]
[{"$f":"IF(L323=FALSE,0,COUNTIF(A$3:A322,\">0\")+1)","v":0},8951011660,"BU030 BRUSH SZALAG STA WK 11MM 1PC.","12 610,-Ft ","RC S.anyag",null,19,null,12610]
[{"$f":"IF(L324=FALSE,0,COUNTIF(A$3:A323,\">0\")+1)","v":0},8951011670,"BU030-5 BRUSH SZALAG STA WK 11MM",{"$f":"IF(H324=\"SP\",IF(J324>0,\"SP: \"&TEXT(J324*I$1,\"# ###,-Ft  \"),\"SP: \"&TEXT(I324*I$1,\"# ###,-Ft\")),IF(J324>0,\"TOPS* \"&TEXT(J324*J$1,\"# ###,-Ft\"),TEXT(I324*I$1,\"# ###,-Ft  \")))","v":"TOPS* 55 700,-Ft"},"RC S.anyag",null,177,null,62200,55700]
[{"$f":"IF(L325=FALSE,0,COUNTIF(A$3:A324,\">0\")+1)","v":0},8951011662,"BU031 BRUSH B. STA FINE W/OK 1PC.","12 610,-Ft ","RC S.anyag",null,24,null,12610]
[{"$f":"IF(L326=FALSE,0,COUNTIF(A$3:A325,\">0\")+1)","v":0},8951011672,"BU031-5 BRUSH B. STA FINE W/OK","62 200,-Ft ","RC S.anyag",null,215,null,62200]
[{"$f":"IF(L327=FALSE,0,COUNTIF(A$3:A326,\">0\")+1)","v":0},8951011092,"C225 GUMI SUPPORT FOR RH 290","6 440,-Ft ","RC S.anyag",null,175,null,6440]
[{"$f":"IF(L328=FALSE,0,COUNTIF(A$3:A327,\">0\")+1)","v":0},8951012352,"CHARGER 100-240V~ 50/60HZ 90W","49 560,-Ft ","RC S.anyag",null,770,null,49560]
[{"$f":"IF(L329=FALSE,0,COUNTIF(A$3:A328,\">0\")+1)","v":0},8951011528,"CIRCULAR FŰRÉSZLAP D50 34T - 650234","12 610,-Ft ","RC S.anyag",null,11,null,12610]
[{"$f":"IF(L330=FALSE,0,COUNTIF(A$3:A329,\">0\")+1)","v":0},8951011557,"CSISZOLÓ DISC ROLOC 2\", 3MFS50","6 720,-Ft ","RC S.anyag",null,29,null,6720]
[{"$f":"IF(L331=FALSE,0,COUNTIF(A$3:A330,\">0\")+1)","v":0},8951011558,"CSISZOLÓ DISC ROLOC 3\", 3MFS75 (x5)","10 090,-Ft ","RC S.anyag",null,54,null,10090]
[{"$f":"IF(L332=FALSE,0,COUNTIF(A$3:A331,\">0\")+1)","v":0},8955000048,"D10 PUNCH 10MM DIAMETER","3 080,-Ft ","RC S.anyag",null,141,null,3080]
[{"$f":"IF(L333=FALSE,0,COUNTIF(A$3:A332,\">0\")+1)","v":0},8955000047,"D12 PUNCH 12MM DIAMETER","3 080,-Ft ","RC S.anyag",null,163,null,3080]
[{"$f":"IF(L334=FALSE,0,COUNTIF(A$3:A333,\">0\")+1)","v":0},8955000042,"D16 PUNCH 16MM DIAMETER","3 080,-Ft ","RC S.anyag",null,204,null,3080]
[{"$f":"IF(L335=FALSE,0,COUNTIF(A$3:A334,\">0\")+1)","v":0},8955000041,"D18 PUNCH 18MM DIAMETER","3 640,-Ft ","RC S.anyag",null,290,null,3640]
[{"$f":"IF(L336=FALSE,0,COUNTIF(A$3:A335,\">0\")+1)","v":0},8955000043,"D20 PUNCH 20MM DIAMETER","3 640,-Ft ","RC S.anyag",null,362,null,3640]
[{"$f":"IF(L337=FALSE,0,COUNTIF(A$3:A336,\">0\")+1)","v":0},8955000044,"D22 PUNCH 22MM DIAMETER","3 640,-Ft ","RC S.anyag",null,318,null,3640]
[{"$f":"IF(L338=FALSE,0,COUNTIF(A$3:A337,\">0\")+1)","v":0},8955000045,"D25 PUNCH 25MM DIAMETER","4 200,-Ft ","RC S.anyag",null,529,null,4200]
[{"$f":"IF(L339=FALSE,0,COUNTIF(A$3:A338,\">0\")+1)","v":0},8955000046,"D30 PUNCH 30MM DIAMETER","5 040,-Ft ","RC S.anyag",null,715,null,5040]
[{"$f":"IF(L340=FALSE,0,COUNTIF(A$3:A339,\">0\")+1)","v":0},8951011859,"DG1 SWIVEL CONNECTOR","5 040,-Ft ","RC S.anyag",null,89,null,5040]
[{"$f":"IF(L341=FALSE,0,COUNTIF(A$3:A340,\">0\")+1)","v":0},8955000050,"DS8 Csapágy kinyomó SET",{"$f":"IF(H341=\"SP\",IF(J341>0,\"SP: \"&TEXT(J341*I$1,\"# ###,-Ft  \"),\"SP: \"&TEXT(I341*I$1,\"# ###,-Ft\")),IF(J341>0,\"TOPS* \"&TEXT(J341*J$1,\"# ###,-Ft\"),TEXT(I341*I$1,\"# ###,-Ft  \")))","v":"TOPS* 44 760,-Ft"},"RC S.anyag",null,7350,null,56400,44760]
[{"$f":"IF(L342=FALSE,0,COUNTIF(A$3:A341,\">0\")+1)","v":0},8951011866,"DUS 20 DUPLEX ZAJCSILLAPITÓ RENDSZER",{"$f":"IF(H342=\"SP\",IF(J342>0,\"SP: \"&TEXT(J342*I$1,\"# ###,-Ft  \"),\"SP: \"&TEXT(I342*I$1,\"# ###,-Ft\")),IF(J342>0,\"*(\"&TEXT(I342*I$1,\"# ###,-\")&\") \n\"&TEXT(J342*J$1,\"# ###,-Ft\"),TEXT(I342*I$1,\"# ###,-Ft  \")))","v":"6 720,-Ft "},"RC S.anyag",null,197,null,6720]
[{"$f":"IF(L343=FALSE,0,COUNTIF(A$3:A342,\">0\")+1)","v":0},8951011867,"DUS 21 DUPLEX ZAJCSILLAPITÓ RENDSZER",{"$f":"IF(H343=\"SP\",IF(J343>0,\"SP: \"&TEXT(J343*I$1,\"# ###,-Ft  \"),\"SP: \"&TEXT(I343*I$1,\"# ###,-Ft\")),IF(J343>0,\"TOPS* \"&TEXT(J343*J$1,\"# ###,-Ft\"),TEXT(I343*I$1,\"# ###,-Ft  \")))","v":"6 720,-Ft "},"RC S.anyag",null,160,null,6720]
[{"$f":"IF(L344=FALSE,0,COUNTIF(A$3:A343,\">0\")+1)","v":0},8951011869,"DUS 23 DUPLEX ZAJCSILLAPITÓ RENDSZER","13 730,-Ft ","RC S.anyag",null,202,null,13730]
[{"$f":"IF(L345=FALSE,0,COUNTIF(A$3:A344,\">0\")+1)","v":0},8951011870,"DUS 24 DUPLEX ZAJCSILLAPITÓ RENDSZER","13 730,-Ft ","RC S.anyag",null,150,null,13730]
[{"$f":"IF(L346=FALSE,0,COUNTIF(A$3:A345,\">0\")+1)","v":0},8951011871,"DUS 25 DUPLEX ZAJCSILLAPITÓ RENDSZER","13 730,-Ft ","RC S.anyag",null,177,null,13730]
[{"$f":"IF(L347=FALSE,0,COUNTIF(A$3:A346,\">0\")+1)","v":0},8951011493,"EM 362 EAR MUFF","3 640,-Ft ","RC S.anyag",null,165,null,3640]
[{"$f":"IF(L348=FALSE,0,COUNTIF(A$3:A347,\">0\")+1)","v":0},8951011642,"EPA125M8V PAD MEDIUM","15 130,-Ft ","RC S.anyag",null,159,null,15130]
[{"$f":"IF(L349=FALSE,0,COUNTIF(A$3:A348,\">0\")+1)","v":0},8951011643,"EPA125S8V PAD SOFT","20 170,-Ft ","RC S.anyag",null,179,null,20170]
[{"$f":"IF(L350=FALSE,0,COUNTIF(A$3:A349,\">0\")+1)","v":0},8951011636,"EPA150H6V PAD HARD","19 330,-Ft ","RC S.anyag",null,188,null,19330]
[{"$f":"IF(L351=FALSE,0,COUNTIF(A$3:A350,\">0\")+1)","v":0},8951011638,"EPA150M6V PAD MEDIUM","17 090,-Ft ","RC S.anyag",null,175,null,17090]
[{"$f":"IF(L352=FALSE,0,COUNTIF(A$3:A351,\">0\")+1)","v":0},8951011855,"F1G WATER SEPARATOR","6 160,-Ft ","RC S.anyag",null,105,null,6160]
[{"$f":"IF(L353=FALSE,0,COUNTIF(A$3:A352,\">0\")+1)","v":0},8951011523,"FŰRÉSZLAP 140MM 18T SET (5 PCS)",{"$f":"IF(H353=\"SP\",IF(J353>0,\"SP: \"&TEXT(J353*I$1,\"# ###,-Ft  \"),\"SP: \"&TEXT(I353*I$1,\"# ###,-Ft\")),IF(J353>0,\"TOPS* \"&TEXT(J353*J$1,\"# ###,-Ft\"),TEXT(I353*I$1,\"# ###,-Ft  \")))","v":"TOPS* 7 410,-Ft"},"RC S.anyag",null,44,null,10090,7410]
[{"$f":"IF(L354=FALSE,0,COUNTIF(A$3:A353,\">0\")+1)","v":0},8951011522,"FŰRÉSZLAP 140MM 24T SET (5 PCS)",{"$f":"IF(H354=\"SP\",IF(J354>0,\"SP: \"&TEXT(J354*I$1,\"# ###,-Ft  \"),\"SP: \"&TEXT(I354*I$1,\"# ###,-Ft\")),IF(J354>0,\"TOPS* \"&TEXT(J354*J$1,\"# ###,-Ft\"),TEXT(I354*I$1,\"# ###,-Ft  \")))","v":"TOPS* 7 410,-Ft"},"RC S.anyag",null,44,null,10090,7410]
[{"$f":"IF(L355=FALSE,0,COUNTIF(A$3:A354,\">0\")+1)","v":0},8951011521,"FŰRÉSZLAP 140MM 32T SET (5 PCS)",{"$f":"IF(H355=\"SP\",IF(J355>0,\"SP: \"&TEXT(J355*I$1,\"# ###,-Ft  \"),\"SP: \"&TEXT(I355*I$1,\"# ###,-Ft\")),IF(J355>0,\"TOPS* \"&TEXT(J355*J$1,\"# ###,-Ft\"),TEXT(I355*I$1,\"# ###,-Ft  \")))","v":"TOPS* 7 410,-Ft"},"RC S.anyag",null,46,null,10090,7410]
[{"$f":"IF(L356=FALSE,0,COUNTIF(A$3:A355,\">0\")+1)","v":0},8951011518,"FŰRÉSZLAP 77MM 14T SIG SET (5 PC)","6 440,-Ft ","RC S.anyag",null,28,null,6440]
[{"$f":"IF(L357=FALSE,0,COUNTIF(A$3:A356,\">0\")+1)","v":0},8951011516,"FŰRÉSZLAP 77MM 24T SIG SET (5 PC)","6 440,-Ft ","RC S.anyag",null,34,null,6440]
[{"$f":"IF(L358=FALSE,0,COUNTIF(A$3:A357,\">0\")+1)","v":0},8951011517,"FŰRÉSZLAP 77MM 32T SIG SET (5 PC)","6 440,-Ft ","RC S.anyag",null,26,null,6440]
[{"$f":"IF(L359=FALSE,0,COUNTIF(A$3:A358,\">0\")+1)","v":0},8951011519,"FŰRÉSZLAP 93MM 14T SET (5 PCS)",{"$f":"IF(H359=\"SP\",IF(J359>0,\"SP: \"&TEXT(J359*I$1,\"# ###,-Ft  \"),\"SP: \"&TEXT(I359*I$1,\"# ###,-Ft\")),IF(J359>0,\"TOPS* \"&TEXT(J359*J$1,\"# ###,-Ft\"),TEXT(I359*I$1,\"# ###,-Ft  \")))","v":"TOPS* 3 420,-Ft"},"RC S.anyag",null,1,null,6440,3420]
[{"$f":"IF(L360=FALSE,0,COUNTIF(A$3:A359,\">0\")+1)","v":0},8951011520,"FŰRÉSZLAP 93MM 18T SET (5 PCS)",{"$f":"IF(H360=\"SP\",IF(J360>0,\"SP: \"&TEXT(J360*I$1,\"# ###,-Ft  \"),\"SP: \"&TEXT(I360*I$1,\"# ###,-Ft\")),IF(J360>0,\"TOPS* \"&TEXT(J360*J$1,\"# ###,-Ft\"),TEXT(I360*I$1,\"# ###,-Ft  \")))","v":"TOPS* 3 990,-Ft"},"RC S.anyag",null,17,null,5040,3990]
[{"$f":"IF(L361=FALSE,0,COUNTIF(A$3:A360,\">0\")+1)","v":0},8951011515,"FŰRÉSZLAP 93MM 24T SET (5 PCS)",{"$f":"IF(H361=\"SP\",IF(J361>0,\"SP: \"&TEXT(J361*I$1,\"# ###,-Ft  \"),\"SP: \"&TEXT(I361*I$1,\"# ###,-Ft\")),IF(J361>0,\"TOPS* \"&TEXT(J361*J$1,\"# ###,-Ft\"),TEXT(I361*I$1,\"# ###,-Ft  \")))","v":"TOPS* 3 990,-Ft"},"RC S.anyag",null,35,null,5040,3990]
[{"$f":"IF(L362=FALSE,0,COUNTIF(A$3:A361,\">0\")+1)","v":0},8951011514,"FŰRÉSZLAP 93MM 32T SET (5 PCS)",{"$f":"IF(H362=\"SP\",IF(J362>0,\"SP: \"&TEXT(J362*I$1,\"# ###,-Ft  \"),\"SP: \"&TEXT(I362*I$1,\"# ###,-Ft\")),IF(J362>0,\"TOPS* \"&TEXT(J362*J$1,\"# ###,-Ft\"),TEXT(I362*I$1,\"# ###,-Ft  \")))","v":"TOPS* 3 990,-Ft"},"RC S.anyag",null,13,null,5040,3990]
[{"$f":"IF(L363=FALSE,0,COUNTIF(A$3:A362,\">0\")+1)","v":0},8951011852,"G1G OLAJZÓ","20 730,-Ft ","RC S.anyag",null,184,null,20730]
[{"$f":"IF(L364=FALSE,0,COUNTIF(A$3:A363,\">0\")+1)","v":0},8951011851,"G1KOLAJZÓ",{"$f":"IF(H364=\"SP\",IF(J364>0,\"SP: \"&TEXT(J364*I$1,\"# ###,-Ft  \"),\"SP: \"&TEXT(I364*I$1,\"# ###,-Ft\")),IF(J364>0,\"TOPS* \"&TEXT(J364*J$1,\"# ###,-Ft\"),TEXT(I364*I$1,\"# ###,-Ft  \")))","v":"TOPS* 3 420,-Ft"},"RC S.anyag",null,60,null,4760,3420]
[{"$f":"IF(L365=FALSE,0,COUNTIF(A$3:A364,\">0\")+1)","v":0},8951011856,"G1M OLAJZÓ",{"$f":"IF(H365=\"SP\",IF(J365>0,\"SP: \"&TEXT(J365*I$1,\"# ###,-Ft  \"),\"SP: \"&TEXT(I365*I$1,\"# ###,-Ft\")),IF(J365>0,\"TOPS* \"&TEXT(J365*J$1,\"# ###,-Ft\"),TEXT(I365*I$1,\"# ###,-Ft  \")))","v":"11 490,-Ft "},"RC S.anyag",null,92,null,11490]
[{"$f":"IF(L366=FALSE,0,COUNTIF(A$3:A365,\">0\")+1)","v":0},8951011853,"G2 OLAJZÓ",{"$f":"IF(H366=\"SP\",IF(J366>0,\"SP: \"&TEXT(J366*I$1,\"# ###,-Ft  \"),\"SP: \"&TEXT(I366*I$1,\"# ###,-Ft\")),IF(J366>0,\"TOPS* \"&TEXT(J366*J$1,\"# ###,-Ft\"),TEXT(I366*I$1,\"# ###,-Ft  \")))","v":"19 890,-Ft "},"RC S.anyag",null,151,null,19890]
[{"$f":"IF(L367=FALSE,0,COUNTIF(A$3:A366,\">0\")+1)","v":0},8951011854,"G3 OLAJZÓ","21 010,-Ft ","RC S.anyag",null,234,null,21010]
[{"$f":"IF(L368=FALSE,0,COUNTIF(A$3:A367,\">0\")+1)","v":0},8951011051,"GARH GUMI PAD FOR AUTÓ EMELŐ","6 720,-Ft ","RC S.anyag",null,91,null,6720]
[{"$f":"IF(L369=FALSE,0,COUNTIF(A$3:A368,\">0\")+1)","v":0},8951012347,"H29DA TÖMLŐ ADAPTER 29MM DIVERTER",{"$f":"IF(H369=\"SP\",IF(J369>0,\"SP: \"&TEXT(J369*I$1,\"# ###,-Ft  \"),\"SP: \"&TEXT(I369*I$1,\"# ###,-Ft\")),IF(J369>0,\"*(\"&TEXT(I369*I$1,\"# ###,-\")&\") \n\"&TEXT(J369*J$1,\"# ###,-Ft\"),TEXT(I369*I$1,\"# ###,-Ft  \")))","v":"6 720,-Ft "},"RC S.anyag",null,53,null,6720]
[{"$f":"IF(L370=FALSE,0,COUNTIF(A$3:A369,\">0\")+1)","v":0},8951011685,"HD02 HIGH-PRESSURE TÖMLŐ",{"$f":"IF(H370=\"SP\",IF(J370>0,\"SP: \"&TEXT(J370*I$1,\"# ###,-Ft  \"),\"SP: \"&TEXT(I370*I$1,\"# ###,-Ft\")),IF(J370>0,\"*(\"&TEXT(I370*I$1,\"# ###,-\")&\") \n\"&TEXT(J370*J$1,\"# ###,-Ft\"),TEXT(I370*I$1,\"# ###,-Ft  \")))","v":"4 200,-Ft "},"RC S.anyag",null,83,null,4200]
[{"$f":"IF(L371=FALSE,0,COUNTIF(A$3:A370,\">0\")+1)","v":0},8955000038,"HOSE ADAPTATOR VACUUM SET OF 2 PCS",{"$f":"IF(H371=\"SP\",IF(J371>0,\"SP: \"&TEXT(J371*I$1,\"# ###,-Ft  \"),\"SP: \"&TEXT(I371*I$1,\"# ###,-Ft\")),IF(J371>0,\"*(\"&TEXT(I371*I$1,\"# ###,-\")&\") \n\"&TEXT(J371*J$1,\"# ###,-Ft\"),TEXT(I371*I$1,\"# ###,-Ft  \")))","v":"11 210,-Ft "},"RC S.anyag",null,110,null,11210]
[{"$f":"IF(L372=FALSE,0,COUNTIF(A$3:A371,\">0\")+1)","v":0},8951011561,"JS2K PAD 2\"",{"$f":"IF(H372=\"SP\",IF(J372>0,\"SP: \"&TEXT(J372*I$1,\"# ###,-Ft  \"),\"SP: \"&TEXT(I372*I$1,\"# ###,-Ft\")),IF(J372>0,\"*(\"&TEXT(I372*I$1,\"# ###,-\")&\") \n\"&TEXT(J372*J$1,\"# ###,-Ft\"),TEXT(I372*I$1,\"# ###,-Ft  \")))","v":"6 440,-Ft "},"RC S.anyag",null,23,null,6440]
[{"$f":"IF(L373=FALSE,0,COUNTIF(A$3:A372,\">0\")+1)","v":0},8951011599,"JS6GHKF PAD HARD, VELCRO, LOW","11 770,-Ft ","RC S.anyag",null,130,null,11770]
[{"$f":"IF(L374=FALSE,0,COUNTIF(A$3:A373,\">0\")+1)","v":0},8951011564,"JS6W PAD SOFT","6 440,-Ft ","RC S.anyag",null,132,null,6440]
[{"$f":"IF(L375=FALSE,0,COUNTIF(A$3:A374,\">0\")+1)","v":0},8951011566,"JS6WK PAD SOFT VELCRO","9 530,-Ft ","RC S.anyag",null,127,null,9530]
[{"$f":"IF(L376=FALSE,0,COUNTIF(A$3:A375,\">0\")+1)","v":0},8951012348,"JS8GK8-1 PAD VELCRO HARD 200 MM",{"$f":"IF(H376=\"SP\",IF(J376>0,\"SP: \"&TEXT(J376*I$1,\"# ###,-Ft  \"),\"SP: \"&TEXT(I376*I$1,\"# ###,-Ft\")),IF(J376>0,\"TOPS* \"&TEXT(J376*J$1,\"# ###,-Ft\"),TEXT(I376*I$1,\"# ###,-Ft  \")))","v":"13 450,-Ft "},"RC S.anyag",null,178,null,13450]
[{"$f":"IF(L377=FALSE,0,COUNTIF(A$3:A376,\">0\")+1)","v":0},8951011816,"KKG1/2 CLAW KUPLUNG",{"$f":"IF(H377=\"SP\",IF(J377>0,\"SP: \"&TEXT(J377*I$1,\"# ###,-Ft  \"),\"SP: \"&TEXT(I377*I$1,\"# ###,-Ft\")),IF(J377>0,\"*(\"&TEXT(I377*I$1,\"# ###,-\")&\") \n\"&TEXT(J377*J$1,\"# ###,-Ft\"),TEXT(I377*I$1,\"# ###,-Ft  \")))","v":"3 080,-Ft "},"RC S.anyag",null,97,null,3080]
[{"$f":"IF(L378=FALSE,0,COUNTIF(A$3:A377,\">0\")+1)","v":0},8951011817,"KKG3/4 CLAW KUPLUNG","3 080,-Ft ","RC S.anyag",null,100,null,3080]
[{"$f":"IF(L379=FALSE,0,COUNTIF(A$3:A378,\">0\")+1)","v":0},8951011404,"KSW21LK MÜANYAG SLEEVE W/INSERT","1 400,-Ft ","RC S.anyag",null,99,null,1400]
[{"$f":"IF(L380=FALSE,0,COUNTIF(A$3:A379,\">0\")+1)","v":0},8951011405,"KSW22LK MÜANYAG SLEEVE W/INSERT","1 400,-Ft ","RC S.anyag",null,87,null,1400]
[{"$f":"IF(L381=FALSE,0,COUNTIF(A$3:A380,\">0\")+1)","v":0},8951011605,"KT150 M14 PAD VELCRO, 150MM M14X2","4 480,-Ft ","RC S.anyag",null,114,null,4480]
[{"$f":"IF(L382=FALSE,0,COUNTIF(A$3:A381,\">0\")+1)","v":0},8951011554,"KT150 PAD","14 570,-Ft ","RC S.anyag",null,103,null,14570]
[{"$f":"IF(L383=FALSE,0,COUNTIF(A$3:A382,\">0\")+1)","v":0},8951084201,"LHH22 AIR HIDRAULIKUS EMELŐ 20 TO_810625",{"$f":"IF(H383=\"SP\",IF(J383>0,\"SP: \"&TEXT(J383*I$1,\"# ###,-Ft  \"),\"SP: \"&TEXT(I383*I$1,\"# ###,-Ft\")),IF(J383>0,\"TOPS* \"&TEXT(J383*J$1,\"# ###,-Ft\"),TEXT(I383*I$1,\"# ###,-Ft  \")))","v":"331 000,-Ft "},"RC Termék",null,50000,null,331000]
[{"$f":"IF(L384=FALSE,0,COUNTIF(A$3:A383,\">0\")+1)","v":0},8951084350,"LHH35 AIR HIDRAULIKUS EMELŐ 32 TO_810628",{"$f":"IF(H384=\"SP\",IF(J384>0,\"SP: \"&TEXT(J384*I$1,\"# ###,-Ft  \"),\"SP: \"&TEXT(I384*I$1,\"# ###,-Ft\")),IF(J384>0,\"TOPS* \"&TEXT(J384*J$1,\"# ###,-Ft\"),TEXT(I384*I$1,\"# ###,-Ft  \")))","v":"386 000,-Ft "},"RC Termék",null,56000,null,386000]
[{"$f":"IF(L385=FALSE,0,COUNTIF(A$3:A384,\">0\")+1)","v":0},8951211015,"M004 LAPOS VÉSŐ 20X125MM","1 680,-Ft ","RC S.anyag",null,95,null,1680]
[{"$f":"IF(L386=FALSE,0,COUNTIF(A$3:A385,\">0\")+1)","v":0},8951211016,"M005 POINTY VÉSŐ 12X125MM","1 680,-Ft ","RC S.anyag",null,95,null,1680]
[{"$f":"IF(L387=FALSE,0,COUNTIF(A$3:A386,\">0\")+1)","v":0},8951011488,"MAGT1 MÁGNESES PLATE 150 MM",{"$f":"IF(H387=\"SP\",IF(J387>0,\"SP: \"&TEXT(J387*I$1,\"# ###,-Ft  \"),\"SP: \"&TEXT(I387*I$1,\"# ###,-Ft\")),IF(J387>0,\"TOPS* \"&TEXT(J387*J$1,\"# ###,-Ft\"),TEXT(I387*I$1,\"# ###,-Ft  \")))","v":"2 240,-Ft "},"RC S.anyag",null,355,null,2240]
[{"$f":"IF(L388=FALSE,0,COUNTIF(A$3:A387,\">0\")+1)","v":0},8951011489,"MAGT2 MÁGNESES PLATE 240X140 MM",{"$f":"IF(H388=\"SP\",IF(J388>0,\"SP: \"&TEXT(J388*I$1,\"# ###,-Ft  \"),\"SP: \"&TEXT(I388*I$1,\"# ###,-Ft\")),IF(J388>0,\"TOPS* \"&TEXT(J388*J$1,\"# ###,-Ft\"),TEXT(I388*I$1,\"# ###,-Ft  \")))","v":"3 360,-Ft "},"RC S.anyag",null,770,null,3360]
[{"$f":"IF(L389=FALSE,0,COUNTIF(A$3:A388,\">0\")+1)","v":0},8951011490,"MAGT3 MÁGNESES PLATE 360X160 MM",{"$f":"IF(H389=\"SP\",IF(J389>0,\"SP: \"&TEXT(J389*I$1,\"# ###,-Ft  \"),\"SP: \"&TEXT(I389*I$1,\"# ###,-Ft\")),IF(J389>0,\"TOPS* \"&TEXT(J389*J$1,\"# ###,-Ft\"),TEXT(I389*I$1,\"# ###,-Ft  \")))","v":"5 320,-Ft "},"RC S.anyag",null,1005,null,5320]
[{"$f":"IF(L390=FALSE,0,COUNTIF(A$3:A389,\">0\")+1)","v":0},8951000013,"MGN-12 12T PALACK EMELŐ",{"$f":"IF(H390=\"SP\",IF(J390>0,\"SP: \"&TEXT(J390*I$1,\"# ###,-Ft  \"),\"SP: \"&TEXT(I390*I$1,\"# ###,-Ft\")),IF(J390>0,\"TOPS* \"&TEXT(J390*J$1,\"# ###,-Ft\"),TEXT(I390*I$1,\"# ###,-Ft  \")))","v":"TOPS* 25 090,-Ft"},"RC Termék",null,7275,null,38420,25090]
[{"$f":"IF(L391=FALSE,0,COUNTIF(A$3:A390,\">0\")+1)","v":0},8951000009,"MGN-2 2T PALACK EMELŐ","TOPS* 10 840,-Ft","RC Termék",null,2700,null,15690,10840]
[{"$f":"IF(L392=FALSE,0,COUNTIF(A$3:A391,\">0\")+1)","v":0},8951000014,"MGN-20 20T PALACK EMELŐ","TOPS* 31 160,-Ft","RC Termék",null,9800,null,46220,31160]
[{"$f":"IF(L393=FALSE,0,COUNTIF(A$3:A392,\">0\")+1)","v":0},8951000010,"MGN-3 3T PALACK EMELŐ","18 490,-Ft ","RC Termék",null,3300,null,18490]
[{"$f":"IF(L394=FALSE,0,COUNTIF(A$3:A393,\">0\")+1)","v":0},8951000015,"MGN-30 30T PALACK EMELŐ","TOPS* 46 460,-Ft","RC Termék",null,19045,null,69400,46460]
[{"$f":"IF(L395=FALSE,0,COUNTIF(A$3:A394,\">0\")+1)","v":0},8951000011,"MGN-5 5T PALACK EMELŐ","TOPS* 15 400,-Ft","RC Termék",null,4100,null,22970,15400]
[{"$f":"IF(L396=FALSE,0,COUNTIF(A$3:A395,\">0\")+1)","v":0},8951000012,"MGN-8 8T PALACK EMELŐ","TOPS* 20 530,-Ft","RC Termék",null,6500,null,31180,20530]
[{"$f":"IF(L397=FALSE,0,COUNTIF(A$3:A396,\">0\")+1)","v":0},8951011861,"OLAJ 1000L AIR LUBRICATION 1L",{"$f":"IF(H397=\"SP\",IF(J397>0,\"SP: \"&TEXT(J397*I$1,\"# ###,-Ft  \"),\"SP: \"&TEXT(I397*I$1,\"# ###,-Ft\")),IF(J397>0,\"TOPS* \"&TEXT(J397*J$1,\"# ###,-Ft\"),TEXT(I397*I$1,\"# ###,-Ft  \")))","v":",-Ft "},"RC S.anyag",null,885]
[{"$f":"IF(L398=FALSE,0,COUNTIF(A$3:A397,\">0\")+1)","v":0},8951011862,"OLAJ 1000S IMP. LUBRICATION 1L",{"$f":"IF(H398=\"SP\",IF(J398>0,\"SP: \"&TEXT(J398*I$1,\"# ###,-Ft  \"),\"SP: \"&TEXT(I398*I$1,\"# ###,-Ft\")),IF(J398>0,\"*(\"&TEXT(I398*I$1,\"# ###,-\")&\") \n\"&TEXT(J398*J$1,\"# ###,-Ft\"),TEXT(I398*I$1,\"# ###,-Ft  \")))","v":",-Ft "},"RC S.anyag",null,875]
[{"$f":"IF(L399=FALSE,0,COUNTIF(A$3:A398,\">0\")+1)","v":0},8951011994,"P21 DUGÓ",{"$f":"IF(H399=\"SP\",IF(J399>0,\"SP: \"&TEXT(J399*I$1,\"# ###,-Ft  \"),\"SP: \"&TEXT(I399*I$1,\"# ###,-Ft\")),IF(J399>0,\"*(\"&TEXT(I399*I$1,\"# ###,-\")&\") \n\"&TEXT(J399*J$1,\"# ###,-Ft\"),TEXT(I399*I$1,\"# ###,-Ft  \")))","v":"3 360,-Ft "},"RC S.anyag",null,60,null,3360]
[{"$f":"IF(L400=FALSE,0,COUNTIF(A$3:A399,\">0\")+1)","v":0},8951000057,"P2-OLAJTÁLCA PAN 8L",{"$f":"IF(H400=\"SP\",IF(J400>0,\"SP: \"&TEXT(J400*I$1,\"# ###,-Ft  \"),\"SP: \"&TEXT(I400*I$1,\"# ###,-Ft\")),IF(J400>0,\"TOPS* \"&TEXT(J400*J$1,\"# ###,-Ft\"),TEXT(I400*I$1,\"# ###,-Ft  \")))","v":"TOPS* 4 560,-Ft"},"RC Termék",null,665,null,9530,4560]
[{"$f":"IF(L401=FALSE,0,COUNTIF(A$3:A400,\">0\")+1)","v":0},8951081032,"P4 RECOVERY DRAIN CLOSED_810250",{"$f":"IF(H401=\"SP\",IF(J401>0,\"SP: \"&TEXT(J401*I$1,\"# ###,-Ft  \"),\"SP: \"&TEXT(I401*I$1,\"# ###,-Ft\")),IF(J401>0,\"TOPS* \"&TEXT(J401*J$1,\"# ###,-Ft\"),TEXT(I401*I$1,\"# ###,-Ft  \")))","v":"TOPS* 10 840,-Ft"},"RC Termék",null,912,null,12610,10840]
[{"$f":"IF(L402=FALSE,0,COUNTIF(A$3:A401,\">0\")+1)","v":0},8951000058,"P46-OLAJTÁLCA PAN 16L",{"$f":"IF(H402=\"SP\",IF(J402>0,\"SP: \"&TEXT(J402*I$1,\"# ###,-Ft  \"),\"SP: \"&TEXT(I402*I$1,\"# ###,-Ft\")),IF(J402>0,\"TOPS* \"&TEXT(J402*J$1,\"# ###,-Ft\"),TEXT(I402*I$1,\"# ###,-Ft  \")))","v":"TOPS* 6 840,-Ft"},"RC Termék",null,1225,null,11210,6840]
[{"$f":"IF(L403=FALSE,0,COUNTIF(A$3:A402,\">0\")+1)","v":0},8951011560,"PAD 3\" H&L W/0 HOLE 5/16-24 - NB",{"$f":"IF(H403=\"SP\",IF(J403>0,\"SP: \"&TEXT(J403*I$1,\"# ###,-Ft  \"),\"SP: \"&TEXT(I403*I$1,\"# ###,-Ft\")),IF(J403>0,\"*(\"&TEXT(I403*I$1,\"# ###,-\")&\") \n\"&TEXT(J403*J$1,\"# ###,-Ft\"),TEXT(I403*I$1,\"# ###,-Ft  \")))","v":"6 720,-Ft "},"RC S.anyag",null,24,null,6720]
[{"$f":"IF(L404=FALSE,0,COUNTIF(A$3:A403,\">0\")+1)","v":0},8951011567,"PAD 6\" H&L W/6 HOLES 5/16-24 SOFT",{"$f":"IF(H404=\"SP\",IF(J404>0,\"SP: \"&TEXT(J404*I$1,\"# ###,-Ft  \"),\"SP: \"&TEXT(I404*I$1,\"# ###,-Ft\")),IF(J404>0,\"*(\"&TEXT(I404*I$1,\"# ###,-\")&\") \n\"&TEXT(J404*J$1,\"# ###,-Ft\"),TEXT(I404*I$1,\"# ###,-Ft  \")))","v":"8 970,-Ft "},"RC S.anyag",null,117,null,8970]
[{"$f":"IF(L405=FALSE,0,COUNTIF(A$3:A404,\">0\")+1)","v":0},8955000012,"PAD6\" Univerzális excenter pad 6\" 150mm/15 lyuk",{"$f":"IF(H405=\"SP\",IF(J405>0,\"SP: \"&TEXT(J405*I$1,\"# ###,-Ft  \"),\"SP: \"&TEXT(I405*I$1,\"# ###,-Ft\")),IF(J405>0,\"TOPS* \"&TEXT(J405*J$1,\"# ###,-Ft\"),TEXT(I405*I$1,\"# ###,-Ft  \")))","v":"TOPS* 9 730,-Ft"},"RC S.anyag",null,178,null,12330,9730,null,null,null,9730]
[{"$f":"IF(L406=FALSE,0,COUNTIF(A$3:A405,\">0\")+1)","v":0},8951011586,"PH15 LAMBSWOOL BONNET FOR 7680","5 880,-Ft ","RC S.anyag",null,55,null,5880]
[{"$f":"IF(L407=FALSE,0,COUNTIF(A$3:A406,\">0\")+1)","v":0},8951011550,"PH18 POLISHING BONNET","8 400,-Ft ","RC S.anyag",null,49,null,8400]
[{"$f":"IF(L408=FALSE,0,COUNTIF(A$3:A407,\">0\")+1)","v":0},8955000034,"POLISHING SPONGE WHITE 75MM","3 360,-Ft ","RC S.anyag",null,0,null,3360]
[{"$f":"IF(L409=FALSE,0,COUNTIF(A$3:A408,\">0\")+1)","v":0},8955000035,"POLISHING SPONGE YELLOW 75MM","2 520,-Ft ","RC S.anyag",null,0,null,2520]
[{"$f":"IF(L410=FALSE,0,COUNTIF(A$3:A409,\">0\")+1)","v":0},8955000036,"POLISHING WOOL PAD 75MM","2 800,-Ft ","RC S.anyag",null,0,null,2800]
[{"$f":"IF(L411=FALSE,0,COUNTIF(A$3:A410,\">0\")+1)","v":0},8955000039,"PRESS PUNCH QUICK CHUCK","8 970,-Ft ","RC S.anyag",null,846,null,8970]
[{"$f":"IF(L412=FALSE,0,COUNTIF(A$3:A411,\">0\")+1)","v":0},8951011556,"PS75 FINISHING PAD (VE 5)","4 760,-Ft ","RC S.anyag",null,23,null,4760]
[{"$f":"IF(L413=FALSE,0,COUNTIF(A$3:A412,\">0\")+1)","v":0},8951011551,"PST-16 COMPOUNDING HEAD",{"$f":"IF(H413=\"SP\",IF(J413>0,\"SP: \"&TEXT(J413*I$1,\"# ###,-Ft  \"),\"SP: \"&TEXT(I413*I$1,\"# ###,-Ft\")),IF(J413>0,\"*(\"&TEXT(I413*I$1,\"# ###,-\")&\") \n\"&TEXT(J413*J$1,\"# ###,-Ft\"),TEXT(I413*I$1,\"# ###,-Ft  \")))","v":"15 970,-Ft "},"RC S.anyag",null,120,null,15970]
[{"$f":"IF(L414=FALSE,0,COUNTIF(A$3:A413,\">0\")+1)","v":0},8955000049,"PUNCH PLATE","14 290,-Ft ","RC S.anyag",null,2016,null,14290]
[{"$f":"IF(L415=FALSE,0,COUNTIF(A$3:A414,\">0\")+1)","v":0},8951011993,"R1115 KUPLUNG","4 760,-Ft ","RC S.anyag",null,64,null,4760]
[{"$f":"IF(L416=FALSE,0,COUNTIF(A$3:A415,\">0\")+1)","v":0},8955000051,"R417LWP 1/2DR 17MM WHEEL PROT 130MM LONG","15 690,-Ft ","RC S.anyag",null,252,null,15690]
[{"$f":"IF(L417=FALSE,0,COUNTIF(A$3:A416,\">0\")+1)","v":0},8951012364,"R417MD 1/2 DR 17MM HOSSZÚ","2 520,-Ft ","RC S.anyag",null,209,null,2520]
[{"$f":"IF(L418=FALSE,0,COUNTIF(A$3:A417,\">0\")+1)","v":0},8951012372,"R417MWP 1/2DR 17MM KERÉK PROT","4 200,-Ft ","RC S.anyag",null,203,null,4200]
[{"$f":"IF(L419=FALSE,0,COUNTIF(A$3:A418,\">0\")+1)","v":0},8955000052,"R419LWP 1/2DR 19MM WHEEL PROT 130MM LONG","17 650,-Ft ","RC S.anyag",null,326,null,17650]
[{"$f":"IF(L420=FALSE,0,COUNTIF(A$3:A419,\">0\")+1)","v":0},8951012365,"R419MD 1/2 DR 19MM HOSSZÚ","1 960,-Ft ","RC S.anyag",null,187,null,1960]
[{"$f":"IF(L421=FALSE,0,COUNTIF(A$3:A420,\">0\")+1)","v":0},8951012373,"R419MWP 1/2 DR 19MM KERÉK PROT","4 480,-Ft ","RC S.anyag",null,233,null,4480]
[{"$f":"IF(L422=FALSE,0,COUNTIF(A$3:A421,\">0\")+1)","v":0},8955000053,"R421LWP 1/2DR 21MM WHEEL PROT 130MM LONG","19 050,-Ft ","RC S.anyag",null,362,null,19050]
[{"$f":"IF(L423=FALSE,0,COUNTIF(A$3:A422,\">0\")+1)","v":0},8951012366,"R421MD 1/2 DR 21MM HOSSZÚ","2 520,-Ft ","RC S.anyag",null,216,null,2520]
[{"$f":"IF(L424=FALSE,0,COUNTIF(A$3:A423,\">0\")+1)","v":0},8951012374,"R421MWP 1/2 DR 21MM KERÉK PROT","4 760,-Ft ","RC S.anyag",null,244,null,4760]
[{"$f":"IF(L425=FALSE,0,COUNTIF(A$3:A424,\">0\")+1)","v":0},8951012370,"R833MD 1DR 33MM HOSSZÚ","12 610,-Ft ","RC S.anyag",null,929,null,12610]
[{"$f":"IF(L426=FALSE,0,COUNTIF(A$3:A425,\">0\")+1)","v":0},8951000062,"RC BOOSTER 12V BOS12-XA",{"$f":"IF(H426=\"SP\",IF(J426>0,\"SP: \"&TEXT(J426*I$1,\"# ###,-Ft  \"),\"SP: \"&TEXT(I426*I$1,\"# ###,-Ft\")),IF(J426>0,\"TOPS* \"&TEXT(J426*J$1,\"# ###,-Ft\"),TEXT(I426*I$1,\"# ###,-Ft  \")))","v":"201 500,-Ft "},"RC Termék",null,14060,null,201500]
[{"$f":"IF(L427=FALSE,0,COUNTIF(A$3:A426,\">0\")+1)","v":0},8951011923,"RC14S VÉSŐ","6 440,-Ft ","RC S.anyag",null,146,null,6440]
[{"$f":"IF(L428=FALSE,0,COUNTIF(A$3:A427,\">0\")+1)","v":0},8951011924,"RC16S VÉSŐ","15 690,-Ft ","RC S.anyag",null,156,null,15690]
[{"$f":"IF(L429=FALSE,0,COUNTIF(A$3:A428,\">0\")+1)","v":0},8951011925,"RC18S VÁGÓ VÉSŐ F. SHEET ME.","6 440,-Ft ","RC S.anyag",null,168,null,6440]
[{"$f":"IF(L430=FALSE,0,COUNTIF(A$3:A429,\">0\")+1)","v":0},8951011926,"RC19S WELDING SPOT SPLITT. VÉSŐ","6 440,-Ft ","RC S.anyag",null,167,null,6440]
[{"$f":"IF(L431=FALSE,0,COUNTIF(A$3:A430,\">0\")+1)","v":0},8951011927,"RC20S VÉSŐ","6 440,-Ft ","RC S.anyag",null,160,null,6440]
[{"$f":"IF(L432=FALSE,0,COUNTIF(A$3:A431,\">0\")+1)","v":0},8951077010,"RC2100 ÜTVE CSAVAROZÓ 3/8\" SH_202100","Kifutó, érdeklődj!","RC Termék",null,1136]
[{"$f":"IF(L433=FALSE,0,COUNTIF(A$3:A432,\">0\")+1)","v":0},8951077020,"RC2111 ÜTVE CSAVAROZÓ 3/8\" SH_202112","Kifutó, érdeklődj!","RC Termék","Kifutó, érdeklődj!",1400]
[{"$f":"IF(L434=FALSE,0,COUNTIF(A$3:A433,\">0\")+1)","v":0},8951000043,"RC2177 ÜTVE CSAVAROZÓ 3/8\" COMPOSITE MINI",{"$f":"IF(H434=\"SP\",IF(J434>0,\"SP: \"&TEXT(J434*I$1,\"# ###,-Ft  \"),\"SP: \"&TEXT(I434*I$1,\"# ###,-Ft\")),IF(J434>0,\"TOPS* \"&TEXT(J434*J$1,\"# ###,-Ft\"),TEXT(I434*I$1,\"# ###,-Ft  \")))","v":"TOPS* 68 100,-Ft"},"RC Termék",null,2429,null,91000,68100]
[{"$f":"IF(L435=FALSE,0,COUNTIF(A$3:A434,\">0\")+1)","v":0},8951077050,"RC2200 ÜTVE CSAVAROZÓ 1/2\"_202203","Kifutó, érdeklődj!","RC Termék",null,2606]
[{"$f":"IF(L436=FALSE,0,COUNTIF(A$3:A435,\">0\")+1)","v":0},8951077060,"RC2205 ÜTVE CSAVAROZÓ 1/2\" PC_202207","Kifutó, érdeklődj!","RC Termék",null,2715]
[{"$f":"IF(L437=FALSE,0,COUNTIF(A$3:A436,\">0\")+1)","v":0},8951000036,"RC2227 ÜTVE CSAVAROZÓ 1/2\" METAL PC","Kifutó, érdeklődj!","RC Termék",null,2429]
[{"$f":"IF(L438=FALSE,0,COUNTIF(A$3:A437,\">0\")+1)","v":0},8951000037,"RC2257 ÜTVE CSAVAROZÓ 1/2\" METAL DP",{"$f":"IF(H438=\"SP\",IF(J438>0,\"SP: \"&TEXT(J438*I$1,\"# ###,-Ft  \"),\"SP: \"&TEXT(I438*I$1,\"# ###,-Ft\")),IF(J438>0,\"TOPS* \"&TEXT(J438*J$1,\"# ###,-Ft\"),TEXT(I438*I$1,\"# ###,-Ft  \")))","v":",-Ft "},"RC Termék",null,2429]
[{"$f":"IF(L439=FALSE,0,COUNTIF(A$3:A438,\">0\")+1)","v":0},8951077007,"RC2263TL ÜTVE CSAVAROZÓ 1/2\"_202266",{"$f":"IF(H439=\"SP\",IF(J439>0,\"SP: \"&TEXT(J439*I$1,\"# ###,-Ft  \"),\"SP: \"&TEXT(I439*I$1,\"# ###,-Ft\")),IF(J439>0,\"*(\"&TEXT(I439*I$1,\"# ###,-\")&\") \n\"&TEXT(J439*J$1,\"# ###,-Ft\"),TEXT(I439*I$1,\"# ###,-Ft  \")))","v":",-Ft "},"RC Termék",null,2210]
[{"$f":"IF(L440=FALSE,0,COUNTIF(A$3:A439,\">0\")+1)","v":0},8951077420,"RC2263XI ÜTVE CSAVAROZÓ 1/2\"_202268","Kifutó, érdeklődj!","RC Termék","Kifutó, érdeklődj!",2205]
[{"$f":"IF(L441=FALSE,0,COUNTIF(A$3:A440,\">0\")+1)","v":0},8951000044,"RC2267 ÜTVE CSAVAROZÓ 1/2\" COMPOSITE MINI",{"$f":"IF(H441=\"SP\",IF(J441>0,\"SP: \"&TEXT(J441*I$1,\"# ###,-Ft  \"),\"SP: \"&TEXT(I441*I$1,\"# ###,-Ft\")),IF(J441>0,\"TOPS* \"&TEXT(J441*J$1,\"# ###,-Ft\"),TEXT(I441*I$1,\"# ###,-Ft  \")))","v":"TOPS* 68 100,-Ft"},"RC Termék",null,2429,null,91000,68100]
[{"$f":"IF(L442=FALSE,0,COUNTIF(A$3:A441,\">0\")+1)","v":0},8951000025,"RC2277 ÜTVE CSAVAROZÓ 1/2\" COMPOSITE",{"$f":"IF(H442=\"SP\",IF(J442>0,\"SP: \"&TEXT(J442*I$1,\"# ###,-Ft  \"),\"SP: \"&TEXT(I442*I$1,\"# ###,-Ft\")),IF(J442>0,\"TOPS* \"&TEXT(J442*J$1,\"# ###,-Ft\"),TEXT(I442*I$1,\"# ###,-Ft  \")))","v":",-Ft "},"RC Termék",null,2429]
[{"$f":"IF(L443=FALSE,0,COUNTIF(A$3:A442,\">0\")+1)","v":0},8951000026,"RC2282XI 1/2'' IMPACT WRENCH COMP PC",{"$f":"IF(H443=\"SP\",IF(J443>0,\"SP: \"&TEXT(J443*I$1,\"# ###,-Ft  \"),\"SP: \"&TEXT(I443*I$1,\"# ###,-Ft\")),IF(J443>0,\"TOPS* \"&TEXT(J443*J$1,\"# ###,-Ft\"),TEXT(I443*I$1,\"# ###,-Ft  \")))","v":"TOPS* 49 900,-Ft"},"RC Termék",null,2212,null,null,49900]
[{"$f":"IF(L444=FALSE,0,COUNTIF(A$3:A443,\">0\")+1)","v":0},8951011928,"RC22S VÉSŐ UNIVERSAL (20MM)",{"$f":"IF(H444=\"SP\",IF(J444>0,\"SP: \"&TEXT(J444*I$1,\"# ###,-Ft  \"),\"SP: \"&TEXT(I444*I$1,\"# ###,-Ft\")),IF(J444>0,\"*(\"&TEXT(I444*I$1,\"# ###,-\")&\") \n\"&TEXT(J444*J$1,\"# ###,-Ft\"),TEXT(I444*I$1,\"# ###,-Ft  \")))","v":"6 440,-Ft "},"RC S.anyag",null,166,null,6440]
[{"$f":"IF(L445=FALSE,0,COUNTIF(A$3:A444,\">0\")+1)","v":0},8951077130,"RC2315 ÜTVE CSAVAROZÓ 3/4\"_202315",{"$f":"IF(H445=\"SP\",IF(J445>0,\"SP: \"&TEXT(J445*I$1,\"# ###,-Ft  \"),\"SP: \"&TEXT(I445*I$1,\"# ###,-Ft\")),IF(J445>0,\"TOPS* \"&TEXT(J445*J$1,\"# ###,-Ft\"),TEXT(I445*I$1,\"# ###,-Ft  \")))","v":"TOPS* 83 200,-Ft"},"RC Termék",null,5200,null,152800,83200]
[{"$f":"IF(L446=FALSE,0,COUNTIF(A$3:A445,\">0\")+1)","v":0},8951000045,"RC2377 RC2377 3/4\" Ütvecsavarozó kompozit","TOPS* 149 300,-Ft","RC Termék",null,3840,null,231100,149300]
[{"$f":"IF(L447=FALSE,0,COUNTIF(A$3:A446,\">0\")+1)","v":0},8951000075,"RC2405 1\" IMPACT WRENCH COMPOSITE","TOPS* 149 300,-Ft","RC Termék",null,3600,null,244500,149300]
[{"$f":"IF(L448=FALSE,0,COUNTIF(A$3:A447,\">0\")+1)","v":0},8951077190,"RC2425 ÜTVE CSAVAROZÓ 1\" SH_202425","TOPS* 190 700,-Ft","RC Termék",null,10697,null,293900,190700]
[{"$f":"IF(L449=FALSE,0,COUNTIF(A$3:A448,\">0\")+1)","v":0},8951077032,"RC2426 ÜTVE CSAVAROZÓ 1\" SH_202426","336 000,-Ft ","RC Termék",null,12200,null,336000]
[{"$f":"IF(L450=FALSE,0,COUNTIF(A$3:A449,\">0\")+1)","v":0},8951077210,"RC2444 ÜTVE CSAVAROZÓ 1\"_202444",{"$f":"IF(H450=\"C\",IF(J450>0,\"C #: \"&TEXT(J450*I$1,\"# ###,-Ft  \"),\"C #: \"&TEXT(I450*I$1,\"# ###,-Ft\")),IF(J450>0,\"TOPS* \"&TEXT(J450*J$1,\"# ###,-Ft\"),TEXT(I450*I$1,\"# ###,-Ft  \")))","v":"C #: 481 000,-Ft "},"RC Termék",null,15763,"C",561000,481000]
[{"$f":"IF(L451=FALSE,0,COUNTIF(A$3:A450,\">0\")+1)","v":0},8951000047,"RC2466 ÜTVE CSAVAROZÓ 1\" EGYENES SHORT","TOPS* 193 800,-Ft","RC Termék",null,10000,null,278300,193800]
[{"$f":"IF(L452=FALSE,0,COUNTIF(A$3:A451,\">0\")+1)","v":0},8951000048,"RC2476 ÜTVE CSAVAROZÓ 1\" EGYENES LONG","TOPS* 185 500,-Ft","RC Termék",null,10000,null,278300,185500]
[{"$f":"IF(L453=FALSE,0,COUNTIF(A$3:A452,\">0\")+1)","v":0},8951000046,"RC2477XI ÜTVE CSAVAROZÓ 1\" EGYENES LONG","TOPS* 221 700,-Ft","RC Termék",null,10000,null,343000,221700]
[{"$f":"IF(L454=FALSE,0,COUNTIF(A$3:A453,\">0\")+1)","v":0},8951077260,"RC2530 ÜTVE CSAVAROZÓ 1 1/2\"_202530",{"$f":"IF(H454=\"C\",IF(J454>0,\"C #: \"&TEXT(J454*I$1,\"# ###,-Ft  \"),\"C #: \"&TEXT(I454*I$1,\"# ###,-Ft\")),IF(J454>0,\"TOPS* \"&TEXT(J454*J$1,\"# ###,-Ft\"),TEXT(I454*I$1,\"# ###,-Ft  \")))","v":"C #: 986 000,-Ft "},"RC Termék",null,19100,"C",1321000,986000]
[{"$f":"IF(L455=FALSE,0,COUNTIF(A$3:A454,\">0\")+1)","v":0},8951078012,"RC3000 RACSNIS 1/4\"_303000","TOPS* 35 700,-Ft","RC Termék",null,644,null,43710,35700]
[{"$f":"IF(L456=FALSE,0,COUNTIF(A$3:A455,\">0\")+1)","v":0},8951078022,"RC3001 RACSNIS 1/4\" MINI_303001","TOPS* 23 950,-Ft","RC Termék",null,525,null,46770,23950]
[{"$f":"IF(L457=FALSE,0,COUNTIF(A$3:A456,\">0\")+1)","v":0},8951078042,"RC3005 RACSNIS 3/8\"_303005","TOPS* 29 460,-Ft","RC Termék",null,652,null,44550,29460]
[{"$f":"IF(L458=FALSE,0,COUNTIF(A$3:A457,\">0\")+1)","v":0},8951078013,"RC3010 RACSNIS 3/8\"_303010",{"$f":"IF(H458=\"SP\",IF(J458>0,\"SP: \"&TEXT(J458*I$1,\"# ###,-Ft  \"),\"SP: \"&TEXT(I458*I$1,\"# ###,-Ft\")),IF(J458>0,\"*(\"&TEXT(I458*I$1,\"# ###,-\")&\") \n\"&TEXT(J458*J$1,\"# ###,-Ft\"),TEXT(I458*I$1,\"# ###,-Ft  \")))","v":"44 550,-Ft "},"RC Termék",null,662,null,44550]
[{"$f":"IF(L459=FALSE,0,COUNTIF(A$3:A458,\">0\")+1)","v":0},8951078052,"RC3015 RACSNIS MINI 1/4\"_303015","Kifutó, érdeklődj!","RC Termék",null,657]
[{"$f":"IF(L460=FALSE,0,COUNTIF(A$3:A459,\">0\")+1)","v":0},8951078062,"RC3060 RACSNIS 1/4\" COMPOSITE_303060",{"$f":"IF(H460=\"SP\",IF(J460>0,\"SP: \"&TEXT(J460*I$1,\"# ###,-Ft  \"),\"SP: \"&TEXT(I460*I$1,\"# ###,-Ft\")),IF(J460>0,\"TOPS* \"&TEXT(J460*J$1,\"# ###,-Ft\"),TEXT(I460*I$1,\"# ###,-Ft  \")))","v":"TOPS* 51 560,-Ft"},"RC Termék",null,778,null,62000,51560]
[{"$f":"IF(L461=FALSE,0,COUNTIF(A$3:A460,\">0\")+1)","v":0},8951011929,"RC30S VÉSŐ",{"$f":"IF(H461=\"SP\",IF(J461>0,\"SP: \"&TEXT(J461*I$1,\"# ###,-Ft  \"),\"SP: \"&TEXT(I461*I$1,\"# ###,-Ft\")),IF(J461>0,\"*(\"&TEXT(I461*I$1,\"# ###,-\")&\") \n\"&TEXT(J461*J$1,\"# ###,-Ft\"),TEXT(I461*I$1,\"# ###,-Ft  \")))","v":"14 290,-Ft "},"RC S.anyag",null,183,null,14290]
[{"$f":"IF(L462=FALSE,0,COUNTIF(A$3:A461,\">0\")+1)","v":0},8951078004,"RC3100 RACSNIS 1/2\"_303100",{"$f":"IF(H462=\"SP\",IF(J462>0,\"SP: \"&TEXT(J462*I$1,\"# ###,-Ft  \"),\"SP: \"&TEXT(I462*I$1,\"# ###,-Ft\")),IF(J462>0,\"TOPS* \"&TEXT(J462*J$1,\"# ###,-Ft\"),TEXT(I462*I$1,\"# ###,-Ft  \")))","v":"TOPS* 26 230,-Ft"},"RC Termék",null,1285,null,44820,26230]
[{"$f":"IF(L463=FALSE,0,COUNTIF(A$3:A462,\">0\")+1)","v":0},8951078023,"RC3200 RACSNIS 3/8\"_303200",{"$f":"IF(H463=\"SP\",IF(J463>0,\"SP: \"&TEXT(J463*I$1,\"# ###,-Ft  \"),\"SP: \"&TEXT(I463*I$1,\"# ###,-Ft\")),IF(J463>0,\"TOPS* \"&TEXT(J463*J$1,\"# ###,-Ft\"),TEXT(I463*I$1,\"# ###,-Ft  \")))","v":"TOPS* 38 880,-Ft"},"RC Termék",null,1289,null,44820,38880]
[{"$f":"IF(L464=FALSE,0,COUNTIF(A$3:A463,\">0\")+1)","v":0},8951078033,"RC3260 RACSNIS 3/8\" COMPOSITE_303260",{"$f":"IF(H464=\"SP\",IF(J464>0,\"SP: \"&TEXT(J464*I$1,\"# ###,-Ft  \"),\"SP: \"&TEXT(I464*I$1,\"# ###,-Ft\")),IF(J464>0,\"TOPS* \"&TEXT(J464*J$1,\"# ###,-Ft\"),TEXT(I464*I$1,\"# ###,-Ft  \")))","v":"TOPS* 43 060,-Ft"},"RC Termék",null,784,null,62000,43060]
[{"$f":"IF(L465=FALSE,0,COUNTIF(A$3:A464,\">0\")+1)","v":0},8951078034,"RC3600 RACSNIS 1/2\"_303603",{"$f":"IF(H465=\"SP\",IF(J465>0,\"SP: \"&TEXT(J465*I$1,\"# ###,-Ft  \"),\"SP: \"&TEXT(I465*I$1,\"# ###,-Ft\")),IF(J465>0,\"*(\"&TEXT(I465*I$1,\"# ###,-\")&\") \n\"&TEXT(J465*J$1,\"# ###,-Ft\"),TEXT(I465*I$1,\"# ###,-Ft  \")))","v":"46 220,-Ft "},"RC Termék",null,1425,null,46220]
[{"$f":"IF(L466=FALSE,0,COUNTIF(A$3:A465,\">0\")+1)","v":0},8951078104,"RC3600 RE RACSNIS 1/2\"_303600","Kifutó, érdeklődj!","RC Termék","Kifutó, érdeklődj!",1675]
[{"$f":"IF(L467=FALSE,0,COUNTIF(A$3:A466,\">0\")+1)","v":0},8951078114,"RC3607 RACSNIS 1/2\" COMPOSITE_303607",{"$f":"IF(H467=\"SP\",IF(J467>0,\"SP: \"&TEXT(J467*I$1,\"# ###,-Ft  \"),\"SP: \"&TEXT(I467*I$1,\"# ###,-Ft\")),IF(J467>0,\"TOPS* \"&TEXT(J467*J$1,\"# ###,-Ft\"),TEXT(I467*I$1,\"# ###,-Ft  \")))","v":"TOPS* 25 900,-Ft"},"RC Termék",null,1440,null,63900,25900]
[{"$f":"IF(L468=FALSE,0,COUNTIF(A$3:A467,\">0\")+1)","v":0},8951078054,"RC3630 RACSNIS 3/8\"_303633","Kifutó, érdeklődj!","RC Termék","Kifutó, érdeklődj!",1350]
[{"$f":"IF(L469=FALSE,0,COUNTIF(A$3:A468,\">0\")+1)","v":0},8951078074,"RC3700 RACSNIS 1/2\"_303700",{"$f":"IF(H469=\"SP\",IF(J469>0,\"SP: \"&TEXT(J469*I$1,\"# ###,-Ft  \"),\"SP: \"&TEXT(I469*I$1,\"# ###,-Ft\")),IF(J469>0,\"TOPS* \"&TEXT(J469*J$1,\"# ###,-Ft\"),TEXT(I469*I$1,\"# ###,-Ft  \")))","v":"TOPS* 79 900,-Ft"},"RC Termék",null,1697,null,112700,79900]
[{"$f":"IF(L470=FALSE,0,COUNTIF(A$3:A469,\">0\")+1)","v":0},8951011941,"RC40S10 SZEGECS FEJEZŐ",{"$f":"IF(H470=\"SP\",IF(J470>0,\"SP: \"&TEXT(J470*I$1,\"# ###,-Ft  \"),\"SP: \"&TEXT(I470*I$1,\"# ###,-Ft\")),IF(J470>0,\"*(\"&TEXT(I470*I$1,\"# ###,-\")&\") \n\"&TEXT(J470*J$1,\"# ###,-Ft\"),TEXT(I470*I$1,\"# ###,-Ft  \")))","v":"16 250,-Ft "},"RC S.anyag",null,147,null,16250]
[{"$f":"IF(L471=FALSE,0,COUNTIF(A$3:A470,\">0\")+1)","v":0},8951011942,"RC40S6 SZEGECS FEJEZŐ",{"$f":"IF(H471=\"SP\",IF(J471>0,\"SP: \"&TEXT(J471*I$1,\"# ###,-Ft  \"),\"SP: \"&TEXT(I471*I$1,\"# ###,-Ft\")),IF(J471>0,\"*(\"&TEXT(I471*I$1,\"# ###,-\")&\") \n\"&TEXT(J471*J$1,\"# ###,-Ft\"),TEXT(I471*I$1,\"# ###,-Ft  \")))","v":"7 840,-Ft "},"RC S.anyag",null,139,null,7840]
[{"$f":"IF(L472=FALSE,0,COUNTIF(A$3:A471,\">0\")+1)","v":0},8951011943,"RC40S8 SZEGECS FEJEZŐ",{"$f":"IF(H472=\"SP\",IF(J472>0,\"SP: \"&TEXT(J472*I$1,\"# ###,-Ft  \"),\"SP: \"&TEXT(I472*I$1,\"# ###,-Ft\")),IF(J472>0,\"*(\"&TEXT(I472*I$1,\"# ###,-\")&\") \n\"&TEXT(J472*J$1,\"# ###,-Ft\"),TEXT(I472*I$1,\"# ###,-Ft  \")))","v":"7 840,-Ft "},"RC S.anyag",null,141,null,7840]
[{"$f":"IF(L473=FALSE,0,COUNTIF(A$3:A472,\">0\")+1)","v":0},8951073000,"RC4100 FÚRÓ_404100",{"$f":"IF(H473=\"SP\",IF(J473>0,\"SP: \"&TEXT(J473*I$1,\"# ###,-Ft  \"),\"SP: \"&TEXT(I473*I$1,\"# ###,-Ft\")),IF(J473>0,\"TOPS* \"&TEXT(J473*J$1,\"# ###,-Ft\"),TEXT(I473*I$1,\"# ###,-Ft  \")))","v":"TOPS* 38 530,-Ft"},"RC Termék",null,1170,null,46490,38530]
[{"$f":"IF(L474=FALSE,0,COUNTIF(A$3:A473,\">0\")+1)","v":0},8951073001,"RC4105 FÚRÓ 6MM KC COMPOSITE_404105",{"$f":"IF(H474=\"SP\",IF(J474>0,\"SP: \"&TEXT(J474*I$1,\"# ###,-Ft  \"),\"SP: \"&TEXT(I474*I$1,\"# ###,-Ft\")),IF(J474>0,\"TOPS* \"&TEXT(J474*J$1,\"# ###,-Ft\"),TEXT(I474*I$1,\"# ###,-Ft  \")))","v":"TOPS* 63 000,-Ft"},"RC Termék",null,780,null,76600,63000]
[{"$f":"IF(L475=FALSE,0,COUNTIF(A$3:A474,\">0\")+1)","v":0},8951073011,"RC4107 FÚRÓ COMPOSITE REVERSIBLE_404107",{"$f":"IF(H475=\"SP\",IF(J475>0,\"SP: \"&TEXT(J475*I$1,\"# ###,-Ft  \"),\"SP: \"&TEXT(I475*I$1,\"# ###,-Ft\")),IF(J475>0,\"TOPS* \"&TEXT(J475*J$1,\"# ###,-Ft\"),TEXT(I475*I$1,\"# ###,-Ft  \")))","v":"TOPS* 93 800,-Ft"},"RC Termék",null,1142,null,104000,93800]
[{"$f":"IF(L476=FALSE,0,COUNTIF(A$3:A475,\">0\")+1)","v":0},8951011944,"RC41S10  SZEGECS KIÜTŐ",{"$f":"IF(H476=\"SP\",IF(J476>0,\"SP: \"&TEXT(J476*I$1,\"# ###,-Ft  \"),\"SP: \"&TEXT(I476*I$1,\"# ###,-Ft\")),IF(J476>0,\"*(\"&TEXT(I476*I$1,\"# ###,-\")&\") \n\"&TEXT(J476*J$1,\"# ###,-Ft\"),TEXT(I476*I$1,\"# ###,-Ft  \")))","v":"16 250,-Ft "},"RC S.anyag",null,109,null,16250]
[{"$f":"IF(L477=FALSE,0,COUNTIF(A$3:A476,\">0\")+1)","v":0},8951011945,"RC41S8  SZEGECS KIÜTŐ",{"$f":"IF(H477=\"SP\",IF(J477>0,\"SP: \"&TEXT(J477*I$1,\"# ###,-Ft  \"),\"SP: \"&TEXT(I477*I$1,\"# ###,-Ft\")),IF(J477>0,\"*(\"&TEXT(I477*I$1,\"# ###,-\")&\") \n\"&TEXT(J477*J$1,\"# ###,-Ft\"),TEXT(I477*I$1,\"# ###,-Ft  \")))","v":"6 440,-Ft "},"RC S.anyag",null,115,null,6440]
[{"$f":"IF(L478=FALSE,0,COUNTIF(A$3:A477,\">0\")+1)","v":0},8951011946,"RC42S10 SZEGECS ELLENTARTÓ","Kifutó, érdeklődj!","RC S.anyag",null,92]
[{"$f":"IF(L479=FALSE,0,COUNTIF(A$3:A478,\">0\")+1)","v":0},8951011947,"RC42S6 SZEGECS ELLENTARTÓ",{"$f":"IF(H479=\"SP\",IF(J479>0,\"SP: \"&TEXT(J479*I$1,\"# ###,-Ft  \"),\"SP: \"&TEXT(I479*I$1,\"# ###,-Ft\")),IF(J479>0,\"*(\"&TEXT(I479*I$1,\"# ###,-\")&\") \n\"&TEXT(J479*J$1,\"# ###,-Ft\"),TEXT(I479*I$1,\"# ###,-Ft  \")))","v":"6 720,-Ft "},"RC S.anyag",null,75,null,6720]
[{"$f":"IF(L480=FALSE,0,COUNTIF(A$3:A479,\">0\")+1)","v":0},8951011948,"RC42S8 SZEGECS ELLENTARTÓ",{"$f":"IF(H480=\"SP\",IF(J480>0,\"SP: \"&TEXT(J480*I$1,\"# ###,-Ft  \"),\"SP: \"&TEXT(I480*I$1,\"# ###,-Ft\")),IF(J480>0,\"*(\"&TEXT(I480*I$1,\"# ###,-\")&\") \n\"&TEXT(J480*J$1,\"# ###,-Ft\"),TEXT(I480*I$1,\"# ###,-Ft  \")))","v":"5 880,-Ft "},"RC S.anyag",null,67,null,5880]
[{"$f":"IF(L481=FALSE,0,COUNTIF(A$3:A480,\">0\")+1)","v":0},8951073020,"RC4300 FÚRÓ_404300","Kifutó, érdeklődj!","RC Termék",null,1380]
[{"$f":"IF(L482=FALSE,0,COUNTIF(A$3:A481,\">0\")+1)","v":0},8951073030,"RC4400 FÚRÓ_404401",{"$f":"IF(H482=\"SP\",IF(J482>0,\"SP: \"&TEXT(J482*I$1,\"# ###,-Ft  \"),\"SP: \"&TEXT(I482*I$1,\"# ###,-Ft\")),IF(J482>0,\"*(\"&TEXT(I482*I$1,\"# ###,-\")&\") \n\"&TEXT(J482*J$1,\"# ###,-Ft\"),TEXT(I482*I$1,\"# ###,-Ft  \")))","v":"77 700,-Ft "},"RC Termék",null,1843,null,77700]
[{"$f":"IF(L483=FALSE,0,COUNTIF(A$3:A482,\">0\")+1)","v":0},8951073021,"RC4500 FÚRÓ_404500",{"$f":"IF(H483=\"SP\",IF(J483>0,\"SP: \"&TEXT(J483*I$1,\"# ###,-Ft  \"),\"SP: \"&TEXT(I483*I$1,\"# ###,-Ft\")),IF(J483>0,\"TOPS* \"&TEXT(J483*J$1,\"# ###,-Ft\"),TEXT(I483*I$1,\"# ###,-Ft  \")))","v":"TOPS* 36 260,-Ft"},"RC Termék",null,1308,null,64700,36260]
[{"$f":"IF(L484=FALSE,0,COUNTIF(A$3:A483,\">0\")+1)","v":0},8951073031,"RC4550 FÚRÓ_404550",{"$f":"IF(H484=\"SP\",IF(J484>0,\"SP: \"&TEXT(J484*I$1,\"# ###,-Ft  \"),\"SP: \"&TEXT(I484*I$1,\"# ###,-Ft\")),IF(J484>0,\"TOPS* \"&TEXT(J484*J$1,\"# ###,-Ft\"),TEXT(I484*I$1,\"# ###,-Ft  \")))","v":"TOPS* 49 290,-Ft"},"RC Termék",null,2085,null,83000,49290]
[{"$f":"IF(L485=FALSE,0,COUNTIF(A$3:A484,\">0\")+1)","v":0},8951073040,"RC4600 FÚRÓ_404603","Kifutó, érdeklődj!","RC Termék",null,1195]
[{"$f":"IF(L486=FALSE,0,COUNTIF(A$3:A485,\">0\")+1)","v":0},8951073090,"RC4607 FÚRÓ COMPOSITE_404607",{"$f":"IF(H486=\"SP\",IF(J486>0,\"SP: \"&TEXT(J486*I$1,\"# ###,-Ft  \"),\"SP: \"&TEXT(I486*I$1,\"# ###,-Ft\")),IF(J486>0,\"TOPS* \"&TEXT(J486*J$1,\"# ###,-Ft\"),TEXT(I486*I$1,\"# ###,-Ft  \")))","v":"TOPS* 49 290,-Ft"},"RC Termék",null,1150,null,59200,49290]
[{"$f":"IF(L487=FALSE,0,COUNTIF(A$3:A486,\">0\")+1)","v":0},8951073050,"RC4650 ANGLE FÚRÓ_404650",{"$f":"IF(H487=\"SP\",IF(J487>0,\"SP: \"&TEXT(J487*I$1,\"# ###,-Ft  \"),\"SP: \"&TEXT(I487*I$1,\"# ###,-Ft\")),IF(J487>0,\"TOPS* \"&TEXT(J487*J$1,\"# ###,-Ft\"),TEXT(I487*I$1,\"# ###,-Ft  \")))","v":"TOPS* 42 490,-Ft"},"RC Termék",null,1270,null,78300,42490]
[{"$f":"IF(L488=FALSE,0,COUNTIF(A$3:A487,\">0\")+1)","v":0},8951073002,"RC4700 CSAVAROZÓ_474701",{"$f":"IF(H488=\"SP\",IF(J488>0,\"SP: \"&TEXT(J488*I$1,\"# ###,-Ft  \"),\"SP: \"&TEXT(I488*I$1,\"# ###,-Ft\")),IF(J488>0,\"TOPS* \"&TEXT(J488*J$1,\"# ###,-Ft\"),TEXT(I488*I$1,\"# ###,-Ft  \")))","v":"TOPS* 49 290,-Ft"},"RC Termék",null,1325,null,59800,49290]
[{"$f":"IF(L489=FALSE,0,COUNTIF(A$3:A488,\">0\")+1)","v":0},8951073012,"RC4760 CSAVAROZÓ_474761",{"$f":"IF(H489=\"SP\",IF(J489>0,\"SP: \"&TEXT(J489*I$1,\"# ###,-Ft  \"),\"SP: \"&TEXT(I489*I$1,\"# ###,-Ft\")),IF(J489>0,\"TOPS* \"&TEXT(J489*J$1,\"# ###,-Ft\"),TEXT(I489*I$1,\"# ###,-Ft  \")))","v":"TOPS* 56 900,-Ft"},"RC Termék",null,1243,null,68300,56900]
[{"$f":"IF(L490=FALSE,0,COUNTIF(A$3:A489,\">0\")+1)","v":0},8951073003,"RC4780 CSAVAROZÓ_474780","Kifutó, érdeklődj!","RC Termék",null,1633]
[{"$f":"IF(L491=FALSE,0,COUNTIF(A$3:A490,\">0\")+1)","v":0},8951073023,"RC4784 CSAVAROZÓ COMPOSITE_474784",{"$f":"IF(H491=\"SP\",IF(J491>0,\"SP: \"&TEXT(J491*I$1,\"# ###,-Ft  \"),\"SP: \"&TEXT(I491*I$1,\"# ###,-Ft\")),IF(J491>0,\"TOPS* \"&TEXT(J491*J$1,\"# ###,-Ft\"),TEXT(I491*I$1,\"# ###,-Ft  \")))","v":"TOPS* 78 200,-Ft"},"RC Termék",null,1105,null,125900,78200]
[{"$f":"IF(L492=FALSE,0,COUNTIF(A$3:A491,\">0\")+1)","v":0},8951071010,"RC5030 ENGRAVING PEN_505030",{"$f":"IF(H492=\"SP\",IF(J492>0,\"SP: \"&TEXT(J492*I$1,\"# ###,-Ft  \"),\"SP: \"&TEXT(I492*I$1,\"# ###,-Ft\")),IF(J492>0,\"TOPS* \"&TEXT(J492*J$1,\"# ###,-Ft\"),TEXT(I492*I$1,\"# ###,-Ft  \")))","v":"TOPS* 52 400,-Ft"},"RC Termék",null,324,null,64700,52400]
[{"$f":"IF(L493=FALSE,0,COUNTIF(A$3:A492,\">0\")+1)","v":0},8951011957,"RC510 VÉSŐ 100 MM",{"$f":"IF(H493=\"SP\",IF(J493>0,\"SP: \"&TEXT(J493*I$1,\"# ###,-Ft  \"),\"SP: \"&TEXT(I493*I$1,\"# ###,-Ft\")),IF(J493>0,\"TOPS* \"&TEXT(J493*J$1,\"# ###,-Ft\"),TEXT(I493*I$1,\"# ###,-Ft  \")))","v":"TOPS* 28 330,-Ft"},"RC S.anyag",null,620,null,36470,28330]
[{"$f":"IF(L494=FALSE,0,COUNTIF(A$3:A493,\">0\")+1)","v":0},8951071022,"RC5100 VÉSŐKALAPÁCS_505100",{"$f":"IF(H494=\"SP\",IF(J494>0,\"SP: \"&TEXT(J494*I$1,\"# ###,-Ft  \"),\"SP: \"&TEXT(I494*I$1,\"# ###,-Ft\")),IF(J494>0,\"*(\"&TEXT(I494*I$1,\"# ###,-\")&\") \n\"&TEXT(J494*J$1,\"# ###,-Ft\"),TEXT(I494*I$1,\"# ###,-Ft  \")))","v":"26 620,-Ft "},"RC Termék",null,1678,null,26620]
[{"$f":"IF(L495=FALSE,0,COUNTIF(A$3:A494,\">0\")+1)","v":0},8951171013,"RC5120 VÉSŐKALAPÁCS SET_505120",{"$f":"IF(H495=\"SP\",IF(J495>0,\"SP: \"&TEXT(J495*I$1,\"# ###,-Ft  \"),\"SP: \"&TEXT(I495*I$1,\"# ###,-Ft\")),IF(J495>0,\"TOPS* \"&TEXT(J495*J$1,\"# ###,-Ft\"),TEXT(I495*I$1,\"# ###,-Ft  \")))","v":"TOPS* 28 330,-Ft"},"RC Termék",null,3213,null,35080,28330]
[{"$f":"IF(L496=FALSE,0,COUNTIF(A$3:A495,\">0\")+1)","v":0},8951171023,"RC5150 VÉSŐKALAPÁCS SET_505150",{"$f":"IF(H496=\"SP\",IF(J496>0,\"SP: \"&TEXT(J496*I$1,\"# ###,-Ft  \"),\"SP: \"&TEXT(I496*I$1,\"# ###,-Ft\")),IF(J496>0,\"TOPS* \"&TEXT(J496*J$1,\"# ###,-Ft\"),TEXT(I496*I$1,\"# ###,-Ft  \")))","v":"TOPS* 54 600,-Ft"},"RC Termék",null,3672,null,65600,54600]
[{"$f":"IF(L497=FALSE,0,COUNTIF(A$3:A496,\">0\")+1)","v":0},8951171033,"RC5160 VÉSŐKALAPÁCS SET_505160",{"$f":"IF(H497=\"SP\",IF(J497>0,\"SP: \"&TEXT(J497*I$1,\"# ###,-Ft  \"),\"SP: \"&TEXT(I497*I$1,\"# ###,-Ft\")),IF(J497>0,\"*(\"&TEXT(I497*I$1,\"# ###,-\")&\") \n\"&TEXT(J497*J$1,\"# ###,-Ft\"),TEXT(I497*I$1,\"# ###,-Ft  \")))","v":"52 060,-Ft "},"RC Termék",null,2600,null,52060]
[{"$f":"IF(L498=FALSE,0,COUNTIF(A$3:A497,\">0\")+1)","v":0},8951071042,"RC5175 VÉSŐKALAPÁCS 250 MM_505175",{"$f":"IF(H498=\"SP\",IF(J498>0,\"SP: \"&TEXT(J498*I$1,\"# ###,-Ft  \"),\"SP: \"&TEXT(I498*I$1,\"# ###,-Ft\")),IF(J498>0,\"*(\"&TEXT(I498*I$1,\"# ###,-\")&\") \n\"&TEXT(J498*J$1,\"# ###,-Ft\"),TEXT(I498*I$1,\"# ###,-Ft  \")))","v":"48 160,-Ft "},"RC Termék",null,2306,null,48160]
[{"$f":"IF(L499=FALSE,0,COUNTIF(A$3:A498,\">0\")+1)","v":0},8951171043,"RC5176 VÉSŐKALAPÁCS SET_505176",{"$f":"IF(H499=\"SP\",IF(J499>0,\"SP: \"&TEXT(J499*I$1,\"# ###,-Ft  \"),\"SP: \"&TEXT(I499*I$1,\"# ###,-Ft\")),IF(J499>0,\"TOPS* \"&TEXT(J499*J$1,\"# ###,-Ft\"),TEXT(I499*I$1,\"# ###,-Ft  \")))","v":"TOPS* 60 200,-Ft"},"RC Termék",null,3655,null,72200,60200]
[{"$f":"IF(L500=FALSE,0,COUNTIF(A$3:A499,\">0\")+1)","v":0},"12-3-180","3mm-es Tűkészlet 12db","Kifutó, érdeklődj!"]
[{"$f":"IF(L501=FALSE,0,COUNTIF(A$3:A500,\">0\")+1)","v":0},"19-3-180","3mm-es Tűkészlet 19db","Kifutó, érdeklődj!"]
[{"$f":"IF(L502=FALSE,0,COUNTIF(A$3:A501,\">0\")+1)","v":0},"28-3-180","3mm-es Tűkészlet 28db","Kifutó, érdeklődj!"]
[{"$f":"IF(L503=FALSE,0,COUNTIF(A$3:A502,\">0\")+1)","v":0},"49-3-180","3mm-es Tűkészlet 49db","Kifutó, érdeklődj!"]
[{"$f":"IF(L504=FALSE,0,COUNTIF(A$3:A503,\">0\")+1)","v":0},"29-2-180","2mm-es Tűkészlet 29db","Kifutó, érdeklődj!"]
[{"$f":"IF(L505=FALSE,0,COUNTIF(A$3:A504,\">0\")+1)","v":0},"35-4-180","4mm-es Tűkészlet 35db","Kifutó, érdeklődj!"]
[{"$f":"IF(L506=FALSE,0,COUNTIF(A$3:A505,\">0\")+1)","v":0},8951071052,"RC5180 VÉSŐKALAPÁCS VIBRATION DAMPED_505180",{"$f":"IF(H506=\"SP\",IF(J506>0,\"SP: \"&TEXT(J506*I$1,\"# ###,-Ft  \"),\"SP: \"&TEXT(I506*I$1,\"# ###,-Ft\")),IF(J506>0,\"*(\"&TEXT(I506*I$1,\"# ###,-\")&\") \n\"&TEXT(J506*J$1,\"# ###,-Ft\"),TEXT(I506*I$1,\"# ###,-Ft  \")))","v":"71 900,-Ft "},"RC Termék",null,2589,null,71900]
[{"$f":"IF(L507=FALSE,0,COUNTIF(A$3:A506,\">0\")+1)","v":0},8951011949,"RC51S VÉSŐ",{"$f":"IF(H507=\"SP\",IF(J507>0,\"SP: \"&TEXT(J507*I$1,\"# ###,-Ft  \"),\"SP: \"&TEXT(I507*I$1,\"# ###,-Ft\")),IF(J507>0,\"TOPS* \"&TEXT(J507*J$1,\"# ###,-Ft\"),TEXT(I507*I$1,\"# ###,-Ft  \")))","v":"TOPS* 5 700,-Ft"},"RC S.anyag",null,341,null,7840,5700]
[{"$f":"IF(L508=FALSE,0,COUNTIF(A$3:A507,\">0\")+1)","v":0},8951011950,"RC52S VÉSŐ 20 MM",{"$f":"IF(H508=\"SP\",IF(J508>0,\"SP: \"&TEXT(J508*I$1,\"# ###,-Ft  \"),\"SP: \"&TEXT(I508*I$1,\"# ###,-Ft\")),IF(J508>0,\"TOPS* \"&TEXT(J508*J$1,\"# ###,-Ft\"),TEXT(I508*I$1,\"# ###,-Ft  \")))","v":"TOPS* 6 990,-Ft"},"RC S.anyag",null,358,null,7840,6990]
[{"$f":"IF(L509=FALSE,0,COUNTIF(A$3:A508,\">0\")+1)","v":0},8951071065,"RC5305 VÉSŐKALAPÁCS HEXAGON 12.0 MM_505305",{"$f":"IF(H509=\"SP\",IF(J509>0,\"SP: \"&TEXT(J509*I$1,\"# ###,-Ft  \"),\"SP: \"&TEXT(I509*I$1,\"# ###,-Ft\")),IF(J509>0,\"*(\"&TEXT(I509*I$1,\"# ###,-\")&\") \n\"&TEXT(J509*J$1,\"# ###,-Ft\"),TEXT(I509*I$1,\"# ###,-Ft  \")))","v":"132 200,-Ft "},"RC Termék",null,3248,null,132200]
[{"$f":"IF(L510=FALSE,0,COUNTIF(A$3:A509,\">0\")+1)","v":0},8951171053,"RC5310 VÉSŐKALAPÁCS SET_505310",{"$f":"IF(H510=\"SP\",IF(J510>0,\"SP: \"&TEXT(J510*I$1,\"# ###,-Ft  \"),\"SP: \"&TEXT(I510*I$1,\"# ###,-Ft\")),IF(J510>0,\"TOPS* \"&TEXT(J510*J$1,\"# ###,-Ft\"),TEXT(I510*I$1,\"# ###,-Ft  \")))","v":"TOPS* 131 600,-Ft"},"RC Termék",null,5193,null,148200,131600]
[{"$f":"IF(L511=FALSE,0,COUNTIF(A$3:A510,\">0\")+1)","v":0},8951011951,"RC53S VÉSŐ 30 MM",{"$f":"IF(H511=\"SP\",IF(J511>0,\"SP: \"&TEXT(J511*I$1,\"# ###,-Ft  \"),\"SP: \"&TEXT(I511*I$1,\"# ###,-Ft\")),IF(J511>0,\"*(\"&TEXT(I511*I$1,\"# ###,-\")&\") \n\"&TEXT(J511*J$1,\"# ###,-Ft\"),TEXT(I511*I$1,\"# ###,-Ft  \")))","v":"7 840,-Ft "},"RC S.anyag",null,350,null,7840]
[{"$f":"IF(L512=FALSE,0,COUNTIF(A$3:A511,\">0\")+1)","v":0},8951071076,"RC5400 VÉSŐKALAPÁCS HEX 14.7 MM 3\"_505400",{"$f":"IF(H512=\"SP\",IF(J512>0,\"SP: \"&TEXT(J512*I$1,\"# ###,-Ft  \"),\"SP: \"&TEXT(I512*I$1,\"# ###,-Ft\")),IF(J512>0,\"TOPS* \"&TEXT(J512*J$1,\"# ###,-Ft\"),TEXT(I512*I$1,\"# ###,-Ft  \")))","v":"TOPS* 151 000,-Ft"},"RC Termék",null,8181,null,181400,151000]
[{"$f":"IF(L513=FALSE,0,COUNTIF(A$3:A512,\">0\")+1)","v":0},8951011952,"RC54S VÉSŐ 40 MM",{"$f":"IF(H513=\"SP\",IF(J513>0,\"SP: \"&TEXT(J513*I$1,\"# ###,-Ft  \"),\"SP: \"&TEXT(I513*I$1,\"# ###,-Ft\")),IF(J513>0,\"*(\"&TEXT(I513*I$1,\"# ###,-\")&\") \n\"&TEXT(J513*J$1,\"# ###,-Ft\"),TEXT(I513*I$1,\"# ###,-Ft  \")))","v":"7 840,-Ft "},"RC S.anyag",null,360,null,7840]
[{"$f":"IF(L514=FALSE,0,COUNTIF(A$3:A513,\">0\")+1)","v":0},8951076018,"RC5550 LONG REACH SCALER_565550",{"$f":"IF(H514=\"SP\",IF(J514>0,\"SP: \"&TEXT(J514*I$1,\"# ###,-Ft  \"),\"SP: \"&TEXT(I514*I$1,\"# ###,-Ft\")),IF(J514>0,\"*(\"&TEXT(I514*I$1,\"# ###,-\")&\") \n\"&TEXT(J514*J$1,\"# ###,-Ft\"),TEXT(I514*I$1,\"# ###,-Ft  \")))","v":",-Ft "},"RC Termék",null,6600]
[{"$f":"IF(L515=FALSE,0,COUNTIF(A$3:A514,\">0\")+1)","v":0},8951076000,"RC5605 TŰS LEVERŐ ADAPTER",{"$f":"IF(H515=\"SP\",IF(J515>0,\"SP: \"&TEXT(J515*I$1,\"# ###,-Ft  \"),\"SP: \"&TEXT(I515*I$1,\"# ###,-Ft\")),IF(J515>0,\"TOPS* \"&TEXT(J515*J$1,\"# ###,-Ft\"),TEXT(I515*I$1,\"# ###,-Ft  \")))","v":"14 850,-Ft "},"RC S.anyag",null,1060,null,14850]
[{"$f":"IF(L516=FALSE,0,COUNTIF(A$3:A515,\">0\")+1)","v":0},8951076001,"RC5610 TŰS LEVERŐ_565610","TOPS* 103 600,-Ft","RC Termék",null,2986,null,116600,103600]
[{"$f":"IF(L517=FALSE,0,COUNTIF(A$3:A516,\">0\")+1)","v":0},8951076002,"RC5615 TŰS LEVERŐ_565615","TOPS* 37 960,-Ft","RC Termék",null,1440,null,45660,37960]
[{"$f":"IF(L518=FALSE,0,COUNTIF(A$3:A517,\">0\")+1)","v":0},8951076003,"RC5620 TŰS LEVERŐ_565620","TOPS* 116 300,-Ft","RC Termék",null,4441,null,169600,116300]
[{"$f":"IF(L519=FALSE,0,COUNTIF(A$3:A518,\">0\")+1)","v":0},8951076004,"RC5625 TŰS LEVERŐ_565625","TOPS* 65 900,-Ft","RC Termék",null,3510,null,93800,65900]
[{"$f":"IF(L520=FALSE,0,COUNTIF(A$3:A519,\">0\")+1)","v":0},8951079001,"RC6050 FŰRÉSZ_606050","TOPS* 35 130,-Ft","RC Termék",null,850,null,48720,35130]
[{"$f":"IF(L521=FALSE,0,COUNTIF(A$3:A520,\">0\")+1)","v":0},8951179000,"RC6051 AIRBODY FŰRÉSZ SET_606051","TOPS* 60 700,-Ft","RC Termék",null,1711,null,69200,60700]
[{"$f":"IF(L522=FALSE,0,COUNTIF(A$3:A521,\">0\")+1)","v":0},8951079011,"RC6067 FŰRÉSZ COMPOSITE_606067","TOPS* 97 900,-Ft","RC Termék",null,805,null,118500,97900]
[{"$f":"IF(L523=FALSE,0,COUNTIF(A$3:A522,\">0\")+1)","v":0},8951011930,"RC60S DUPLA VÁGÓ VÉSŐ",{"$f":"IF(H523=\"SP\",IF(J523>0,\"SP: \"&TEXT(J523*I$1,\"# ###,-Ft  \"),\"SP: \"&TEXT(I523*I$1,\"# ###,-Ft\")),IF(J523>0,\"*(\"&TEXT(I523*I$1,\"# ###,-\")&\") \n\"&TEXT(J523*J$1,\"# ###,-Ft\"),TEXT(I523*I$1,\"# ###,-Ft  \")))","v":"11 490,-Ft "},"RC S.anyag",null,162,null,11490]
[{"$f":"IF(L524=FALSE,0,COUNTIF(A$3:A523,\">0\")+1)","v":0},8951076008,"RC6100 AIR NIBBLER_606100",{"$f":"IF(H524=\"SP\",IF(J524>0,\"SP: \"&TEXT(J524*I$1,\"# ###,-Ft  \"),\"SP: \"&TEXT(I524*I$1,\"# ###,-Ft\")),IF(J524>0,\"TOPS* \"&TEXT(J524*J$1,\"# ###,-Ft\"),TEXT(I524*I$1,\"# ###,-Ft  \")))","v":"TOPS* 37 960,-Ft"},"RC Termék",null,1111,null,46220,37960]
[{"$f":"IF(L525=FALSE,0,COUNTIF(A$3:A524,\">0\")+1)","v":0},8951011931,"RC61S VÉSŐ-SET","24 930,-Ft ","RC S.anyag",null,833,null,24930]
[{"$f":"IF(L526=FALSE,0,COUNTIF(A$3:A525,\">0\")+1)","v":0},8951076009,"RC6210 OLLÓ_606211",",-Ft ","RC Termék",null,1299]
[{"$f":"IF(L527=FALSE,0,COUNTIF(A$3:A526,\">0\")+1)","v":0},8951076020,"RC6212 OLLÓ COMPOSIT_606212",{"$f":"IF(H527=\"SP\",IF(J527>0,\"SP: \"&TEXT(J527*I$1,\"# ###,-Ft  \"),\"SP: \"&TEXT(I527*I$1,\"# ###,-Ft\")),IF(J527>0,\"TOPS* \"&TEXT(J527*J$1,\"# ###,-Ft\"),TEXT(I527*I$1,\"# ###,-Ft  \")))","v":"54 200,-Ft "},"RC Termék",null,1100,null,54200]
[{"$f":"IF(L528=FALSE,0,COUNTIF(A$3:A527,\">0\")+1)","v":0},8951076010,"RC6220 PNEUM. PRUNING OLLÓ_606220",",-Ft ","RC Termék",null,800]
[{"$f":"IF(L529=FALSE,0,COUNTIF(A$3:A528,\">0\")+1)","v":0},8951076011,"RC6301 LYUKASZTÓ/PEREMEZŐ MACHINE_606301",{"$f":"IF(H529=\"SP\",IF(J529>0,\"SP: \"&TEXT(J529*I$1,\"# ###,-Ft  \"),\"SP: \"&TEXT(I529*I$1,\"# ###,-Ft\")),IF(J529>0,\"TOPS* \"&TEXT(J529*J$1,\"# ###,-Ft\"),TEXT(I529*I$1,\"# ###,-Ft  \")))","v":"TOPS* 48 160,-Ft"},"RC Termék",null,1450,null,57800,48160]
[{"$f":"IF(L530=FALSE,0,COUNTIF(A$3:A529,\">0\")+1)","v":0},8951076013,"RC6453 PONTHEGESZTŐ FÚRÓ W.CSIPESZ_606453",{"$f":"IF(H530=\"SP\",IF(J530>0,\"SP: \"&TEXT(J530*I$1,\"# ###,-Ft  \"),\"SP: \"&TEXT(I530*I$1,\"# ###,-Ft\")),IF(J530>0,\"TOPS* \"&TEXT(J530*J$1,\"# ###,-Ft\"),TEXT(I530*I$1,\"# ###,-Ft  \")))","v":"TOPS* 134 200,-Ft"},"RC Termék",null,2404,null,151700,134200]
[{"$f":"IF(L531=FALSE,0,COUNTIF(A$3:A530,\">0\")+1)","v":0},8951074005,"RC6605 RE LEVEGŐS-VÁGÓ_606605",{"$f":"IF(H531=\"SP\",IF(J531>0,\"SP: \"&TEXT(J531*I$1,\"# ###,-Ft  \"),\"SP: \"&TEXT(I531*I$1,\"# ###,-Ft\")),IF(J531>0,\"TOPS* \"&TEXT(J531*J$1,\"# ###,-Ft\"),TEXT(I531*I$1,\"# ###,-Ft  \")))","v":"TOPS* 66 400,-Ft"},"RC Termék",null,1542,null,75000,66400]
[{"$f":"IF(L532=FALSE,0,COUNTIF(A$3:A531,\">0\")+1)","v":0},8951074000,"RC6610 LEVEGŐS-VÁGÓ_606610",{"$f":"IF(H532=\"SP\",IF(J532>0,\"SP: \"&TEXT(J532*I$1,\"# ###,-Ft  \"),\"SP: \"&TEXT(I532*I$1,\"# ###,-Ft\")),IF(J532>0,\"*(\"&TEXT(I532*I$1,\"# ###,-\")&\") \n\"&TEXT(J532*J$1,\"# ###,-Ft\"),TEXT(I532*I$1,\"# ###,-Ft  \")))","v":"114 100,-Ft "},null,null,1495,null,114100]
[{"$f":"IF(L533=FALSE,0,COUNTIF(A$3:A532,\">0\")+1)","v":0},8951074001,"RC6700 POPSZEGECS HÚZÓ_676700",{"$f":"IF(H533=\"SP\",IF(J533>0,\"SP: \"&TEXT(J533*I$1,\"# ###,-Ft  \"),\"SP: \"&TEXT(I533*I$1,\"# ###,-Ft\")),IF(J533>0,\"TOPS* \"&TEXT(J533*J$1,\"# ###,-Ft\"),TEXT(I533*I$1,\"# ###,-Ft  \")))","v":"TOPS* 36 260,-Ft"},"RC Termék",null,1775,null,52060,36260]
[{"$f":"IF(L534=FALSE,0,COUNTIF(A$3:A533,\">0\")+1)","v":0},8951074002,"RC6710 POPSZEGECS HÚZÓ_676710",{"$f":"IF(H534=\"SP\",IF(J534>0,\"SP: \"&TEXT(J534*I$1,\"# ###,-Ft  \"),\"SP: \"&TEXT(I534*I$1,\"# ###,-Ft\")),IF(J534>0,\"TOPS* \"&TEXT(J534*J$1,\"# ###,-Ft\"),TEXT(I534*I$1,\"# ###,-Ft  \")))","v":"TOPS* 154 700,-Ft"},"RC Termék",null,2638,null,159700,154700]
[{"$f":"IF(L535=FALSE,0,COUNTIF(A$3:A534,\">0\")+1)","v":0},8951074003,"RC6715 POPSZEGECS HÚZÓ_676715",{"$f":"IF(H535=\"SP\",IF(J535>0,\"SP: \"&TEXT(J535*I$1,\"# ###,-Ft  \"),\"SP: \"&TEXT(I535*I$1,\"# ###,-Ft\")),IF(J535>0,\"TOPS* \"&TEXT(J535*J$1,\"# ###,-Ft\"),TEXT(I535*I$1,\"# ###,-Ft  \")))","v":"TOPS* 107 900,-Ft"},"RC Termék",null,3007,null,123200,107900]
[{"$f":"IF(L536=FALSE,0,COUNTIF(A$3:A535,\">0\")+1)","v":0},8951074008,"RC6718XI POPSZEGECS HÚZÓ COMPOSIT_676718",{"$f":"IF(H536=\"SP\",IF(J536>0,\"SP: \"&TEXT(J536*I$1,\"# ###,-Ft  \"),\"SP: \"&TEXT(I536*I$1,\"# ###,-Ft\")),IF(J536>0,\"TOPS* \"&TEXT(J536*J$1,\"# ###,-Ft\"),TEXT(I536*I$1,\"# ###,-Ft  \")))","v":"TOPS* 200 200,-Ft"},"RC Termék",null,3239,null,240900,200200]
[{"$f":"IF(L537=FALSE,0,COUNTIF(A$3:A536,\">0\")+1)","v":0},8951074004,"RC6720 POPSZEGECS HÚZÓ 8 MM_676720",{"$f":"IF(H537=\"SP\",IF(J537>0,\"SP: \"&TEXT(J537*I$1,\"# ###,-Ft  \"),\"SP: \"&TEXT(I537*I$1,\"# ###,-Ft\")),IF(J537>0,\"TOPS* \"&TEXT(J537*J$1,\"# ###,-Ft\"),TEXT(I537*I$1,\"# ###,-Ft  \")))","v":"TOPS* 210 000,-Ft"},"RC Termék",null,4159,null,274000,210000]
[{"$f":"IF(L538=FALSE,0,COUNTIF(A$3:A537,\">0\")+1)","v":0},8951075000,"RC6900 RESZELŐGÉP_606900",{"$f":"IF(H538=\"SP\",IF(J538>0,\"SP: \"&TEXT(J538*I$1,\"# ###,-Ft  \"),\"SP: \"&TEXT(I538*I$1,\"# ###,-Ft\")),IF(J538>0,\"*(\"&TEXT(I538*I$1,\"# ###,-\")&\") \n\"&TEXT(J538*J$1,\"# ###,-Ft\"),TEXT(I538*I$1,\"# ###,-Ft  \")))","v":"61 400,-Ft "},"RC Termék",null,1336,null,61400]
[{"$f":"IF(L539=FALSE,0,COUNTIF(A$3:A538,\">0\")+1)","v":0},8951011958,"RC70 SPRING RÖGZÍTŐ",{"$f":"IF(H539=\"SP\",IF(J539>0,\"SP: \"&TEXT(J539*I$1,\"# ###,-Ft  \"),\"SP: \"&TEXT(I539*I$1,\"# ###,-Ft\")),IF(J539>0,\"*(\"&TEXT(I539*I$1,\"# ###,-\")&\") \n\"&TEXT(J539*J$1,\"# ###,-Ft\"),TEXT(I539*I$1,\"# ###,-Ft  \")))","v":"560,-Ft "},"RC S.anyag",null,56,null,560]
[{"$f":"IF(L540=FALSE,0,COUNTIF(A$3:A539,\">0\")+1)","v":0},8951075100,"RC7035 RADÍR_707036",{"$f":"IF(H540=\"SP\",IF(J540>0,\"SP: \"&TEXT(J540*I$1,\"# ###,-Ft  \"),\"SP: \"&TEXT(I540*I$1,\"# ###,-Ft\")),IF(J540>0,\"TOPS* \"&TEXT(J540*J$1,\"# ###,-Ft\"),TEXT(I540*I$1,\"# ###,-Ft  \")))","v":",-Ft "},"RC Termék",null,1225]
[{"$f":"IF(L541=FALSE,0,COUNTIF(A$3:A540,\">0\")+1)","v":0},8951075340,"RC7037 RC7037 RADIROZÓ GÉP_707037",{"$f":"IF(H541=\"SP\",IF(J541>0,\"SP: \"&TEXT(J541*I$1,\"# ###,-Ft  \"),\"SP: \"&TEXT(I541*I$1,\"# ###,-Ft\")),IF(J541>0,\"*(\"&TEXT(I541*I$1,\"# ###,-\")&\") \n\"&TEXT(J541*J$1,\"# ###,-Ft\"),TEXT(I541*I$1,\"# ###,-Ft  \")))","v":",-Ft "},"RC Termék"]
[{"$f":"IF(L542=FALSE,0,COUNTIF(A$3:A541,\">0\")+1)","v":0},8951000275,"RC7028 Egyenes csiszoló",{"$f":"IF(H542=\"SP\",IF(J542>0,\"SP: \"&TEXT(J542*I$1,\"# ###,-Ft  \"),\"SP: \"&TEXT(I542*I$1,\"# ###,-Ft\")),IF(J542>0,\"TOPS* \"&TEXT(J542*J$1,\"# ###,-Ft\"),TEXT(I542*I$1,\"# ###,-Ft  \")))","v":"TOPS* 50 430,-Ft"},"RC Termék",null,null,null,59200,50430]
[{"$f":"IF(L543=FALSE,0,COUNTIF(A$3:A542,\">0\")+1)","v":0},8951000276,"RC7048 Hosszú egyenes csiszoló",{"$f":"IF(H543=\"SP\",IF(J543>0,\"SP: \"&TEXT(J543*I$1,\"# ###,-Ft  \"),\"SP: \"&TEXT(I543*I$1,\"# ###,-Ft\")),IF(J543>0,\"TOPS* \"&TEXT(J543*J$1,\"# ###,-Ft\"),TEXT(I543*I$1,\"# ###,-Ft  \")))","v":"TOPS* 55 700,-Ft"},"RC Termék",null,null,null,67000,55700]
[{"$f":"IF(L544=FALSE,0,COUNTIF(A$3:A543,\">0\")+1)","v":0},8951000277,"RC7128 Csiszoló",{"$f":"IF(H544=\"SP\",IF(J544>0,\"SP: \"&TEXT(J544*I$1,\"# ###,-Ft  \"),\"SP: \"&TEXT(I544*I$1,\"# ###,-Ft\")),IF(J544>0,\"TOPS* \"&TEXT(J544*J$1,\"# ###,-Ft\"),TEXT(I544*I$1,\"# ###,-Ft  \")))","v":"TOPS* 55 700,-Ft"},"RC Termék",null,null,null,69200,55700]
[{"$f":"IF(L545=FALSE,0,COUNTIF(A$3:A544,\">0\")+1)","v":0},8951000274,"RC7009 Egyenes csiszoló 300W",{"$f":"IF(H545=\"SP\",IF(J545>0,\"SP: \"&TEXT(J545*I$1,\"# ###,-Ft  \"),\"SP: \"&TEXT(I545*I$1,\"# ###,-Ft\")),IF(J545>0,\"TOPS* \"&TEXT(J545*J$1,\"# ###,-Ft\"),TEXT(I545*I$1,\"# ###,-Ft  \")))","v":"TOPS* 16 540,-Ft"},"RC Termék",null,null,null,21010,16540]
[{"$f":"IF(L546=FALSE,0,COUNTIF(A$3:A545,\">0\")+1)","v":0},8951000278,"RC7058 Egyenes csiszoló 700W",{"$f":"IF(H546=\"SP\",IF(J546>0,\"SP: \"&TEXT(J546*I$1,\"# ###,-Ft  \"),\"SP: \"&TEXT(I546*I$1,\"# ###,-Ft\")),IF(J546>0,\"TOPS* \"&TEXT(J546*J$1,\"# ###,-Ft\"),TEXT(I546*I$1,\"# ###,-Ft  \")))","v":"TOPS* 61 400,-Ft"},"RC Termék",null,null,null,69700,61400]
[{"$f":"IF(L547=FALSE,0,COUNTIF(A$3:A546,\">0\")+1)","v":0},8951075270,"RC7072RE GUMICSISZOLÓ 19000 RPM_707072",{"$f":"IF(H547=\"SP\",IF(J547>0,\"SP: \"&TEXT(J547*I$1,\"# ###,-Ft  \"),\"SP: \"&TEXT(I547*I$1,\"# ###,-Ft\")),IF(J547>0,\"*(\"&TEXT(I547*I$1,\"# ###,-\")&\") \n\"&TEXT(J547*J$1,\"# ###,-Ft\"),TEXT(I547*I$1,\"# ###,-Ft  \")))","v":",-Ft "},"RC Termék",null,1280]
[{"$f":"IF(L548=FALSE,0,COUNTIF(A$3:A547,\">0\")+1)","v":0},8951075290,"RC7075 RE GUMICSISZOLÓ 3400 RPM_707076",{"$f":"IF(H548=\"SP\",IF(J548>0,\"SP: \"&TEXT(J548*I$1,\"# ###,-Ft  \"),\"SP: \"&TEXT(I548*I$1,\"# ###,-Ft\")),IF(J548>0,\"TOPS* \"&TEXT(J548*J$1,\"# ###,-Ft\"),TEXT(I548*I$1,\"# ###,-Ft  \")))","v":",-Ft "},"RC Termék",null,1424]
[{"$f":"IF(L549=FALSE,0,COUNTIF(A$3:A548,\">0\")+1)","v":0},8951075310,"RC7077 RE GUMICSISZOLÓ 3400 RPM_707077",{"$f":"IF(H549=\"SP\",IF(J549>0,\"SP: \"&TEXT(J549*I$1,\"# ###,-Ft  \"),\"SP: \"&TEXT(I549*I$1,\"# ###,-Ft\")),IF(J549>0,\"*(\"&TEXT(I549*I$1,\"# ###,-\")&\") \n\"&TEXT(J549*J$1,\"# ###,-Ft\"),TEXT(I549*I$1,\"# ###,-Ft  \")))","v":",-Ft "},"RC Termék",null,1421]
[{"$f":"IF(L550=FALSE,0,COUNTIF(A$3:A549,\">0\")+1)","v":0},8951176010,"RC7091 BLASTER SET AUTOMOTIVE_707091",{"$f":"IF(H550=\"SP\",IF(J550>0,\"SP: \"&TEXT(J550*I$1,\"# ###,-Ft  \"),\"SP: \"&TEXT(I550*I$1,\"# ###,-Ft\")),IF(J550>0,\"TOPS* \"&TEXT(J550*J$1,\"# ###,-Ft\"),TEXT(I550*I$1,\"# ###,-Ft  \")))","v":"TOPS* 165 000,-Ft"},"RC Termék",null,2004,null,200700,165000]
[{"$f":"IF(L551=FALSE,0,COUNTIF(A$3:A550,\">0\")+1)","v":0},8951072001,"RC7120 ANGLE CSISZOLÓ_717120",{"$f":"IF(H551=\"SP\",IF(J551>0,\"SP: \"&TEXT(J551*I$1,\"# ###,-Ft  \"),\"SP: \"&TEXT(I551*I$1,\"# ###,-Ft\")),IF(J551>0,\"*(\"&TEXT(I551*I$1,\"# ###,-\")&\") \n\"&TEXT(J551*J$1,\"# ###,-Ft\"),TEXT(I551*I$1,\"# ###,-Ft  \")))","v":"104 000,-Ft "},"RC Termék",null,2605,null,104000]
[{"$f":"IF(L552=FALSE,0,COUNTIF(A$3:A551,\">0\")+1)","v":0},8951072004,"RC7130 POLÍROZÓ_717130",{"$f":"IF(H552=\"SP\",IF(J552>0,\"SP: \"&TEXT(J552*I$1,\"# ###,-Ft  \"),\"SP: \"&TEXT(I552*I$1,\"# ###,-Ft\")),IF(J552>0,\"TOPS* \"&TEXT(J552*J$1,\"# ###,-Ft\"),TEXT(I552*I$1,\"# ###,-Ft  \")))","v":"TOPS* 98 500,-Ft"},"RC Termék",null,2552,null,118800,98500]
[{"$f":"IF(L553=FALSE,0,COUNTIF(A$3:A552,\">0\")+1)","v":0},8951072021,"RC7150 DELUXE CSISZOLÓ_717150",{"$f":"IF(H553=\"SP\",IF(J553>0,\"SP: \"&TEXT(J553*I$1,\"# ###,-Ft  \"),\"SP: \"&TEXT(I553*I$1,\"# ###,-Ft\")),IF(J553>0,\"TOPS* \"&TEXT(J553*J$1,\"# ###,-Ft\"),TEXT(I553*I$1,\"# ###,-Ft  \")))","v":"TOPS* 25 160,-Ft"},"RC Termék",null,1357,null,27280,25160]
[{"$f":"IF(L554=FALSE,0,COUNTIF(A$3:A553,\">0\")+1)","v":0},8951072041,"RC7155 SZALAG CSISZOLÓ 10 X 330 MM_717155",{"$f":"IF(H554=\"SP\",IF(J554>0,\"SP: \"&TEXT(J554*I$1,\"# ###,-Ft  \"),\"SP: \"&TEXT(I554*I$1,\"# ###,-Ft\")),IF(J554>0,\"TOPS* \"&TEXT(J554*J$1,\"# ###,-Ft\"),TEXT(I554*I$1,\"# ###,-Ft  \")))","v":"TOPS* 55 700,-Ft"},"RC Termék",null,980,null,67000,55700]
[{"$f":"IF(L555=FALSE,0,COUNTIF(A$3:A554,\">0\")+1)","v":0},8951072051,"RC7156 SZALAG CSISZOLÓ 20 X 520 MM_717156",{"$f":"IF(H555=\"SP\",IF(J555>0,\"SP: \"&TEXT(J555*I$1,\"# ###,-Ft  \"),\"SP: \"&TEXT(I555*I$1,\"# ###,-Ft\")),IF(J555>0,\"TOPS* \"&TEXT(J555*J$1,\"# ###,-Ft\"),TEXT(I555*I$1,\"# ###,-Ft  \")))","v":"TOPS* 78 200,-Ft"},"RC Termék",null,1400,null,114100,78200]
[{"$f":"IF(L556=FALSE,0,COUNTIF(A$3:A555,\">0\")+1)","v":0},8951072061,"RC7157 SZALAG CSISZOLÓ 30","Kifutó, érdeklődj!",null,"Kifutó, érdeklődj!",1400]
[{"$f":"IF(L557=FALSE,0,COUNTIF(A$3:A556,\">0\")+1)","v":0},8951075041,"RC7165 SAROKCSISZOLÓ 115X22_717165","Kifutó, érdeklődj!","RC Termék",null,2207]
[{"$f":"IF(L558=FALSE,0,COUNTIF(A$3:A557,\">0\")+1)","v":0},8951075051,"RC7166 SAROKCSISZOLÓ 115X22 M14X2_717166",{"$f":"IF(H558=\"SP\",IF(J558>0,\"SP: \"&TEXT(J558*I$1,\"# ###,-Ft  \"),\"SP: \"&TEXT(I558*I$1,\"# ###,-Ft\")),IF(J558>0,\"TOPS* \"&TEXT(J558*J$1,\"# ###,-Ft\"),TEXT(I558*I$1,\"# ###,-Ft  \")))","v":"TOPS* 55 700,-Ft"},"RC Termék",null,2300,null,106000,55700]
[{"$f":"IF(L559=FALSE,0,COUNTIF(A$3:A558,\">0\")+1)","v":0},8951075071,"RC7180 SAROKCSISZOLÓ 178 X 22_717182",{"$f":"IF(H559=\"SP\",IF(J559>0,\"SP: \"&TEXT(J559*I$1,\"# ###,-Ft  \"),\"SP: \"&TEXT(I559*I$1,\"# ###,-Ft\")),IF(J559>0,\"*(\"&TEXT(I559*I$1,\"# ###,-\")&\") \n\"&TEXT(J559*J$1,\"# ###,-Ft\"),TEXT(I559*I$1,\"# ###,-Ft  \")))","v":",-Ft "},"RC Termék",null,3814]
[{"$f":"IF(L560=FALSE,0,COUNTIF(A$3:A559,\">0\")+1)","v":0},8951075101,"RC7190 MINI CUT-OFF TOOL_717190",{"$f":"IF(H560=\"SP\",IF(J560>0,\"SP: \"&TEXT(J560*I$1,\"# ###,-Ft  \"),\"SP: \"&TEXT(I560*I$1,\"# ###,-Ft\")),IF(J560>0,\"TOPS* \"&TEXT(J560*J$1,\"# ###,-Ft\"),TEXT(I560*I$1,\"# ###,-Ft  \")))","v":"TOPS* 21 670,-Ft"},"RC Termék",null,1088,null,26340,21670]
[{"$f":"IF(L561=FALSE,0,COUNTIF(A$3:A560,\">0\")+1)","v":0},8951072111,"RC7200V EXCENTER CSISZOLÓ VELCRO_7672016",{"$f":"IF(H561=\"SP\",IF(J561>0,\"SP: \"&TEXT(J561*I$1,\"# ###,-Ft  \"),\"SP: \"&TEXT(I561*I$1,\"# ###,-Ft\")),IF(J561>0,\"TOPS* \"&TEXT(J561*J$1,\"# ###,-Ft\"),TEXT(I561*I$1,\"# ###,-Ft  \")))","v":"TOPS* 30 550,-Ft"},"RC Termék",null,2129,null,35080,30550]
[{"$f":"IF(L562=FALSE,0,COUNTIF(A$3:A561,\">0\")+1)","v":0},8951011960,"RC73 QUICK RÖGZÍTŐ",{"$f":"IF(H562=\"SP\",IF(J562>0,\"SP: \"&TEXT(J562*I$1,\"# ###,-Ft  \"),\"SP: \"&TEXT(I562*I$1,\"# ###,-Ft\")),IF(J562>0,\"*(\"&TEXT(I562*I$1,\"# ###,-\")&\") \n\"&TEXT(J562*J$1,\"# ###,-Ft\"),TEXT(I562*I$1,\"# ###,-Ft  \")))","v":"6 160,-Ft "},"RC S.anyag",null,281,null,6160]
[{"$f":"IF(L563=FALSE,0,COUNTIF(A$3:A562,\">0\")+1)","v":0},8951072102,"RC7451V EXCENTER CSISZOLÓ VELCRO_777451","Kifutó, érdeklődj!","RC Termék","Kifutó, érdeklődj!",2710]
[{"$f":"IF(L564=FALSE,0,COUNTIF(A$3:A563,\">0\")+1)","v":0},8951072101,"RC7500 EGYENES LINE CSISZOLÓ_777500",{"$f":"IF(H564=\"SP\",IF(J564>0,\"SP: \"&TEXT(J564*I$1,\"# ###,-Ft  \"),\"SP: \"&TEXT(I564*I$1,\"# ###,-Ft\")),IF(J564>0,\"TOPS* \"&TEXT(J564*J$1,\"# ###,-Ft\"),TEXT(I564*I$1,\"# ###,-Ft  \")))","v":"TOPS* 36 260,-Ft"},"RC Termék",null,2851,null,43430,36260]
[{"$f":"IF(L565=FALSE,0,COUNTIF(A$3:A564,\">0\")+1)","v":0},8951011961,"RC76 ALU SAFETY VÉSŐ HOLDER",{"$f":"IF(H565=\"SP\",IF(J565>0,\"SP: \"&TEXT(J565*I$1,\"# ###,-Ft  \"),\"SP: \"&TEXT(I565*I$1,\"# ###,-Ft\")),IF(J565>0,\"*(\"&TEXT(I565*I$1,\"# ###,-\")&\") \n\"&TEXT(J565*J$1,\"# ###,-Ft\"),TEXT(I565*I$1,\"# ###,-Ft  \")))","v":"5 040,-Ft "},"RC S.anyag",null,76,null,5040]
[{"$f":"IF(L566=FALSE,0,COUNTIF(A$3:A565,\">0\")+1)","v":0},8951011964,"RC76-3 SAFETY HOLDER F. 5305","17 650,-Ft ","RC S.anyag",null,172,null,17650]
[{"$f":"IF(L567=FALSE,0,COUNTIF(A$3:A566,\">0\")+1)","v":0},8951072231,"RC7661V EXCENTER CSISZOLÓ 2,5MM-75MM_767661",{"$f":"IF(H567=\"SP\",IF(J567>0,\"SP: \"&TEXT(J567*I$1,\"# ###,-Ft  \"),\"SP: \"&TEXT(I567*I$1,\"# ###,-Ft\")),IF(J567>0,\"TOPS* \"&TEXT(J567*J$1,\"# ###,-Ft\"),TEXT(I567*I$1,\"# ###,-Ft  \")))","v":"54 010,-Ft "},"RC Termék",null,856,null,54010]
[{"$f":"IF(L568=FALSE,0,COUNTIF(A$3:A567,\">0\")+1)","v":0},8955000005,"RC7681 2\"ROLL-ON BACK PAD W/1/4\"-20 FEM.","Kifutó, érdeklődj!","RC S.anyag",null,40]
[{"$f":"IF(L569=FALSE,0,COUNTIF(A$3:A568,\">0\")+1)","v":0},8955000004,"RC7681 3\"ROLL-ON BACK PAD W/1/4\"-20 FEM.","Kifutó, érdeklődj!","RC S.anyag",null,64]
[{"$f":"IF(L570=FALSE,0,COUNTIF(A$3:A569,\">0\")+1)","v":0},8951000019,"RC7681K GYORS JAVÍTÓ SURFACE PREP. KIT",{"$f":"IF(H570=\"SP\",IF(J570>0,\"SP: \"&TEXT(J570*I$1,\"# ###,-Ft  \"),\"SP: \"&TEXT(I570*I$1,\"# ###,-Ft\")),IF(J570>0,\"TOPS* \"&TEXT(J570*J$1,\"# ###,-Ft\"),TEXT(I570*I$1,\"# ###,-Ft  \")))","v":"TOPS* 42 490,-Ft"},"RC Termék",null,2044,null,52060,42490]
[{"$f":"IF(L571=FALSE,0,COUNTIF(A$3:A570,\">0\")+1)","v":0},8955000007,"RC7682 2\"SAND PAD H&L W/5/16\"-24 DUGÓ","3 080,-Ft ","RC S.anyag",null,17.5,null,3080]
[{"$f":"IF(L572=FALSE,0,COUNTIF(A$3:A571,\">0\")+1)","v":0},8955000006,"RC7682/83 3\"SAND PAD H&L W/5/16\"-24 DUGÓ","3 640,-Ft ","RC S.anyag",null,35,null,3640]
[{"$f":"IF(L573=FALSE,0,COUNTIF(A$3:A572,\">0\")+1)","v":0},8951000018,"RC7682K GYORS JAVÍTÓ EXCENTER CSISZOLÓ KIT",{"$f":"IF(H573=\"SP\",IF(J573>0,\"SP: \"&TEXT(J573*I$1,\"# ###,-Ft  \"),\"SP: \"&TEXT(I573*I$1,\"# ###,-Ft\")),IF(J573>0,\"TOPS* \"&TEXT(J573*J$1,\"# ###,-Ft\"),TEXT(I573*I$1,\"# ###,-Ft  \")))","v":"TOPS* 47 590,-Ft"},"RC Termék",null,1989,null,57500,47590]
[{"$f":"IF(L574=FALSE,0,COUNTIF(A$3:A573,\">0\")+1)","v":0},8951000017,"RC7683K GYORS JAVÍTÓ POLÍROZÓ KIT","TOPS* 47 590,-Ft","RC Termék",null,2075,null,58100,47590]
[{"$f":"IF(L575=FALSE,0,COUNTIF(A$3:A574,\">0\")+1)","v":0},8951072212,"RC7691V CSISZOLÓ GEARED 5MM_767691","122 900,-Ft ","RC Termék",null,2170,null,122900]
[{"$f":"IF(L576=FALSE,0,COUNTIF(A$3:A575,\">0\")+1)","v":0},8951000021,"RC7702V6 6\" EXCENTER CSISZOLÓ 2,5MM","TOPS* 59 100,-Ft","RC Termék",null,2044,null,79700,59100]
[{"$f":"IF(L577=FALSE,0,COUNTIF(A$3:A576,\">0\")+1)","v":0},8951000020,"RC7705V6 6\" EXCENTER CSISZOLÓ 5MM",{"$f":"IF(H577=\"SP\",IF(J577>0,\"SP: \"&TEXT(J577*I$1,\"# ###,-Ft  \"),\"SP: \"&TEXT(I577*I$1,\"# ###,-Ft\")),IF(J577>0,\"TOPS* \"&TEXT(J577*J$1,\"# ###,-Ft\"),TEXT(I577*I$1,\"# ###,-Ft  \")))","v":"TOPS* 59 100,-Ft"},"RC Termék",null,2044,null,79700,59100]
[{"$f":"IF(L578=FALSE,0,COUNTIF(A$3:A577,\">0\")+1)","v":0},8951000070,"RC7710V6 6\" EXCENTER CSISZOLÓ 5MM","TOPS* 72 100,-Ft","RC Termék",null,2044,null,86300,72100]
[{"$f":"IF(L579=FALSE,0,COUNTIF(A$3:A578,\">0\")+1)","v":0},8951000081,"RC7705V6-2H 6\" ORBITAL SANDER 2 HAND 5MM","TOPS* 58 500,-Ft","RC Termék",null,2044,null,92400,58500]
[{"$f":"IF(L580=FALSE,0,COUNTIF(A$3:A579,\">0\")+1)","v":0},8951000082,"RC7710V6-2H 6\" ORBITAL SAND. 2 HAND 10MM","TOPS* 58 500,-Ft","RC Termék",null,2044,null,92400,58500]
[{"$f":"IF(L581=FALSE,0,COUNTIF(A$3:A580,\">0\")+1)","v":0},8951072022,"RC7802RV1 CSISZOLÓ RECTANGULAR_777802","Kifutó, érdeklődj!","RC Termék","Kifutó, érdeklődj!",1504]
[{"$f":"IF(L582=FALSE,0,COUNTIF(A$3:A581,\">0\")+1)","v":0},8951011963,"RC79 SPRING",{"$f":"IF(H582=\"SP\",IF(J582>0,\"SP: \"&TEXT(J582*I$1,\"# ###,-Ft  \"),\"SP: \"&TEXT(I582*I$1,\"# ###,-Ft\")),IF(J582>0,\"*(\"&TEXT(I582*I$1,\"# ###,-\")&\") \n\"&TEXT(J582*J$1,\"# ###,-Ft\"),TEXT(I582*I$1,\"# ###,-Ft  \")))","v":"2 520,-Ft "},"RC S.anyag",null,5,null,2520]
[{"$f":"IF(L583=FALSE,0,COUNTIF(A$3:A582,\">0\")+1)","v":0},8951070000,"RC8000 TÖMÍTŐ PISZTOLY_808000",{"$f":"IF(H583=\"SP\",IF(J583>0,\"SP: \"&TEXT(J583*I$1,\"# ###,-Ft  \"),\"SP: \"&TEXT(I583*I$1,\"# ###,-Ft\")),IF(J583>0,\"TOPS* \"&TEXT(J583*J$1,\"# ###,-Ft\"),TEXT(I583*I$1,\"# ###,-Ft  \")))","v":"TOPS* 13 120,-Ft"},"RC Termék",null,1260,null,15970,13120]
[{"$f":"IF(L584=FALSE,0,COUNTIF(A$3:A583,\">0\")+1)","v":0},8951070010,"RC8006 TÖMÍTŐ PISZTOLY 400 ML UNIV._808006","Kifutó, érdeklődj!","RC Termék",null,1734]
[{"$f":"IF(L585=FALSE,0,COUNTIF(A$3:A584,\">0\")+1)","v":0},8951070020,"RC8007 TÖMÍTŐ PISZTOLY 600 ML UNIV._808007","Kifutó, érdeklődj!","RC Termék",null,1856]
[{"$f":"IF(L586=FALSE,0,COUNTIF(A$3:A585,\">0\")+1)","v":0},8951070030,"RC8010 ALVÁZVÉDŐ PISZTOLY_808010",{"$f":"IF(H586=\"SP\",IF(J586>0,\"SP: \"&TEXT(J586*I$1,\"# ###,-Ft  \"),\"SP: \"&TEXT(I586*I$1,\"# ###,-Ft\")),IF(J586>0,\"*(\"&TEXT(I586*I$1,\"# ###,-\")&\") \n\"&TEXT(J586*J$1,\"# ###,-Ft\"),TEXT(I586*I$1,\"# ###,-Ft  \")))","v":"14 010,-Ft "},"RC Termék",null,820,null,14010]
[{"$f":"IF(L587=FALSE,0,COUNTIF(A$3:A586,\">0\")+1)","v":0},8951070040,"RC8011 ALVÁZVÉDŐ PISZTOLY_808011",{"$f":"IF(H587=\"SP\",IF(J587>0,\"SP: \"&TEXT(J587*I$1,\"# ###,-Ft  \"),\"SP: \"&TEXT(I587*I$1,\"# ###,-Ft\")),IF(J587>0,\"TOPS* \"&TEXT(J587*J$1,\"# ###,-Ft\"),TEXT(I587*I$1,\"# ###,-Ft  \")))","v":"TOPS* 11 410,-Ft"},"RC Termék",null,300,null,13170,11410]
[{"$f":"IF(L588=FALSE,0,COUNTIF(A$3:A587,\">0\")+1)","v":0},8951070050,"RC8035 UBC-CAVITY-SZÓRÓ-PISZTOLY_808035",{"$f":"IF(H588=\"SP\",IF(J588>0,\"SP: \"&TEXT(J588*I$1,\"# ###,-Ft  \"),\"SP: \"&TEXT(I588*I$1,\"# ###,-Ft\")),IF(J588>0,\"TOPS* \"&TEXT(J588*J$1,\"# ###,-Ft\"),TEXT(I588*I$1,\"# ###,-Ft  \")))","v":"TOPS* 20 530,-Ft"},"RC Termék",null,1061,null,25490,20530]
[{"$f":"IF(L589=FALSE,0,COUNTIF(A$3:A588,\">0\")+1)","v":0},8951070002,"RC8102/14 SZÓRÓ PISZTOLY 1,4 MM_808102",{"$f":"IF(H589=\"SP\",IF(J589>0,\"SP: \"&TEXT(J589*I$1,\"# ###,-Ft  \"),\"SP: \"&TEXT(I589*I$1,\"# ###,-Ft\")),IF(J589>0,\"TOPS* \"&TEXT(J589*J$1,\"# ###,-Ft\"),TEXT(I589*I$1,\"# ###,-Ft  \")))","v":"TOPS* 32 860,-Ft"},"RC Termék",null,1250,null,58900,32860]
[{"$f":"IF(L590=FALSE,0,COUNTIF(A$3:A589,\">0\")+1)","v":0},8951070032,"RC8102/17 SZÓRÓ PISZTOLY 1,7 MM_80810217",{"$f":"IF(H590=\"SP\",IF(J590>0,\"SP: \"&TEXT(J590*I$1,\"# ###,-Ft  \"),\"SP: \"&TEXT(I590*I$1,\"# ###,-Ft\")),IF(J590>0,\"*(\"&TEXT(I590*I$1,\"# ###,-\")&\") \n\"&TEXT(J590*J$1,\"# ###,-Ft\"),TEXT(I590*I$1,\"# ###,-Ft  \")))","v":"58 900,-Ft "},"RC Termék",null,1209,null,58900]
[{"$f":"IF(L591=FALSE,0,COUNTIF(A$3:A590,\">0\")+1)","v":0},8951070042,"RC8102/20 SZÓRÓ PISZTOLY 2,00 MM_80810220",{"$f":"IF(H591=\"SP\",IF(J591>0,\"SP: \"&TEXT(J591*I$1,\"# ###,-Ft  \"),\"SP: \"&TEXT(I591*I$1,\"# ###,-Ft\")),IF(J591>0,\"*(\"&TEXT(I591*I$1,\"# ###,-\")&\") \n\"&TEXT(J591*J$1,\"# ###,-Ft\"),TEXT(I591*I$1,\"# ###,-Ft  \")))","v":"58 900,-Ft "},"RC Termék",null,1250,null,58900]
[{"$f":"IF(L592=FALSE,0,COUNTIF(A$3:A591,\">0\")+1)","v":0},8951070052,"RC8102/25 SZÓRÓ PISZTOLY 2,5 MM_80810225",{"$f":"IF(H592=\"SP\",IF(J592>0,\"SP: \"&TEXT(J592*I$1,\"# ###,-Ft  \"),\"SP: \"&TEXT(I592*I$1,\"# ###,-Ft\")),IF(J592>0,\"*(\"&TEXT(I592*I$1,\"# ###,-\")&\") \n\"&TEXT(J592*J$1,\"# ###,-Ft\"),TEXT(I592*I$1,\"# ###,-Ft  \")))","v":"58 900,-Ft "},"RC Termék",null,1250,null,58900]
[{"$f":"IF(L593=FALSE,0,COUNTIF(A$3:A592,\">0\")+1)","v":0},8951070012,"RC8103/08 PICO-SPEED 0,8 MM_808103",{"$f":"IF(H593=\"SP\",IF(J593>0,\"SP: \"&TEXT(J593*I$1,\"# ###,-Ft  \"),\"SP: \"&TEXT(I593*I$1,\"# ###,-Ft\")),IF(J593>0,\"TOPS* \"&TEXT(J593*J$1,\"# ###,-Ft\"),TEXT(I593*I$1,\"# ###,-Ft  \")))","v":"TOPS* 36 260,-Ft"},"RC Termék",null,641,null,66700,36260]
[{"$f":"IF(L594=FALSE,0,COUNTIF(A$3:A593,\">0\")+1)","v":0},8951070011,"RC8106/13 HVLP SZÓRÓ PISZTOLY 1,3 MM_808106",{"$f":"IF(H594=\"SP\",IF(J594>0,\"SP: \"&TEXT(J594*I$1,\"# ###,-Ft  \"),\"SP: \"&TEXT(I594*I$1,\"# ###,-Ft\")),IF(J594>0,\"*(\"&TEXT(I594*I$1,\"# ###,-\")&\") \n\"&TEXT(J594*J$1,\"# ###,-Ft\"),TEXT(I594*I$1,\"# ###,-Ft  \")))","v":"78 600,-Ft "},"RC Termék",null,1381,null,78600]
[{"$f":"IF(L595=FALSE,0,COUNTIF(A$3:A594,\">0\")+1)","v":0},8951070041,"RC8106/20 HVLP SZÓRÓ PISZTOLY 2,0 MM_80810620",{"$f":"IF(H595=\"SP\",IF(J595>0,\"SP: \"&TEXT(J595*I$1,\"# ###,-Ft  \"),\"SP: \"&TEXT(I595*I$1,\"# ###,-Ft\")),IF(J595>0,\"*(\"&TEXT(I595*I$1,\"# ###,-\")&\") \n\"&TEXT(J595*J$1,\"# ###,-Ft\"),TEXT(I595*I$1,\"# ###,-Ft  \")))","v":"78 600,-Ft "},"RC Termék",null,1385,null,78600]
[{"$f":"IF(L596=FALSE,0,COUNTIF(A$3:A595,\">0\")+1)","v":0},8951070021,"RC8107/14 SZÓRÓ PISZTOLY 1,4 MM SWIVEL_808107",{"$f":"IF(H596=\"SP\",IF(J596>0,\"SP: \"&TEXT(J596*I$1,\"# ###,-Ft  \"),\"SP: \"&TEXT(I596*I$1,\"# ###,-Ft\")),IF(J596>0,\"TOPS* \"&TEXT(J596*J$1,\"# ###,-Ft\"),TEXT(I596*I$1,\"# ###,-Ft  \")))","v":"TOPS* 55 700,-Ft"},"RC Termék",null,1500,null,74400,55700]
[{"$f":"IF(L597=FALSE,0,COUNTIF(A$3:A596,\">0\")+1)","v":0},8951070003,"RC8112 HOMOKSZÓRÓ_808112",{"$f":"IF(H597=\"SP\",IF(J597>0,\"SP: \"&TEXT(J597*I$1,\"# ###,-Ft  \"),\"SP: \"&TEXT(I597*I$1,\"# ###,-Ft\")),IF(J597>0,\"TOPS* \"&TEXT(J597*J$1,\"# ###,-Ft\"),TEXT(I597*I$1,\"# ###,-Ft  \")))","v":"TOPS* 25 090,-Ft"},"RC Termék",null,3558,null,47610,25090]
[{"$f":"IF(L598=FALSE,0,COUNTIF(A$3:A597,\">0\")+1)","v":0},8951070023,"RC8113 HOMOKSZÓRÓ_808114",{"$f":"IF(H598=\"SP\",IF(J598>0,\"SP: \"&TEXT(J598*I$1,\"# ###,-Ft  \"),\"SP: \"&TEXT(I598*I$1,\"# ###,-Ft\")),IF(J598>0,\"*(\"&TEXT(I598*I$1,\"# ###,-\")&\") \n\"&TEXT(J598*J$1,\"# ###,-Ft\"),TEXT(I598*I$1,\"# ###,-Ft  \")))","v":"40 090,-Ft "},"RC Termék",null,1906,null,40090]
[{"$f":"IF(L599=FALSE,0,COUNTIF(A$3:A598,\">0\")+1)","v":0},8951070034,"RC8115 B CLEANING SZÓRÓ PISZTOLY_808109",{"$f":"IF(H599=\"SP\",IF(J599>0,\"SP: \"&TEXT(J599*I$1,\"# ###,-Ft  \"),\"SP: \"&TEXT(I599*I$1,\"# ###,-Ft\")),IF(J599>0,\"*(\"&TEXT(I599*I$1,\"# ###,-\")&\") \n\"&TEXT(J599*J$1,\"# ###,-Ft\"),TEXT(I599*I$1,\"# ###,-Ft  \")))","v":"8 400,-Ft "},"RC Termék",null,810,null,8400]
[{"$f":"IF(L600=FALSE,0,COUNTIF(A$3:A599,\">0\")+1)","v":0},8951070004,"RC8116 FÚVATÓPISZTOLY_808116",{"$f":"IF(H600=\"SP\",IF(J600>0,\"SP: \"&TEXT(J600*I$1,\"# ###,-Ft  \"),\"SP: \"&TEXT(I600*I$1,\"# ###,-Ft\")),IF(J600>0,\"TOPS* \"&TEXT(J600*J$1,\"# ###,-Ft\"),TEXT(I600*I$1,\"# ###,-Ft  \")))","v":"TOPS* 14 830,-Ft"},"RC Termék",null,1020,null,17930,14830]
[{"$f":"IF(L601=FALSE,0,COUNTIF(A$3:A600,\">0\")+1)","v":0},8951011018,"RC8118 AEROSOL SZÓRÓ PISZTOLY_808119",{"$f":"IF(H601=\"SP\",IF(J601>0,\"SP: \"&TEXT(J601*I$1,\"# ###,-Ft  \"),\"SP: \"&TEXT(I601*I$1,\"# ###,-Ft\")),IF(J601>0,\"TOPS* \"&TEXT(J601*J$1,\"# ###,-Ft\"),TEXT(I601*I$1,\"# ###,-Ft  \")))","v":",-Ft "},"RC Termék",null,243]
[{"$f":"IF(L602=FALSE,0,COUNTIF(A$3:A601,\">0\")+1)","v":0},8951070014,"RC8120 FÚVATÓ PISZTOLY",{"$f":"IF(H602=\"SP\",IF(J602>0,\"SP: \"&TEXT(J602*I$1,\"# ###,-Ft  \"),\"SP: \"&TEXT(I602*I$1,\"# ###,-Ft\")),IF(J602>0,\"TOPS* \"&TEXT(J602*J$1,\"# ###,-Ft\"),TEXT(I602*I$1,\"# ###,-Ft  \")))","v":"4 480,-Ft "},"RC S.anyag",null,162,null,4480]
[{"$f":"IF(L603=FALSE,0,COUNTIF(A$3:A602,\">0\")+1)","v":0},8951070024,"RC8125 FÚVATÓ PISZTOLY",{"$f":"IF(H603=\"SP\",IF(J603>0,\"SP: \"&TEXT(J603*I$1,\"# ###,-Ft  \"),\"SP: \"&TEXT(I603*I$1,\"# ###,-Ft\")),IF(J603>0,\"TOPS* \"&TEXT(J603*J$1,\"# ###,-Ft\"),TEXT(I603*I$1,\"# ###,-Ft  \")))","v":"3 640,-Ft "},"RC S.anyag",null,130,null,3640]
[{"$f":"IF(L604=FALSE,0,COUNTIF(A$3:A603,\">0\")+1)","v":0},8951000059,"RC8132 AIR ZSIRZÓ PISZTOLY SINGLE STROKE",{"$f":"IF(H604=\"SP\",IF(J604>0,\"SP: \"&TEXT(J604*I$1,\"# ###,-Ft  \"),\"SP: \"&TEXT(I604*I$1,\"# ###,-Ft\")),IF(J604>0,\"TOPS* \"&TEXT(J604*J$1,\"# ###,-Ft\"),TEXT(I604*I$1,\"# ###,-Ft  \")))","v":"TOPS* 11 980,-Ft"},"RC Termék",null,2044,null,14010,11980]
[{"$f":"IF(L605=FALSE,0,COUNTIF(A$3:A604,\">0\")+1)","v":0},8951070070,"RC8135 ZSIRZÓ PISZTOLY_808135",{"$f":"IF(H605=\"SP\",IF(J605>0,\"SP: \"&TEXT(J605*I$1,\"# ###,-Ft  \"),\"SP: \"&TEXT(I605*I$1,\"# ###,-Ft\")),IF(J605>0,\"*(\"&TEXT(I605*I$1,\"# ###,-\")&\") \n\"&TEXT(J605*J$1,\"# ###,-Ft\"),TEXT(I605*I$1,\"# ###,-Ft  \")))","v":"73 900,-Ft "},"RC Termék",null,1954,null,73900]
[{"$f":"IF(L606=FALSE,0,COUNTIF(A$3:A605,\">0\")+1)","v":0},8951070090,"RC8141 ZSIRZÓ PISZTOLY_808141",{"$f":"IF(H606=\"SP\",IF(J606>0,\"SP: \"&TEXT(J606*I$1,\"# ###,-Ft  \"),\"SP: \"&TEXT(I606*I$1,\"# ###,-Ft\")),IF(J606>0,\"TOPS* \"&TEXT(J606*J$1,\"# ###,-Ft\"),TEXT(I606*I$1,\"# ###,-Ft  \")))","v":"TOPS* 35 130,-Ft"},"RC Termék",null,1700,null,41480,35130]
[{"$f":"IF(L607=FALSE,0,COUNTIF(A$3:A606,\">0\")+1)","v":0},8951000060,"RC8142 AIR ZSIRZÓ PISZTOLY CONTINUOUS","Kifutó, érdeklődj!","RC Termék",null,2044]
[{"$f":"IF(L608=FALSE,0,COUNTIF(A$3:A607,\">0\")+1)","v":0},8955000026,"RC8240 FÚVATÓPISZTOLY STANDARD",{"$f":"IF(H608=\"SP\",IF(J608>0,\"SP: \"&TEXT(J608*I$1,\"# ###,-Ft  \"),\"SP: \"&TEXT(I608*I$1,\"# ###,-Ft\")),IF(J608>0,\"TOPS* \"&TEXT(J608*J$1,\"# ###,-Ft\"),TEXT(I608*I$1,\"# ###,-Ft  \")))","v":"TOPS* 3 420,-Ft"},"RC S.anyag",null,172,null,4760,3420]
[{"$f":"IF(L609=FALSE,0,COUNTIF(A$3:A608,\">0\")+1)","v":0},8955000013,"RC8240 PROMO FÚVATÓ PISZTOLY DISPENSER 15 PC",{"$f":"IF(H609=\"SP\",IF(J609>0,\"SP: \"&TEXT(J609*I$1,\"# ###,-Ft  \"),\"SP: \"&TEXT(I609*I$1,\"# ###,-Ft\")),IF(J609>0,\"*(\"&TEXT(I609*I$1,\"# ###,-\")&\") \n\"&TEXT(J609*J$1,\"# ###,-Ft\"),TEXT(I609*I$1,\"# ###,-Ft  \")))","v":"69 700,-Ft "},"RC S.anyag",null,0,null,69700]
[{"$f":"IF(L610=FALSE,0,COUNTIF(A$3:A609,\">0\")+1)","v":0},8955000009,"RC8240S FÚVATÓPISZTOLY WITH SILENCER",{"$f":"IF(H610=\"SP\",IF(J610>0,\"SP: \"&TEXT(J610*I$1,\"# ###,-Ft  \"),\"SP: \"&TEXT(I610*I$1,\"# ###,-Ft\")),IF(J610>0,\"TOPS* \"&TEXT(J610*J$1,\"# ###,-Ft\"),TEXT(I610*I$1,\"# ###,-Ft  \")))","v":"TOPS* 3 990,-Ft"},"RC S.anyag",null,0,null,6440,3990]
[{"$f":"IF(L611=FALSE,0,COUNTIF(A$3:A610,\">0\")+1)","v":0},8955000010,"RC8241 FÚVATÓPISZTOLY EXTENDED STEEL",{"$f":"IF(H611=\"SP\",IF(J611>0,\"SP: \"&TEXT(J611*I$1,\"# ###,-Ft  \"),\"SP: \"&TEXT(I611*I$1,\"# ###,-Ft\")),IF(J611>0,\"TOPS* \"&TEXT(J611*J$1,\"# ###,-Ft\"),TEXT(I611*I$1,\"# ###,-Ft  \")))","v":"TOPS* 3 990,-Ft"},"RC S.anyag",null,0,null,5880,3990]
[{"$f":"IF(L612=FALSE,0,COUNTIF(A$3:A611,\">0\")+1)","v":0},8955000011,"RC8241S FÚVATÓPISZTOLY EXT STEEL w SILENCER",{"$f":"IF(H612=\"SP\",IF(J612>0,\"SP: \"&TEXT(J612*I$1,\"# ###,-Ft  \"),\"SP: \"&TEXT(I612*I$1,\"# ###,-Ft\")),IF(J612>0,\"TOPS* \"&TEXT(J612*J$1,\"# ###,-Ft\"),TEXT(I612*I$1,\"# ###,-Ft  \")))","v":"TOPS* 5 130,-Ft"},"RC S.anyag",null,0,null,7280,5130]
[{"$f":"IF(L613=FALSE,0,COUNTIF(A$3:A612,\">0\")+1)","v":0},8951077560,"RC9026 CORDLESS ÜTVE CSAVAROZÓ 1/2\" KIT",{"$f":"IF(H613=\"SP\",IF(J613>0,\"SP: \"&TEXT(J613*I$1,\"# ###,-Ft  \"),\"SP: \"&TEXT(I613*I$1,\"# ###,-Ft\")),IF(J613>0,\"*(\"&TEXT(I613*I$1,\"# ###,-\")&\") \n\"&TEXT(J613*J$1,\"# ###,-Ft\"),TEXT(I613*I$1,\"# ###,-Ft  \")))","v":",-Ft "},"RC Termék",null,5420]
[{"$f":"IF(L614=FALSE,0,COUNTIF(A$3:A613,\">0\")+1)","v":0},8951011953,"RC92 LAPOS VÉSŐ",{"$f":"IF(H614=\"SP\",IF(J614>0,\"SP: \"&TEXT(J614*I$1,\"# ###,-Ft  \"),\"SP: \"&TEXT(I614*I$1,\"# ###,-Ft\")),IF(J614>0,\"TOPS* \"&TEXT(J614*J$1,\"# ###,-Ft\"),TEXT(I614*I$1,\"# ###,-Ft  \")))","v":"TOPS* 6 840,-Ft"},"RC S.anyag",null,552,null,11770,6840]
[{"$f":"IF(L615=FALSE,0,COUNTIF(A$3:A614,\">0\")+1)","v":0},8951011954,"RC93 HEGYES-VÉSŐ",{"$f":"IF(H615=\"SP\",IF(J615>0,\"SP: \"&TEXT(J615*I$1,\"# ###,-Ft  \"),\"SP: \"&TEXT(I615*I$1,\"# ###,-Ft\")),IF(J615>0,\"TOPS* \"&TEXT(J615*J$1,\"# ###,-Ft\"),TEXT(I615*I$1,\"# ###,-Ft  \")))","v":"TOPS* 6 840,-Ft"},"RC S.anyag",null,551,null,11770,6840]
[{"$f":"IF(L616=FALSE,0,COUNTIF(A$3:A615,\">0\")+1)","v":0},8951011955,"RC94 SAFETY RÖGZÍTŐ",{"$f":"IF(H616=\"SP\",IF(J616>0,\"SP: \"&TEXT(J616*I$1,\"# ###,-Ft  \"),\"SP: \"&TEXT(I616*I$1,\"# ###,-Ft\")),IF(J616>0,\"*(\"&TEXT(I616*I$1,\"# ###,-\")&\") \n\"&TEXT(J616*J$1,\"# ###,-Ft\"),TEXT(I616*I$1,\"# ###,-Ft  \")))","v":"58 900,-Ft "},"RC S.anyag",null,834,null,58900]
[{"$f":"IF(L617=FALSE,0,COUNTIF(A$3:A616,\">0\")+1)","v":0},8951011956,"RC95 SPRING",{"$f":"IF(H617=\"SP\",IF(J617>0,\"SP: \"&TEXT(J617*I$1,\"# ###,-Ft  \"),\"SP: \"&TEXT(I617*I$1,\"# ###,-Ft\")),IF(J617>0,\"*(\"&TEXT(I617*I$1,\"# ###,-\")&\") \n\"&TEXT(J617*J$1,\"# ###,-Ft\"),TEXT(I617*I$1,\"# ###,-Ft  \")))","v":"1 960,-Ft "},"RC S.anyag",null,15,null,1960]
[{"$f":"IF(L618=FALSE,0,COUNTIF(A$3:A617,\">0\")+1)","v":0},8951011021,"RDP10 TYRE GAUGE 10 BAR DIGITAL",{"$f":"IF(H618=\"SP\",IF(J618>0,\"SP: \"&TEXT(J618*I$1,\"# ###,-Ft  \"),\"SP: \"&TEXT(I618*I$1,\"# ###,-Ft\")),IF(J618>0,\"*(\"&TEXT(I618*I$1,\"# ###,-\")&\") \n\"&TEXT(J618*J$1,\"# ###,-Ft\"),TEXT(I618*I$1,\"# ###,-Ft  \")))","v":"7 000,-Ft "},"RC S.anyag",null,67,null,7000]
[{"$f":"IF(L619=FALSE,0,COUNTIF(A$3:A618,\">0\")+1)","v":0},8951011019,"RF02G ABRONCSTÖLTŐ 63MM CALIBRATED_808150",{"$f":"IF(H619=\"SP\",IF(J619>0,\"SP: \"&TEXT(J619*I$1,\"# ###,-Ft  \"),\"SP: \"&TEXT(I619*I$1,\"# ###,-Ft\")),IF(J619>0,\"TOPS* \"&TEXT(J619*J$1,\"# ###,-Ft\"),TEXT(I619*I$1,\"# ###,-Ft  \")))","v":"TOPS* 15 970,-Ft"},"RC Termék",null,503,null,24090,15970]
[{"$f":"IF(L620=FALSE,0,COUNTIF(A$3:A619,\">0\")+1)","v":0},8951012151,"RFP01G-FV CONNECTOR RFP01G/RF02G","Kifutó, érdeklődj!","RC S.anyag","Kifutó, érdeklődj!",25]
[{"$f":"IF(L621=FALSE,0,COUNTIF(A$3:A620,\">0\")+1)","v":0},8951011020,"RFP03DG ABRONCSTÖLTŐ 80MM DIGITAL_808152",{"$f":"IF(H621=\"SP\",IF(J621>0,\"SP: \"&TEXT(J621*I$1,\"# ###,-Ft  \"),\"SP: \"&TEXT(I621*I$1,\"# ###,-Ft\")),IF(J621>0,\"*(\"&TEXT(I621*I$1,\"# ###,-\")&\") \n\"&TEXT(J621*J$1,\"# ###,-Ft\"),TEXT(I621*I$1,\"# ###,-Ft  \")))","v":",-Ft "},"RC Termék",null,1008]
[{"$f":"IF(L622=FALSE,0,COUNTIF(A$3:A621,\">0\")+1)","v":0},8951012306,"RFP04G ABRONCSTÖLTŐ CALIBRATED_808153",{"$f":"IF(H622=\"SP\",IF(J622>0,\"SP: \"&TEXT(J622*I$1,\"# ###,-Ft  \"),\"SP: \"&TEXT(I622*I$1,\"# ###,-Ft\")),IF(J622>0,\"TOPS* \"&TEXT(J622*J$1,\"# ###,-Ft\"),TEXT(I622*I$1,\"# ###,-Ft  \")))","v":"TOPS* 36 260,-Ft"},"RC Termék",null,790,null,58900,36260]
[{"$f":"IF(L623=FALSE,0,COUNTIF(A$3:A622,\">0\")+1)","v":0},"8951012306H","RFP04G ABRONCSTÖLTŐ OMH hitelesítéssel",{"$f":"IF(H623=\"SP\",IF(J623>0,\"SP: \"&TEXT(J623*I$1,\"# ###,-Ft  \"),\"SP: \"&TEXT(I623*I$1,\"# ###,-Ft\")),IF(J623>0,\"TOPS* \"&TEXT(J623*J$1,\"# ###,-Ft\"),TEXT(I623*I$1,\"# ###,-Ft  \")))","v":"TOPS* 39 000,-Ft"},"RC Termék",null,null,null,null,39000]
[{"$f":"IF(L624=FALSE,0,COUNTIF(A$3:A623,\">0\")+1)","v":0},8951012296,"RFP04GHG TÖMLŐ W. FITTINGS RFP04G","9 810,-Ft ","RC S.anyag",null,250,null,9810]
[{"$f":"IF(L625=FALSE,0,COUNTIF(A$3:A624,\">0\")+1)","v":0},8951089045,"RG600 HYDR. VEHICLE POSITIONER_810264",{"$f":"IF(H625=\"SP\",IF(J625>0,\"SP: \"&TEXT(J625*I$1,\"# ###,-Ft  \"),\"SP: \"&TEXT(I625*I$1,\"# ###,-Ft\")),IF(J625>0,\"TOPS* \"&TEXT(J625*J$1,\"# ###,-Ft\"),TEXT(I625*I$1,\"# ###,-Ft  \")))","v":"TOPS* 55 700,-Ft"},"RC Termék",null,20170,null,95400,55700]
[{"$f":"IF(L626=FALSE,0,COUNTIF(A$3:A625,\">0\")+1)","v":0},8951089054,"RGS100 EGYENESENER, HYDR. 10 TO_811049",{"$f":"IF(H626=\"C\",IF(J626>0,\"C #: \"&TEXT(J626*I$1,\"# ###,-Ft  \"),\"C #: \"&TEXT(I626*I$1,\"# ###,-Ft\")),IF(J626>0,\"TOPS* \"&TEXT(J626*J$1,\"# ###,-Ft\"),TEXT(I626*I$1,\"# ###,-Ft  \")))","v":"C #: 572 000,-Ft "},"RC Termék",null,200000,"C",680000,572000]
[{"$f":"IF(L627=FALSE,0,COUNTIF(A$3:A626,\">0\")+1)","v":0},8951011082,"RGS100H HOOK FOR RGS 100","6 440,-Ft ","RC S.anyag",null,494,null,6440]
[{"$f":"IF(L628=FALSE,0,COUNTIF(A$3:A627,\">0\")+1)","v":0},8951011083,"RGS100K CHAIN FOR RGS 100","34 520,-Ft ","RC S.anyag",null,4256,null,34520]
[{"$f":"IF(L629=FALSE,0,COUNTIF(A$3:A628,\">0\")+1)","v":0},8951011081,"RGS100QU CROSS CSŐ FOR RGS 100","81 900,-Ft ","RC S.anyag",null,23040,null,81900]
[{"$f":"IF(L630=FALSE,0,COUNTIF(A$3:A629,\">0\")+1)","v":0},8951011080,"RGS100UB TÁMASZTÓBAK FOR RGS100","19 050,-Ft ","RC S.anyag",null,2845,null,19050]
[{"$f":"IF(L631=FALSE,0,COUNTIF(A$3:A630,\">0\")+1)","v":0},8951011084,"RGS100UK CSIPESZ COMPL. F. RGS 100","22 410,-Ft ","RC S.anyag",null,5066,null,22410]
[{"$f":"IF(L632=FALSE,0,COUNTIF(A$3:A631,\">0\")+1)","v":0},8951082025,"RH135 HIDRAULIKUS EMELŐ ALU 1,3 T_810151",{"$f":"IF(H632=\"SP\",IF(J632>0,\"SP: \"&TEXT(J632*I$1,\"# ###,-Ft  \"),\"SP: \"&TEXT(I632*I$1,\"# ###,-Ft\")),IF(J632>0,\"TOPS* \"&TEXT(J632*J$1,\"# ###,-Ft\"),TEXT(I632*I$1,\"# ###,-Ft  \")))","v":"TOPS* 61 900,-Ft"},"RC Termék",null,12000,null,106200,61900]
[{"$f":"IF(L633=FALSE,0,COUNTIF(A$3:A632,\">0\")+1)","v":0},8951000051,"RH151 1,5T HOSSZÚ AUTÓ EMELŐ",{"$f":"IF(H633=\"SP\",IF(J633>0,\"SP: \"&TEXT(J633*I$1,\"# ###,-Ft  \"),\"SP: \"&TEXT(I633*I$1,\"# ###,-Ft\")),IF(J633>0,\"TOPS* \"&TEXT(J633*J$1,\"# ###,-Ft\"),TEXT(I633*I$1,\"# ###,-Ft  \")))","v":"TOPS* 100 200,-Ft"},"RC Termék",null,54000,null,172900,100200]
[{"$f":"IF(L634=FALSE,0,COUNTIF(A$3:A633,\">0\")+1)","v":0},8951000003,"RH201 2T ALUMINIUM AUTÓ EMELŐ",{"$f":"IF(H634=\"SP\",IF(J634>0,\"SP: \"&TEXT(J634*I$1,\"# ###,-Ft  \"),\"SP: \"&TEXT(I634*I$1,\"# ###,-Ft\")),IF(J634>0,\"TOPS* \"&TEXT(J634*J$1,\"# ###,-Ft\"),TEXT(I634*I$1,\"# ###,-Ft  \")))","v":"TOPS* 109 100,-Ft"},"RC Termék",null,22000,null,166900,109100]
[{"$f":"IF(L635=FALSE,0,COUNTIF(A$3:A634,\">0\")+1)","v":0},8951082026,"RH215 AUTÓ EMELŐ 2T LOW PROFILE",{"$f":"IF(H635=\"SP\",IF(J635>0,\"SP: \"&TEXT(J635*I$1,\"# ###,-Ft  \"),\"SP: \"&TEXT(I635*I$1,\"# ###,-Ft\")),IF(J635>0,\"TOPS* \"&TEXT(J635*J$1,\"# ###,-Ft\"),TEXT(I635*I$1,\"# ###,-Ft  \")))","v":"TOPS* 79 900,-Ft"},"RC Termék",null,40000,null,127300,79900]
[{"$f":"IF(L636=FALSE,0,COUNTIF(A$3:A635,\">0\")+1)","v":0},8951082020,"RH225E HIDRAULIKUS FOLDING EMELŐ_810238","Kifutó, érdeklődj!","RC Termék",null,37000]
[{"$f":"IF(L637=FALSE,0,COUNTIF(A$3:A636,\">0\")+1)","v":0},8951082024,"RH251 AUTÓ EMELŐ 2 TO. HIGH_810336",{"$f":"IF(H637=\"SP\",IF(J637>0,\"SP: \"&TEXT(J637*I$1,\"# ###,-Ft  \"),\"SP: \"&TEXT(I637*I$1,\"# ###,-Ft\")),IF(J637>0,\"TOPS* \"&TEXT(J637*J$1,\"# ###,-Ft\"),TEXT(I637*I$1,\"# ###,-Ft  \")))","v":"TOPS* 129 700,-Ft"},"RC Termék",null,60000,null,195500,129700]
[{"$f":"IF(L638=FALSE,0,COUNTIF(A$3:A637,\">0\")+1)","v":0},8951082031,"RH290A HIDRAULIKUS FOLDING EMELŐ_810239","TOPS* 60 800,-Ft","RC Termék",null,38200,null,104600,60800]
[{"$f":"IF(L639=FALSE,0,COUNTIF(A$3:A638,\">0\")+1)","v":0},8951082032,"RH301 AUTÓ EMELŐ 3 TO._810334","TOPS* 239 400,-Ft","RC Termék",null,68000,null,286800,239400]
[{"$f":"IF(L640=FALSE,0,COUNTIF(A$3:A639,\">0\")+1)","v":0},8951082100,"RH310 AUTÓ EMELŐ 10 T BLUE / B_810232",{"$f":"IF(H640=\"C\",IF(J640>0,\"C #: \"&TEXT(J640*I$1,\"# ###,-Ft  \"),\"C #: \"&TEXT(I640*I$1,\"# ###,-Ft\")),IF(J640>0,\"TOPS* \"&TEXT(J640*J$1,\"# ###,-Ft\"),TEXT(I640*I$1,\"# ###,-Ft  \")))","v":"C #: 680 000,-Ft "},"RC Termék",null,138400,"C",798000,680000]
[{"$f":"IF(L641=FALSE,0,COUNTIF(A$3:A640,\">0\")+1)","v":0},8951000063,"RH315 3T TROLLEY JACK","TOPS* 147 600,-Ft","RC Termék",null,47800,null,177300,147600]
[{"$f":"IF(L642=FALSE,0,COUNTIF(A$3:A641,\">0\")+1)","v":0},8951082050,"RH501 AUTÓ EMELŐ 5 TO._810335","TOPS* 329 000,-Ft","RC Termék",null,104000,null,395000,329000]
[{"$f":"IF(L643=FALSE,0,COUNTIF(A$3:A642,\">0\")+1)","v":0},8951011033,"RHA GUMI COVER","Kifutó, érdeklődj!","RC S.anyag","Kifutó, érdeklődj!",320]
[{"$f":"IF(L644=FALSE,0,COUNTIF(A$3:A643,\">0\")+1)","v":0},8951089091,"RHW1 KERÉK DOLLY, MANUAL_810351",{"$f":"IF(H644=\"SP\",IF(J644>0,\"SP: \"&TEXT(J644*I$1,\"# ###,-Ft  \"),\"SP: \"&TEXT(I644*I$1,\"# ###,-Ft\")),IF(J644>0,\"TOPS* \"&TEXT(J644*J$1,\"# ###,-Ft\"),TEXT(I644*I$1,\"# ###,-Ft  \")))","v":"TOPS* 58 500,-Ft"},"RC Termék",null,15100,null,73300,58500]
[{"$f":"IF(L645=FALSE,0,COUNTIF(A$3:A644,\">0\")+1)","v":0},8951089046,"RHW702 KERÉK DOLLY 700KG_810342","Kifutó, érdeklődj!","RC Termék","Kifutó, érdeklődj!",135000]
[{"$f":"IF(L646=FALSE,0,COUNTIF(A$3:A645,\">0\")+1)","v":0},8951000146,"RS2116 1/4  SET",{"$f":"IF(H646=\"SP\",IF(J646>0,\"SP: \"&TEXT(J646*I$1,\"# ###,-Ft  \"),\"SP: \"&TEXT(I646*I$1,\"# ###,-Ft\")),IF(J646>0,\"*(\"&TEXT(I646*I$1,\"# ###,-\")&\") \n\"&TEXT(J646*J$1,\"# ###,-Ft\"),TEXT(I646*I$1,\"# ###,-Ft  \")))","v":"9 250,-Ft "},"RC Termék",null,null,null,9250]
[{"$f":"IF(L647=FALSE,0,COUNTIF(A$3:A646,\">0\")+1)","v":0},8951012354,"RS3113 3/8 DR 13 PC MET STD SET",{"$f":"IF(H647=\"SP\",IF(J647>0,\"SP: \"&TEXT(J647*I$1,\"# ###,-Ft  \"),\"SP: \"&TEXT(I647*I$1,\"# ###,-Ft\")),IF(J647>0,\"TOPS* \"&TEXT(J647*J$1,\"# ###,-Ft\"),TEXT(I647*I$1,\"# ###,-Ft  \")))","v":"TOPS* 9 120,-Ft"},"RC S.anyag",null,900,null,12610,9120]
[{"$f":"IF(L648=FALSE,0,COUNTIF(A$3:A647,\">0\")+1)","v":0},8951012355,"RS3113D 3/8 DR 13 PC MET HOSSZÚ SET","Kifutó, érdeklődj!","RC S.anyag",null,1880]
[{"$f":"IF(L649=FALSE,0,COUNTIF(A$3:A648,\">0\")+1)","v":0},8951012356,"RS4114 1/2 DR 14 PC MET STD SET",{"$f":"IF(H649=\"SP\",IF(J649>0,\"SP: \"&TEXT(J649*I$1,\"# ###,-Ft  \"),\"SP: \"&TEXT(I649*I$1,\"# ###,-Ft\")),IF(J649>0,\"TOPS* \"&TEXT(J649*J$1,\"# ###,-Ft\"),TEXT(I649*I$1,\"# ###,-Ft  \")))","v":"TOPS* ,-Ft"},"RC S.anyag",null,1910,null,22130,false]
[{"$f":"IF(L650=FALSE,0,COUNTIF(A$3:A649,\">0\")+1)","v":0},8951012357,"RS4114D 1/2 DR 14 PC MET HOSSZÚ SET",{"$f":"IF(H650=\"SP\",IF(J650>0,\"SP: \"&TEXT(J650*I$1,\"# ###,-Ft  \"),\"SP: \"&TEXT(I650*I$1,\"# ###,-Ft\")),IF(J650>0,\"TOPS* \"&TEXT(J650*J$1,\"# ###,-Ft\"),TEXT(I650*I$1,\"# ###,-Ft  \")))","v":"TOPS* 25 090,-Ft"},"RC S.anyag",null,4143,null,33130,25090]
[{"$f":"IF(L651=FALSE,0,COUNTIF(A$3:A650,\">0\")+1)","v":0},8951012353,"RS413DTW 1/2 DR 3 PC MET HOSSZÚ TW SET",{"$f":"IF(H651=\"SP\",IF(J651>0,\"SP: \"&TEXT(J651*I$1,\"# ###,-Ft  \"),\"SP: \"&TEXT(I651*I$1,\"# ###,-Ft\")),IF(J651>0,\"*(\"&TEXT(I651*I$1,\"# ###,-\")&\") \n\"&TEXT(J651*J$1,\"# ###,-Ft\"),TEXT(I651*I$1,\"# ###,-Ft  \")))","v":"17 090,-Ft "},"RC S.anyag",null,688,null,17090]
[{"$f":"IF(L652=FALSE,0,COUNTIF(A$3:A651,\">0\")+1)","v":0},8955000054,"RS413LWP New extended extra long sockets",{"$f":"IF(H652=\"SP\",IF(J652>0,\"SP: \"&TEXT(J652*I$1,\"# ###,-Ft  \"),\"SP: \"&TEXT(I652*I$1,\"# ###,-Ft\")),IF(J652>0,\"TOPS* \"&TEXT(J652*J$1,\"# ###,-Ft\"),TEXT(I652*I$1,\"# ###,-Ft  \")))","v":"TOPS* 31 160,-Ft"},"RC S.anyag",null,1156,null,49840,31160]
[{"$f":"IF(L653=FALSE,0,COUNTIF(A$3:A652,\">0\")+1)","v":0},8951012362,"RS413WP 1/2 DR 3 PC MET KERÉK PROT SET",{"$f":"IF(H653=\"SP\",IF(J653>0,\"SP: \"&TEXT(J653*I$1,\"# ###,-Ft  \"),\"SP: \"&TEXT(I653*I$1,\"# ###,-Ft\")),IF(J653>0,\"TOPS* \"&TEXT(J653*J$1,\"# ###,-Ft\"),TEXT(I653*I$1,\"# ###,-Ft  \")))","v":"TOPS* 8 550,-Ft"},"RC S.anyag",null,831,null,11770,8550]
[{"$f":"IF(L654=FALSE,0,COUNTIF(A$3:A653,\">0\")+1)","v":0},8955000025,"RS413WP 10PC W/COUNTER BOX 1 PC RC BRAND",{"$f":"IF(H654=\"SP\",IF(J654>0,\"SP: \"&TEXT(J654*I$1,\"# ###,-Ft  \"),\"SP: \"&TEXT(I654*I$1,\"# ###,-Ft\")),IF(J654>0,\"*(\"&TEXT(I654*I$1,\"# ###,-\")&\") \n\"&TEXT(J654*J$1,\"# ###,-Ft\"),TEXT(I654*I$1,\"# ###,-Ft  \")))","v":"115 200,-Ft "},"RC S.anyag",null,8833,null,115200]
[{"$f":"IF(L655=FALSE,0,COUNTIF(A$3:A654,\">0\")+1)","v":0},8951012363,"RS414WP 1/2 DR 4 PC MET KERÉK PROT SET",{"$f":"IF(H655=\"SP\",IF(J655>0,\"SP: \"&TEXT(J655*I$1,\"# ###,-Ft  \"),\"SP: \"&TEXT(I655*I$1,\"# ###,-Ft\")),IF(J655>0,\"TOPS* \"&TEXT(J655*J$1,\"# ###,-Ft\"),TEXT(I655*I$1,\"# ###,-Ft  \")))","v":"TOPS* 12 550,-Ft"},"RC S.anyag",null,1087,null,15410,12550]
[{"$f":"IF(L656=FALSE,0,COUNTIF(A$3:A655,\">0\")+1)","v":0},8951012378,"RS435B 1/2 DR 5 PC NM TRQ LTD EXT BAR ST",{"$f":"IF(H656=\"SP\",IF(J656>0,\"SP: \"&TEXT(J656*I$1,\"# ###,-Ft  \"),\"SP: \"&TEXT(I656*I$1,\"# ###,-Ft\")),IF(J656>0,\"*(\"&TEXT(I656*I$1,\"# ###,-\")&\") \n\"&TEXT(J656*J$1,\"# ###,-Ft\"),TEXT(I656*I$1,\"# ###,-Ft  \")))","v":"38 140,-Ft "},"RC S.anyag",null,1640,null,38140]
[{"$f":"IF(L657=FALSE,0,COUNTIF(A$3:A656,\">0\")+1)","v":0},8951012376,"RS438A 1/2 DR  8PC ALLEN MET SET",{"$f":"IF(H657=\"SP\",IF(J657>0,\"SP: \"&TEXT(J657*I$1,\"# ###,-Ft  \"),\"SP: \"&TEXT(I657*I$1,\"# ###,-Ft\")),IF(J657>0,\"TOPS* \"&TEXT(J657*J$1,\"# ###,-Ft\"),TEXT(I657*I$1,\"# ###,-Ft  \")))","v":"TOPS* 17 110,-Ft"},"RC S.anyag",null,1275,null,22410,17110]
[{"$f":"IF(L658=FALSE,0,COUNTIF(A$3:A657,\">0\")+1)","v":0},8951012377,"RS438T 1/2 DR 8 PC STAR TIP SET","TOPS* 16 540,-Ft","RC S.anyag",null,940,null,21570,16540]
[{"$f":"IF(L659=FALSE,0,COUNTIF(A$3:A658,\">0\")+1)","v":0},8951012358,"RS618 3/4 DR 8 PC MET STD SET","TOPS* 27 760,-Ft","RC S.anyag",null,4166,null,37030,27760]
[{"$f":"IF(L660=FALSE,0,COUNTIF(A$3:A659,\">0\")+1)","v":0},8951012359,"RS618D 3/4 DR 8 PC MET HOSSZÚ SET","TOPS* 37 960,-Ft","RC S.anyag",null,5752,null,55900,37960]
[{"$f":"IF(L661=FALSE,0,COUNTIF(A$3:A660,\">0\")+1)","v":0},8951012361,"RS814D 1 DR 4 PC MET HOSSZÚ SET","TOPS* 37 960,-Ft","RC S.anyag",null,4225,null,49840,37960]
[{"$f":"IF(L662=FALSE,0,COUNTIF(A$3:A661,\">0\")+1)","v":0},8951012360,"RS818 1 DR 8 PC MET STD SET","TOPS* 49 290,-Ft","RC S.anyag",null,5805,null,64700,49290]
[{"$f":"IF(L663=FALSE,0,COUNTIF(A$3:A662,\">0\")+1)","v":0},8951089021,"RSF01 FOLDING CREEPER_810400","TOPS* 28 330,-Ft","RC Termék",null,14000,null,48720,28330]
[{"$f":"IF(L664=FALSE,0,COUNTIF(A$3:A663,\">0\")+1)","v":0},8951089020,"RSF02 MÜANYAG CREEPER_810399",{"$f":"IF(H664=\"SP\",IF(J664>0,\"SP: \"&TEXT(J664*I$1,\"# ###,-Ft  \"),\"SP: \"&TEXT(I664*I$1,\"# ###,-Ft\")),IF(J664>0,\"*(\"&TEXT(I664*I$1,\"# ###,-\")&\") \n\"&TEXT(J664*J$1,\"# ###,-Ft\"),TEXT(I664*I$1,\"# ###,-Ft  \")))","v":"30 900,-Ft "},"RC Termék",null,5900,null,30900]
[{"$f":"IF(L665=FALSE,0,COUNTIF(A$3:A664,\">0\")+1)","v":0},8951010349,"S63PB - WM NEUTRAL -","Kifutó, érdeklődj!","RC S.anyag",null,22]
[{"$f":"IF(L666=FALSE,0,COUNTIF(A$3:A665,\">0\")+1)","v":0},8951010247,"S63PB FŰRÉSZPENGE S 63","Kifutó, érdeklődj!","RC S.anyag",null,26]
[{"$f":"IF(L667=FALSE,0,COUNTIF(A$3:A666,\">0\")+1)","v":0},8951010350,"S80PB - WM NEUTRAL -_87668005",{"$f":"IF(H667=\"SP\",IF(J667>0,\"SP: \"&TEXT(J667*I$1,\"# ###,-Ft  \"),\"SP: \"&TEXT(I667*I$1,\"# ###,-Ft\")),IF(J667>0,\"*(\"&TEXT(I667*I$1,\"# ###,-\")&\") \n\"&TEXT(J667*J$1,\"# ###,-Ft\"),TEXT(I667*I$1,\"# ###,-Ft  \")))","v":"14 850,-Ft "},"RC S.anyag",null,30,null,14850]
[{"$f":"IF(L668=FALSE,0,COUNTIF(A$3:A667,\">0\")+1)","v":0},8951010252,"S80PB FŰRÉSZPENGE S 80","Kifutó, érdeklődj!","RC S.anyag",null,29]
[{"$f":"IF(L669=FALSE,0,COUNTIF(A$3:A668,\">0\")+1)","v":0},8951089058,"SC3 GEARBOX-SPIDER_810013","Kifutó, érdeklődj!","RC Termék","Kifutó, érdeklődj!",8000]
[{"$f":"IF(L670=FALSE,0,COUNTIF(A$3:A669,\">0\")+1)","v":0},8951011475,"SD6700 WRENCH+FUVÓKA SET 6700","Kifutó, érdeklődj!","RC S.anyag",null,14]
[{"$f":"IF(L671=FALSE,0,COUNTIF(A$3:A670,\">0\")+1)","v":0},8951011002,"SFA-LG 9 KESZTYŰ RC SPLITFIT 143-9","Kifutó, érdeklődj!","RC S.anyag",null,139,null,14850]
[{"$f":"IF(L672=FALSE,0,COUNTIF(A$3:A671,\">0\")+1)","v":0},8951011003,"SFA-MD 8,5 KESZTYŰ SPLITFIT 143-8,5","Kifutó, érdeklődj!","RC S.anyag",null,128,null,14850]
[{"$f":"IF(L673=FALSE,0,COUNTIF(A$3:A672,\">0\")+1)","v":0},8951011004,"SFA-SM 8 KESZTYŰ RC SPLITFIT 143-8","Kifutó, érdeklődj!","RC S.anyag",null,123,null,14850]
[{"$f":"IF(L674=FALSE,0,COUNTIF(A$3:A673,\">0\")+1)","v":0},8951011001,"SFA-XL 9,5 KESZTYŰ SPLITFIT 143-9,5","Kifutó, érdeklődj!","RC S.anyag",null,143,null,14850]
[{"$f":"IF(L675=FALSE,0,COUNTIF(A$3:A674,\">0\")+1)","v":0},8951011000,"SFA-XXL KESZTYŰ SPLITFIT 143-10","Kifutó, érdeklődj!","RC S.anyag",null,151,null,14850]
[{"$f":"IF(L676=FALSE,0,COUNTIF(A$3:A675,\">0\")+1)","v":0},8951089073,"SIH SAFETY HOOK FOR MGM1/3LSIK","Kifutó, érdeklődj!","RC S.anyag",null,89]
[{"$f":"IF(L677=FALSE,0,COUNTIF(A$3:A676,\">0\")+1)","v":0},8951089072,"SIK SAFETY CHAIN EN818T.2 / 1,4M",{"$f":"IF(H677=\"SP\",IF(J677>0,\"SP: \"&TEXT(J677*I$1,\"# ###,-Ft  \"),\"SP: \"&TEXT(I677*I$1,\"# ###,-Ft\")),IF(J677>0,\"*(\"&TEXT(I677*I$1,\"# ###,-\")&\") \n\"&TEXT(J677*J$1,\"# ###,-Ft\"),TEXT(I677*I$1,\"# ###,-Ft  \")))","v":",-Ft "},"RC S.anyag",null,1477]
[{"$f":"IF(L678=FALSE,0,COUNTIF(A$3:A677,\">0\")+1)","v":0},8951011726,"SK606 HÜVELY KUPLUNG 1/2\" BSP",{"$f":"IF(H678=\"SP\",IF(J678>0,\"SP: \"&TEXT(J678*I$1,\"# ###,-Ft  \"),\"SP: \"&TEXT(I678*I$1,\"# ###,-Ft\")),IF(J678>0,\"*(\"&TEXT(I678*I$1,\"# ###,-\")&\") \n\"&TEXT(J678*J$1,\"# ###,-Ft\"),TEXT(I678*I$1,\"# ###,-Ft  \")))","v":"9 810,-Ft "},"RC S.anyag",null,77,null,9810]
[{"$f":"IF(L679=FALSE,0,COUNTIF(A$3:A678,\">0\")+1)","v":0},8951011727,"SK607 TÖMLŐ STEM KUPLUNG F.6-7 MM",{"$f":"IF(H679=\"SP\",IF(J679>0,\"SP: \"&TEXT(J679*I$1,\"# ###,-Ft  \"),\"SP: \"&TEXT(I679*I$1,\"# ###,-Ft\")),IF(J679>0,\"*(\"&TEXT(I679*I$1,\"# ###,-\")&\") \n\"&TEXT(J679*J$1,\"# ###,-Ft\"),TEXT(I679*I$1,\"# ###,-Ft  \")))","v":"9 810,-Ft "},"RC S.anyag",null,60,null,9810]
[{"$f":"IF(L680=FALSE,0,COUNTIF(A$3:A679,\">0\")+1)","v":0},8951011728,"SK608 TÖMLŐ STEM KUPLUNG F. 8 MM",{"$f":"IF(H680=\"SP\",IF(J680>0,\"SP: \"&TEXT(J680*I$1,\"# ###,-Ft  \"),\"SP: \"&TEXT(I680*I$1,\"# ###,-Ft\")),IF(J680>0,\"*(\"&TEXT(I680*I$1,\"# ###,-\")&\") \n\"&TEXT(J680*J$1,\"# ###,-Ft\"),TEXT(I680*I$1,\"# ###,-Ft  \")))","v":"9 810,-Ft "},"RC S.anyag",null,60,null,9810]
[{"$f":"IF(L681=FALSE,0,COUNTIF(A$3:A680,\">0\")+1)","v":0},8951011729,"SK609 TÖMLŐ STEM KUPLUNG F.9-10 MM",{"$f":"IF(H681=\"SP\",IF(J681>0,\"SP: \"&TEXT(J681*I$1,\"# ###,-Ft  \"),\"SP: \"&TEXT(I681*I$1,\"# ###,-Ft\")),IF(J681>0,\"*(\"&TEXT(I681*I$1,\"# ###,-\")&\") \n\"&TEXT(J681*J$1,\"# ###,-Ft\"),TEXT(I681*I$1,\"# ###,-Ft  \")))","v":"9 810,-Ft "},"RC S.anyag",null,62,null,9810]
[{"$f":"IF(L682=FALSE,0,COUNTIF(A$3:A681,\">0\")+1)","v":0},8951011742,"SK703 DUGÓ KUPLUNG 1/2\" BSP",{"$f":"IF(H682=\"SP\",IF(J682>0,\"SP: \"&TEXT(J682*I$1,\"# ###,-Ft  \"),\"SP: \"&TEXT(I682*I$1,\"# ###,-Ft\")),IF(J682>0,\"*(\"&TEXT(I682*I$1,\"# ###,-\")&\") \n\"&TEXT(J682*J$1,\"# ###,-Ft\"),TEXT(I682*I$1,\"# ###,-Ft  \")))","v":"10 650,-Ft "},"RC S.anyag",null,115,null,10650]
[{"$f":"IF(L683=FALSE,0,COUNTIF(A$3:A682,\">0\")+1)","v":0},8951011743,"SK704 HÜVELY KUPLUNG 1/4\" BSP","8 400,-Ft ","RC S.anyag",null,72,null,8400]
[{"$f":"IF(L684=FALSE,0,COUNTIF(A$3:A683,\">0\")+1)","v":0},8951011744,"SK705 HÜVELY KUPLUNG 3/8\" BSP","10 650,-Ft ","RC S.anyag",null,66,null,10650]
[{"$f":"IF(L685=FALSE,0,COUNTIF(A$3:A684,\">0\")+1)","v":0},8951011745,"SK706 HÜVELY KUPLUNG 1/2\" BSP","10 650,-Ft ","RC S.anyag",null,87,null,10650]
[{"$f":"IF(L686=FALSE,0,COUNTIF(A$3:A685,\">0\")+1)","v":0},8951011746,"SK707 TÖMLŐ STEM KUPLUNG F.6-7 MM","10 650,-Ft ","RC S.anyag",null,75,null,10650]
[{"$f":"IF(L687=FALSE,0,COUNTIF(A$3:A686,\">0\")+1)","v":0},8951011747,"SK708 TÖMLŐ STEM KUPLUNG F. 8 MM","10 650,-Ft ","RC S.anyag",null,79,null,10650]
[{"$f":"IF(L688=FALSE,0,COUNTIF(A$3:A687,\">0\")+1)","v":0},8951011748,"SK709 TÖMLŐ STEM KUPLUNG F.9-10 MM","10 650,-Ft ","RC S.anyag",null,83,null,10650]
[{"$f":"IF(L689=FALSE,0,COUNTIF(A$3:A688,\">0\")+1)","v":0},8951011750,"SK713 TÖMLŐ STEM KUPLUNG 13 MM","10 650,-Ft ","RC S.anyag",null,93,null,10650]
[{"$f":"IF(L690=FALSE,0,COUNTIF(A$3:A689,\">0\")+1)","v":0},8951011751,"SK716 TÖMLŐ STEM DUGÓ 6-7 MM","1 680,-Ft ","RC S.anyag",null,27,null,1680]
[{"$f":"IF(L691=FALSE,0,COUNTIF(A$3:A690,\">0\")+1)","v":0},8951011752,"SK718 TÖMLŐ STEM DUGÓ 8 MM","1 680,-Ft ","RC S.anyag",null,16,null,1680]
[{"$f":"IF(L692=FALSE,0,COUNTIF(A$3:A691,\">0\")+1)","v":0},8951011753,"SK719 TÖMLŐ STEM DUGÓ 9 MM","1 680,-Ft ","RC S.anyag",null,17,null,1680]
[{"$f":"IF(L693=FALSE,0,COUNTIF(A$3:A692,\">0\")+1)","v":0},8951011754,"SK720 TÖMLŐ STEM DUGÓ 10 MM","1 680,-Ft ","RC S.anyag",null,14,null,1680]
[{"$f":"IF(L694=FALSE,0,COUNTIF(A$3:A693,\">0\")+1)","v":0},8951011756,"SK728 DUGÓ DUGÓ/TEFLON 1/4\" BSP","1 680,-Ft ","RC S.anyag",null,20,null,1680]
[{"$f":"IF(L695=FALSE,0,COUNTIF(A$3:A694,\">0\")+1)","v":0},8951011757,"SK729 DUGÓ DUGÓ/TEFLON 3/8\" BSP","1 960,-Ft ","RC S.anyag",null,34,null,1960]
[{"$f":"IF(L696=FALSE,0,COUNTIF(A$3:A695,\">0\")+1)","v":0},8951011758,"SK730 DUGÓ DUGÓ/TEFLON 1/2\" BSP","4 200,-Ft ","RC S.anyag",null,57,null,4200]
[{"$f":"IF(L697=FALSE,0,COUNTIF(A$3:A696,\">0\")+1)","v":0},8951011759,"SK731 HÜVELY DUGÓ 1/4\" BSP","1 400,-Ft ","RC S.anyag",null,20,null,1400]
[{"$f":"IF(L698=FALSE,0,COUNTIF(A$3:A697,\">0\")+1)","v":0},8951011760,"SK732 HÜVELY DUGÓ 3/8\" BSP","2 520,-Ft ","RC S.anyag",null,23,null,2520]
[{"$f":"IF(L699=FALSE,0,COUNTIF(A$3:A698,\">0\")+1)","v":0},8951011761,"SK734 HÜVELY DUGÓ 1/2\" BSP","3 920,-Ft ","RC S.anyag",null,56,null,3920]
[{"$f":"IF(L700=FALSE,0,COUNTIF(A$3:A699,\">0\")+1)","v":0},8951011762,"SK760 2 WAY HÜVELY COUPL. 1/4\"BSP","24 650,-Ft ","RC S.anyag",null,215,null,24650]
[{"$f":"IF(L701=FALSE,0,COUNTIF(A$3:A700,\">0\")+1)","v":0},8951011763,"SK761 2 WAY HÜVELY COUPL. 3/8\"BSP","24 930,-Ft ","RC S.anyag",null,185,null,24930]
[{"$f":"IF(L702=FALSE,0,COUNTIF(A$3:A701,\">0\")+1)","v":0},8951011764,"SK762 2 WAY HÜVELY COUPL. 1/2\"BSP","27 180,-Ft ","RC S.anyag",null,310,null,27180]
[{"$f":"IF(L703=FALSE,0,COUNTIF(A$3:A702,\">0\")+1)","v":0},8951011427,"SP12 SPANNER 12MM","560,-Ft ","RC S.anyag",null,26,null,560]
[{"$f":"IF(L704=FALSE,0,COUNTIF(A$3:A703,\">0\")+1)","v":0},8951011428,"SP22 SPANNER 22MM",{"$f":"IF(H704=\"SP\",IF(J704>0,\"SP: \"&TEXT(J704*I$1,\"# ###,-Ft  \"),\"SP: \"&TEXT(I704*I$1,\"# ###,-Ft\")),IF(J704>0,\"*(\"&TEXT(I704*I$1,\"# ###,-\")&\") \n\"&TEXT(J704*J$1,\"# ###,-Ft\"),TEXT(I704*I$1,\"# ###,-Ft  \")))","v":"1 680,-Ft "},"RC S.anyag",null,67,null,1680]
[{"$f":"IF(L705=FALSE,0,COUNTIF(A$3:A704,\">0\")+1)","v":0},8951011460,"SPZA3 BEFOGÓ",{"$f":"IF(H705=\"SP\",IF(J705>0,\"SP: \"&TEXT(J705*I$1,\"# ###,-Ft  \"),\"SP: \"&TEXT(I705*I$1,\"# ###,-Ft\")),IF(J705>0,\"*(\"&TEXT(I705*I$1,\"# ###,-\")&\") \n\"&TEXT(J705*J$1,\"# ###,-Ft\"),TEXT(I705*I$1,\"# ###,-Ft  \")))","v":"6 160,-Ft "},"RC S.anyag",null,11,null,6160]
[{"$f":"IF(L706=FALSE,0,COUNTIF(A$3:A705,\">0\")+1)","v":0},8951011482,"SPZD6 BEFOGÓ",{"$f":"IF(H706=\"SP\",IF(J706>0,\"SP: \"&TEXT(J706*I$1,\"# ###,-Ft  \"),\"SP: \"&TEXT(I706*I$1,\"# ###,-Ft\")),IF(J706>0,\"*(\"&TEXT(I706*I$1,\"# ###,-\")&\") \n\"&TEXT(J706*J$1,\"# ###,-Ft\"),TEXT(I706*I$1,\"# ###,-Ft  \")))","v":"8 970,-Ft "},"RC S.anyag",null,1,null,8970]
[{"$f":"IF(L707=FALSE,0,COUNTIF(A$3:A706,\">0\")+1)","v":0},8951011485,"SPZD8 BEFOGÓ","15 970,-Ft ","RC S.anyag",null,1,null,15970]
[{"$f":"IF(L708=FALSE,0,COUNTIF(A$3:A707,\">0\")+1)","v":0},8951011483,"SPZE3 BEFOGÓ 3 MM","19 330,-Ft ","RC S.anyag",null,12,null,19330]
[{"$f":"IF(L709=FALSE,0,COUNTIF(A$3:A708,\">0\")+1)","v":0},8951011932,"SS10 VÉSŐ",{"$f":"IF(H709=\"SP\",IF(J709>0,\"SP: \"&TEXT(J709*I$1,\"# ###,-Ft  \"),\"SP: \"&TEXT(I709*I$1,\"# ###,-Ft\")),IF(J709>0,\"TOPS* \"&TEXT(J709*J$1,\"# ###,-Ft\"),TEXT(I709*I$1,\"# ###,-Ft  \")))","v":"TOPS* 5 700,-Ft"},"RC S.anyag",null,194,null,7840,5700]
[{"$f":"IF(L710=FALSE,0,COUNTIF(A$3:A709,\">0\")+1)","v":0},8951011933,"SS10K VÉSŐ","8 400,-Ft ","RC S.anyag",null,154,null,8400]
[{"$f":"IF(L711=FALSE,0,COUNTIF(A$3:A710,\">0\")+1)","v":0},8951011934,"SS20 VÉSŐ",{"$f":"IF(H711=\"SP\",IF(J711>0,\"SP: \"&TEXT(J711*I$1,\"# ###,-Ft  \"),\"SP: \"&TEXT(I711*I$1,\"# ###,-Ft\")),IF(J711>0,\"TOPS* \"&TEXT(J711*J$1,\"# ###,-Ft\"),TEXT(I711*I$1,\"# ###,-Ft  \")))","v":"TOPS* 2 850,-Ft"},"RC S.anyag",null,237,null,7840,2850]
[{"$f":"IF(L712=FALSE,0,COUNTIF(A$3:A711,\">0\")+1)","v":0},8951011935,"SS20K VÉSŐ","8 400,-Ft ","RC S.anyag",null,172,null,8400]
[{"$f":"IF(L713=FALSE,0,COUNTIF(A$3:A712,\">0\")+1)","v":0},8951011936,"SS30 VÉSŐ","7 840,-Ft ","RC S.anyag",null,238,null,7840]
[{"$f":"IF(L714=FALSE,0,COUNTIF(A$3:A713,\">0\")+1)","v":0},8951011937,"SS30K VÉSŐ","8 400,-Ft ","RC S.anyag",null,180,null,8400]
[{"$f":"IF(L715=FALSE,0,COUNTIF(A$3:A714,\">0\")+1)","v":0},8951011938,"SS40 VÉSŐ",{"$f":"IF(H715=\"SP\",IF(J715>0,\"SP: \"&TEXT(J715*I$1,\"# ###,-Ft  \"),\"SP: \"&TEXT(I715*I$1,\"# ###,-Ft\")),IF(J715>0,\"TOPS* \"&TEXT(J715*J$1,\"# ###,-Ft\"),TEXT(I715*I$1,\"# ###,-Ft  \")))","v":"TOPS* 6 270,-Ft"},"RC S.anyag",null,211,null,7840,6270]
[{"$f":"IF(L716=FALSE,0,COUNTIF(A$3:A715,\">0\")+1)","v":0},8951011939,"SS40K VÉSŐ","8 400,-Ft ","RC S.anyag",null,208,null,8400]
[{"$f":"IF(L717=FALSE,0,COUNTIF(A$3:A716,\">0\")+1)","v":0},8951011940,"SS50 VÉSŐ","7 840,-Ft ","RC S.anyag",null,238,null,7840]
[{"$f":"IF(L718=FALSE,0,COUNTIF(A$3:A717,\">0\")+1)","v":0},8951012339,"STICKY VELSTICK 150",",-Ft ","RC S.anyag",null,10]
[{"$f":"IF(L719=FALSE,0,COUNTIF(A$3:A718,\">0\")+1)","v":0},8951089056,"STS70K SINGLE SUCTION CUP_811170",{"$f":"IF(H719=\"SP\",IF(J719>0,\"SP: \"&TEXT(J719*I$1,\"# ###,-Ft  \"),\"SP: \"&TEXT(I719*I$1,\"# ###,-Ft\")),IF(J719>0,\"TOPS* \"&TEXT(J719*J$1,\"# ###,-Ft\"),TEXT(I719*I$1,\"# ###,-Ft  \")))","v":"9 250,-Ft "},"RC Termék",null,378,null,9250]
[{"$f":"IF(L720=FALSE,0,COUNTIF(A$3:A719,\">0\")+1)","v":0},8951011088,"STS71G TIE DOWN ROPE F. STS 71 K",{"$f":"IF(H720=\"SP\",IF(J720>0,\"SP: \"&TEXT(J720*I$1,\"# ###,-Ft  \"),\"SP: \"&TEXT(I720*I$1,\"# ###,-Ft\")),IF(J720>0,\"*(\"&TEXT(I720*I$1,\"# ###,-\")&\") \n\"&TEXT(J720*J$1,\"# ###,-Ft\"),TEXT(I720*I$1,\"# ###,-Ft  \")))","v":"4 480,-Ft "},"RC S.anyag",null,308,null,4480]
[{"$f":"IF(L721=FALSE,0,COUNTIF(A$3:A720,\">0\")+1)","v":0},8951011087,"STS71K DUPLA SUCTION CUP_811172",{"$f":"IF(H721=\"SP\",IF(J721>0,\"SP: \"&TEXT(J721*I$1,\"# ###,-Ft  \"),\"SP: \"&TEXT(I721*I$1,\"# ###,-Ft\")),IF(J721>0,\"TOPS* \"&TEXT(J721*J$1,\"# ###,-Ft\"),TEXT(I721*I$1,\"# ###,-Ft  \")))","v":"44 270,-Ft "},"RC Termék",null,2000,null,44270]
[{"$f":"IF(L722=FALSE,0,COUNTIF(A$3:A721,\">0\")+1)","v":0},8951011090,"STS71SG SUCTION GUMI F. STS71K","8 970,-Ft ","RC S.anyag",null,158,null,8970]
[{"$f":"IF(L723=FALSE,0,COUNTIF(A$3:A722,\">0\")+1)","v":0},8951011407,"SW17 SPANNER SW 17","1 680,-Ft ","RC S.anyag",null,27,null,1680]
[{"$f":"IF(L724=FALSE,0,COUNTIF(A$3:A723,\">0\")+1)","v":0},8951011463,"SWF 11 QUICK CHUCK W.ADAPTER","8 970,-Ft ","RC S.anyag",null,228,null,8970]
[{"$f":"IF(L725=FALSE,0,COUNTIF(A$3:A724,\">0\")+1)","v":0},8951011577,"SZALAGCSISZOLÓ 330X10 GR120 10PC - 7155",{"$f":"IF(H725=\"SP\",IF(J725>0,\"SP: \"&TEXT(J725*I$1,\"# ###,-Ft  \"),\"SP: \"&TEXT(I725*I$1,\"# ###,-Ft\")),IF(J725>0,\"TOPS* \"&TEXT(J725*J$1,\"# ###,-Ft\"),TEXT(I725*I$1,\"# ###,-Ft  \")))","v":"TOPS* 4 220,-Ft"},"RC S.anyag",null,32,null,10650,4220]
[{"$f":"IF(L726=FALSE,0,COUNTIF(A$3:A725,\">0\")+1)","v":0},8951011578,"SZALAGCSISZOLÓ 330X10 GR180 10PC - 7155",{"$f":"IF(H726=\"SP\",IF(J726>0,\"SP: \"&TEXT(J726*I$1,\"# ###,-Ft  \"),\"SP: \"&TEXT(I726*I$1,\"# ###,-Ft\")),IF(J726>0,\"TOPS* \"&TEXT(J726*J$1,\"# ###,-Ft\"),TEXT(I726*I$1,\"# ###,-Ft  \")))","v":"TOPS* 4 220,-Ft"},"RC S.anyag",null,29,null,11490,4220]
[{"$f":"IF(L727=FALSE,0,COUNTIF(A$3:A726,\">0\")+1)","v":0},8951011579,"SZALAGCSISZOLÓ 330X10 GR240 10PC - 7155",{"$f":"IF(H727=\"SP\",IF(J727>0,\"SP: \"&TEXT(J727*I$1,\"# ###,-Ft  \"),\"SP: \"&TEXT(I727*I$1,\"# ###,-Ft\")),IF(J727>0,\"TOPS* \"&TEXT(J727*J$1,\"# ###,-Ft\"),TEXT(I727*I$1,\"# ###,-Ft  \")))","v":"TOPS* 4 220,-Ft"},"RC S.anyag",null,31,null,11490,4220]
[{"$f":"IF(L728=FALSE,0,COUNTIF(A$3:A727,\">0\")+1)","v":0},8951011604,"SZALAGCSISZOLÓ 330X10 GR40 10PC - 7155",{"$f":"IF(H728=\"SP\",IF(J728>0,\"SP: \"&TEXT(J728*I$1,\"# ###,-Ft  \"),\"SP: \"&TEXT(I728*I$1,\"# ###,-Ft\")),IF(J728>0,\"TOPS* \"&TEXT(J728*J$1,\"# ###,-Ft\"),TEXT(I728*I$1,\"# ###,-Ft  \")))","v":"TOPS* 5 270,-Ft"},"RC S.anyag",null,55,null,10090,5270]
[{"$f":"IF(L729=FALSE,0,COUNTIF(A$3:A728,\">0\")+1)","v":0},8951011570,"SZALAGCSISZOLÓ 330X10 GR80 10PC - 7155",{"$f":"IF(H729=\"SP\",IF(J729>0,\"SP: \"&TEXT(J729*I$1,\"# ###,-Ft  \"),\"SP: \"&TEXT(I729*I$1,\"# ###,-Ft\")),IF(J729>0,\"TOPS* \"&TEXT(J729*J$1,\"# ###,-Ft\"),TEXT(I729*I$1,\"# ###,-Ft  \")))","v":"TOPS* 4 220,-Ft"},"RC S.anyag",null,34,null,7840,4220]
[{"$f":"IF(L730=FALSE,0,COUNTIF(A$3:A729,\">0\")+1)","v":0},8951011581,"SZALAGCSISZOLÓ 520X20 GR120 10PC - 7156","13 730,-Ft ","RC S.anyag",null,98,null,13730]
[{"$f":"IF(L731=FALSE,0,COUNTIF(A$3:A730,\">0\")+1)","v":0},8951011582,"SZALAGCSISZOLÓ 520X20 GR180 10PC - 7156","13 730,-Ft ","RC S.anyag",null,95,null,13730]
[{"$f":"IF(L732=FALSE,0,COUNTIF(A$3:A731,\">0\")+1)","v":0},8951011583,"SZALAGCSISZOLÓ 520X20 GR240 10PC - 7156","13 730,-Ft ","RC S.anyag",null,90,null,13730]
[{"$f":"IF(L733=FALSE,0,COUNTIF(A$3:A732,\">0\")+1)","v":0},8951011580,"SZALAGCSISZOLÓ 520X20 GR80 10PC - 7156","12 610,-Ft ","RC S.anyag",null,105,null,12610]
[{"$f":"IF(L734=FALSE,0,COUNTIF(A$3:A733,\">0\")+1)","v":0},8951011593,"SZALAGCSISZOLÓ 540X30 GR120 10PC - 7157","13 450,-Ft ","RC S.anyag",null,148,null,13450]
[{"$f":"IF(L735=FALSE,0,COUNTIF(A$3:A734,\">0\")+1)","v":0},8951011594,"SZALAGCSISZOLÓ 540X30 GR180 10PC - 7157","19 610,-Ft ","RC S.anyag",null,301,null,19610]
[{"$f":"IF(L736=FALSE,0,COUNTIF(A$3:A735,\">0\")+1)","v":0},8951011595,"SZALAGCSISZOLÓ 540X30 GR240 10PC - 7157","19 610,-Ft ","RC S.anyag",null,283,null,19610]
[{"$f":"IF(L737=FALSE,0,COUNTIF(A$3:A736,\">0\")+1)","v":0},8951011592,"SZALAGCSISZOLÓ 540X30 GR80 10PC - 7157","13 730,-Ft ","RC S.anyag",null,166,null,13730]
[{"$f":"IF(L738=FALSE,0,COUNTIF(A$3:A737,\">0\")+1)","v":0},8951081013,"TK05 OLAJ TANK_810181",{"$f":"IF(H738=\"SP\",IF(J738>0,\"SP: \"&TEXT(J738*I$1,\"# ###,-Ft  \"),\"SP: \"&TEXT(I738*I$1,\"# ###,-Ft\")),IF(J738>0,\"TOPS* \"&TEXT(J738*J$1,\"# ###,-Ft\"),TEXT(I738*I$1,\"# ###,-Ft  \")))","v":",-Ft "},"RC Termék",null,27000]
[{"$f":"IF(L739=FALSE,0,COUNTIF(A$3:A738,\">0\")+1)","v":0},8951011031,"TKO9BS 6,9/9 CSŐ",",-Ft ","RC S.anyag",null,34]
[{"$f":"IF(L740=FALSE,0,COUNTIF(A$3:A739,\">0\")+1)","v":0},8955000008,"TÖMLŐ ADAPTER 1/4\" 13MM","4 760,-Ft ","RC S.anyag",null,31,null,4760]
[{"$f":"IF(L741=FALSE,0,COUNTIF(A$3:A740,\">0\")+1)","v":0},8951011836,"TÖMLŐ PVC 09X15MM 50M",{"$f":"IF(H741=\"SP\",IF(J741>0,\"SP: \"&TEXT(J741*I$1,\"# ###,-Ft  \"),\"SP: \"&TEXT(I741*I$1,\"# ###,-Ft\")),IF(J741>0,\"TOPS* \"&TEXT(J741*J$1,\"# ###,-Ft\"),TEXT(I741*I$1,\"# ###,-Ft  \")))","v":"TOPS* 23 380,-Ft"},"RC S.anyag",null,6986,null,30350,23380]
[{"$f":"IF(L742=FALSE,0,COUNTIF(A$3:A741,\">0\")+1)","v":0},8951011837,"TÖMLŐ PVC 13X21MM 50M",{"$f":"IF(H742=\"SP\",IF(J742>0,\"SP: \"&TEXT(J742*I$1,\"# ###,-Ft  \"),\"SP: \"&TEXT(I742*I$1,\"# ###,-Ft\")),IF(J742>0,\"TOPS* \"&TEXT(J742*J$1,\"# ###,-Ft\"),TEXT(I742*I$1,\"# ###,-Ft  \")))","v":"TOPS* 37 960,-Ft"},"RC S.anyag",null,11477,null,49000,37960]
[{"$f":"IF(L743=FALSE,0,COUNTIF(A$3:A742,\">0\")+1)","v":0},8951011549,"TPT-18 BACKING PAD",{"$f":"IF(H743=\"SP\",IF(J743>0,\"SP: \"&TEXT(J743*I$1,\"# ###,-Ft  \"),\"SP: \"&TEXT(I743*I$1,\"# ###,-Ft\")),IF(J743>0,\"*(\"&TEXT(I743*I$1,\"# ###,-\")&\") \n\"&TEXT(J743*J$1,\"# ###,-Ft\"),TEXT(I743*I$1,\"# ###,-Ft  \")))","v":"14 850,-Ft "},"RC S.anyag",null,146,null,14850]
[{"$f":"IF(L744=FALSE,0,COUNTIF(A$3:A743,\">0\")+1)","v":0},8951010353,"U24 PENGE",{"$f":"IF(H744=\"SP\",IF(J744>0,\"SP: \"&TEXT(J744*I$1,\"# ###,-Ft  \"),\"SP: \"&TEXT(I744*I$1,\"# ###,-Ft\")),IF(J744>0,\"*(\"&TEXT(I744*I$1,\"# ###,-\")&\") \n\"&TEXT(J744*J$1,\"# ###,-Ft\"),TEXT(I744*I$1,\"# ###,-Ft  \")))","v":",-Ft "},"RC S.anyag",null,14]
[{"$f":"IF(L745=FALSE,0,COUNTIF(A$3:A744,\">0\")+1)","v":0},8951010194,"U63PB PENGE",{"$f":"IF(H745=\"SP\",IF(J745>0,\"SP: \"&TEXT(J745*I$1,\"# ###,-Ft  \"),\"SP: \"&TEXT(I745*I$1,\"# ###,-Ft\")),IF(J745>0,\"*(\"&TEXT(I745*I$1,\"# ###,-\")&\") \n\"&TEXT(J745*J$1,\"# ###,-Ft\"),TEXT(I745*I$1,\"# ###,-Ft  \")))","v":"24 650,-Ft "},"RC S.anyag",null,47,null,24650]
[{"$f":"IF(L746=FALSE,0,COUNTIF(A$3:A745,\">0\")+1)","v":0},8951011217,"U90K BRAKE BLEEDER ADAPTER",{"$f":"IF(H746=\"SP\",IF(J746>0,\"SP: \"&TEXT(J746*I$1,\"# ###,-Ft  \"),\"SP: \"&TEXT(I746*I$1,\"# ###,-Ft\")),IF(J746>0,\"*(\"&TEXT(I746*I$1,\"# ###,-\")&\") \n\"&TEXT(J746*J$1,\"# ###,-Ft\"),TEXT(I746*I$1,\"# ###,-Ft  \")))","v":"31 180,-Ft "},"RC S.anyag",null,295,null,31180]
[{"$f":"IF(L747=FALSE,0,COUNTIF(A$3:A746,\">0\")+1)","v":0},8951010195,"U90PB PENGE",{"$f":"IF(H747=\"SP\",IF(J747>0,\"SP: \"&TEXT(J747*I$1,\"# ###,-Ft  \"),\"SP: \"&TEXT(I747*I$1,\"# ###,-Ft\")),IF(J747>0,\"*(\"&TEXT(I747*I$1,\"# ###,-\")&\") \n\"&TEXT(J747*J$1,\"# ###,-Ft\"),TEXT(I747*I$1,\"# ###,-Ft  \")))","v":",-Ft "},"RC S.anyag",null,35]
[{"$f":"IF(L748=FALSE,0,COUNTIF(A$3:A747,\">0\")+1)","v":0},8951000027,"UBZ-2 TÁMASZTÓBAK 2T",{"$f":"IF(H748=\"SP\",IF(J748>0,\"SP: \"&TEXT(J748*I$1,\"# ###,-Ft  \"),\"SP: \"&TEXT(I748*I$1,\"# ###,-Ft\")),IF(J748>0,\"TOPS* \"&TEXT(J748*J$1,\"# ###,-Ft\"),TEXT(I748*I$1,\"# ###,-Ft  \")))","v":"TOPS* 11 180,-Ft"},"RC Termék",null,5500,null,14010,11180]
[{"$f":"IF(L749=FALSE,0,COUNTIF(A$3:A748,\">0\")+1)","v":0},8951000028,"UBZ-3 TÁMASZTÓBAK 3T","TOPS* 13 980,-Ft","RC Termék",null,7500,null,17370,13980]
[{"$f":"IF(L750=FALSE,0,COUNTIF(A$3:A749,\">0\")+1)","v":0},8951000029,"UBZ-6 TÁMASZTÓBAK 6T","TOPS* 25 160,-Ft","RC Termék",null,15000,null,32300,25160]
[{"$f":"IF(L751=FALSE,0,COUNTIF(A$3:A750,\">0\")+1)","v":0},8951000096,"USB1,5 TARTÓBAK 1,5 t","49 840,-Ft ","RC Termék",null,null,null,49840]
[{"$f":"IF(L752=FALSE,0,COUNTIF(A$3:A751,\">0\")+1)","v":0},8951000104,"USB12HG TÁMASZTÓBAK 12T HIGH THRE._810368",",-Ft ","RC Termék",null,14000]
[{"$f":"IF(L753=FALSE,0,COUNTIF(A$3:A752,\">0\")+1)","v":0},8951000106,"USB16H TÁMASZTÓBAK 16T HIGH_810370",",-Ft ","RC Termék",null,21000]
[{"$f":"IF(L754=FALSE,0,COUNTIF(A$3:A753,\">0\")+1)","v":0},8951000098,"USB3 TARTÓBAK 3 t","63 100,-Ft ","RC Termék",null,null,null,63100]
[{"$f":"IF(L755=FALSE,0,COUNTIF(A$3:A754,\">0\")+1)","v":0},8951000099,"USB5 TARTÓBAK 5 t","81 100,-Ft ","RC Termék",null,null,null,81100]
[{"$f":"IF(L756=FALSE,0,COUNTIF(A$3:A755,\">0\")+1)","v":0},8951000102,"USB8H TARTÓBAK 8 t","164 700,-Ft ","RC Termék",null,null,null,164700]
[{"$f":"IF(L757=FALSE,0,COUNTIF(A$3:A756,\">0\")+1)","v":0},8951000100,"USBN5 TARTÓBAK 5 t menetes",",-Ft ","RC Termék"]
[{"$f":"IF(L758=FALSE,0,COUNTIF(A$3:A757,\">0\")+1)","v":0},8951080101,"WK102K HIDRAULIKUS CRANE_810493",",-Ft ","RC Termék",null,85600]
[{"$f":"IF(L759=FALSE,0,COUNTIF(A$3:A758,\">0\")+1)","v":0},8951000064,"WP15 Műhelyprés 15T",{"$f":"IF(H759=\"SP\",IF(J759>0,\"SP: \"&TEXT(J759*I$1,\"# ###,-Ft  \"),\"SP: \"&TEXT(I759*I$1,\"# ###,-Ft\")),IF(J759>0,\"TOPS* \"&TEXT(J759*J$1,\"# ###,-Ft\"),TEXT(I759*I$1,\"# ###,-Ft  \")))","v":"318 000,-Ft "},"RC Termék",null,75500,null,318000]
[{"$f":"IF(L760=FALSE,0,COUNTIF(A$3:A759,\">0\")+1)","v":0},8951000065,"WP20S Műhelyprés 20T","TOPS* 241 700,-Ft","RC Termék",null,105000,null,409000,241700]
[{"$f":"IF(L761=FALSE,0,COUNTIF(A$3:A760,\">0\")+1)","v":0},8951000071,"WP30P Műhelyprés 30T",{"$f":"IF(H761=\"C\",IF(J761>0,\"C #: \"&TEXT(J761*I$1,\"# ###,-Ft  \"),\"C #: \"&TEXT(I761*I$1,\"# ###,-Ft\")),IF(J761>0,\"TOPS* \"&TEXT(J761*J$1,\"# ###,-Ft\"),TEXT(I761*I$1,\"# ###,-Ft  \")))","v":"C #: 421 000,-Ft "},"RC Termék",null,166700,"C",682000,421000]
[{"$f":"IF(L762=FALSE,0,COUNTIF(A$3:A761,\">0\")+1)","v":0},8951000123,"RC 2202 1/2\" MINI légkulcs",{"$f":"IF(H762=\"SP\",IF(J762>0,\"SP: \"&TEXT(J762*I$1,\"# ###,-Ft  \"),\"SP: \"&TEXT(I762*I$1,\"# ###,-Ft\")),IF(J762>0,\"TOPS* \"&TEXT(J762*J$1,\"# ###,-Ft\"),TEXT(I762*I$1,\"# ###,-Ft  \")))","v":"TOPS* 46 600,-Ft"},"RC Termék",null,1626,null,66700,46600]
[{"$f":"IF(L763=FALSE,0,COUNTIF(A$3:A762,\">0\")+1)","v":0},8951000069,"RC 2447 ÜTVE CSAVAROZÓ 1\"","TOPS* 271 700,-Ft","RC Termék",null,9296,null,414000,271700]
[{"$f":"IF(L764=FALSE,0,COUNTIF(A$3:A763,\">0\")+1)","v":0},8951000068,"RC 2437  ÜTVE CSAVAROZÓ 1\"","TOPS* 252 800,-Ft","RC Termék",null,8296,null,378000,252800]
[{"$f":"IF(L765=FALSE,0,COUNTIF(A$3:A764,\">0\")+1)","v":0},8951000072,"WP50P Műhelyprés 50T",{"$f":"IF(H765=\"C\",IF(J765>0,\"C #: \"&TEXT(J765*I$1,\"# ###,-Ft  \"),\"C #: \"&TEXT(I765*I$1,\"# ###,-Ft\")),IF(J765>0,\"TOPS* \"&TEXT(J765*J$1,\"# ###,-Ft\"),TEXT(I765*I$1,\"# ###,-Ft  \")))","v":"C #: 639 000,-Ft "},"RC Termék",null,298000,"C",1068000,639000]
[{"$f":"IF(L766=FALSE,0,COUNTIF(A$3:A765,\">0\")+1)","v":0},8951011650,"ZU002 WORKSTATION",{"$f":"IF(H766=\"SP\",IF(J766>0,\"SP: \"&TEXT(J766*I$1,\"# ###,-Ft  \"),\"SP: \"&TEXT(I766*I$1,\"# ###,-Ft\")),IF(J766>0,\"*(\"&TEXT(I766*I$1,\"# ###,-\")&\") \n\"&TEXT(J766*J$1,\"# ###,-Ft\"),TEXT(I766*I$1,\"# ###,-Ft  \")))","v":"26 620,-Ft "},"RC S.anyag",null,998,null,26620]
[{"$f":"IF(L767=FALSE,0,COUNTIF(A$3:A766,\">0\")+1)","v":0},8951011651,"ZU003 KÖSZÖRŰ STONE","3 360,-Ft ","RC S.anyag",null,173,null,3360]
[{"$f":"IF(L768=FALSE,0,COUNTIF(A$3:A767,\">0\")+1)","v":0},8951011652,"ZU010 GUMI RADÍR (VE 1)","16 810,-Ft ","RC S.anyag",null,192,null,16810]
[{"$f":"IF(L769=FALSE,0,COUNTIF(A$3:A768,\">0\")+1)","v":0},8951011649,"ZU014 GUMI RADÍR (VE 5)",{"$f":"IF(H769=\"SP\",IF(J769>0,\"SP: \"&TEXT(J769*I$1,\"# ###,-Ft  \"),\"SP: \"&TEXT(I769*I$1,\"# ###,-Ft\")),IF(J769>0,\"TOPS* \"&TEXT(J769*J$1,\"# ###,-Ft\"),TEXT(I769*I$1,\"# ###,-Ft  \")))","v":"TOPS* 72 600,-Ft"},"RC S.anyag",null,1065,null,82700,72600]
[{"$f":"IF(L770=FALSE,0,COUNTIF(A$3:A769,\">0\")+1)","v":0},8955810076,"50145",",-Ft ","RC S.anyag",null,205]
[{"$f":"IF(L771=FALSE,0,COUNTIF(A$3:A770,\">0\")+1)","v":0},8951011074,"601 S SCREWSET","9 250,-Ft ","RC S.anyag",null,296,null,9250]
[{"$f":"IF(L772=FALSE,0,COUNTIF(A$3:A771,\">0\")+1)","v":0},8951011464,"844020",{"$f":"IF(H772=\"SP\",IF(J772>0,\"SP: \"&TEXT(J772*I$1,\"# ###,-Ft  \"),\"SP: \"&TEXT(I772*I$1,\"# ###,-Ft\")),IF(J772>0,\"*(\"&TEXT(I772*I$1,\"# ###,-\")&\") \n\"&TEXT(J772*J$1,\"# ###,-Ft\"),TEXT(I772*I$1,\"# ###,-Ft  \")))","v":"7 840,-Ft "},"RC S.anyag",null,10,null,7840]
[{"$f":"IF(L773=FALSE,0,COUNTIF(A$3:A772,\">0\")+1)","v":0},8951011530,"846902",{"$f":"IF(H773=\"SP\",IF(J773>0,\"SP: \"&TEXT(J773*I$1,\"# ###,-Ft  \"),\"SP: \"&TEXT(I773*I$1,\"# ###,-Ft\")),IF(J773>0,\"*(\"&TEXT(I773*I$1,\"# ###,-\")&\") \n\"&TEXT(J773*J$1,\"# ###,-Ft\"),TEXT(I773*I$1,\"# ###,-Ft  \")))","v":"12 330,-Ft "},"RC S.anyag",null,67,null,12330]
[{"$f":"IF(L774=FALSE,0,COUNTIF(A$3:A773,\">0\")+1)","v":0},8951012024,"881212",{"$f":"IF(H774=\"SP\",IF(J774>0,\"SP: \"&TEXT(J774*I$1,\"# ###,-Ft  \"),\"SP: \"&TEXT(I774*I$1,\"# ###,-Ft\")),IF(J774>0,\"*(\"&TEXT(I774*I$1,\"# ###,-\")&\") \n\"&TEXT(J774*J$1,\"# ###,-Ft\"),TEXT(I774*I$1,\"# ###,-Ft  \")))","v":"23 250,-Ft "},"RC S.anyag",null,1725,null,23250]
[{"$f":"IF(L775=FALSE,0,COUNTIF(A$3:A774,\">0\")+1)","v":0},8951000135,"RC2457XI IMPACT WRENCH_RC2457XI STRAIGHT SHORT",{"$f":"IF(H775=\"SP\",IF(J775>0,\"SP: \"&TEXT(J775*I$1,\"# ###,-Ft  \"),\"SP: \"&TEXT(I775*I$1,\"# ###,-Ft\")),IF(J775>0,\"TOPS* \"&TEXT(J775*J$1,\"# ###,-Ft\"),TEXT(I775*I$1,\"# ###,-Ft  \")))","v":"TOPS* 205 200,-Ft"},"RC Termék",null,0,null,340000,205200]
[{"$f":"IF(L776=FALSE,0,COUNTIF(A$3:A775,\">0\")+1)","v":0},8951000131,"GHN300 TRANSMISSION JACK 300KG",{"$f":"IF(H776=\"SP\",IF(J776>0,\"SP: \"&TEXT(J776*I$1,\"# ###,-Ft  \"),\"SP: \"&TEXT(I776*I$1,\"# ###,-Ft\")),IF(J776>0,\"TOPS* \"&TEXT(J776*J$1,\"# ###,-Ft\"),TEXT(I776*I$1,\"# ###,-Ft  \")))","v":"TOPS* 106 300,-Ft"},"RC Termék",null,0,null,116300,106300]
[{"$f":"IF(L777=FALSE,0,COUNTIF(A$3:A776,\">0\")+1)","v":0},8951000132,"GHN600 TRANSMISSION JACK 600KG",{"$f":"IF(H777=\"SP\",IF(J777>0,\"SP: \"&TEXT(J777*I$1,\"# ###,-Ft  \"),\"SP: \"&TEXT(I777*I$1,\"# ###,-Ft\")),IF(J777>0,\"TOPS* \"&TEXT(J777*J$1,\"# ###,-Ft\"),TEXT(I777*I$1,\"# ###,-Ft  \")))","v":"TOPS* 118 000,-Ft"},"RC Termék",null,0,null,136900,118000]
[{"$f":"IF(L778=FALSE,0,COUNTIF(A$3:A777,\">0\")+1)","v":0},8951000133,"GHN1000 TRANSMISSION JACK 1000KG",{"$f":"IF(H778=\"SP\",IF(J778>0,\"SP: \"&TEXT(J778*I$1,\"# ###,-Ft  \"),\"SP: \"&TEXT(I778*I$1,\"# ###,-Ft\")),IF(J778>0,\"TOPS* \"&TEXT(J778*J$1,\"# ###,-Ft\"),TEXT(I778*I$1,\"# ###,-Ft  \")))","v":"TOPS* 153 800,-Ft"},"RC Termék",null,0,null,176200,153800]
[{"$f":"IF(L779=FALSE,0,COUNTIF(A$3:A778,\">0\")+1)","v":0},8951000120,"LED30 WORKLIGHT EU PLUG",{"$f":"IF(H779=\"SP\",IF(J779>0,\"SP: \"&TEXT(J779*I$1,\"# ###,-Ft  \"),\"SP: \"&TEXT(I779*I$1,\"# ###,-Ft\")),IF(J779>0,\"*(\"&TEXT(I779*I$1,\"# ###,-\")&\") \n\"&TEXT(J779*J$1,\"# ###,-Ft\"),TEXT(I779*I$1,\"# ###,-Ft  \")))","v":",-Ft "},"RC Termék",null,590]
[{"$f":"IF(L780=FALSE,0,COUNTIF(A$3:A779,\">0\")+1)","v":0},8951000144,"RC7170 150 MM LONG NECK CUT-OFF TOOL ",{"$f":"IF(H780=\"SP\",IF(J780>0,\"SP: \"&TEXT(J780*I$1,\"# ###,-Ft  \"),\"SP: \"&TEXT(I780*I$1,\"# ###,-Ft\")),IF(J780>0,\"TOPS* \"&TEXT(J780*J$1,\"# ###,-Ft\"),TEXT(I780*I$1,\"# ###,-Ft  \")))","v":"TOPS* 61 900,-Ft"},"RC Termék",null,1800,null,77500,61900]
[{"$f":"IF(L781=FALSE,0,COUNTIF(A$3:A780,\">0\")+1)","v":0},8951174000,"RC6606 RE AIR-KNIFE SET 6605_606606",{"$f":"IF(H781=\"SP\",IF(J781>0,\"SP: \"&TEXT(J781*I$1,\"# ###,-Ft  \"),\"SP: \"&TEXT(I781*I$1,\"# ###,-Ft\")),IF(J781>0,\"*(\"&TEXT(I781*I$1,\"# ###,-\")&\") \n\"&TEXT(J781*J$1,\"# ###,-Ft\"),TEXT(I781*I$1,\"# ###,-Ft  \")))","v":"104 900,-Ft "},"RC Termék",null,2311,null,104900]
[{"$f":"IF(L782=FALSE,0,COUNTIF(A$3:A781,\">0\")+1)","v":0},8951000127,"MGN12F FAST RISE BOTTLE JACK 12T",{"$f":"IF(H782=\"SP\",IF(J782>0,\"SP: \"&TEXT(J782*I$1,\"# ###,-Ft  \"),\"SP: \"&TEXT(I782*I$1,\"# ###,-Ft\")),IF(J782>0,\"TOPS* \"&TEXT(J782*J$1,\"# ###,-Ft\"),TEXT(I782*I$1,\"# ###,-Ft  \")))","v":"54 010,-Ft "},"RC Termék",null,0,null,54010]
[{"$f":"IF(L783=FALSE,0,COUNTIF(A$3:A782,\">0\")+1)","v":0},8951000128,"MGN12L LOW  BOTTLE JACK 12T",",-Ft ","RC Termék",null,0]
[{"$f":"IF(L784=FALSE,0,COUNTIF(A$3:A783,\">0\")+1)","v":0},8951000129,"MGN20F FAST RISE BOTTLE JACK 20T","70 500,-Ft ","RC Termék",null,0,null,70500]
[{"$f":"IF(L785=FALSE,0,COUNTIF(A$3:A784,\">0\")+1)","v":0},8951000130,"MGN50L LOW BOTTLE JACK 50T",",-Ft ","RC Termék",null,0]
[{"$f":"IF(L786=FALSE,0,COUNTIF(A$3:A785,\">0\")+1)","v":0},8951000117,"RC2077 1/4\"-os ütvecsavarozó",",-Ft ","RC Termék",null,0]
[{"$f":"IF(L787=FALSE,0,COUNTIF(A$3:A786,\">0\")+1)","v":0},8951000148,"SAR 21 tömlődob D8 / 10m","TOPS* 47 030,-Ft","RC Termék",null,null,null,67800,47030]
[{"$f":"IF(L788=FALSE,0,COUNTIF(A$3:A787,\">0\")+1)","v":0},8951000149,"SAR 22 tömlődob D8 / 16m","TOPS* 71 500,-Ft","RC Termék",null,null,null,103700,71500]
[{"$f":"IF(L789=FALSE,0,COUNTIF(A$3:A788,\">0\")+1)","v":0},8951000150,"SAR 31 tömlődob D10/ 10m","TOPS* 64 700,-Ft","RC Termék",null,null,null,96300,64700]
[{"$f":"IF(L790=FALSE,0,COUNTIF(A$3:A789,\">0\")+1)","v":0},8951000151,"SAR 32 tömlődob D10 / 16m","TOPS* 95 100,-Ft","RC Termék",null,null,null,131400,95100]
[{"$f":"IF(L791=FALSE,0,COUNTIF(A$3:A790,\">0\")+1)","v":0},8951000091,"DMS030 Nyomatékkulcs 1/4\" (5-25Nm)",{"$f":"IF(H791=\"SP\",IF(J791>0,\"SP: \"&TEXT(J791*I$1,\"# ###,-Ft  \"),\"SP: \"&TEXT(I791*I$1,\"# ###,-Ft\")),IF(J791>0,\"TOPS* \"&TEXT(J791*J$1,\"# ###,-Ft\"),TEXT(I791*I$1,\"# ###,-Ft  \")))","v":"67 500,-Ft "},"RC Termék",null,null,null,67500]
[{"$f":"IF(L792=FALSE,0,COUNTIF(A$3:A791,\">0\")+1)","v":0},8951000092,"DMS030 Nyomatékkulcs 3/8\" (20-100Nm)","TOPS* 41 360,-Ft","RC Termék",null,null,null,67500,41360]
[{"$f":"IF(L793=FALSE,0,COUNTIF(A$3:A792,\">0\")+1)","v":0},8951000093,"DMS200 Nyomatékkulcs 1/2\" (40-200Nm)","TOPS* 41 360,-Ft","RC Termék",null,null,null,72800,41360]
[{"$f":"IF(L794=FALSE,0,COUNTIF(A$3:A793,\">0\")+1)","v":0},8951000094,"DMS400 Nyomatékkulcs 3/4\" (150-750Nm)","TOPS* 153 800,-Ft","RC Termék",null,null,null,258100,153800]
[{"$f":"IF(L795=FALSE,0,COUNTIF(A$3:A794,\">0\")+1)","v":0},8951000095,"DMS1000 Nyomatékkulcs 1\" (200-1000Nm)","TOPS* 177 300,-Ft","RC Termék",null,null,null,321000,177300]
[{"$f":"IF(L796=FALSE,0,COUNTIF(A$3:A795,\">0\")+1)","v":0},8951000162," 1/4 '' FILTER-REGULATOR-LUBRICATOR composit","TOPS* 27 760,-Ft","RC Termék",null,null,null,33410,27760]
[{"$f":"IF(L797=FALSE,0,COUNTIF(A$3:A796,\">0\")+1)","v":0},8951000164,"1/2''  FILTER-REGULATOR-LUBRICATOR composit","TOPS* 27 760,-Ft","RC Termék",null,null,null,33410,27760]
[{"$f":"IF(L798=FALSE,0,COUNTIF(A$3:A797,\">0\")+1)","v":0},8951000085,"RC2205 IMPACT WRENCH 1/2\"",{"$f":"IF(H798=\"SP\",IF(J798>0,\"SP: \"&TEXT(J798*I$1,\"# ###,-Ft  \"),\"SP: \"&TEXT(I798*I$1,\"# ###,-Ft\")),IF(J798>0,\"TOPS* \"&TEXT(J798*J$1,\"# ###,-Ft\"),TEXT(I798*I$1,\"# ###,-Ft  \")))","v":"TOPS* 40 230,-Ft"},"RC Termék",null,null,null,54800,40230]
[{"$f":"IF(L799=FALSE,0,COUNTIF(A$3:A798,\">0\")+1)","v":0},8951000145,"1/4\" Mini RC2077",{"$f":"IF(H799=\"SP\",IF(J799>0,\"SP: \"&TEXT(J799*I$1,\"# ###,-Ft  \"),\"SP: \"&TEXT(I799*I$1,\"# ###,-Ft\")),IF(J799>0,\"*(\"&TEXT(I799*I$1,\"# ###,-\")&\") \n\"&TEXT(J799*J$1,\"# ###,-Ft\"),TEXT(I799*I$1,\"# ###,-Ft  \")))","v":",-Ft "},"RC Termék"]
[{"$f":"IF(L800=FALSE,0,COUNTIF(A$3:A799,\">0\")+1)","v":0},8951000139,"HRD10K JACK RAM",{"$f":"IF(H800=\"SP\",IF(J800>0,\"SP: \"&TEXT(J800*I$1,\"# ###,-Ft  \"),\"SP: \"&TEXT(I800*I$1,\"# ###,-Ft\")),IF(J800>0,\"TOPS* \"&TEXT(J800*J$1,\"# ###,-Ft\"),TEXT(I800*I$1,\"# ###,-Ft  \")))","v":",-Ft "},"RC Termék"]
[{"$f":"IF(L801=FALSE,0,COUNTIF(A$3:A800,\">0\")+1)","v":0},8951000138,"HRD10F LOW PROFILE JACK RAM",",-Ft ","RC Termék"]
[{"$f":"IF(L802=FALSE,0,COUNTIF(A$3:A801,\">0\")+1)","v":0},8951000165,"RC7051","TOPS* 52 400,-Ft","RC Termék",null,null,null,58700,52400]
[{"$f":"IF(L803=FALSE,0,COUNTIF(A$3:A802,\">0\")+1)","v":0},8951000126,"HRS20 -20T",{"$f":"IF(H803=\"C\",IF(J803>0,\"C #: \"&TEXT(J803*I$1,\"# ###,-Ft  \"),\"C #: \"&TEXT(I803*I$1,\"# ###,-Ft\")),IF(J803>0,\"TOPS* \"&TEXT(J803*J$1,\"# ###,-Ft\"),TEXT(I803*I$1,\"# ###,-Ft  \")))","v":"C #: 480 000,-Ft "},"RC Termék",null,null,"C",517000,480000]
[{"$f":"IF(L804=FALSE,0,COUNTIF(A$3:A803,\">0\")+1)","v":0},8951000124,"HRS04 -4T","TOPS* 100 800,-Ft","RC Termék",null,null,null,113500,100800]
[{"$f":"IF(L805=FALSE,0,COUNTIF(A$3:A804,\">0\")+1)","v":0},8951000136,"PHP10","TOPS* 126 900,-Ft","RC Termék",null,null,null,143200,126900]
[{"$f":"IF(L806=FALSE,0,COUNTIF(A$3:A805,\">0\")+1)","v":0},8951000125,"HRS10 -10T","TOPS* 166 700,-Ft","RC Termék",null,null,null,188300,166700]
[{"$f":"IF(L807=FALSE,0,COUNTIF(A$3:A806,\">0\")+1)","v":0},8951011479,"1/4\" COLLET",{"$f":"IF(H807=\"SP\",IF(J807>0,\"SP: \"&TEXT(J807*I$1,\"# ###,-Ft  \"),\"SP: \"&TEXT(I807*I$1,\"# ###,-Ft\")),IF(J807>0,\"*(\"&TEXT(I807*I$1,\"# ###,-\")&\") \n\"&TEXT(J807*J$1,\"# ###,-Ft\"),TEXT(I807*I$1,\"# ###,-Ft  \")))","v":"3 080,-Ft "},"RC Termék",null,null,null,3080]
[{"$f":"IF(L808=FALSE,0,COUNTIF(A$3:A807,\">0\")+1)","v":0},8951011962,"RC76-1 STEEL SAFETY CHISEL HOLDER",{"$f":"IF(H808=\"SP\",IF(J808>0,\"SP: \"&TEXT(J808*I$1,\"# ###,-Ft  \"),\"SP: \"&TEXT(I808*I$1,\"# ###,-Ft\")),IF(J808>0,\"*(\"&TEXT(I808*I$1,\"# ###,-\")&\") \n\"&TEXT(J808*J$1,\"# ###,-Ft\"),TEXT(I808*I$1,\"# ###,-Ft  \")))","v":"11 490,-Ft "},"RC Termék",null,null,null,11490]
[{"$f":"IF(L809=FALSE,0,COUNTIF(A$3:A808,\">0\")+1)","v":0},8951000089,"RC2257K",{"$f":"IF(H809=\"SP\",IF(J809>0,\"SP: \"&TEXT(J809*I$1,\"# ###,-Ft  \"),\"SP: \"&TEXT(I809*I$1,\"# ###,-Ft\")),IF(J809>0,\"*(\"&TEXT(I809*I$1,\"# ###,-\")&\") \n\"&TEXT(J809*J$1,\"# ###,-Ft\"),TEXT(I809*I$1,\"# ###,-Ft  \")))","v":",-Ft "},"RC Termék"]
[{"$f":"IF(L810=FALSE,0,COUNTIF(A$3:A809,\">0\")+1)","v":0},8951000090,"P50",{"$f":"IF(H810=\"SP\",IF(J810>0,\"SP: \"&TEXT(J810*I$1,\"# ###,-Ft  \"),\"SP: \"&TEXT(I810*I$1,\"# ###,-Ft\")),IF(J810>0,\"TOPS* \"&TEXT(J810*J$1,\"# ###,-Ft\"),TEXT(I810*I$1,\"# ###,-Ft  \")))","v":"49 000,-Ft "},"RC Termék",null,null,null,49000]
[{"$f":"IF(L811=FALSE,0,COUNTIF(A$3:A810,\">0\")+1)","v":0},8951000097,"USB 1,5H",",-Ft ","RC Termék"]
[{"$f":"IF(L812=FALSE,0,COUNTIF(A$3:A811,\">0\")+1)","v":0},8951000101,"USB8","141 900,-Ft ","RC Termék",null,null,null,141900]
[{"$f":"IF(L813=FALSE,0,COUNTIF(A$3:A812,\">0\")+1)","v":0},8951000103,"USB12G",",-Ft ","RC Termék"]
[{"$f":"IF(L814=FALSE,0,COUNTIF(A$3:A813,\">0\")+1)","v":0},8951000152," RC5185","TOPS* 59 100,-Ft","RC Termék",null,null,null,67500,59100]
[{"$f":"IF(L815=FALSE,0,COUNTIF(A$3:A814,\">0\")+1)","v":0},8951000153,"RC5185K HAMMER KIT METAL","TOPS* 81 800,-Ft","RC Termék",null,null,null,null,81800]
[{"$f":"IF(L816=FALSE,0,COUNTIF(A$3:A815,\">0\")+1)","v":0},8951000154," RC5195","TOPS* 59 100,-Ft","RC Termék",null,null,null,68100,59100]
[{"$f":"IF(L817=FALSE,0,COUNTIF(A$3:A816,\">0\")+1)","v":0},8951000155,"RC5195K  HAMMER KIT METAL","TOPS* 81 800,-Ft","RC Termék",null,null,null,null,81800]
[{"$f":"IF(L818=FALSE,0,COUNTIF(A$3:A817,\">0\")+1)","v":0},8951000176,"MGM2","TOPS* 71 800,-Ft","RC Termék",null,null,null,null,71800]
[{"$f":"IF(L819=FALSE,0,COUNTIF(A$3:A818,\">0\")+1)","v":0},8951000177,"BALLON JACK_BC2-2S   2T 2ST (SH HANDLE)","TOPS* 180 900,-Ft","RC Termék",null,null,null,212200,180900]
[{"$f":"IF(L820=FALSE,0,COUNTIF(A$3:A819,\">0\")+1)","v":0},8951000178,"BALLOON JACK_BC2-2L   2T 2ST (LG HANDLE)","TOPS* 180 900,-Ft","RC Termék",null,null,null,212200,180900]
[{"$f":"IF(L821=FALSE,0,COUNTIF(A$3:A820,\">0\")+1)","v":0},8951000179,"BALLON JACK_BC23L   2T 3ST (LG HANDLE)","TOPS* 245 100,-Ft","RC Termék",null,null,null,264700,245100]
[{"$f":"IF(L822=FALSE,0,COUNTIF(A$3:A821,\">0\")+1)","v":0},8951000182,"RC2277K - including SOCKET WP",",-Ft ","RC Termék"]
[{"$f":"IF(L823=FALSE,0,COUNTIF(A$3:A822,\">0\")+1)","v":0},8951000200,"DMS030",",-Ft ","RC Termék"]
[{"$f":"IF(L824=FALSE,0,COUNTIF(A$3:A823,\">0\")+1)","v":0},8951000202,"DMS200",{"$f":"IF(H824=\"SP\",IF(J824>0,\"SP: \"&TEXT(J824*I$1,\"# ###,-Ft  \"),\"SP: \"&TEXT(I824*I$1,\"# ###,-Ft\")),IF(J824>0,\"TOPS* \"&TEXT(J824*J$1,\"# ###,-Ft\"),TEXT(I824*I$1,\"# ###,-Ft  \")))","v":",-Ft "},"RC Termék"]
[{"$f":"IF(L825=FALSE,0,COUNTIF(A$3:A824,\">0\")+1)","v":0},8951000203,"DMS400",{"$f":"IF(H825=\"SP\",IF(J825>0,\"SP: \"&TEXT(J825*I$1,\"# ###,-Ft  \"),\"SP: \"&TEXT(I825*I$1,\"# ###,-Ft\")),IF(J825>0,\"TOPS* \"&TEXT(J825*J$1,\"# ###,-Ft\"),TEXT(I825*I$1,\"# ###,-Ft  \")))","v":",-Ft "},"RC Termék"]
[{"$f":"IF(L826=FALSE,0,COUNTIF(A$3:A825,\">0\")+1)","v":0},8951000204,"DMS1000",{"$f":"IF(H826=\"SP\",IF(J826>0,\"SP: \"&TEXT(J826*I$1,\"# ###,-Ft  \"),\"SP: \"&TEXT(I826*I$1,\"# ###,-Ft\")),IF(J826>0,\"TOPS* \"&TEXT(J826*J$1,\"# ###,-Ft\"),TEXT(I826*I$1,\"# ###,-Ft  \")))","v":",-Ft "},"RC Termék"]
[{"$f":"IF(L827=FALSE,0,COUNTIF(A$3:A826,\">0\")+1)","v":0},8951000208,"RC5185K HAMMER KIT CONCRETE",{"$f":"IF(H827=\"SP\",IF(J827>0,\"SP: \"&TEXT(J827*I$1,\"# ###,-Ft  \"),\"SP: \"&TEXT(I827*I$1,\"# ###,-Ft\")),IF(J827>0,\"TOPS* \"&TEXT(J827*J$1,\"# ###,-Ft\"),TEXT(I827*I$1,\"# ###,-Ft  \")))","v":"TOPS* 81 800,-Ft"},"RC Termék",null,null,null,null,81800]
[{"$f":"IF(L828=FALSE,0,COUNTIF(A$3:A827,\">0\")+1)","v":0},8951000209,"RC5195K HAMMER KIT CONCRETE",{"$f":"IF(H828=\"SP\",IF(J828>0,\"SP: \"&TEXT(J828*I$1,\"# ###,-Ft  \"),\"SP: \"&TEXT(I828*I$1,\"# ###,-Ft\")),IF(J828>0,\"TOPS* \"&TEXT(J828*J$1,\"# ###,-Ft\"),TEXT(I828*I$1,\"# ###,-Ft  \")))","v":"TOPS* 81 800,-Ft"},"RC Termék",null,null,null,null,81800]
[{"$f":"IF(L829=FALSE,0,COUNTIF(A$3:A828,\">0\")+1)","v":0},8951000213,"RC2277K + 1/2\" click wrench","Kifutó, érdeklődj!","RC Termék"]
[{"$f":"IF(L830=FALSE,0,COUNTIF(A$3:A829,\">0\")+1)","v":0},8951000215,"RC2202 + gloves (8951011002)",{"$f":"IF(H830=\"SP\",IF(J830>0,\"SP: \"&TEXT(J830*I$1,\"# ###,-Ft  \"),\"SP: \"&TEXT(I830*I$1,\"# ###,-Ft\")),IF(J830>0,\"*(\"&TEXT(I830*I$1,\"# ###,-\")&\") \n\"&TEXT(J830*J$1,\"# ###,-Ft\"),TEXT(I830*I$1,\"# ###,-Ft  \")))","v":",-Ft "},"RC Termék"]
[{"$f":"IF(L831=FALSE,0,COUNTIF(A$3:A830,\">0\")+1)","v":0},8951000219,"RH290A HYDRAULIC FOLDING JACK_810239 + RC2315 3/4\"",",-Ft ","RC Termék"]
[{"$f":"IF(L832=FALSE,0,COUNTIF(A$3:A831,\">0\")+1)","v":0},8951000216,"RH151 + JACKSTAND","Kifutó, érdeklődj!","RC Termék",null,0]
[{"$f":"IF(L833=FALSE,0,COUNTIF(A$3:A832,\">0\")+1)","v":0},8951000147,"RC7905 + RC7705V6","200 100,-Ft ","RC Termék",null,15400,null,200100]
[{"$f":"IF(L834=FALSE,0,COUNTIF(A$3:A833,\">0\")+1)","v":0},8951174001,"RC6606",",-Ft ","RC Termék",null,2400]
[{"$f":"IF(L835=FALSE,0,COUNTIF(A$3:A834,\">0\")+1)","v":0},8951072006,"RC7130","91 600,-Ft ","RC Termék",null,2280,null,91600]
[{"$f":"IF(L836=FALSE,0,COUNTIF(A$3:A835,\">0\")+1)","v":0},8951000220,"RC2277 + GLOVES",",-Ft ","RC Termék",null,0]
[{"$f":"IF(L837=FALSE,0,COUNTIF(A$3:A836,\">0\")+1)","v":0},8951089080,"HRZ05B PULL RAM",",-Ft ","RC Termék",null,7031]
[{"$f":"IF(L838=FALSE,0,COUNTIF(A$3:A837,\">0\")+1)","v":0},8951000221,"RC2377 + GLOVES",",-Ft ","RC Termék",null,0]
[{"$f":"IF(L839=FALSE,0,COUNTIF(A$3:A838,\">0\")+1)","v":0},8951000004,"RC7683 SMART REP","42 040,-Ft ","RC Termék",null,937,null,42040]
[{"$f":"IF(L840=FALSE,0,COUNTIF(A$3:A839,\">0\")+1)","v":0},8951089041,"AGS185",",-Ft ","RC Termék",null,1681]
[{"$f":"IF(L841=FALSE,0,COUNTIF(A$3:A840,\">0\")+1)","v":0},8951000218," RC2476 + SOCKETS",",-Ft ","RC Termék",null,0]
[{"$f":"IF(L842=FALSE,0,COUNTIF(A$3:A841,\">0\")+1)","v":0},8951000005,"RC7682 SMART REP","42 040,-Ft ","RC Termék",null,910,null,42040]
[{"$f":"IF(L843=FALSE,0,COUNTIF(A$3:A842,\">0\")+1)","v":0},8951000214," RC2257 + SOCKET SET",",-Ft ","RC Termék",null,0]
[{"$f":"IF(L844=FALSE,0,COUNTIF(A$3:A843,\">0\")+1)","v":0},8951000217,"RC2377 + SOCKET SET",",-Ft ","RC Termék",null,7850]
[{"$f":"IF(L845=FALSE,0,COUNTIF(A$3:A844,\">0\")+1)","v":0},8951000205,"PROMO RC2263TL+ DMS200+RS413LWP","Kifutó, érdeklődj!","RC Termék",null,6775]
[{"$f":"IF(L846=FALSE,0,COUNTIF(A$3:A845,\">0\")+1)","v":0},8951000198,"RC2147",",-Ft ","RC Termék",null,1500]
[{"$f":"IF(L847=FALSE,0,COUNTIF(A$3:A846,\">0\")+1)","v":0},8951000199,"RC2247",",-Ft ","RC Termék",null,1866]
[{"$f":"IF(L848=FALSE,0,COUNTIF(A$3:A847,\">0\")+1)","v":0},8951000195,"RC2003","72 200,-Ft ","RC Termék",null,532,null,72200]
[{"$f":"IF(L849=FALSE,0,COUNTIF(A$3:A848,\">0\")+1)","v":0},8951000196,"RC2101","72 200,-Ft ","RC Termék",null,532,null,72200]
[{"$f":"IF(L850=FALSE,0,COUNTIF(A$3:A849,\">0\")+1)","v":0},8951073126,"RC4400  w/t CHUCK","58 900,-Ft ","RC Termék",null,1600,null,58900]
[{"$f":"IF(L851=FALSE,0,COUNTIF(A$3:A850,\">0\")+1)","v":0},8941081120,"CP8112-XA","189 700,-Ft ","RC Termék",null,14070,null,189700]
[{"$f":"IF(L852=FALSE,0,COUNTIF(A$3:A851,\">0\")+1)","v":0},8951000116,"RC4207   13MM",",-Ft ","RC Termék",null,1172]
[{"$f":"IF(L853=FALSE,0,COUNTIF(A$3:A852,\">0\")+1)","v":0},8951000054,"RC SANDING AND EXTRACTION KIT",",-Ft ","RC Termék",null,31990]
[{"$f":"IF(L854=FALSE,0,COUNTIF(A$3:A853,\">0\")+1)","v":0},8951000210,"RC7171 4\"",{"$f":"IF(H854=\"SP\",IF(J854>0,\"SP: \"&TEXT(J854*I$1,\"# ###,-Ft  \"),\"SP: \"&TEXT(I854*I$1,\"# ###,-Ft\")),IF(J854>0,\"TOPS* \"&TEXT(J854*J$1,\"# ###,-Ft\"),TEXT(I854*I$1,\"# ###,-Ft  \")))","v":",-Ft "},"RC Termék",null,1982]
[{"$f":"IF(L855=FALSE,0,COUNTIF(A$3:A854,\">0\")+1)","v":0},8951000211,"RC7172 4-1/2 \"",{"$f":"IF(H855=\"SP\",IF(J855>0,\"SP: \"&TEXT(J855*I$1,\"# ###,-Ft  \"),\"SP: \"&TEXT(I855*I$1,\"# ###,-Ft\")),IF(J855>0,\"TOPS* \"&TEXT(J855*J$1,\"# ###,-Ft\"),TEXT(I855*I$1,\"# ###,-Ft  \")))","v":"97 400,-Ft "},"RC Termék",null,2159,null,97400]
[{"$f":"IF(L856=FALSE,0,COUNTIF(A$3:A855,\">0\")+1)","v":0},8951000212,"RC7173 5\"",{"$f":"IF(H856=\"SP\",IF(J856>0,\"SP: \"&TEXT(J856*I$1,\"# ###,-Ft  \"),\"SP: \"&TEXT(I856*I$1,\"# ###,-Ft\")),IF(J856>0,\"TOPS* \"&TEXT(J856*J$1,\"# ###,-Ft\"),TEXT(I856*I$1,\"# ###,-Ft  \")))","v":"TOPS* 88 900,-Ft"},"RC Termék",null,2189,null,97400,88900]
[{"$f":"IF(L857=FALSE,0,COUNTIF(A$3:A856,\">0\")+1)","v":0},8940171704,"CP8114-XA 12/24V","417 000,-Ft ","RC Termék",null,25000,null,417000]
[{"$f":"IF(L858=FALSE,0,COUNTIF(A$3:A857,\">0\")+1)","v":0},8951000083,"RC7181 7\"   M14","162 200,-Ft ","RC Termék",null,4204,null,162200]
[{"$f":"IF(L859=FALSE,0,COUNTIF(A$3:A858,\">0\")+1)","v":0},8951000084,"RC7183","162 200,-Ft ","RC Termék",null,4218,null,162200]
[{"$f":"IF(L860=FALSE,0,COUNTIF(A$3:A859,\">0\")+1)","v":0},8951000115,"RC7684    6MM",{"$f":"IF(H860=\"SP\",IF(J860>0,\"SP: \"&TEXT(J860*I$1,\"# ###,-Ft  \"),\"SP: \"&TEXT(I860*I$1,\"# ###,-Ft\")),IF(J860>0,\"TOPS* \"&TEXT(J860*J$1,\"# ###,-Ft\"),TEXT(I860*I$1,\"# ###,-Ft  \")))","v":",-Ft "},"RC Termék",null,1600]
[{"$f":"IF(L861=FALSE,0,COUNTIF(A$3:A860,\">0\")+1)","v":0},8951000118,"RC7684RE w/ DUS",",-Ft ","RC Termék",null,1420]
[{"$f":"IF(L862=FALSE,0,COUNTIF(A$3:A861,\">0\")+1)","v":0},8951000119,"RC7686RE",",-Ft ","RC Termék",null,1200]
[{"$f":"IF(L863=FALSE,0,COUNTIF(A$3:A862,\">0\")+1)","v":0},8951000166,"WK1000",{"$f":"IF(H863=\"SP\",IF(J863>0,\"SP: \"&TEXT(J863*I$1,\"# ###,-Ft  \"),\"SP: \"&TEXT(I863*I$1,\"# ###,-Ft\")),IF(J863>0,\"TOPS* \"&TEXT(J863*J$1,\"# ###,-Ft\"),TEXT(I863*I$1,\"# ###,-Ft  \")))","v":"TOPS* 187 300,-Ft"},"RC Termék",null,null,null,195200,187300]
[{"$f":"IF(L864=FALSE,0,COUNTIF(A$3:A863,\">0\")+1)","v":0},8951000168,"RHW703  700KG",{"$f":"IF(H864=\"SP\",IF(J864>0,\"SP: \"&TEXT(J864*I$1,\"# ###,-Ft  \"),\"SP: \"&TEXT(I864*I$1,\"# ###,-Ft\")),IF(J864>0,\"TOPS* \"&TEXT(J864*J$1,\"# ###,-Ft\"),TEXT(I864*I$1,\"# ###,-Ft  \")))","v":"TOPS* 375 000,-Ft"},"RC Termék",null,138000,null,null,375000]
[{"$f":"IF(L865=FALSE,0,COUNTIF(A$3:A864,\">0\")+1)","v":0},8951000169,"RHW120 HYDRAULIC 1200KG",{"$f":"IF(H865=\"C\",IF(J865>0,\"C #: \"&TEXT(J865*I$1,\"# ###,-Ft  \"),\"C #: \"&TEXT(I865*I$1,\"# ###,-Ft\")),IF(J865>0,\"TOPS* \"&TEXT(J865*J$1,\"# ###,-Ft\"),TEXT(I865*I$1,\"# ###,-Ft  \")))","v":"C #: 508 000,-Ft "},"RC Termék",null,170000,"C",null,508000]
[{"$f":"IF(L866=FALSE,0,COUNTIF(A$3:A865,\">0\")+1)","v":0},8951000170,"WP75P","C #: 1 076 000,-Ft ","RC Termék",null,498000,"C",1463000,1076000]
[{"$f":"IF(L867=FALSE,0,COUNTIF(A$3:A866,\">0\")+1)","v":0},8951000171,"WP100P","C #: 1 528 000,-Ft ","RC Termék",null,662000,"C",2118000,1528000]
[{"$f":"IF(L868=FALSE,0,COUNTIF(A$3:A867,\">0\")+1)","v":0},8951000180,"BMC 35*28*8.5","Kifutó, érdeklődj!","RC Termék",null,0]
[{"$f":"IF(L869=FALSE,0,COUNTIF(A$3:A868,\">0\")+1)","v":0},8951012217,"8502N","840,-Ft ","RC Termék",null,20,null,840]
[{"$f":"IF(L870=FALSE,0,COUNTIF(A$3:A869,\">0\")+1)","v":0},8951075021,"RC7160   100X16",",-Ft ","RC Termék",null,2161]
[{"$f":"IF(L871=FALSE,0,COUNTIF(A$3:A870,\">0\")+1)","v":0},8951085161,"USB16H  16T HIGH",",-Ft ","RC Termék",null,21000]
[{"$f":"IF(L872=FALSE,0,COUNTIF(A$3:A871,\">0\")+1)","v":0},8951000222,"PROMO PACK_RC2277+ RS4114",",-Ft ","RC Termék",null,4680]
[{"$f":"IF(L873=FALSE,0,COUNTIF(A$3:A872,\">0\")+1)","v":0},8951000267,"IMPACT WRENCH PROMO RC2202 + RS4114",",-Ft ","RC Termék",null,3750]
[{"$f":"IF(L874=FALSE,0,COUNTIF(A$3:A873,\">0\")+1)","v":0},8951000293,"PROMO PACK_RC2277K + DMS200",",-Ft ","RC Termék",null,7525]
[{"$f":"IF(L875=FALSE,0,COUNTIF(A$3:A874,\">0\")+1)","v":0},8951000268,"IMPACT WRENCH PROMO RC2277 + RS4114D",",-Ft ","RC Termék",null,6500]
[{"$f":"IF(L876=FALSE,0,COUNTIF(A$3:A875,\">0\")+1)","v":0},8951000286,"IMPACT WRENCH_RC2235",{"$f":"IF(H876=\"SP\",IF(J876>0,\"SP: \"&TEXT(J876*I$1,\"# ###,-Ft  \"),\"SP: \"&TEXT(I876*I$1,\"# ###,-Ft\")),IF(J876>0,\"TOPS* \"&TEXT(J876*J$1,\"# ###,-Ft\"),TEXT(I876*I$1,\"# ###,-Ft  \")))","v":"TOPS* 80 600,-Ft"},"RC Termék",null,1.8,null,113300,80600]
[{"$f":"IF(L877=FALSE,0,COUNTIF(A$3:A876,\">0\")+1)","v":0},8951000292,"PROMO PACK_RC2277 + RC3607",",-Ft ","RC Termék",null,4150]
[{"$f":"IF(L878=FALSE,0,COUNTIF(A$3:A877,\">0\")+1)","v":0},8951000223,"PROMO PACK_RC2377 + RC3700",",-Ft ","RC Termék",null,6072]
[{"$f":"IF(L879=FALSE,0,COUNTIF(A$3:A878,\">0\")+1)","v":0},8951000288,"PROMO IMPACT_RC2476 + RC2202 + OIL",",-Ft ","RC Termék",null,17000]
[{"$f":"IF(L880=FALSE,0,COUNTIF(A$3:A879,\">0\")+1)","v":0},8951011498,"NEEDLE 3MM x 120 5615 ST (SET 12)","4 200,-Ft ","RC Termék",null,"NA",null,4200]
[{"$f":"IF(L881=FALSE,0,COUNTIF(A$3:A880,\">0\")+1)","v":0},8955000098,"ADAPTOR 5/16 MALE THREAD,M14 MALE THREAD","2 240,-Ft ","RC Termék",null,"NA",null,2240]
[{"$f":"IF(L882=FALSE,0,COUNTIF(A$3:A881,\">0\")+1)","v":0},8951011418,842116,"840,-Ft ","RC Termék",null,"NA",null,840]
[{"$f":"IF(L883=FALSE,0,COUNTIF(A$3:A882,\">0\")+1)","v":0},8951011527,"CIRCULAR SAW BLADE D50 92T - 650192","11 770,-Ft ","RC Termék",null,"NA",null,11770]
[{"$f":"IF(L884=FALSE,0,COUNTIF(A$3:A883,\">0\")+1)","v":0},8951000140,"GAUGE (HRS04 & HRS10)","16 810,-Ft ","RC Termék",null,"NA",null,16810]
[{"$f":"IF(L885=FALSE,0,COUNTIF(A$3:A884,\">0\")+1)","v":0},8951000141,"GAUGE (HRS20)","16 810,-Ft ","RC Termék",null,"NA",null,16810]
[{"$f":"IF(L886=FALSE,0,COUNTIF(A$3:A885,\">0\")+1)","v":0},8951000189,"FRL 1/4\"  + 1L OIL",",-Ft ","RC Termék",null,"NA"]
[{"$f":"IF(L887=FALSE,0,COUNTIF(A$3:A886,\">0\")+1)","v":0},8951000190,"FRL 1/2\" + 1LOIL",",-Ft ","RC Termék",null,"NA"]
[{"$f":"IF(L888=FALSE,0,COUNTIF(A$3:A887,\">0\")+1)","v":0},8951000191,"HOSE REEL SAR21 + GLOVE","83 300,-Ft ","RC Termék",null,"NA",null,83300]
[{"$f":"IF(L889=FALSE,0,COUNTIF(A$3:A888,\">0\")+1)","v":0},8951000192,"HOSE REEL SAR22 + GLOVE","116 000,-Ft ","RC Termék",null,"NA",null,116000]
[{"$f":"IF(L890=FALSE,0,COUNTIF(A$3:A889,\">0\")+1)","v":0},8951000193,"HOSE REEL SAR31 + GLOVE","99 600,-Ft ","RC Termék",null,"NA",null,99600]
[{"$f":"IF(L891=FALSE,0,COUNTIF(A$3:A890,\">0\")+1)","v":0},8951000194,"HOSE REEL  SAR32 + GLOVE","149 000,-Ft ","RC Termék",null,"NA",null,149000]
[{"$f":"IF(L892=FALSE,0,COUNTIF(A$3:A891,\">0\")+1)","v":0},8951011047,810274,"10 650,-Ft ","RC Termék",null,"NA",null,10650]
[{"$f":"IF(L893=FALSE,0,COUNTIF(A$3:A892,\">0\")+1)","v":0},8951011052,810296,"23 530,-Ft ","RC Termék",null,"NA",null,23530]
[{"$f":"IF(L894=FALSE,0,COUNTIF(A$3:A893,\">0\")+1)","v":0},8951011467,844023,"840,-Ft ","RC Termék",null,"NA",null,840]
[{"$f":"IF(L895=FALSE,0,COUNTIF(A$3:A894,\">0\")+1)","v":0},8951012163,889011,"54 200,-Ft ","RC Termék",null,"NA",null,54200]
[{"$f":"IF(L896=FALSE,0,COUNTIF(A$3:A895,\">0\")+1)","v":0},8951010199,8766315,",-Ft ","RC Termék",null,"NA"]
[{"$f":"IF(L897=FALSE,0,COUNTIF(A$3:A896,\">0\")+1)","v":0},8951010201,8766318,",-Ft ","RC Termék",null,"NA"]
[{"$f":"IF(L898=FALSE,0,COUNTIF(A$3:A897,\">0\")+1)","v":0},8951010237,8766582,",-Ft ","RC Termék",null,"NA"]
[{"$f":"IF(L899=FALSE,0,COUNTIF(A$3:A898,\">0\")+1)","v":0},8951000269,"AIR HYDRAULIC JACK 30T_ATJ30-2",{"$f":"IF(H899=\"SP\",IF(J899>0,\"SP: \"&TEXT(J899*I$1,\"# ###,-Ft  \"),\"SP: \"&TEXT(I899*I$1,\"# ###,-Ft\")),IF(J899>0,\"TOPS* \"&TEXT(J899*J$1,\"# ###,-Ft\"),TEXT(I899*I$1,\"# ###,-Ft  \")))","v":"TOPS* 413 000,-Ft"},"RC Termék",null,42000,null,489000,413000]
[{"$f":"IF(L900=FALSE,0,COUNTIF(A$3:A899,\">0\")+1)","v":0},8951000294,"PROMO PACK_ATJ30-2 + RHW1",",-Ft ","RC Termék",null,0]
[{"$f":"IF(L901=FALSE,0,COUNTIF(A$3:A900,\">0\")+1)","v":0},8951000270,"AIR HYDRAULIC JACK 50T_ATJ50-3",{"$f":"IF(H901=\"C\",IF(J901>0,\"C #: \"&TEXT(J901*I$1,\"# ###,-Ft  \"),\"C #: \"&TEXT(I901*I$1,\"# ###,-Ft\")),IF(J901>0,\"TOPS* \"&TEXT(J901*J$1,\"# ###,-Ft\"),TEXT(I901*I$1,\"# ###,-Ft  \")))","v":"C #: 581 000,-Ft "},"RC Termék",null,65000,"C",611000,581000]
[{"$f":"IF(L902=FALSE,0,COUNTIF(A$3:A901,\">0\")+1)","v":0},8951000295,"PROMO PACK_ATJ50-3 + RHW1",",-Ft ","RC Termék",null,88000]
[{"$f":"IF(L903=FALSE,0,COUNTIF(A$3:A902,\">0\")+1)","v":0},8951000272,"AIR HYDRAULIC JACK 80T_ATJ80-2",{"$f":"IF(H903=\"C\",IF(J903>0,\"C #: \"&TEXT(J903*I$1,\"# ###,-Ft  \"),\"C #: \"&TEXT(I903*I$1,\"# ###,-Ft\")),IF(J903>0,\"TOPS* \"&TEXT(J903*J$1,\"# ###,-Ft\"),TEXT(I903*I$1,\"# ###,-Ft  \")))","v":"C #: 916 000,-Ft "},"RC Termék",null,105000,"C",null,916000]
[{"$f":"IF(L904=FALSE,0,COUNTIF(A$3:A903,\">0\")+1)","v":0},8951000296,"RC7210 Head light repair kit",{"$f":"IF(H904=\"SP\",IF(J904>0,\"SP: \"&TEXT(J904*I$1,\"# ###,-Ft  \"),\"SP: \"&TEXT(I904*I$1,\"# ###,-Ft\")),IF(J904>0,\"TOPS* \"&TEXT(J904*J$1,\"# ###,-Ft\"),TEXT(I904*I$1,\"# ###,-Ft  \")))","v":"TOPS* 122 500,-Ft"},"RC Termék",null,null,null,149000,122500]
[{"$f":"IF(L905=FALSE,0,COUNTIF(A$3:A904,\">0\")+1)","v":0},8956001300," RC250 SUPER CAPACITOR 250F","TOPS* 255 000,-Ft","RC Termék",null,null,null,421000,255000]
[{"$f":"IF(L906=FALSE,0,COUNTIF(A$3:A905,\">0\")+1)","v":0},8956001301," RC500 SUPER CAPACITOR 500F","TOPS* 277 200,-Ft","RC Termék",null,null,null,494000,277200]
[{"$f":"IF(L907=FALSE,0,COUNTIF(A$3:A906,\">0\")+1)","v":0},8956001322,"WINDSCREEN REMOVAL BLADES","TOPS* 10 620,-Ft","RC Termék",null,null,null,11770,10620]
[{"$f":"IF(L908=FALSE,0,COUNTIF(A$3:A907,\">0\")+1)","v":0},8956001321,"WINDSCREEN REMOVAL BLADES","TOPS* 21 800,-Ft","RC Termék",null,null,null,24090,21800]
[{"$f":"IF(L909=FALSE,0,COUNTIF(A$3:A908,\">0\")+1)","v":0},8956001328,"WINDSCREEN REMOVAL BLADES","TOPS* 17 110,-Ft","RC Termék",null,null,null,17930,17110]
[{"$f":"IF(L910=FALSE,0,COUNTIF(A$3:A909,\">0\")+1)","v":0},8956001320,"WINDSCREEN REMOVAL BLADES","TOPS* 21 800,-Ft","RC Termék",null,null,null,24090,21800]
[{"$f":"IF(L911=FALSE,0,COUNTIF(A$3:A910,\">0\")+1)","v":0},8956001324,"WINDSCREEN REMOVAL BLADES","TOPS* 17 890,-Ft","RC Termék",null,null,null,21010,17890]
[{"$f":"IF(L912=FALSE,0,COUNTIF(A$3:A911,\">0\")+1)","v":0},8956001323,"WINDSCREEN REMOVAL BLADES","TOPS* 10 620,-Ft","RC Termék",null,null,null,11770,10620]
[{"$f":"IF(L913=FALSE,0,COUNTIF(A$3:A912,\">0\")+1)","v":0},8956001326,"WINDSCREEN REMOVAL BLADES","TOPS* 10 620,-Ft","RC Termék",null,null,null,11770,10620]
[{"$f":"IF(L914=FALSE,0,COUNTIF(A$3:A913,\">0\")+1)","v":0},8956001327,"WINDSCREEN REMOVAL BLADES SET","TOPS* 63 500,-Ft","RC Termék",null,null,null,71900,63500]
[{"$f":"IF(L915=FALSE,0,COUNTIF(A$3:A914,\">0\")+1)","v":0},8956001325,"WINDSCREEN REMOVAL BLADES","TOPS* 20 130,-Ft","RC Termék",null,null,null,24090,20130]
[{"$f":"IF(L916=FALSE,0,COUNTIF(A$3:A915,\">0\")+1)","v":0},8950290152,"FIXTURE FOR HAMMER CASE",",-Ft ","RC Termék"]
[{"$f":"IF(L917=FALSE,0,COUNTIF(A$3:A916,\">0\")+1)","v":0},8951000290,"OIL PROTECTO-LUBE 591ML  RODCRAFT","TOPS* 2 280,-Ft","RC Termék",null,null,null,null,2280]
[{"$f":"IF(L918=FALSE,0,COUNTIF(A$3:A917,\">0\")+1)","v":0},8951000349,"RC2277-D IMPACT WRENCH NEW","TOPS* 57 500,-Ft","RC Termék",null,null,null,85200,57500]
[{"$f":"IF(L919=FALSE,0,COUNTIF(A$3:A918,\">0\")+1)","v":0},8950311437,"_STEM USB1,5A-01",",-Ft ","RC Termék"]
[{"$f":"IF(L920=FALSE,0,COUNTIF(A$3:A919,\">0\")+1)","v":0},8950311438,"_STEM USB1,5HA-01",",-Ft ","RC Termék"]
[{"$f":"IF(L921=FALSE,0,COUNTIF(A$3:A920,\">0\")+1)","v":0},8950311444,"_STEM USB12GA-01",",-Ft ","RC Termék"]
[{"$f":"IF(L922=FALSE,0,COUNTIF(A$3:A921,\">0\")+1)","v":0},8950311445,"_STEM USB12HGA-01",",-Ft ","RC Termék"]
[{"$f":"IF(L923=FALSE,0,COUNTIF(A$3:A922,\">0\")+1)","v":0},8950311439,"_STEM USB3A-01",",-Ft ","RC Termék"]
[{"$f":"IF(L924=FALSE,0,COUNTIF(A$3:A923,\">0\")+1)","v":0},8950311440,"_STEM USB5A-01",",-Ft ","RC Termék"]
[{"$f":"IF(L925=FALSE,0,COUNTIF(A$3:A924,\">0\")+1)","v":0},8950311442,"_STEM USB8A-01",",-Ft ","RC Termék"]
[{"$f":"IF(L926=FALSE,0,COUNTIF(A$3:A925,\">0\")+1)","v":0},8950311443,"_STEM USB8HA-01",",-Ft ","RC Termék"]
[{"$f":"IF(L927=FALSE,0,COUNTIF(A$3:A926,\">0\")+1)","v":0},8950311441,"_STEM USBN5A-01",",-Ft ","RC Termék"]
[{"$f":"IF(L928=FALSE,0,COUNTIF(A$3:A927,\">0\")+1)","v":0},8951000344,"IMPACT WRENCH_RC2268","TOPS* 42 900,-Ft","RC Termék",null,null,null,57000,42900,null,null,null,43520]
[{"$f":"IF(L929=FALSE,0,COUNTIF(A$3:A928,\">0\")+1)","v":0},8951000358,"RC2277K - including SOCKET WP","93 800,-Ft ","RC Termék",null,null,null,93800]
[{"$f":"IF(L930=FALSE,0,COUNTIF(A$3:A929,\">0\")+1)","v":0},8951000357,"RC2277 THE BEAST with multi tool","TOPS* 84 200,-Ft","RC Termék",null,null,null,93800,84200]
[{"$f":"IF(L931=FALSE,0,COUNTIF(A$3:A930,\">0\")+1)","v":0},8951000328,"RC7038 Eraser","TOPS* 44 440,-Ft","RC Termék",null,null,null,49000,44440]
[{"$f":"IF(L932=FALSE,0,COUNTIF(A$3:A931,\">0\")+1)","v":0},8951000329,"RC7068 Die grinder","TOPS* 43 330,-Ft","RC Termék",null,null,null,45940,43330]
[{"$f":"IF(L933=FALSE,0,COUNTIF(A$3:A932,\">0\")+1)","v":0},8951000330,"RC7088 Tyre buffer","TOPS* 45 550,-Ft","RC Termék",null,null,null,49560,45550]
[{"$f":"IF(L934=FALSE,0,COUNTIF(A$3:A933,\">0\")+1)","v":0},8951000369,"RC3068","TOPS* 30 890,-Ft","RC Termék",null,null,null,44550,30890]
[{"$f":"IF(L935=FALSE,0,COUNTIF(A$3:A934,\">0\")+1)","v":0},8951000370,"RC3268","TOPS* 30 890,-Ft","RC Termék",null,null,null,44550,30890]
[{"$f":"IF(L936=FALSE,0,COUNTIF(A$3:A935,\">0\")+1)","v":0},8951000371,"RC3278","TOPS* 41 360,-Ft","RC Termék",null,null,null,55100,41360]
[{"$f":"IF(L937=FALSE,0,COUNTIF(A$3:A936,\">0\")+1)","v":0},8951000372,"RC3678","TOPS* 41 360,-Ft","RC Termék",null,null,null,55100,41360]
[{"$f":"IF(L938=FALSE,0,COUNTIF(A$3:A937,\">0\")+1)","v":0},8951000377,"RC2277K - including SOCKET WP with SOFTBAG ","TOPS* 84 200,-Ft","RC Termék",null,null,null,91000,84200]
[{"$f":"IF(L939=FALSE,0,COUNTIF(A$3:A938,\">0\")+1)","v":0},8951000354,"RC2461","TOPS* 170 300,-Ft","RC Termék",null,null,null,245300,170300]
[{"$f":"IF(L940=FALSE,0,COUNTIF(A$3:A939,\">0\")+1)","v":0},8951000355,"RC2471","TOPS* 170 300,-Ft","RC Termék",null,null,null,245300,170300]
[{"$f":"IF(L941=FALSE,0,COUNTIF(A$3:A940,\">0\")+1)","v":0},8951000373,"RC5185K HAMMER KIT METAL","TOPS* 67 100,-Ft","RC Termék",null,null,null,85200,67100]
[{"$f":"IF(L942=FALSE,0,COUNTIF(A$3:A941,\">0\")+1)","v":0},8951000374,"RC5195K  HAMMER KIT METAL","TOPS* 67 100,-Ft","RC Termék",null,null,null,85200,67100]
[{"$f":"IF(L943=FALSE,0,COUNTIF(A$3:A942,\">0\")+1)","v":0},8951000375,"RC5185K HAMMER KIT CONCRETE","TOPS* 67 100,-Ft","RC Termék",null,null,null,85200,67100]
[{"$f":"IF(L944=FALSE,0,COUNTIF(A$3:A943,\">0\")+1)","v":0},8951000376,"RC5195K HAMMER KIT CONCRETE","TOPS* 67 100,-Ft","RC Termék",null,null,null,85200,67100]
[{"$f":"IF(L945=FALSE,0,COUNTIF(A$3:A944,\">0\")+1)","v":0},8951000366,"RC7915 35l VACUUM CLEANER",{"$f":"IF(H945=\"C\",IF(J945>0,\"C #: \"&TEXT(J945*I$1,\"# ###,-Ft  \"),\"C #: \"&TEXT(I945*I$1,\"# ###,-Ft\")),IF(J945>0,\"TOPS* \"&TEXT(J945*J$1,\"# ###,-Ft\"),TEXT(I945*I$1,\"# ###,-Ft  \")))","v":"C #: 509 000,-Ft "},"RC Termék",null,null,"C",582000,509000]
[{"$f":"IF(L946=FALSE,0,COUNTIF(A$3:A945,\">0\")+1)","v":0},8941081121,"BOTTLE JACK  12T FAST",{"$f":"IF(H946=\"SP\",IF(J946>0,\"SP: \"&TEXT(J946*I$1,\"# ###,-Ft  \"),\"SP: \"&TEXT(I946*I$1,\"# ###,-Ft\")),IF(J946>0,\"STARS* \"&TEXT(J946*J$1,\"# ###,-Ft\"),TEXT(I946*I$1,\"# ###,-Ft  \")))","v":"73 000,-Ft "},"CP Termék",null,0,null,73000]
[{"$f":"IF(L947=FALSE,0,COUNTIF(A$3:A946,\">0\")+1)","v":0},8941081122,"BOTTLE JACK  12T LOW","69 400,-Ft ","CP Termék",null,0,null,69400]
[{"$f":"IF(L948=FALSE,0,COUNTIF(A$3:A947,\">0\")+1)","v":0},8941081201,"BOTTLE JACK  20T FAST","98 300,-Ft ","CP Termék",null,0,null,98300]
[{"$f":"IF(L949=FALSE,0,COUNTIF(A$3:A948,\">0\")+1)","v":0},8941081502,"BOTTLE JACK  50T LOW","STARS* 162 800,-Ft","CP Termék",null,0,null,234700,162800]
[{"$f":"IF(L950=FALSE,0,COUNTIF(A$3:A949,\">0\")+1)","v":0},6151590160,"CP0611-D28H 1\" HOLE",{"$f":"IF(H950=\"C\",IF(J950>0,\"C #: \"&TEXT(J950*I$1,\"# ###,-Ft  \"),\"C #: \"&TEXT(I950*I$1,\"# ###,-Ft\")),IF(J950>0,\"TOPS* \"&TEXT(J950*J$1,\"# ###,-Ft\"),TEXT(I950*I$1,\"# ###,-Ft  \")))","v":"C #: 1 710 000,-Ft"},"CP Termék",null,11940,"C",1710000]
[{"$f":"IF(L951=FALSE,0,COUNTIF(A$3:A950,\">0\")+1)","v":0},6151590060,"CP0611P-RLS SP5","C #: 1 594 000,-Ft","CP Termék",null,0,"C",1594000]
[{"$f":"IF(L952=FALSE,0,COUNTIF(A$3:A951,\">0\")+1)","v":0},6151600460,"CP3000-325R+ WHIP",",-Ft ","CP Termék",null,1075]
[{"$f":"IF(L953=FALSE,0,COUNTIF(A$3:A952,\">0\")+1)","v":0},6151600490,"CP3000-415R+WHIP",",-Ft ","CP Termék",null,0]
[{"$f":"IF(L954=FALSE,0,COUNTIF(A$3:A953,\">0\")+1)","v":0},6151600510,"CP3000-418R + WHIP",",-Ft ","CP Termék",null,1308]
[{"$f":"IF(L955=FALSE,0,COUNTIF(A$3:A954,\">0\")+1)","v":0},6151600530,"CP3000-420R + WHIP",{"$f":"IF(H955=\"SP\",IF(J955>0,\"SP: \"&TEXT(J955*I$1,\"# ###,-Ft  \"),\"SP: \"&TEXT(I955*I$1,\"# ###,-Ft\")),IF(J955>0,\"STARS* \"&TEXT(J955*J$1,\"# ###,-Ft\"),TEXT(I955*I$1,\"# ###,-Ft  \")))","v":",-Ft "},"CP Termék",null,0]
[{"$f":"IF(L956=FALSE,0,COUNTIF(A$3:A955,\">0\")+1)","v":0},6151600550,"CP3000-424R + WHIP",",-Ft ","CP Termék",null,0]
[{"$f":"IF(L957=FALSE,0,COUNTIF(A$3:A956,\">0\")+1)","v":0},6151600570,"CP3000-515R + WHIP",",-Ft ","CP Termék",null,1377]
[{"$f":"IF(L958=FALSE,0,COUNTIF(A$3:A957,\">0\")+1)","v":0},6151600590,"CP3000-518R + WHIP",",-Ft ","CP Termék",null,0]
[{"$f":"IF(L959=FALSE,0,COUNTIF(A$3:A958,\">0\")+1)","v":0},6151600610,"CP3000-520R + WHIP",",-Ft ","CP Termék",null,1416]
[{"$f":"IF(L960=FALSE,0,COUNTIF(A$3:A959,\">0\")+1)","v":0},6151604260,"CP3030-325R + WHIP",",-Ft ","CP Termék",null,1235]
[{"$f":"IF(L961=FALSE,0,COUNTIF(A$3:A960,\">0\")+1)","v":0},6151604280,"CP3030-330R + WHIP",{"$f":"IF(H961=\"SP\",IF(J961>0,\"SP: \"&TEXT(J961*I$1,\"# ###,-Ft  \"),\"SP: \"&TEXT(I961*I$1,\"# ###,-Ft\")),IF(J961>0,\"STARS* \"&TEXT(J961*J$1,\"# ###,-Ft\"),TEXT(I961*I$1,\"# ###,-Ft  \")))","v":",-Ft "},"CP Termék",null,0]
[{"$f":"IF(L962=FALSE,0,COUNTIF(A$3:A961,\">0\")+1)","v":0},6151620270,"CP3030-415AFR 3\" + WHIP",",-Ft ","CP Termék",null,0]
[{"$f":"IF(L963=FALSE,0,COUNTIF(A$3:A962,\">0\")+1)","v":0},6151604290,"CP3030-418R + WHIP",",-Ft ","CP Termék",null,1400]
[{"$f":"IF(L964=FALSE,0,COUNTIF(A$3:A963,\">0\")+1)","v":0},6151620280,"CP3030-420AFR 3\" + WHIP",",-Ft ","CP Termék",null,0]
[{"$f":"IF(L965=FALSE,0,COUNTIF(A$3:A964,\">0\")+1)","v":0},6151604310,"CP3030-420R + WHIP",",-Ft ","CP Termék",null,1589]
[{"$f":"IF(L966=FALSE,0,COUNTIF(A$3:A965,\">0\")+1)","v":0},6151604330,"CP3030-424R + WHIP",",-Ft ","CP Termék",null,0]
[{"$f":"IF(L967=FALSE,0,COUNTIF(A$3:A966,\">0\")+1)","v":0},6151620290,"CP3030-515AFR 3\" + WHIP",",-Ft ","CP Termék",null,1304]
[{"$f":"IF(L968=FALSE,0,COUNTIF(A$3:A967,\">0\")+1)","v":0},6151604360,"CP3030-520R + WHIP",{"$f":"IF(H968=\"SP\",IF(J968>0,\"SP: \"&TEXT(J968*I$1,\"# ###,-Ft  \"),\"SP: \"&TEXT(I968*I$1,\"# ###,-Ft\")),IF(J968>0,\"STARS* \"&TEXT(J968*J$1,\"# ###,-Ft\"),TEXT(I968*I$1,\"# ###,-Ft  \")))","v":",-Ft "},"CP Termék",null,0]
[{"$f":"IF(L969=FALSE,0,COUNTIF(A$3:A968,\">0\")+1)","v":0},6151609160,"CP3349-SALAVADE + AIRFLEX",",-Ft ","CP Termék",null,0]
[{"$f":"IF(L970=FALSE,0,COUNTIF(A$3:A969,\">0\")+1)","v":0},6151609170,"CP3349-SALAVEL + AIRFLEX",",-Ft ","CP Termék",null,0]
[{"$f":"IF(L971=FALSE,0,COUNTIF(A$3:A970,\">0\")+1)","v":0},6151609180,"CP3349-SALAVELE + AIRFLEX",",-Ft ","CP Termék",null,6045]
[{"$f":"IF(L972=FALSE,0,COUNTIF(A$3:A971,\">0\")+1)","v":0},6151609190,"CP3349-SALAVET + AIRFLEX",",-Ft ","CP Termék",null,0]
[{"$f":"IF(L973=FALSE,0,COUNTIF(A$3:A972,\">0\")+1)","v":0},6151609200,"CP3349-SALAVETE + AIRFLEX",",-Ft ","CP Termék",null,6220]
[{"$f":"IF(L974=FALSE,0,COUNTIF(A$3:A973,\">0\")+1)","v":0},6151604370,"CP3450 -12AC4 4\" + TUNEUPKIT + OIL",",-Ft ","CP Termék",null,3025]
[{"$f":"IF(L975=FALSE,0,COUNTIF(A$3:A974,\">0\")+1)","v":0},6151604380,"CP3450-12AA5 5\" + TUNEUPKIT + OIL",",-Ft ","CP Termék",null,3042]
[{"$f":"IF(L976=FALSE,0,COUNTIF(A$3:A975,\">0\")+1)","v":0},6151604390,"CP3450-12AB5 5\" + TUNEUPKIT + OIL",",-Ft ","CP Termék",null,0]
[{"$f":"IF(L977=FALSE,0,COUNTIF(A$3:A976,\">0\")+1)","v":0},6151604400,"CP3450-12AC45 4,5\" + TUNEUPKIT+OIL",",-Ft ","CP Termék",null,2978]
[{"$f":"IF(L978=FALSE,0,COUNTIF(A$3:A977,\">0\")+1)","v":0},6151604410,"CP3450-12ACR4 4\" + TUNEUPKIT + OIL",",-Ft ","CP Termék",null,3280]
[{"$f":"IF(L979=FALSE,0,COUNTIF(A$3:A978,\">0\")+1)","v":0},6151602320,"CP3451-18SEC + TUNEUPKIT + OIL",{"$f":"IF(H979=\"SP\",IF(J979>0,\"SP: \"&TEXT(J979*I$1,\"# ###,-Ft  \"),\"SP: \"&TEXT(I979*I$1,\"# ###,-Ft\")),IF(J979>0,\"STARS* \"&TEXT(J979*J$1,\"# ###,-Ft\"),TEXT(I979*I$1,\"# ###,-Ft  \")))","v":",-Ft "},"CP Termék",null,1520]
[{"$f":"IF(L980=FALSE,0,COUNTIF(A$3:A979,\">0\")+1)","v":0},6151607510,"CP3650-100AB6VK + TUNEUPKIT + OIL",{"$f":"IF(H980=\"SP\",IF(J980>0,\"SP: \"&TEXT(J980*I$1,\"# ###,-Ft  \"),\"SP: \"&TEXT(I980*I$1,\"# ###,-Ft\")),IF(J980>0,\"STARS* \"&TEXT(J980*J$1,\"# ###,-Ft\"),TEXT(I980*I$1,\"# ###,-Ft  \")))","v":",-Ft "},"CP Termék",null,0]
[{"$f":"IF(L981=FALSE,0,COUNTIF(A$3:A980,\">0\")+1)","v":0},6151607520,"CP3650-120AA45 + TUNEUPKIT + OIL",{"$f":"IF(H981=\"SP\",IF(J981>0,\"SP: \"&TEXT(J981*I$1,\"# ###,-Ft  \"),\"SP: \"&TEXT(I981*I$1,\"# ###,-Ft\")),IF(J981>0,\"STARS* \"&TEXT(J981*J$1,\"# ###,-Ft\"),TEXT(I981*I$1,\"# ###,-Ft  \")))","v":",-Ft "},"CP Termék",null,0]
[{"$f":"IF(L982=FALSE,0,COUNTIF(A$3:A981,\">0\")+1)","v":0},6151607530,"CP3650-120AA5 + TUNEUPKIT + OIL",{"$f":"IF(H982=\"SP\",IF(J982>0,\"SP: \"&TEXT(J982*I$1,\"# ###,-Ft  \"),\"SP: \"&TEXT(I982*I$1,\"# ###,-Ft\")),IF(J982>0,\"STARS* \"&TEXT(J982*J$1,\"# ###,-Ft\"),TEXT(I982*I$1,\"# ###,-Ft  \")))","v":",-Ft "},"CP Termék",null,3233]
[{"$f":"IF(L983=FALSE,0,COUNTIF(A$3:A982,\">0\")+1)","v":0},6151607540,"CP3650-120AA5VK + TUNEUPKIT + OIL",{"$f":"IF(H983=\"SP\",IF(J983>0,\"SP: \"&TEXT(J983*I$1,\"# ###,-Ft  \"),\"SP: \"&TEXT(I983*I$1,\"# ###,-Ft\")),IF(J983>0,\"STARS* \"&TEXT(J983*J$1,\"# ###,-Ft\"),TEXT(I983*I$1,\"# ###,-Ft  \")))","v":",-Ft "},"CP Termék",null,3905]
[{"$f":"IF(L984=FALSE,0,COUNTIF(A$3:A983,\">0\")+1)","v":0},6151607570,"CP3650-120AB45 + TUNEUPKIT + OIL",{"$f":"IF(H984=\"SP\",IF(J984>0,\"SP: \"&TEXT(J984*I$1,\"# ###,-Ft  \"),\"SP: \"&TEXT(I984*I$1,\"# ###,-Ft\")),IF(J984>0,\"STARS* \"&TEXT(J984*J$1,\"# ###,-Ft\"),TEXT(I984*I$1,\"# ###,-Ft  \")))","v":",-Ft "},"CP Termék",null,0]
[{"$f":"IF(L985=FALSE,0,COUNTIF(A$3:A984,\">0\")+1)","v":0},6151607580,"CP3650-120AB5 + TUNEUPKIT + OIL",",-Ft ","CP Termék",null,0]
[{"$f":"IF(L986=FALSE,0,COUNTIF(A$3:A985,\">0\")+1)","v":0},6151607590,"CP3650-120AB5VK + TUNEUPKIT + OIL",",-Ft ","CP Termék",null,0]
[{"$f":"IF(L987=FALSE,0,COUNTIF(A$3:A986,\">0\")+1)","v":0},6151607600,"CP3650-120ACC + TUNEUPKIT + OIL",",-Ft ","CP Termék",null,0]
[{"$f":"IF(L988=FALSE,0,COUNTIF(A$3:A987,\">0\")+1)","v":0},6151607610,"CP3650-120AH5VK + TUNEUPKIT + OIL",{"$f":"IF(H988=\"C\",IF(J988>0,\"C #: \"&TEXT(J988*I$1,\"# ###,-Ft  \"),\"C #: \"&TEXT(I988*I$1,\"# ###,-Ft\")),IF(J988>0,\"TOPS* \"&TEXT(J988*J$1,\"# ###,-Ft\"),TEXT(I988*I$1,\"# ###,-Ft  \")))","v":"C #: 590 000,-Ft"},"CP Termék",null,3968,"C",590000]
[{"$f":"IF(L989=FALSE,0,COUNTIF(A$3:A988,\">0\")+1)","v":0},6151607620,"CP3650-135AC4FK + TUNEUPKIT + OIL",",-Ft ","CP Termék",null,0]
[{"$f":"IF(L990=FALSE,0,COUNTIF(A$3:A989,\">0\")+1)","v":0},6151607630,"CP3650-135AC4SE + TUNEUPKIT + OIL",",-Ft ","CP Termék",null,3300]
[{"$f":"IF(L991=FALSE,0,COUNTIF(A$3:A990,\">0\")+1)","v":0},6151607650,"CP3850-60AB9V + TUNEUPKIT + OIL",{"$f":"IF(H991=\"SP\",IF(J991>0,\"SP: \"&TEXT(J991*I$1,\"# ###,-Ft  \"),\"SP: \"&TEXT(I991*I$1,\"# ###,-Ft\")),IF(J991>0,\"STARS* \"&TEXT(J991*J$1,\"# ###,-Ft\"),TEXT(I991*I$1,\"# ###,-Ft  \")))","v":",-Ft "},"CP Termék",null,0]
[{"$f":"IF(L992=FALSE,0,COUNTIF(A$3:A991,\">0\")+1)","v":0},6151607450,"CP3850-60AB9V+AIR-F",",-Ft ","CP Termék",null,4685]
[{"$f":"IF(L993=FALSE,0,COUNTIF(A$3:A992,\">0\")+1)","v":0},6151607660,"CP3850-65AB9VE + TUNEUPKIT + OIL",",-Ft ","CP Termék",null,0]
[{"$f":"IF(L994=FALSE,0,COUNTIF(A$3:A993,\">0\")+1)","v":0},6151607380,"CP3850-65AB9VE+AIR-F",",-Ft ","CP Termék",null,3440]
[{"$f":"IF(L995=FALSE,0,COUNTIF(A$3:A994,\">0\")+1)","v":0},6151620160,"CP3850-65ABVE+AIR-F",",-Ft ","CP Termék",null,0]
[{"$f":"IF(L996=FALSE,0,COUNTIF(A$3:A995,\">0\")+1)","v":0},6151607680,"CP3850-65AH9VE + TUNEUPKIT + OIL",",-Ft ","CP Termék",null,0]
[{"$f":"IF(L997=FALSE,0,COUNTIF(A$3:A996,\">0\")+1)","v":0},6151607390,"CP3850-65AH9VE+AIR-F",",-Ft ","CP Termék",null,4350]
[{"$f":"IF(L998=FALSE,0,COUNTIF(A$3:A997,\">0\")+1)","v":0},6151607700,"CP3850-77AB7V + TUNEUPKIT + OIL",",-Ft ","CP Termék",null,0]
[{"$f":"IF(L999=FALSE,0,COUNTIF(A$3:A998,\">0\")+1)","v":0},6151607400,"CP3850-77AB7V+AIR-F",",-Ft ","CP Termék",null,4465]
[{"$f":"IF(L1000=FALSE,0,COUNTIF(A$3:A999,\">0\")+1)","v":0},6151607710,"CP3850-85AB7V + TUNEUPKIT + OIL",",-Ft ","CP Termék",null,0]
[{"$f":"IF(L1001=FALSE,0,COUNTIF(A$3:A1000,\">0\")+1)","v":0},6151607720,"CP3850-85AB7VE + TUNEUPKIT + OIL",",-Ft ","CP Termék",null,4740]
[{"$f":"IF(L1002=FALSE,0,COUNTIF(A$3:A1001,\">0\")+1)","v":0},6151607410,"CP3850-85AB7VE+AIR-F",",-Ft ","CP Termék",null,4168]
[{"$f":"IF(L1003=FALSE,0,COUNTIF(A$3:A1002,\">0\")+1)","v":0},6151620180,"CP3850-85ABVE+AIR-F",{"$f":"IF(H1003=\"SP\",IF(J1003>0,\"SP: \"&TEXT(J1003*I$1,\"# ###,-Ft  \"),\"SP: \"&TEXT(I1003*I$1,\"# ###,-Ft\")),IF(J1003>0,\"STARS* \"&TEXT(J1003*J$1,\"# ###,-Ft\"),TEXT(I1003*I$1,\"# ###,-Ft  \")))","v":",-Ft "},"CP Termék",null,3538]
[{"$f":"IF(L1004=FALSE,0,COUNTIF(A$3:A1003,\">0\")+1)","v":0},6151607740,"CP3850-85AH7VE + TUNEUPKIT + OIL",",-Ft ","CP Termék",null,0]
[{"$f":"IF(L1005=FALSE,0,COUNTIF(A$3:A1004,\">0\")+1)","v":0},6151607420,"CP3850-85AH7VE+AIR-F",",-Ft ","CP Termék",null,0]
[{"$f":"IF(L1006=FALSE,0,COUNTIF(A$3:A1005,\">0\")+1)","v":0},6151620210,"CP5080-3260D12 12'' + WHIP",",-Ft ","CP Termék",null,0]
[{"$f":"IF(L1007=FALSE,0,COUNTIF(A$3:A1006,\">0\")+1)","v":0},6151620220,"CP5080-3260D12K KIT + WHIP",",-Ft ","CP Termék",null,0]
[{"$f":"IF(L1008=FALSE,0,COUNTIF(A$3:A1007,\">0\")+1)","v":0},6151620200,"CP5080-3260H19 19\"","179 400,-Ft ","CP Termék",null,1540,null,179400]
[{"$f":"IF(L1009=FALSE,0,COUNTIF(A$3:A1008,\">0\")+1)","v":0},6151620230,"CP5080-4200D24  24' + WHIP",",-Ft ","CP Termék",null,1932]
[{"$f":"IF(L1010=FALSE,0,COUNTIF(A$3:A1009,\">0\")+1)","v":0},6151620240,"CP5080-4200H18 18'' + WHIP",",-Ft ","CP Termék",null,0]
[{"$f":"IF(L1011=FALSE,0,COUNTIF(A$3:A1010,\">0\")+1)","v":0},6151620250,"CP5080-4200H18K KIT + WHIP",",-Ft ","CP Termék",null,0]
[{"$f":"IF(L1012=FALSE,0,COUNTIF(A$3:A1011,\">0\")+1)","v":0},6151620260,"CP5080-5220H18 18'' + WHIP",",-Ft ","CP Termék",null,2046]
[{"$f":"IF(L1013=FALSE,0,COUNTIF(A$3:A1012,\">0\")+1)","v":0},6151590120,"CP6120-D35H",{"$f":"IF(H1013=\"C\",IF(J1013>0,\"C #: \"&TEXT(J1013*I$1,\"# ###,-Ft  \"),\"C #: \"&TEXT(I1013*I$1,\"# ###,-Ft\")),IF(J1013>0,\"TOPS* \"&TEXT(J1013*J$1,\"# ###,-Ft\"),TEXT(I1013*I$1,\"# ###,-Ft  \")))","v":"C #: 2 468 000,-Ft"},"CP Termék",null,16451,"C",2468000]
[{"$f":"IF(L1014=FALSE,0,COUNTIF(A$3:A1013,\">0\")+1)","v":0},6151590550,"CP6728-P05R 3/8\"",{"$f":"IF(H1014=\"SP\",IF(J1014>0,\"SP: \"&TEXT(J1014*I$1,\"# ###,-Ft  \"),\"SP: \"&TEXT(I1014*I$1,\"# ###,-Ft\")),IF(J1014>0,\"STARS* \"&TEXT(J1014*J$1,\"# ###,-Ft\"),TEXT(I1014*I$1,\"# ###,-Ft  \")))","v":"177 300,-Ft "},"CP Termék",null,0,null,177300]
[{"$f":"IF(L1015=FALSE,0,COUNTIF(A$3:A1014,\">0\")+1)","v":0},6151590560,"CP6738-P06R 1/2\"","181 400,-Ft ","CP Termék",null,0,null,181400]
[{"$f":"IF(L1016=FALSE,0,COUNTIF(A$3:A1015,\">0\")+1)","v":0},6151590610,"CP6748EX - ATEX PACK",",-Ft ","CP Termék",null,4112]
[{"$f":"IF(L1017=FALSE,0,COUNTIF(A$3:A1016,\">0\")+1)","v":0},6151590580,"CP6768EX-P18D ATEX 3/4\"","358 000,-Ft ","CP Termék",null,5082,null,358000]
[{"$f":"IF(L1018=FALSE,0,COUNTIF(A$3:A1017,\">0\")+1)","v":0},6151590590,"CP6778EX-P18D ATEX 1\"","362 000,-Ft ","CP Termék",null,5172,null,362000]
[{"$f":"IF(L1019=FALSE,0,COUNTIF(A$3:A1018,\">0\")+1)","v":0},8941007241,"CP724H MODEL G","119 100,-Ft ","CP Termék",null,1732,null,119100]
[{"$f":"IF(L1020=FALSE,0,COUNTIF(A$3:A1019,\">0\")+1)","v":0},8941007261,"CP726H MODEL G",{"$f":"IF(H1020=\"SP\",IF(J1020>0,\"SP: \"&TEXT(J1020*I$1,\"# ###,-Ft  \"),\"SP: \"&TEXT(I1020*I$1,\"# ###,-Ft\")),IF(J1020>0,\"STARS* \"&TEXT(J1020*J$1,\"# ###,-Ft\"),TEXT(I1020*I$1,\"# ###,-Ft  \")))","v":"119 100,-Ft "},"CP Termék",null,1736,null,119100]
[{"$f":"IF(L1021=FALSE,0,COUNTIF(A$3:A1020,\">0\")+1)","v":0},8940173383,"CP734H + CP WATCH","95 900,-Ft ","CP Termék",null,2780,null,95900]
[{"$f":"IF(L1022=FALSE,0,COUNTIF(A$3:A1021,\">0\")+1)","v":0},8941075401,"CP7540-C 4\"","130 300,-Ft ","CP Termék",null,2305,null,130300]
[{"$f":"IF(L1023=FALSE,0,COUNTIF(A$3:A1022,\">0\")+1)","v":0},8941075452,"CP7545-B 4,5\"","130 300,-Ft ","CP Termék",null,2466,null,130300]
[{"$f":"IF(L1024=FALSE,0,COUNTIF(A$3:A1023,\">0\")+1)","v":0},8941075451,"CP7545-C 4,5\"","130 300,-Ft ","CP Termék",null,2430,null,130300]
[{"$f":"IF(L1025=FALSE,0,COUNTIF(A$3:A1024,\">0\")+1)","v":0},8941075503,"CP7550-A 5\"","STARS* 103 600,-Ft","CP Termék",null,2489,null,134300,103600]
[{"$f":"IF(L1026=FALSE,0,COUNTIF(A$3:A1025,\">0\")+1)","v":0},8941075501,"CP7550-C 5\"","134 300,-Ft ","CP Termék",null,2469,null,134300]
[{"$f":"IF(L1027=FALSE,0,COUNTIF(A$3:A1026,\">0\")+1)","v":0},8941076202,"CP7620-2 G",",-Ft ","CP Termék",null,2995]
[{"$f":"IF(L1028=FALSE,0,COUNTIF(A$3:A1027,\">0\")+1)","v":0},8941176200,"CP7620KIT G",",-Ft ","CP Termék",null,4010]
[{"$f":"IF(L1029=FALSE,0,COUNTIF(A$3:A1028,\">0\")+1)","v":0},8941076306,"CP7630-6 3/4\"  TH W/6\" EXT","176 200,-Ft ","CP Termék",null,5537,null,176200]
[{"$f":"IF(L1030=FALSE,0,COUNTIF(A$3:A1029,\">0\")+1)","v":0},8941077110,"CP7711","STARS* 59 100,-Ft","CP Termék",null,702,null,86000,59100]
[{"$f":"IF(L1031=FALSE,0,COUNTIF(A$3:A1030,\">0\")+1)","v":0},8941077210,"CP7721","STARS* 59 100,-Ft","CP Termék",null,702,null,86000,59100]
[{"$f":"IF(L1032=FALSE,0,COUNTIF(A$3:A1031,\">0\")+1)","v":0},8940172766,"CP7731 + CP8910",",-Ft ","CP Termék",null,0]
[{"$f":"IF(L1033=FALSE,0,COUNTIF(A$3:A1032,\">0\")+1)","v":0},8940172767,"CP7732 + CP8915",",-Ft ","CP Termék",null,3900]
[{"$f":"IF(L1034=FALSE,0,COUNTIF(A$3:A1033,\">0\")+1)","v":0},8941077362,"CP7736-2","96 300,-Ft ","CP Termék",null,2986,null,96300]
[{"$f":"IF(L1035=FALSE,0,COUNTIF(A$3:A1034,\">0\")+1)","v":0},8940171189,"CP7748 + BIT","102 300,-Ft ","CP Termék",null,3196,null,102300]
[{"$f":"IF(L1036=FALSE,0,COUNTIF(A$3:A1035,\">0\")+1)","v":0},8940171174,"CP7748 + COOLER BAG",",-Ft ","CP Termék",null,2900]
[{"$f":"IF(L1037=FALSE,0,COUNTIF(A$3:A1036,\">0\")+1)","v":0},8940173404,"CP7748 + CP MULTITOOL",",-Ft ","CP Termék",null,2765]
[{"$f":"IF(L1038=FALSE,0,COUNTIF(A$3:A1037,\">0\")+1)","v":0},8940172768,"CP7748 + CP8915",",-Ft ","CP Termék",null,4734]
[{"$f":"IF(L1039=FALSE,0,COUNTIF(A$3:A1038,\">0\")+1)","v":0},8940173406,"CP7748-2 + CP MULTITOOL",{"$f":"IF(H1039=\"SP\",IF(J1039>0,\"SP: \"&TEXT(J1039*I$1,\"# ###,-Ft  \"),\"SP: \"&TEXT(I1039*I$1,\"# ###,-Ft\")),IF(J1039>0,\"STARS* \"&TEXT(J1039*J$1,\"# ###,-Ft\"),TEXT(I1039*I$1,\"# ###,-Ft  \")))","v":",-Ft "},"CP Termék",null,2904]
[{"$f":"IF(L1040=FALSE,0,COUNTIF(A$3:A1039,\">0\")+1)","v":0},8940173407,"CP7748-2 + SOCKET SET",",-Ft ","CP Termék",null,3680]
[{"$f":"IF(L1041=FALSE,0,COUNTIF(A$3:A1040,\">0\")+1)","v":0},8940173309,"CP7748-2TL +CP8915 1/2##",",-Ft ","CP Termék",null,5490]
[{"$f":"IF(L1042=FALSE,0,COUNTIF(A$3:A1041,\">0\")+1)","v":0},8940172308,"CP7748K + SOCKET WP",",-Ft ","CP Termék",null,4020]
[{"$f":"IF(L1043=FALSE,0,COUNTIF(A$3:A1042,\">0\")+1)","v":0},8940173308,"CP7748TL + CP8915 1/2##","170 200,-Ft ","CP Termék",null,5400,null,170200]
[{"$f":"IF(L1044=FALSE,0,COUNTIF(A$3:A1043,\">0\")+1)","v":0},8940173405,"CP7748TL + SOCKET SET","114 500,-Ft ","CP Termék",null,3555,null,114500]
[{"$f":"IF(L1045=FALSE,0,COUNTIF(A$3:A1044,\">0\")+1)","v":0},8940173408,"CP7748TL-2 + SOCKET SET",",-Ft ","CP Termék",null,2388]
[{"$f":"IF(L1046=FALSE,0,COUNTIF(A$3:A1045,\">0\")+1)","v":0},8940172254,"CP7769 + CP8920 3/4## - Nm","474 000,-Ft ","CP Termék",null,12300,null,474000]
[{"$f":"IF(L1047=FALSE,0,COUNTIF(A$3:A1046,\">0\")+1)","v":0},8940171198,"CP7769 + FLASHLIGHT",",-Ft ","CP Termék",null,4730]
[{"$f":"IF(L1048=FALSE,0,COUNTIF(A$3:A1047,\">0\")+1)","v":0},8941077696,"CP7769-6",",-Ft ","CP Termék",null,4666]
[{"$f":"IF(L1049=FALSE,0,COUNTIF(A$3:A1048,\">0\")+1)","v":0},8940172772,"CP7776 + CP8925",{"$f":"IF(H1049=\"C\",IF(J1049>0,\"C #: \"&TEXT(J1049*I$1,\"# ###,-Ft  \"),\"C #: \"&TEXT(I1049*I$1,\"# ###,-Ft\")),IF(J1049>0,\"TOPS* \"&TEXT(J1049*J$1,\"# ###,-Ft\"),TEXT(I1049*I$1,\"# ###,-Ft  \")))","v":"C #: 640 000,-Ft"},"CP Termék",null,0,"C",640000]
[{"$f":"IF(L1050=FALSE,0,COUNTIF(A$3:A1049,\">0\")+1)","v":0},8940173384,"CP7778-6 + CP WATCH","486 000,-Ft ","CP Termék",null,13125,null,486000]
[{"$f":"IF(L1051=FALSE,0,COUNTIF(A$3:A1050,\">0\")+1)","v":0},8940173388,"CP7782-6 + CP WATCH","329 000,-Ft ","CP Termék",null,0,null,329000]
[{"$f":"IF(L1052=FALSE,0,COUNTIF(A$3:A1051,\">0\")+1)","v":0},8940172774,"CP7782-6 + CP8925",",-Ft ","CP Termék",null,0]
[{"$f":"IF(L1053=FALSE,0,COUNTIF(A$3:A1052,\">0\")+1)","v":0},8940171257,"CP7782-6 + SUIT L","329 000,-Ft ","CP Termék",null,15494,null,329000]
[{"$f":"IF(L1054=FALSE,0,COUNTIF(A$3:A1053,\">0\")+1)","v":0},8940171258,"CP7782-6 + SUIT XL",{"$f":"IF(H1054=\"SP\",IF(J1054>0,\"SP: \"&TEXT(J1054*I$1,\"# ###,-Ft  \"),\"SP: \"&TEXT(I1054*I$1,\"# ###,-Ft\")),IF(J1054>0,\"STARS* \"&TEXT(J1054*J$1,\"# ###,-Ft\"),TEXT(I1054*I$1,\"# ###,-Ft  \")))","v":"329 000,-Ft "},"CP Termék",null,15426,null,329000]
[{"$f":"IF(L1055=FALSE,0,COUNTIF(A$3:A1054,\">0\")+1)","v":0},"T018653","CP797SP-6",{"$f":"IF(H1055=\"C\",IF(J1055>0,\"C #: \"&TEXT(J1055*I$1,\"# ###,-Ft  \"),\"C #: \"&TEXT(I1055*I$1,\"# ###,-Ft\")),IF(J1055>0,\"TOPS* \"&TEXT(J1055*J$1,\"# ###,-Ft\"),TEXT(I1055*I$1,\"# ###,-Ft  \")))","v":"C #: 640 000,-Ft"},"CP Termék",null,15140.83,"C",640000]
[{"$f":"IF(L1056=FALSE,0,COUNTIF(A$3:A1055,\">0\")+1)","v":0},8941086100,"CP86100 100T","C #: 1 620 000,-Ft ","CP Termék",null,662000,"C",2592000,1620000]
[{"$f":"IF(L1057=FALSE,0,COUNTIF(A$3:A1056,\">0\")+1)","v":0},8941086750,"CP86750 75T","C #: 1 153 000,-Ft ","CP Termék",null,498000,"C",1790000,1153000]
[{"$f":"IF(L1058=FALSE,0,COUNTIF(A$3:A1057,\">0\")+1)","v":0},8941208700,"CP870  H&L",{"$f":"IF(H1058=\"SP\",IF(J1058>0,\"SP: \"&TEXT(J1058*I$1,\"# ###,-Ft  \"),\"SP: \"&TEXT(I1058*I$1,\"# ###,-Ft\")),IF(J1058>0,\"STARS* \"&TEXT(J1058*J$1,\"# ###,-Ft\"),TEXT(I1058*I$1,\"# ###,-Ft  \")))","v":"34 750,-Ft "},"CP Termék",null,0,null,34750]
[{"$f":"IF(L1059=FALSE,0,COUNTIF(A$3:A1058,\">0\")+1)","v":0},8941087120,"CP87120  1.2T",{"$f":"IF(H1059=\"C\",IF(J1059>0,\"C #: \"&TEXT(J1059*I$1,\"# ###,-Ft  \"),\"C #: \"&TEXT(I1059*I$1,\"# ###,-Ft\")),IF(J1059>0,\"TOPS* \"&TEXT(J1059*J$1,\"# ###,-Ft\"),TEXT(I1059*I$1,\"# ###,-Ft  \")))","v":"C #: 686 000,-Ft"},"CP Termék",null,168000,"C",686000]
[{"$f":"IF(L1060=FALSE,0,COUNTIF(A$3:A1059,\">0\")+1)","v":0},8941087700,"CP87700  700Kg",",-Ft ","CP Termék",null,138000]
[{"$f":"IF(L1061=FALSE,0,COUNTIF(A$3:A1060,\">0\")+1)","v":0},8941088221,"CP88221 2T 2 STEP(SH HANDLE)","260 300,-Ft ","CP Termék",null,16000,null,260300]
[{"$f":"IF(L1062=FALSE,0,COUNTIF(A$3:A1061,\">0\")+1)","v":0},8941088222,"CP88222 2T 2 STEP(LG HANDLE)","260 300,-Ft ","CP Termék",null,19000,null,260300]
[{"$f":"IF(L1063=FALSE,0,COUNTIF(A$3:A1062,\">0\")+1)","v":0},8941088232,"CP88232 2T3 STEP (LG HANDLE)","322 000,-Ft ","CP Termék",null,20000,null,322000]
[{"$f":"IF(L1064=FALSE,0,COUNTIF(A$3:A1063,\">0\")+1)","v":0},8941108860,"CP886H 1/2\"  MT",",-Ft ","CP Termék",null,2585]
[{"$f":"IF(L1065=FALSE,0,COUNTIF(A$3:A1064,\">0\")+1)","v":0},8941089055,"CP8905 1/4\" FT","82 700,-Ft ","CP Termék",null,887,null,82700]
[{"$f":"IF(L1066=FALSE,0,COUNTIF(A$3:A1065,\">0\")+1)","v":0},8941089105,"CP8910 3/8\" FT","82 700,-Ft ","CP Termék",null,1800,null,82700]
[{"$f":"IF(L1067=FALSE,0,COUNTIF(A$3:A1066,\">0\")+1)","v":0},8941089155,"CP8915 1/2\" FT","85 300,-Ft ","CP Termék",null,2302,null,85300]
[{"$f":"IF(L1068=FALSE,0,COUNTIF(A$3:A1067,\">0\")+1)","v":0},8941089170,"CP8917 1/2\" NM","STARS* 45 890,-Ft","CP Termék",null,0,null,89000,45890]
[{"$f":"IF(L1069=FALSE,0,COUNTIF(A$3:A1068,\">0\")+1)","v":0},8941089205,"CP8920 3/4\" FT","315 700,-Ft ","CP Termék",null,8618,null,315700]
[{"$f":"IF(L1070=FALSE,0,COUNTIF(A$3:A1069,\">0\")+1)","v":0},8941089255,"CP8925 1\" FT","393 000,-Ft ","CP Termék",null,8618,null,393000]
[{"$f":"IF(L1071=FALSE,0,COUNTIF(A$3:A1070,\">0\")+1)","v":0},6151612020,"CP9362-2H",{"$f":"IF(H1071=\"SP\",IF(J1071>0,\"SP: \"&TEXT(J1071*I$1,\"# ###,-Ft  \"),\"SP: \"&TEXT(I1071*I$1,\"# ###,-Ft\")),IF(J1071>0,\"STARS* \"&TEXT(J1071*J$1,\"# ###,-Ft\"),TEXT(I1071*I$1,\"# ###,-Ft  \")))","v":"209 500,-Ft "},"CP Termék",null,null,null,209500]
[{"$f":"IF(L1072=FALSE,0,COUNTIF(A$3:A1071,\">0\")+1)","v":0},6151612010,"CP9362-2R","209 500,-Ft ","CP Termék",null,null,null,209500]
[{"$f":"IF(L1073=FALSE,0,COUNTIF(A$3:A1072,\">0\")+1)","v":0},6151612040,"CP9363-1H","253 600,-Ft ","CP Termék",null,null,null,253600]
[{"$f":"IF(L1074=FALSE,0,COUNTIF(A$3:A1073,\">0\")+1)","v":0},6151612030,"CP9363-1R","253 600,-Ft ","CP Termék",null,null,null,253600]
[{"$f":"IF(L1075=FALSE,0,COUNTIF(A$3:A1074,\">0\")+1)","v":0},6151612060,"CP9363-2H","253 600,-Ft ","CP Termék",null,null,null,253600]
[{"$f":"IF(L1076=FALSE,0,COUNTIF(A$3:A1075,\">0\")+1)","v":0},6151612050,"CP9363-2R","253 600,-Ft ","CP Termék",null,null,null,253600]
[{"$f":"IF(L1077=FALSE,0,COUNTIF(A$3:A1076,\">0\")+1)","v":0},6151612080,"CP9363-3H","253 600,-Ft ","CP Termék",null,null,null,253600]
[{"$f":"IF(L1078=FALSE,0,COUNTIF(A$3:A1077,\">0\")+1)","v":0},6151612070,"CP9363-3R","253 600,-Ft ","CP Termék",null,null,null,253600]
[{"$f":"IF(L1079=FALSE,0,COUNTIF(A$3:A1078,\">0\")+1)","v":0},6151612100,"CP9363-4H","253 600,-Ft ","CP Termék",null,null,null,253600]
[{"$f":"IF(L1080=FALSE,0,COUNTIF(A$3:A1079,\">0\")+1)","v":0},6151612090,"CP9363-4R","253 600,-Ft ","CP Termék",null,null,null,253600]
[{"$f":"IF(L1081=FALSE,0,COUNTIF(A$3:A1080,\">0\")+1)","v":0},6151612120,"CP9373-2H","253 600,-Ft ","CP Termék",null,null,null,253600]
[{"$f":"IF(L1082=FALSE,0,COUNTIF(A$3:A1081,\">0\")+1)","v":0},6151612110,"CP9373-2R","253 600,-Ft ","CP Termék",null,null,null,253600]
[{"$f":"IF(L1083=FALSE,0,COUNTIF(A$3:A1082,\">0\")+1)","v":0},6151612140,"CP9373-3H","253 600,-Ft ","CP Termék",null,null,null,253600]
[{"$f":"IF(L1084=FALSE,0,COUNTIF(A$3:A1083,\">0\")+1)","v":0},6151612130,"CP9373-3R","253 600,-Ft ","CP Termék",null,null,null,253600]
[{"$f":"IF(L1085=FALSE,0,COUNTIF(A$3:A1084,\">0\")+1)","v":0},6151612160,"CP9373-4H","299 900,-Ft ","CP Termék",null,null,null,299900]
[{"$f":"IF(L1086=FALSE,0,COUNTIF(A$3:A1085,\">0\")+1)","v":0},6151612150,"CP9373-4R","299 900,-Ft ","CP Termék",null,null,null,299900]
[{"$f":"IF(L1087=FALSE,0,COUNTIF(A$3:A1086,\">0\")+1)","v":0},2050550093,"DEMO CASE CP INDUSTRIAL GRINDERS",{"$f":"IF(H1087=\"SP\",IF(J1087>0,\"SP: \"&TEXT(J1087*I$1,\"# ###,-Ft  \"),\"SP: \"&TEXT(I1087*I$1,\"# ###,-Ft\")),IF(J1087>0,\"STARS* \"&TEXT(J1087*J$1,\"# ###,-Ft\"),TEXT(I1087*I$1,\"# ###,-Ft  \")))","v":",-Ft "},"CP Termék",null,5656]
[{"$f":"IF(L1088=FALSE,0,COUNTIF(A$3:A1087,\">0\")+1)","v":0},8941177498,"IMPACT WRENCH PROMO CP7749 + CP WATCH","127 700,-Ft ","CP Termék",null,0,null,127700]
[{"$f":"IF(L1089=FALSE,0,COUNTIF(A$3:A1088,\">0\")+1)","v":0},8940172773,"IMPACT WRENCH PROMO CP7780-6 + CP8925",",-Ft ","CP Termék",null,0]
[{"$f":"IF(L1090=FALSE,0,COUNTIF(A$3:A1089,\">0\")+1)","v":0},8940168480,"1/2 2 STAGE BSP FILTR-REGULATR-LUBRICATR","73 000,-Ft ","CP S.anyag","Air Line & Electric Supply",2143,null,73000]
[{"$f":"IF(L1091=FALSE,0,COUNTIF(A$3:A1090,\">0\")+1)","v":0},8940168517,"1/2 2 STAGE NPT FILTR-REGULATR-LUBRICATR","73 000,-Ft ","CP S.anyag","Air Line & Electric Supply",2150,null,73000]
[{"$f":"IF(L1092=FALSE,0,COUNTIF(A$3:A1091,\">0\")+1)","v":0},8940168481,"1/2 3 STAGE BSP FILTR-REGULATR-LUBRICATR","82 800,-Ft ","CP S.anyag","Air Line & Electric Supply",2695,null,82800]
[{"$f":"IF(L1093=FALSE,0,COUNTIF(A$3:A1092,\">0\")+1)","v":0},8940168518,"1/2 3 STAGE NPT FILTR-REGULATR-LUBRICATR","82 800,-Ft ","CP S.anyag","Air Line & Electric Supply",2680,null,82800]
[{"$f":"IF(L1094=FALSE,0,COUNTIF(A$3:A1093,\">0\")+1)","v":0},8940168478,"1/4 2 STAGE BSP FILTR-REGULATR-LUBRICATR","48 510,-Ft ","CP S.anyag","Air Line & Electric Supply",1940,null,48510]
[{"$f":"IF(L1095=FALSE,0,COUNTIF(A$3:A1094,\">0\")+1)","v":0},8940168515,"1/4 2 STAGE NPT FILTR-REGULATR-LUBRICATR","48 510,-Ft ","CP S.anyag","Air Line & Electric Supply",2000,null,48510]
[{"$f":"IF(L1096=FALSE,0,COUNTIF(A$3:A1095,\">0\")+1)","v":0},8940168479,"1/4 3 STAGE BSP FILTR-REGULATR-LUBRICATR","52 940,-Ft ","CP S.anyag","Air Line & Electric Supply",2320,null,52940]
[{"$f":"IF(L1097=FALSE,0,COUNTIF(A$3:A1096,\">0\")+1)","v":0},8940168516,"1/4 3 STAGE NPT FILTR-REGULATR-LUBRICATR","52 940,-Ft ","CP S.anyag","Air Line & Electric Supply",2000,null,52940]
[{"$f":"IF(L1098=FALSE,0,COUNTIF(A$3:A1097,\">0\")+1)","v":0},8940169001,"100X144MM VACUUM H&L PAD SET","9 950,-Ft ","CP S.anyag","Removal",62,null,9950]
[{"$f":"IF(L1099=FALSE,0,COUNTIF(A$3:A1098,\">0\")+1)","v":0},8940158677,"2\" 320 GRIT SAND 50-Pack","STARS* 7 550,-Ft","CP S.anyag","Removal",29,null,10660,7550]
[{"$f":"IF(L1100=FALSE,0,COUNTIF(A$3:A1099,\">0\")+1)","v":0},8940158678,"2\" 400 GRIT SAND 50-Pack","STARS* 7 550,-Ft","CP S.anyag","Removal",44,null,10660,7550]
[{"$f":"IF(L1101=FALSE,0,COUNTIF(A$3:A1100,\">0\")+1)","v":0},8940158679,"2\" 600 GRIT SAND 50-Pack","STARS* 7 550,-Ft","CP S.anyag","Removal",33,null,10660,7550]
[{"$f":"IF(L1102=FALSE,0,COUNTIF(A$3:A1101,\">0\")+1)","v":0},8940158680,"3\" 320 GRIT SAND 50-Pack","STARS* 10 620,-Ft","CP S.anyag","Removal",67,null,12360,10620]
[{"$f":"IF(L1103=FALSE,0,COUNTIF(A$3:A1102,\">0\")+1)","v":0},8940158681,"3\" 400 GRIT SAND 50-Pack","STARS* 10 620,-Ft","CP S.anyag","Removal",72,null,12360,10620]
[{"$f":"IF(L1104=FALSE,0,COUNTIF(A$3:A1103,\">0\")+1)","v":0},8940158682,"3\" 600 GRIT SAND 50-Pack","STARS* 10 620,-Ft","CP S.anyag","Removal",116,null,12360,10620]
[{"$f":"IF(L1105=FALSE,0,COUNTIF(A$3:A1104,\">0\")+1)","v":0},8940168483,"3/4 2 STAGE BSP FILTR-REGULATR-LUBRICATR","168 600,-Ft ","CP S.anyag","Air Line & Electric Supply",2560,null,168600]
[{"$f":"IF(L1106=FALSE,0,COUNTIF(A$3:A1105,\">0\")+1)","v":0},8940168519,"3/4 2 STAGE NPT FILTR-REGULATR-LUBRICATR","168 600,-Ft ","CP S.anyag","Air Line & Electric Supply",2615,null,168600]
[{"$f":"IF(L1107=FALSE,0,COUNTIF(A$3:A1106,\">0\")+1)","v":0},8940168484,"3/4 3 STAGE BSP FILTR-REGULATR-LUBRICATR","199 000,-Ft ","CP S.anyag","Air Line & Electric Supply",3195,null,199000]
[{"$f":"IF(L1108=FALSE,0,COUNTIF(A$3:A1107,\">0\")+1)","v":0},8940168520,"3/4 3 STAGE NPT FILTR-REGULATR-LUBRICATR","199 000,-Ft ","CP S.anyag","Air Line & Electric Supply",3225,null,199000]
[{"$f":"IF(L1109=FALSE,0,COUNTIF(A$3:A1108,\">0\")+1)","v":0},8940169002,"70X198MM VACUUM H&L PAD SET","10 660,-Ft ","CP S.anyag","Removal",0,null,10660]
[{"$f":"IF(L1110=FALSE,0,COUNTIF(A$3:A1109,\">0\")+1)","v":0},8940168997,"74X109MM NON VACUUM H&L PAD SET","8 920,-Ft ","CP S.anyag","Removal",0,null,8920]
[{"$f":"IF(L1111=FALSE,0,COUNTIF(A$3:A1110,\">0\")+1)","v":0},8940168998,"74X109MM VACUUM H&L PAD SET","9 250,-Ft ","CP S.anyag","Removal",0,null,9250]
[{"$f":"IF(L1112=FALSE,0,COUNTIF(A$3:A1111,\">0\")+1)","v":0},8940168999,"80X130MM NON VACUUM H&L PAD SET","9 620,-Ft ","CP S.anyag","Removal",0,null,9620]
[{"$f":"IF(L1113=FALSE,0,COUNTIF(A$3:A1112,\">0\")+1)","v":0},8940169000,"80X130MM VACUUM H&L PAD SET","9 950,-Ft ","CP S.anyag","Removal",58,null,9950]
[{"$f":"IF(L1114=FALSE,0,COUNTIF(A$3:A1113,\">0\")+1)","v":0},8940169360,"A1016 1-1/2\" DR X 1\" MALE ADAPTER","33 120,-Ft ","CP S.anyag","Impact Socket",2334,null,33120]
[{"$f":"IF(L1115=FALSE,0,COUNTIF(A$3:A1114,\">0\")+1)","v":0},8940169361,"A1040 1-1/2\" DR X 2-1/2\" MALE ADAPTER","58 000,-Ft ","CP S.anyag","Impact Socket",3115,null,58000]
[{"$f":"IF(L1116=FALSE,0,COUNTIF(A$3:A1115,\">0\")+1)","v":0},8940165978,"A206 1/4 DR X 3/8\" MALE ADAPTOR","2 400,-Ft ","CP S.anyag","Impact Socket",17,null,2400]
[{"$f":"IF(L1117=FALSE,0,COUNTIF(A$3:A1116,\">0\")+1)","v":0},8940165983,"A304 3/8 DR X 1/4\" MALE ADAPTOR","2 400,-Ft ","CP S.anyag","Impact Socket",42,null,2400]
[{"$f":"IF(L1118=FALSE,0,COUNTIF(A$3:A1117,\">0\")+1)","v":0},8940165984,"A308 3/8\" DR","2 760,-Ft ","CP S.anyag","Impact Socket",51,null,2760]
[{"$f":"IF(L1119=FALSE,0,COUNTIF(A$3:A1118,\">0\")+1)","v":0},8940165993,"A4012 1/2DR","3 450,-Ft ","CP S.anyag","Impact Socket",159,null,3450]
[{"$f":"IF(L1120=FALSE,0,COUNTIF(A$3:A1119,\">0\")+1)","v":0},8940165992,"A406 1/2\"DR X 3/8 MALE ADAPTER","2 760,-Ft ","CP S.anyag","Impact Socket",67,null,2760]
[{"$f":"IF(L1121=FALSE,0,COUNTIF(A$3:A1120,\">0\")+1)","v":0},8940166001,"A608 3/4 DR X 1/2\" MALE ADAPTER","6 510,-Ft ","CP S.anyag","Impact Socket",340,null,6510]
[{"$f":"IF(L1122=FALSE,0,COUNTIF(A$3:A1121,\">0\")+1)","v":0},8940166002,"A616 3/4\" DR","7 560,-Ft ","CP S.anyag","Impact Socket",434,null,7560]
[{"$f":"IF(L1123=FALSE,0,COUNTIF(A$3:A1122,\">0\")+1)","v":0},8940166009,"A812 1\"DR X 3/4\"","13 060,-Ft ","CP S.anyag","Impact Socket",683,null,13060]
[{"$f":"IF(L1124=FALSE,0,COUNTIF(A$3:A1123,\">0\")+1)","v":0},2050486533,"AIR HOSE","4 790,-Ft ","CP S.anyag","Air Line & Electric Supply",71,null,4790]
[{"$f":"IF(L1125=FALSE,0,COUNTIF(A$3:A1124,\">0\")+1)","v":0},"CA085203","AIR REGULATOR","17 860,-Ft ","CP S.anyag","Air Line & Electric Supply",102,null,17860]
[{"$f":"IF(L1126=FALSE,0,COUNTIF(A$3:A1125,\">0\")+1)","v":0},6158110090,"AIR TOOL SIMULATOR","286 600,-Ft ","CP S.anyag","Air Line & Electric Supply",1845,null,286600]
[{"$f":"IF(L1127=FALSE,0,COUNTIF(A$3:A1126,\">0\")+1)","v":0},6158113535,"ALA AUDIT CASE","280 800,-Ft ","CP S.anyag","Air Line & Electric Supply",2162,null,280800]
[{"$f":"IF(L1128=FALSE,0,COUNTIF(A$3:A1127,\">0\")+1)","v":0},6151607210,"ANGLE GRINDER CP3650-120AA5",{"$f":"IF(H1128=\"C\",IF(J1128>0,\"C #: \"&TEXT(J1128*I$1,\"# ###,-Ft  \"),\"C #: \"&TEXT(I1128*I$1,\"# ###,-Ft\")),IF(J1128>0,\"TOPS* \"&TEXT(J1128*J$1,\"# ###,-Ft\"),TEXT(I1128*I$1,\"# ###,-Ft  \")))","v":"C #: 531 000,-Ft"},"CP Termék","Ind Angle Grinder>2hp",2663,"C",531000]
[{"$f":"IF(L1129=FALSE,0,COUNTIF(A$3:A1128,\">0\")+1)","v":0},6151704920,"ANGLE GRINDER CP3850-85AB7VE ","C #: 688 000,-Ft","CP Termék","Ind Angle Grinder>2hp",3949,"C",688000]
[{"$f":"IF(L1130=FALSE,0,COUNTIF(A$3:A1129,\">0\")+1)","v":0},6151607180,"ANGLE GRINDER_CP3650-120AA5VK","C #: 591 000,-Ft","CP Termék","Ind Angle Grinder>2hp",3335,"C",591000]
[{"$f":"IF(L1131=FALSE,0,COUNTIF(A$3:A1130,\">0\")+1)","v":0},6151704940,"ANGLE GRINDER_CP3850-65AB9VE ","C #: 720 000,-Ft","CP Termék","Ind Angle Grinder>2hp",4286,"C",720000]
[{"$f":"IF(L1132=FALSE,0,COUNTIF(A$3:A1131,\">0\")+1)","v":0},"CA155780","ANGLE SCALING SHANK HEX .401\"","5 650,-Ft ","CP S.anyag","Chisels and Needles",214,null,5650]
[{"$f":"IF(L1133=FALSE,0,COUNTIF(A$3:A1132,\">0\")+1)","v":0},"WP123999","ANGLE SCALING SHANK ISO SQUARE 1/2\"","12 360,-Ft ","CP S.anyag","Chisels and Needles",177,null,12360]
[{"$f":"IF(L1134=FALSE,0,COUNTIF(A$3:A1133,\">0\")+1)","v":0},6158044440,"ANGLE SCALING SHANK QTR. OCT. WF 1/2\"","22 300,-Ft ","CP S.anyag","Chisels and Needles",205,null,22300]
[{"$f":"IF(L1135=FALSE,0,COUNTIF(A$3:A1134,\">0\")+1)","v":0},6158046220,"ANGLE SCALING SHANK QTR. OCT. WF 1/2\"","22 300,-Ft ","CP S.anyag","Chisels and Needles",192,null,22300]
[{"$f":"IF(L1136=FALSE,0,COUNTIF(A$3:A1135,\">0\")+1)","v":0},"P084376","ANGLE SCALING SHANK QTR. OCT. WF 1/2\"","7 560,-Ft ","CP S.anyag","Chisels and Needles",190,null,7560]
[{"$f":"IF(L1137=FALSE,0,COUNTIF(A$3:A1136,\">0\")+1)","v":0},"A046063","ANGLE SCALING SHANK ROUND .401\"","5 510,-Ft ","CP S.anyag","Chisels and Needles",207,null,5510]
[{"$f":"IF(L1138=FALSE,0,COUNTIF(A$3:A1137,\">0\")+1)","v":0},"A047051","ANGLE SCALING SHANK ROUND .498\"","12 720,-Ft ","CP S.anyag","Chisels and Needles",256,null,12720]
[{"$f":"IF(L1139=FALSE,0,COUNTIF(A$3:A1138,\">0\")+1)","v":0},6158044410,"ASPHALT CUTTER SHANK HEX 5/8\"","47 110,-Ft ","CP S.anyag","Chisels and Needles",766,null,47110]
[{"$f":"IF(L1140=FALSE,0,COUNTIF(A$3:A1139,\">0\")+1)","v":0},"P136983","ATTACHMENT-NEEDLE S","99 100,-Ft ","CP S.anyag","Removal",1003,null,99100]
[{"$f":"IF(L1141=FALSE,0,COUNTIF(A$3:A1140,\">0\")+1)","v":0},6151740220,"B14A ONE PISTON HEAD","129 100,-Ft ","CP Termék","Ind Hammers Various",3265,null,129100]
[{"$f":"IF(L1142=FALSE,0,COUNTIF(A$3:A1141,\">0\")+1)","v":0},6151740230,"B15B","167 000,-Ft ","CP Termék","Ind Hammers Various",1911,null,167000]
[{"$f":"IF(L1143=FALSE,0,COUNTIF(A$3:A1142,\">0\")+1)","v":0},6151740240,"B15M","151 700,-Ft ","CP Termék","Ind Hammers Various",1999,null,151700]
[{"$f":"IF(L1144=FALSE,0,COUNTIF(A$3:A1143,\">0\")+1)","v":0},6151740250,"B16B","187 200,-Ft ","CP Termék","Ind Hammers Various",2379,null,187200]
[{"$f":"IF(L1145=FALSE,0,COUNTIF(A$3:A1144,\">0\")+1)","v":0},6151740510,"B16BV VIBRATION REDU","244 200,-Ft ","CP Termék","Ind Hammers Various",3397,null,244200]
[{"$f":"IF(L1146=FALSE,0,COUNTIF(A$3:A1145,\">0\")+1)","v":0},6151740260,"B16M","174 400,-Ft ","CP Termék","Ind Hammers Various",2956,null,174400]
[{"$f":"IF(L1147=FALSE,0,COUNTIF(A$3:A1146,\">0\")+1)","v":0},6151740500,"B16MV VIBRATION REDU","244 200,-Ft ","CP Termék","Ind Hammers Various",2769,null,244200]
[{"$f":"IF(L1148=FALSE,0,COUNTIF(A$3:A1147,\">0\")+1)","v":0},6151740270,"B18B","174 400,-Ft ","CP Termék","Ind Hammers Various",2330,null,174400]
[{"$f":"IF(L1149=FALSE,0,COUNTIF(A$3:A1148,\">0\")+1)","v":0},6151740530,"B18BV VIBRATION REDU",{"$f":"IF(H1149=\"SP\",IF(J1149>0,\"SP: \"&TEXT(J1149*I$1,\"# ###,-Ft  \"),\"SP: \"&TEXT(I1149*I$1,\"# ###,-Ft\")),IF(J1149>0,\"STARS* \"&TEXT(J1149*J$1,\"# ###,-Ft\"),TEXT(I1149*I$1,\"# ###,-Ft  \")))","v":"251 200,-Ft "},"CP Termék","Ind Hammers Various",3807,null,251200]
[{"$f":"IF(L1150=FALSE,0,COUNTIF(A$3:A1149,\">0\")+1)","v":0},6151740280,"B18M","171 500,-Ft ","CP Termék","Ind Hammers Various",3197,null,171500]
[{"$f":"IF(L1151=FALSE,0,COUNTIF(A$3:A1150,\">0\")+1)","v":0},6151740520,"B18MV VIBRATION REDU","251 200,-Ft ","CP Termék","Ind Hammers Various",3234,null,251200]
[{"$f":"IF(L1152=FALSE,0,COUNTIF(A$3:A1151,\">0\")+1)","v":0},6151740300,"B19B","187 200,-Ft ","CP Termék","Ind Hammers Various",3195,null,187200]
[{"$f":"IF(L1153=FALSE,0,COUNTIF(A$3:A1152,\">0\")+1)","v":0},6151740310,"B19B1 HEXAGONAL","187 200,-Ft ","CP Termék","Ind Hammers Various",2968,null,187200]
[{"$f":"IF(L1154=FALSE,0,COUNTIF(A$3:A1153,\">0\")+1)","v":0},6151740550,"B19BV VIBRATION REDU","265 900,-Ft ","CP Termék","Ind Hammers Various",4906,null,265900]
[{"$f":"IF(L1155=FALSE,0,COUNTIF(A$3:A1154,\">0\")+1)","v":0},6151740320,"B19M","187 200,-Ft ","CP Termék","Ind Hammers Various",4254,null,187200]
[{"$f":"IF(L1156=FALSE,0,COUNTIF(A$3:A1155,\">0\")+1)","v":0},6151740540,"B19MV VIBRATION REDU","265 900,-Ft ","CP Termék","Ind Hammers Various",4129,null,265900]
[{"$f":"IF(L1157=FALSE,0,COUNTIF(A$3:A1156,\">0\")+1)","v":0},6151740340,"B20","241 700,-Ft ","CP Termék","Ind Hammers Various",6623,null,241700]
[{"$f":"IF(L1158=FALSE,0,COUNTIF(A$3:A1157,\">0\")+1)","v":0},6151740350,"B20-0","241 700,-Ft ","CP Termék","Ind Hammers Various",6030,null,241700]
[{"$f":"IF(L1159=FALSE,0,COUNTIF(A$3:A1158,\">0\")+1)","v":0},6151740360,"B20-00","206 200,-Ft ","CP Termék","Ind Hammers Various",5339,null,206200]
[{"$f":"IF(L1160=FALSE,0,COUNTIF(A$3:A1159,\">0\")+1)","v":0},6151740370,"B20-1","229 500,-Ft ","CP Termék","Ind Hammers Various",7740,null,229500]
[{"$f":"IF(L1161=FALSE,0,COUNTIF(A$3:A1160,\">0\")+1)","v":0},6151740380,"B20L","276 600,-Ft ","CP Termék","Ind Hammers Various",5104,null,276600]
[{"$f":"IF(L1162=FALSE,0,COUNTIF(A$3:A1161,\">0\")+1)","v":0},6151740390,"B20L-1","276 600,-Ft ","CP Termék","Ind Hammers Various",5645,null,276600]
[{"$f":"IF(L1163=FALSE,0,COUNTIF(A$3:A1162,\">0\")+1)","v":0},6151740400,"B21B","252 000,-Ft ","CP Termék","Ind Hammers Various",4525,null,252000]
[{"$f":"IF(L1164=FALSE,0,COUNTIF(A$3:A1163,\">0\")+1)","v":0},6151740410,"B21M","252 000,-Ft ","CP Termék","Ind Hammers Various",6330,null,252000]
[{"$f":"IF(L1165=FALSE,0,COUNTIF(A$3:A1164,\">0\")+1)","v":0},6151740420,"B23 THREE PISTON","254 400,-Ft ","CP Termék","Ind Hammers Various",4525,null,254400]
[{"$f":"IF(L1166=FALSE,0,COUNTIF(A$3:A1165,\">0\")+1)","v":0},2050485063,"BACKING PAD 3\"","2 060,-Ft ","CP S.anyag","Removal",6,null,2060]
[{"$f":"IF(L1167=FALSE,0,COUNTIF(A$3:A1166,\">0\")+1)","v":0},"CA158102","BACKING PAD 3\" ROLOC 1/4x20","2 620,-Ft ","CP S.anyag","Removal",49,null,2620]
[{"$f":"IF(L1168=FALSE,0,COUNTIF(A$3:A1167,\">0\")+1)","v":0},2050485073,"BACKING PAD 4-1/2\"",{"$f":"IF(H1168=\"SP\",IF(J1168>0,\"SP: \"&TEXT(J1168*I$1,\"# ###,-Ft  \"),\"SP: \"&TEXT(I1168*I$1,\"# ###,-Ft\")),IF(J1168>0,\"STARS* \"&TEXT(J1168*J$1,\"# ###,-Ft\"),TEXT(I1168*I$1,\"# ###,-Ft  \")))","v":"2 060,-Ft "},"CP S.anyag","Removal",21,null,2060]
[{"$f":"IF(L1169=FALSE,0,COUNTIF(A$3:A1168,\">0\")+1)","v":0},2050485083,"BACKING PAD 5-1/2\"","2 060,-Ft ","CP S.anyag","Removal",33,null,2060]
[{"$f":"IF(L1170=FALSE,0,COUNTIF(A$3:A1169,\">0\")+1)","v":0},"KF129587","BACKING PAD 7\" THREAD 5/8\"","4 450,-Ft ","CP S.anyag","Removal",115,null,4450]
[{"$f":"IF(L1171=FALSE,0,COUNTIF(A$3:A1170,\">0\")+1)","v":0},8940163310,"BACKING PAD WITH SHAFT 50MM (CP875K)","3 740,-Ft ","CP S.anyag","Removal",38,null,3740]
[{"$f":"IF(L1172=FALSE,0,COUNTIF(A$3:A1171,\">0\")+1)","v":0},6158109470,"BALL VALVE F/F 1 1/2 BSP","21 980,-Ft ","CP S.anyag","Air Line & Electric Supply",1493,null,21980]
[{"$f":"IF(L1173=FALSE,0,COUNTIF(A$3:A1172,\">0\")+1)","v":0},6158109460,"BALL VALVE F/F 1 1/4 BSP","16 810,-Ft ","CP S.anyag","Air Line & Electric Supply",1048,null,16810]
[{"$f":"IF(L1174=FALSE,0,COUNTIF(A$3:A1173,\">0\")+1)","v":0},6158109450,"BALL VALVE F/F 1 BSP","9 950,-Ft ","CP S.anyag","Air Line & Electric Supply",564,null,9950]
[{"$f":"IF(L1175=FALSE,0,COUNTIF(A$3:A1174,\">0\")+1)","v":0},6158109530,"BALL VALVE F/F 1 NPT","12 360,-Ft ","CP S.anyag","Air Line & Electric Supply",0,null,12360]
[{"$f":"IF(L1176=FALSE,0,COUNTIF(A$3:A1175,\">0\")+1)","v":0},6158109430,"BALL VALVE F/F 1/2 BSP","3 740,-Ft ","CP S.anyag","Air Line & Electric Supply",260,null,3740]
[{"$f":"IF(L1177=FALSE,0,COUNTIF(A$3:A1176,\">0\")+1)","v":0},6158109510,"BALL VALVE F/F 1/2 NPT","5 510,-Ft ","CP S.anyag","Air Line & Electric Supply",260,null,5510]
[{"$f":"IF(L1178=FALSE,0,COUNTIF(A$3:A1177,\">0\")+1)","v":0},6158109410,"BALL VALVE F/F 1/4 BSP","3 450,-Ft ","CP S.anyag","Air Line & Electric Supply",115,null,3450]
[{"$f":"IF(L1179=FALSE,0,COUNTIF(A$3:A1178,\">0\")+1)","v":0},6158109490,"BALL VALVE F/F 1/4 NPT","3 740,-Ft ","CP S.anyag","Air Line & Electric Supply",116,null,3740]
[{"$f":"IF(L1180=FALSE,0,COUNTIF(A$3:A1179,\">0\")+1)","v":0},6158109480,"BALL VALVE F/F 2 BSP","36 530,-Ft ","CP S.anyag","Air Line & Electric Supply",2580,null,36530]
[{"$f":"IF(L1181=FALSE,0,COUNTIF(A$3:A1180,\">0\")+1)","v":0},6158109440,"BALL VALVE F/F 3/4 BSP","6 850,-Ft ","CP S.anyag","Air Line & Electric Supply",356,null,6850]
[{"$f":"IF(L1182=FALSE,0,COUNTIF(A$3:A1181,\">0\")+1)","v":0},6158109520,"BALL VALVE F/F 3/4 NPT","7 210,-Ft ","CP S.anyag","Air Line & Electric Supply",362,null,7210]
[{"$f":"IF(L1183=FALSE,0,COUNTIF(A$3:A1182,\">0\")+1)","v":0},6158109420,"BALL VALVE F/F 3/8 BSP","3 450,-Ft ","CP S.anyag","Air Line & Electric Supply",140,null,3450]
[{"$f":"IF(L1184=FALSE,0,COUNTIF(A$3:A1183,\">0\")+1)","v":0},6158109500,"BALL VALVE F/F 3/8 NPT","4 450,-Ft ","CP S.anyag","Air Line & Electric Supply",138,null,4450]
[{"$f":"IF(L1185=FALSE,0,COUNTIF(A$3:A1184,\">0\")+1)","v":0},8940169706,"BELT SANDING 305X03 GR120 10PC - CP","2 760,-Ft ","CP S.anyag","Removal",13,null,2760]
[{"$f":"IF(L1186=FALSE,0,COUNTIF(A$3:A1185,\">0\")+1)","v":0},8940169705,"BELT SANDING 305X03 GR80 10PC - CP","2 760,-Ft ","CP S.anyag","Removal",14,null,2760]
[{"$f":"IF(L1187=FALSE,0,COUNTIF(A$3:A1186,\">0\")+1)","v":0},8940169710,"BELT SANDING 305X06 GR120 10PC - CP","3 450,-Ft ","CP S.anyag","Removal",18,null,3450]
[{"$f":"IF(L1188=FALSE,0,COUNTIF(A$3:A1187,\">0\")+1)","v":0},8940169707,"BELT SANDING 305X06 GR40 10PC - CP","3 450,-Ft ","CP S.anyag","Removal",26,null,3450]
[{"$f":"IF(L1189=FALSE,0,COUNTIF(A$3:A1188,\">0\")+1)","v":0},8940169708,"BELT SANDING 305X06 GR60 10PC - CP","3 450,-Ft ","CP S.anyag","Removal",25,null,3450]
[{"$f":"IF(L1190=FALSE,0,COUNTIF(A$3:A1189,\">0\")+1)","v":0},8940169709,"BELT SANDING 305X06 GR80 10PC - CP","3 450,-Ft ","CP S.anyag","Removal",21,null,3450]
[{"$f":"IF(L1191=FALSE,0,COUNTIF(A$3:A1190,\">0\")+1)","v":0},8940169714,"BELT SANDING 305X13 GR120 10PC - CP","4 450,-Ft ","CP S.anyag","Removal",40,null,4450]
[{"$f":"IF(L1192=FALSE,0,COUNTIF(A$3:A1191,\">0\")+1)","v":0},8940169711,"BELT SANDING 305X13 GR40 10PC - CP","5 510,-Ft ","CP S.anyag","Removal",59,null,5510]
[{"$f":"IF(L1193=FALSE,0,COUNTIF(A$3:A1192,\">0\")+1)","v":0},8940169712,"BELT SANDING 305X13 GR60 10PC - CP","4 450,-Ft ","CP S.anyag","Removal",16,null,4450]
[{"$f":"IF(L1194=FALSE,0,COUNTIF(A$3:A1193,\">0\")+1)","v":0},8940169713,"BELT SANDING 305X13 GR80 10PC - CP","4 450,-Ft ","CP S.anyag","Removal",49,null,4450]
[{"$f":"IF(L1195=FALSE,0,COUNTIF(A$3:A1194,\">0\")+1)","v":0},8940169005,"BELT SANDING 330X10 GR100 10PC - CP","7 560,-Ft ","CP S.anyag","Removal",40,null,7560]
[{"$f":"IF(L1196=FALSE,0,COUNTIF(A$3:A1195,\">0\")+1)","v":0},8940169006,"BELT SANDING 330X10 GR120 10PC - CP","7 560,-Ft ","CP S.anyag","Removal",42,null,7560]
[{"$f":"IF(L1197=FALSE,0,COUNTIF(A$3:A1196,\">0\")+1)","v":0},8940169003,"BELT SANDING 330X10 GR60 10PC - CP","7 560,-Ft ","CP S.anyag","Removal",43,null,7560]
[{"$f":"IF(L1198=FALSE,0,COUNTIF(A$3:A1197,\">0\")+1)","v":0},8940169004,"BELT SANDING 330X10 GR80 10PC - CP","7 560,-Ft ","CP S.anyag","Removal",46,null,7560]
[{"$f":"IF(L1199=FALSE,0,COUNTIF(A$3:A1198,\">0\")+1)","v":0},8940169716,"BELT SANDING 457X03 GR120 10PC - CP","2 760,-Ft ","CP S.anyag","Removal",21,null,2760]
[{"$f":"IF(L1200=FALSE,0,COUNTIF(A$3:A1199,\">0\")+1)","v":0},8940169715,"BELT SANDING 457X03 GR80 10PC - CP","2 760,-Ft ","CP S.anyag","Removal",23,null,2760]
[{"$f":"IF(L1201=FALSE,0,COUNTIF(A$3:A1200,\">0\")+1)","v":0},8940169720,"BELT SANDING 457X06 GR120 10PC - CP","3 740,-Ft ","CP S.anyag","Removal",30,null,3740]
[{"$f":"IF(L1202=FALSE,0,COUNTIF(A$3:A1201,\">0\")+1)","v":0},8940169717,"BELT SANDING 457X06 GR40 10PC - CP","4 120,-Ft ","CP S.anyag","Removal",41,null,4120]
[{"$f":"IF(L1203=FALSE,0,COUNTIF(A$3:A1202,\">0\")+1)","v":0},8940169718,"BELT SANDING 457X06 GR60 10PC - CP","3 740,-Ft ","CP S.anyag","Removal",36,null,3740]
[{"$f":"IF(L1204=FALSE,0,COUNTIF(A$3:A1203,\">0\")+1)","v":0},8940169719,"BELT SANDING 457X06 GR80 10PC - CP","3 740,-Ft ","CP S.anyag","Removal",31,null,3740]
[{"$f":"IF(L1205=FALSE,0,COUNTIF(A$3:A1204,\">0\")+1)","v":0},8940169724,"BELT SANDING 457X13 GR120 10PC - CP","5 810,-Ft ","CP S.anyag","Removal",60,null,5810]
[{"$f":"IF(L1206=FALSE,0,COUNTIF(A$3:A1205,\">0\")+1)","v":0},8940169721,"BELT SANDING 457X13 GR40 10PC - CP","6 210,-Ft ","CP S.anyag","Removal",87,null,6210]
[{"$f":"IF(L1207=FALSE,0,COUNTIF(A$3:A1206,\">0\")+1)","v":0},8940169722,"BELT SANDING 457X13 GR60 10PC - CP","5 810,-Ft ","CP S.anyag","Removal",71,null,5810]
[{"$f":"IF(L1208=FALSE,0,COUNTIF(A$3:A1207,\">0\")+1)","v":0},8940169723,"BELT SANDING 457X13 GR80 10PC - CP","5 810,-Ft ","CP S.anyag","Removal",65,null,5810]
[{"$f":"IF(L1209=FALSE,0,COUNTIF(A$3:A1208,\">0\")+1)","v":0},8940169728,"BELT SANDING 457X20 GR120 10PC - CP","7 870,-Ft ","CP S.anyag","Removal",88,null,7870]
[{"$f":"IF(L1210=FALSE,0,COUNTIF(A$3:A1209,\">0\")+1)","v":0},8940169725,"BELT SANDING 457X20 GR40 10PC - CP","8 260,-Ft ","CP S.anyag","Removal",130,null,8260]
[{"$f":"IF(L1211=FALSE,0,COUNTIF(A$3:A1210,\">0\")+1)","v":0},8940169726,"BELT SANDING 457X20 GR60 10PC - CP","7 210,-Ft ","CP S.anyag","Removal",106,null,7210]
[{"$f":"IF(L1212=FALSE,0,COUNTIF(A$3:A1211,\">0\")+1)","v":0},8940169727,"BELT SANDING 457X20 GR80 10PC - CP","7 870,-Ft ","CP S.anyag","Removal",104,null,7870]
[{"$f":"IF(L1213=FALSE,0,COUNTIF(A$3:A1212,\">0\")+1)","v":0},8940169732,"BELT SANDING 457X25 GR120 10PC - CP","8 590,-Ft ","CP S.anyag","Removal",110,null,8590]
[{"$f":"IF(L1214=FALSE,0,COUNTIF(A$3:A1213,\">0\")+1)","v":0},8940169729,"BELT SANDING 457X25 GR40 10PC - CP","8 920,-Ft ","CP S.anyag","Removal",167,null,8920]
[{"$f":"IF(L1215=FALSE,0,COUNTIF(A$3:A1214,\">0\")+1)","v":0},8940169730,"BELT SANDING 457X25 GR60 10PC - CP","8 590,-Ft ","CP S.anyag","Removal",132,null,8590]
[{"$f":"IF(L1216=FALSE,0,COUNTIF(A$3:A1215,\">0\")+1)","v":0},8940169731,"BELT SANDING 457X25 GR80 10PC - CP","8 590,-Ft ","CP S.anyag","Removal",118,null,8590]
[{"$f":"IF(L1217=FALSE,0,COUNTIF(A$3:A1216,\">0\")+1)","v":0},8940169009,"BELT SANDING 520X20 GR100 10PC - CP","7 560,-Ft ","CP S.anyag","Removal",112,null,7560]
[{"$f":"IF(L1218=FALSE,0,COUNTIF(A$3:A1217,\">0\")+1)","v":0},8940169010,"BELT SANDING 520X20 GR120 10PC - CP","7 560,-Ft ","CP S.anyag","Removal",105,null,7560]
[{"$f":"IF(L1219=FALSE,0,COUNTIF(A$3:A1218,\">0\")+1)","v":0},8940169007,"BELT SANDING 520X20 GR60 10PC - CP","7 560,-Ft ","CP S.anyag","Removal",120,null,7560]
[{"$f":"IF(L1220=FALSE,0,COUNTIF(A$3:A1219,\">0\")+1)","v":0},8940169008,"BELT SANDING 520X20 GR80 10PC - CP","7 560,-Ft ","CP S.anyag","Removal",111,null,7560]
[{"$f":"IF(L1221=FALSE,0,COUNTIF(A$3:A1220,\">0\")+1)","v":0},8940169736,"BELT SANDING 610X06 GR120 10PC - CP","4 120,-Ft ","CP S.anyag","Removal",39,null,4120]
[{"$f":"IF(L1222=FALSE,0,COUNTIF(A$3:A1221,\">0\")+1)","v":0},8940169733,"BELT SANDING 610X06 GR40 10PC - CP","4 450,-Ft ","CP S.anyag","Removal",55,null,4450]
[{"$f":"IF(L1223=FALSE,0,COUNTIF(A$3:A1222,\">0\")+1)","v":0},8940169734,"BELT SANDING 610X06 GR60 10PC - CP","4 450,-Ft ","CP S.anyag","Removal",45,null,4450]
[{"$f":"IF(L1224=FALSE,0,COUNTIF(A$3:A1223,\">0\")+1)","v":0},8940169735,"BELT SANDING 610X06 GR80 10PC - CP","4 120,-Ft ","CP S.anyag","Removal",43,null,4120]
[{"$f":"IF(L1225=FALSE,0,COUNTIF(A$3:A1224,\">0\")+1)","v":0},8940169740,"BELT SANDING 610X13 GR120 10PC - CP","6 510,-Ft ","CP S.anyag","Removal",78,null,6510]
[{"$f":"IF(L1226=FALSE,0,COUNTIF(A$3:A1225,\">0\")+1)","v":0},8940169737,"BELT SANDING 610X13 GR40 10PC - CP","6 850,-Ft ","CP S.anyag","Removal",112,null,6850]
[{"$f":"IF(L1227=FALSE,0,COUNTIF(A$3:A1226,\">0\")+1)","v":0},8940169738,"BELT SANDING 610X13 GR60 10PC - CP","6 510,-Ft ","CP S.anyag","Removal",97,null,6510]
[{"$f":"IF(L1228=FALSE,0,COUNTIF(A$3:A1227,\">0\")+1)","v":0},8940169739,"BELT SANDING 610X13 GR80 10PC - CP","6 510,-Ft ","CP S.anyag","Removal",87,null,6510]
[{"$f":"IF(L1229=FALSE,0,COUNTIF(A$3:A1228,\">0\")+1)","v":0},2050545573,"BELT SANDING SET 12\" 5PC- CP","15 550,-Ft ","CP S.anyag","Removal",20,null,15550]
[{"$f":"IF(L1230=FALSE,0,COUNTIF(A$3:A1229,\">0\")+1)","v":0},2050545563,"BELT SANDING SET 18\" 8PC- CP","37 890,-Ft ","CP S.anyag","Removal",71,null,37890]
[{"$f":"IF(L1231=FALSE,0,COUNTIF(A$3:A1230,\">0\")+1)","v":0},6150469200,"BLADE CUTTER SHANK HEX 12,5MM","47 800,-Ft ","CP S.anyag","Removal",244,null,47800]
[{"$f":"IF(L1232=FALSE,0,COUNTIF(A$3:A1231,\">0\")+1)","v":0},6152505270,"BLADES PACK X5 SHANK HEX 5/8\"",{"$f":"IF(H1232=\"SP\",IF(J1232>0,\"SP: \"&TEXT(J1232*I$1,\"# ###,-Ft  \"),\"SP: \"&TEXT(I1232*I$1,\"# ###,-Ft\")),IF(J1232>0,\"STARS* \"&TEXT(J1232*J$1,\"# ###,-Ft\"),TEXT(I1232*I$1,\"# ###,-Ft  \")))","v":"52 940,-Ft "},"CP S.anyag","Chisels and Needles",578,null,52940]
[{"$f":"IF(L1233=FALSE,0,COUNTIF(A$3:A1232,\">0\")+1)","v":0},6152505280,"BLADES PACK X5 SHANK HEX 5/8\"","52 940,-Ft ","CP S.anyag","Chisels and Needles",921,null,52940]
[{"$f":"IF(L1234=FALSE,0,COUNTIF(A$3:A1233,\">0\")+1)","v":0},"CA155790","BLANK CHISEL SHANK HEX .401\"","3 040,-Ft ","CP S.anyag","Chisels and Needles",183,null,3040]
[{"$f":"IF(L1235=FALSE,0,COUNTIF(A$3:A1234,\">0\")+1)","v":0},6150460170,"BLANK CHISEL SHANK HEX 12,5MM","15 130,-Ft ","CP S.anyag","Removal",260,null,15130]
[{"$f":"IF(L1236=FALSE,0,COUNTIF(A$3:A1235,\">0\")+1)","v":0},6150460240,"BLANK CHISEL SHANK HEX 12,5MM","15 130,-Ft ","CP S.anyag","Removal",369,null,15130]
[{"$f":"IF(L1237=FALSE,0,COUNTIF(A$3:A1236,\">0\")+1)","v":0},"WP123994","BLANK CHISEL SHANK ISO SQUARE 1/2\"","6 110,-Ft ","CP S.anyag","Chisels and Needles",194,null,6110]
[{"$f":"IF(L1238=FALSE,0,COUNTIF(A$3:A1237,\">0\")+1)","v":0},"A046074","BLANK CHISEL SHANK ROUND .401\"","3 170,-Ft ","CP S.anyag","Chisels and Needles",192,null,3170]
[{"$f":"IF(L1239=FALSE,0,COUNTIF(A$3:A1238,\">0\")+1)","v":0},6158044370,"BLANK CHISEL SHANK ROUND 9,5MM","7 870,-Ft ","CP S.anyag","Chisels and Needles",76,null,7870]
[{"$f":"IF(L1240=FALSE,0,COUNTIF(A$3:A1239,\">0\")+1)","v":0},6158112710,"BLOW GUN EXTENDED NOZZLE","STARS* 5 130,-Ft","CP S.anyag","Air Line & Electric Supply",136,null,6510,5130]
[{"$f":"IF(L1241=FALSE,0,COUNTIF(A$3:A1240,\">0\")+1)","v":0},6158112720,"BLOW GUN EXTENDED NOZZLE SILENCER","STARS* 6 840,-Ft","CP S.anyag","Air Line & Electric Supply",141,null,8590,6840]
[{"$f":"IF(L1242=FALSE,0,COUNTIF(A$3:A1241,\">0\")+1)","v":0},6158112690,"BLOW GUN STANDARD","STARS* 5 130,-Ft","CP S.anyag","Air Line & Electric Supply",123,null,6510,5130]
[{"$f":"IF(L1243=FALSE,0,COUNTIF(A$3:A1242,\">0\")+1)","v":0},6158112700,"BLOW GUN STANDARD SILENCER","STARS* 5 130,-Ft","CP S.anyag","Air Line & Electric Supply",124,null,6850,5130]
[{"$f":"IF(L1244=FALSE,0,COUNTIF(A$3:A1243,\">0\")+1)","v":0},"CA049301","BODY-COUPLER 1/2\"FPT","9 250,-Ft ","CP S.anyag","Air Line & Electric Supply",215,null,9250]
[{"$f":"IF(L1245=FALSE,0,COUNTIF(A$3:A1244,\">0\")+1)","v":0},"CA047300","BODY-COUPLER 1/4\"FPS","8 260,-Ft ","CP S.anyag","Air Line & Electric Supply",104,null,8260]
[{"$f":"IF(L1246=FALSE,0,COUNTIF(A$3:A1245,\">0\")+1)","v":0},8940168858,"BOLT CLEANER M20x37L",{"$f":"IF(H1246=\"SP\",IF(J1246>0,\"SP: \"&TEXT(J1246*I$1,\"# ###,-Ft  \"),\"SP: \"&TEXT(I1246*I$1,\"# ###,-Ft\")),IF(J1246>0,\"STARS* \"&TEXT(J1246*J$1,\"# ###,-Ft\"),TEXT(I1246*I$1,\"# ###,-Ft  \")))","v":"15 800,-Ft "},"CP S.anyag","Removal",85,null,15800]
[{"$f":"IF(L1247=FALSE,0,COUNTIF(A$3:A1246,\">0\")+1)","v":0},8940169927,"BOLT CLEANER M20x60L","18 210,-Ft ","CP S.anyag","Removal",105,null,18210]
[{"$f":"IF(L1248=FALSE,0,COUNTIF(A$3:A1247,\">0\")+1)","v":0},8940169793,"BOLT CLEANER M22x37L","15 800,-Ft ","CP S.anyag","Removal",80,null,15800]
[{"$f":"IF(L1249=FALSE,0,COUNTIF(A$3:A1248,\">0\")+1)","v":0},8940169928,"BOLT CLEANER M22x60L","18 210,-Ft ","CP S.anyag","Removal",102,null,18210]
[{"$f":"IF(L1250=FALSE,0,COUNTIF(A$3:A1249,\">0\")+1)","v":0},8940169794,"BOLT CLEANER M24x37L","15 800,-Ft ","CP S.anyag","Removal",86,null,15800]
[{"$f":"IF(L1251=FALSE,0,COUNTIF(A$3:A1250,\">0\")+1)","v":0},8940169929,"BOLT CLEANER M24x60L","18 210,-Ft ","CP S.anyag","Removal",107,null,18210]
[{"$f":"IF(L1252=FALSE,0,COUNTIF(A$3:A1251,\">0\")+1)","v":0},8940169795,"BOLT CLEANER M30x60L","18 210,-Ft ","CP S.anyag","Removal",109,null,18210]
[{"$f":"IF(L1253=FALSE,0,COUNTIF(A$3:A1252,\">0\")+1)","v":0},8940158774,"BONNET H&L 50DIA LAMBSWOOL","STARS* 2 240,-Ft","CP S.anyag","Removal",5,null,2760,2240]
[{"$f":"IF(L1254=FALSE,0,COUNTIF(A$3:A1253,\">0\")+1)","v":0},"CA158110","BONNET H&L 90DIA LAMBSWOOL","STARS* 2 800,-Ft","CP S.anyag","Removal",10,null,4790,2800]
[{"$f":"IF(L1255=FALSE,0,COUNTIF(A$3:A1254,\">0\")+1)","v":0},"KF125423","BONNET OVERMOLD 203DIA LAMBSWOOL","6 510,-Ft ","CP S.anyag","Removal",115.7,null,6510]
[{"$f":"IF(L1256=FALSE,0,COUNTIF(A$3:A1255,\">0\")+1)","v":0},8940169930,"BRUSH OF BOLT CLEANER M20x37L (5 PCS)","19 920,-Ft ","CP S.anyag","Removal",52,null,19920]
[{"$f":"IF(L1257=FALSE,0,COUNTIF(A$3:A1256,\">0\")+1)","v":0},8940169934,"BRUSH OF BOLT CLEANER M20x60L (5 PCS)","19 920,-Ft ","CP S.anyag","Removal",54,null,19920]
[{"$f":"IF(L1258=FALSE,0,COUNTIF(A$3:A1257,\">0\")+1)","v":0},8940169931,"BRUSH OF BOLT CLEANER M22x37L (5 PCS)","19 920,-Ft ","CP S.anyag","Removal",56,null,19920]
[{"$f":"IF(L1259=FALSE,0,COUNTIF(A$3:A1258,\">0\")+1)","v":0},8940169935,"BRUSH OF BOLT CLEANER M22x60L (5 PCS)","19 920,-Ft ","CP S.anyag","Removal",52,null,19920]
[{"$f":"IF(L1260=FALSE,0,COUNTIF(A$3:A1259,\">0\")+1)","v":0},8940169932,"BRUSH OF BOLT CLEANER M24x37L (5 PCS)","19 920,-Ft ","CP S.anyag","Removal",64,null,19920]
[{"$f":"IF(L1261=FALSE,0,COUNTIF(A$3:A1260,\">0\")+1)","v":0},8940169936,"BRUSH OF BOLT CLEANER M24x60L (5 PCS)","19 920,-Ft ","CP S.anyag","Removal",60,null,19920]
[{"$f":"IF(L1262=FALSE,0,COUNTIF(A$3:A1261,\">0\")+1)","v":0},8940169933,"BRUSH OF BOLT CLEANER M30x60L (5 PCS)","19 920,-Ft ","CP S.anyag","Removal",78,null,19920]
[{"$f":"IF(L1263=FALSE,0,COUNTIF(A$3:A1262,\">0\")+1)","v":0},8940171773,"BURR ALUMINUM 10MM HEAD SHAPE A","10 300,-Ft ","CP S.anyag","Removal",0,null,10300]
[{"$f":"IF(L1264=FALSE,0,COUNTIF(A$3:A1263,\">0\")+1)","v":0},8940171774,"BURR ALUMINUM 10MM HEAD SHAPE C","11 300,-Ft ","CP S.anyag","Removal",0,null,11300]
[{"$f":"IF(L1265=FALSE,0,COUNTIF(A$3:A1264,\">0\")+1)","v":0},8940171775,"BURR ALUMINUM 10MM HEAD SHAPE D","9 250,-Ft ","CP S.anyag","Removal",0,null,9250]
[{"$f":"IF(L1266=FALSE,0,COUNTIF(A$3:A1265,\">0\")+1)","v":0},8940171776,"BURR ALUMINUM 10MM HEAD SHAPE F","11 000,-Ft ","CP S.anyag","Removal",0,null,11000]
[{"$f":"IF(L1267=FALSE,0,COUNTIF(A$3:A1266,\">0\")+1)","v":0},8940171777,"BURR ALUMINUM 10MM HEAD SHAPE L","14 060,-Ft ","CP S.anyag","Removal",0,null,14060]
[{"$f":"IF(L1268=FALSE,0,COUNTIF(A$3:A1267,\">0\")+1)","v":0},8940171778,"BURR ALUMINUM 12MM HEAD SHAPE A","15 800,-Ft ","CP S.anyag","Removal",0,null,15800]
[{"$f":"IF(L1269=FALSE,0,COUNTIF(A$3:A1268,\">0\")+1)","v":0},8940171779,"BURR ALUMINUM 12MM HEAD SHAPE B","17 500,-Ft ","CP S.anyag","Removal",0,null,17500]
[{"$f":"IF(L1270=FALSE,0,COUNTIF(A$3:A1269,\">0\")+1)","v":0},8940171780,"BURR ALUMINUM 12MM HEAD SHAPE C","17 860,-Ft ","CP S.anyag","Removal",0,null,17860]
[{"$f":"IF(L1271=FALSE,0,COUNTIF(A$3:A1270,\">0\")+1)","v":0},8940171781,"BURR ALUMINUM 12MM HEAD SHAPE D","12 360,-Ft ","CP S.anyag","Removal",0,null,12360]
[{"$f":"IF(L1272=FALSE,0,COUNTIF(A$3:A1271,\">0\")+1)","v":0},8940171782,"BURR ALUMINUM 12MM HEAD SHAPE F","16 490,-Ft ","CP S.anyag","Removal",0,null,16490]
[{"$f":"IF(L1273=FALSE,0,COUNTIF(A$3:A1272,\">0\")+1)","v":0},8940171783,"BURR ALUMINUM 12MM HEAD SHAPE G","16 150,-Ft ","CP S.anyag","Removal",0,null,16150]
[{"$f":"IF(L1274=FALSE,0,COUNTIF(A$3:A1273,\">0\")+1)","v":0},8940171784,"BURR ALUMINUM 12MM HEAD SHAPE L","17 190,-Ft ","CP S.anyag","Removal",0,null,17190]
[{"$f":"IF(L1275=FALSE,0,COUNTIF(A$3:A1274,\">0\")+1)","v":0},8940171789,"BURR DISPLAY DOUBLE CUT 40PC","400 000,-Ft ","CP S.anyag","Removal",0,null,400000]
[{"$f":"IF(L1276=FALSE,0,COUNTIF(A$3:A1275,\">0\")+1)","v":0},8940171729,"BURR DOUBLE CUT 10MM HEAD SHAPE B","8 920,-Ft ","CP S.anyag","Removal",0,null,8920]
[{"$f":"IF(L1277=FALSE,0,COUNTIF(A$3:A1276,\">0\")+1)","v":0},8940171730,"BURR DOUBLE CUT 10MM HEAD SHAPE C","8 920,-Ft ","CP S.anyag","Removal",0,null,8920]
[{"$f":"IF(L1278=FALSE,0,COUNTIF(A$3:A1277,\">0\")+1)","v":0},8940171731,"BURR DOUBLE CUT 10MM HEAD SHAPE D","7 560,-Ft ","CP S.anyag","Removal",0,null,7560]
[{"$f":"IF(L1279=FALSE,0,COUNTIF(A$3:A1278,\">0\")+1)","v":0},8940171732,"BURR DOUBLE CUT 10MM HEAD SHAPE E","8 920,-Ft ","CP S.anyag","Removal",0,null,8920]
[{"$f":"IF(L1280=FALSE,0,COUNTIF(A$3:A1279,\">0\")+1)","v":0},8940171733,"BURR DOUBLE CUT 10MM HEAD SHAPE F","8 920,-Ft ","CP S.anyag","Removal",0,null,8920]
[{"$f":"IF(L1281=FALSE,0,COUNTIF(A$3:A1280,\">0\")+1)","v":0},8940171734,"BURR DOUBLE CUT 10MM HEAD SHAPE G","9 250,-Ft ","CP S.anyag","Removal",0,null,9250]
[{"$f":"IF(L1282=FALSE,0,COUNTIF(A$3:A1281,\">0\")+1)","v":0},8940171735,"BURR DOUBLE CUT 10MM HEAD SHAPE L","11 300,-Ft ","CP S.anyag","Removal",0,null,11300]
[{"$f":"IF(L1283=FALSE,0,COUNTIF(A$3:A1282,\">0\")+1)","v":0},8940171736,"BURR DOUBLE CUT 10MM HEAD SHAPE M","11 300,-Ft ","CP S.anyag","Removal",0,null,11300]
[{"$f":"IF(L1284=FALSE,0,COUNTIF(A$3:A1283,\">0\")+1)","v":0},8940171737,"BURR DOUBLE CUT 12MM HEAD SHAPE A","12 720,-Ft ","CP S.anyag","Removal",0,null,12720]
[{"$f":"IF(L1285=FALSE,0,COUNTIF(A$3:A1284,\">0\")+1)","v":0},8940171738,"BURR DOUBLE CUT 12MM HEAD SHAPE B","13 770,-Ft ","CP S.anyag","Removal",0,null,13770]
[{"$f":"IF(L1286=FALSE,0,COUNTIF(A$3:A1285,\">0\")+1)","v":0},8940171739,"BURR DOUBLE CUT 12MM HEAD SHAPE C","14 060,-Ft ","CP S.anyag","Removal",0,null,14060]
[{"$f":"IF(L1287=FALSE,0,COUNTIF(A$3:A1286,\">0\")+1)","v":0},8940171740,"BURR DOUBLE CUT 12MM HEAD SHAPE D","9 950,-Ft ","CP S.anyag","Removal",0,null,9950]
[{"$f":"IF(L1288=FALSE,0,COUNTIF(A$3:A1287,\">0\")+1)","v":0},8940171741,"BURR DOUBLE CUT 12MM HEAD SHAPE F","13 060,-Ft ","CP S.anyag","Removal",0,null,13060]
[{"$f":"IF(L1289=FALSE,0,COUNTIF(A$3:A1288,\">0\")+1)","v":0},8940171742,"BURR DOUBLE CUT 12MM HEAD SHAPE G","12 720,-Ft ","CP S.anyag","Removal",0,null,12720]
[{"$f":"IF(L1290=FALSE,0,COUNTIF(A$3:A1289,\">0\")+1)","v":0},8940171743,"BURR DOUBLE CUT 12MM HEAD SHAPE H","18 880,-Ft ","CP S.anyag","Removal",0,null,18880]
[{"$f":"IF(L1291=FALSE,0,COUNTIF(A$3:A1290,\">0\")+1)","v":0},8940171744,"BURR DOUBLE CUT 12MM HEAD SHAPE L","13 770,-Ft ","CP S.anyag","Removal",0,null,13770]
[{"$f":"IF(L1292=FALSE,0,COUNTIF(A$3:A1291,\">0\")+1)","v":0},8940171745,"BURR DOUBLE CUT 12MM HEAD SHAPE M","14 060,-Ft ","CP S.anyag","Removal",0,null,14060]
[{"$f":"IF(L1293=FALSE,0,COUNTIF(A$3:A1292,\">0\")+1)","v":0},8940171746,"BURR DOUBLE CUT 15MM HEAD SHAPE C","17 860,-Ft ","CP S.anyag","Removal",0,null,17860]
[{"$f":"IF(L1294=FALSE,0,COUNTIF(A$3:A1293,\">0\")+1)","v":0},8940171747,"BURR DOUBLE CUT 15MM HEAD SHAPE F","17 860,-Ft ","CP S.anyag","Removal",0,null,17860]
[{"$f":"IF(L1295=FALSE,0,COUNTIF(A$3:A1294,\">0\")+1)","v":0},8940171748,"BURR DOUBLE CUT 15MM HEAD SHAPE L","27 130,-Ft ","CP S.anyag","Removal",0,null,27130]
[{"$f":"IF(L1296=FALSE,0,COUNTIF(A$3:A1295,\">0\")+1)","v":0},8940171719,"BURR DOUBLE CUT 3MM HEAD SHAPE A","3 450,-Ft ","CP S.anyag","Removal",0,null,3450]
[{"$f":"IF(L1297=FALSE,0,COUNTIF(A$3:A1296,\">0\")+1)","v":0},8940171720,"BURR DOUBLE CUT 3MM HEAD SHAPE B","3 740,-Ft ","CP S.anyag","Removal",0,null,3740]
[{"$f":"IF(L1298=FALSE,0,COUNTIF(A$3:A1297,\">0\")+1)","v":0},8940171721,"BURR DOUBLE CUT 3MM HEAD SHAPE C","3 450,-Ft ","CP S.anyag","Removal",0,null,3450]
[{"$f":"IF(L1299=FALSE,0,COUNTIF(A$3:A1298,\">0\")+1)","v":0},8940171722,"BURR DOUBLE CUT 3MM HEAD SHAPE D","3 450,-Ft ","CP S.anyag","Removal",0,null,3450]
[{"$f":"IF(L1300=FALSE,0,COUNTIF(A$3:A1299,\">0\")+1)","v":0},8940171723,"BURR DOUBLE CUT 3MM HEAD SHAPE E","3 450,-Ft ","CP S.anyag","Removal",0,null,3450]
[{"$f":"IF(L1301=FALSE,0,COUNTIF(A$3:A1300,\">0\")+1)","v":0},8940171724,"BURR DOUBLE CUT 3MM HEAD SHAPE F","3 450,-Ft ","CP S.anyag","Removal",0,null,3450]
[{"$f":"IF(L1302=FALSE,0,COUNTIF(A$3:A1301,\">0\")+1)","v":0},8940171725,"BURR DOUBLE CUT 3MM HEAD SHAPE G","3 450,-Ft ","CP S.anyag","Removal",0,null,3450]
[{"$f":"IF(L1303=FALSE,0,COUNTIF(A$3:A1302,\">0\")+1)","v":0},8940171726,"BURR DOUBLE CUT 3MM HEAD SHAPE L","3 450,-Ft ","CP S.anyag","Removal",0,null,3450]
[{"$f":"IF(L1304=FALSE,0,COUNTIF(A$3:A1303,\">0\")+1)","v":0},8940171727,"BURR DOUBLE CUT 3MM HEAD SHAPE M","3 450,-Ft ","CP S.anyag","Removal",0,null,3450]
[{"$f":"IF(L1305=FALSE,0,COUNTIF(A$3:A1304,\">0\")+1)","v":0},8940171728,"BURR DOUBLE CUT 3MM HEAD SHAPE N","3 450,-Ft ","CP S.anyag","Removal",0,null,3450]
[{"$f":"IF(L1306=FALSE,0,COUNTIF(A$3:A1305,\">0\")+1)","v":0},8940171749,"BURR DOUBLE CUT 6MM HEAD SHAPE A","5 810,-Ft ","CP S.anyag","Removal",0,null,5810]
[{"$f":"IF(L1307=FALSE,0,COUNTIF(A$3:A1306,\">0\")+1)","v":0},8940171750,"BURR DOUBLE CUT 6MM HEAD SHAPE B","6 210,-Ft ","CP S.anyag","Removal",0,null,6210]
[{"$f":"IF(L1308=FALSE,0,COUNTIF(A$3:A1307,\">0\")+1)","v":0},8940171751,"BURR DOUBLE CUT 6MM HEAD SHAPE C","6 850,-Ft ","CP S.anyag","Removal",0,null,6850]
[{"$f":"IF(L1309=FALSE,0,COUNTIF(A$3:A1308,\">0\")+1)","v":0},8940171752,"BURR DOUBLE CUT 6MM HEAD SHAPE D","6 210,-Ft ","CP S.anyag","Removal",0,null,6210]
[{"$f":"IF(L1310=FALSE,0,COUNTIF(A$3:A1309,\">0\")+1)","v":0},8940171753,"BURR DOUBLE CUT 6MM HEAD SHAPE F",{"$f":"IF(H1310=\"SP\",IF(J1310>0,\"SP: \"&TEXT(J1310*I$1,\"# ###,-Ft  \"),\"SP: \"&TEXT(I1310*I$1,\"# ###,-Ft\")),IF(J1310>0,\"STARS* \"&TEXT(J1310*J$1,\"# ###,-Ft\"),TEXT(I1310*I$1,\"# ###,-Ft  \")))","v":"6 850,-Ft "},"CP S.anyag","Removal",0,null,6850]
[{"$f":"IF(L1311=FALSE,0,COUNTIF(A$3:A1310,\">0\")+1)","v":0},8940171754,"BURR DOUBLE CUT 6MM HEAD SHAPE G","6 850,-Ft ","CP S.anyag","Removal",0,null,6850]
[{"$f":"IF(L1312=FALSE,0,COUNTIF(A$3:A1311,\">0\")+1)","v":0},8940171755,"BURR DOUBLE CUT 6MM HEAD SHAPE M","7 210,-Ft ","CP S.anyag","Removal",0,null,7210]
[{"$f":"IF(L1313=FALSE,0,COUNTIF(A$3:A1312,\">0\")+1)","v":0},8940171756,"BURR DOUBLE CUT 8MM HEAD SHAPE A","7 560,-Ft ","CP S.anyag","Removal",0,null,7560]
[{"$f":"IF(L1314=FALSE,0,COUNTIF(A$3:A1313,\">0\")+1)","v":0},8940171757,"BURR DOUBLE CUT 8MM HEAD SHAPE B","8 260,-Ft ","CP S.anyag","Removal",0,null,8260]
[{"$f":"IF(L1315=FALSE,0,COUNTIF(A$3:A1314,\">0\")+1)","v":0},8940171758,"BURR DOUBLE CUT 8MM HEAD SHAPE C","8 260,-Ft ","CP S.anyag","Removal",0,null,8260]
[{"$f":"IF(L1316=FALSE,0,COUNTIF(A$3:A1315,\">0\")+1)","v":0},8940171759,"BURR DOUBLE CUT 8MM HEAD SHAPE D","6 510,-Ft ","CP S.anyag","Removal",0,null,6510]
[{"$f":"IF(L1317=FALSE,0,COUNTIF(A$3:A1316,\">0\")+1)","v":0},8940171760,"BURR DOUBLE CUT 8MM HEAD SHAPE E","8 260,-Ft ","CP S.anyag","Removal",0,null,8260]
[{"$f":"IF(L1318=FALSE,0,COUNTIF(A$3:A1317,\">0\")+1)","v":0},8940171761,"BURR DOUBLE CUT 8MM HEAD SHAPE G","8 590,-Ft ","CP S.anyag","Removal",0,null,8590]
[{"$f":"IF(L1319=FALSE,0,COUNTIF(A$3:A1318,\">0\")+1)","v":0},8940171788,"BURR KIT ALUMINUM 6MM SHANK 5PC","STARS* 59 100,-Ft","CP S.anyag","Removal",0,null,63100,59100]
[{"$f":"IF(L1320=FALSE,0,COUNTIF(A$3:A1319,\">0\")+1)","v":0},8940171785,"BURR KIT DOUBLE CUT 3MM SHANK 10 PC","40 980,-Ft ","CP S.anyag","Removal",0,null,40980]
[{"$f":"IF(L1321=FALSE,0,COUNTIF(A$3:A1320,\">0\")+1)","v":0},8940171787,"BURR KIT DOUBLE CUT 6MM SHANK 5PC","STARS* 59 100,-Ft","CP S.anyag","Removal",0,null,63100,59100]
[{"$f":"IF(L1322=FALSE,0,COUNTIF(A$3:A1321,\">0\")+1)","v":0},8940171786,"BURR KIT POWER CUT 6MM SHANK 5PC","STARS* 73 200,-Ft","CP S.anyag","Removal",0,null,77700,73200]
[{"$f":"IF(L1323=FALSE,0,COUNTIF(A$3:A1322,\">0\")+1)","v":0},8940171762,"BURR POWER CUT 12MM HEAD SHAPE B","15 130,-Ft ","CP S.anyag","Removal",0,null,15130]
[{"$f":"IF(L1324=FALSE,0,COUNTIF(A$3:A1323,\">0\")+1)","v":0},8940171763,"BURR POWER CUT 12MM HEAD SHAPE C","15 440,-Ft ","CP S.anyag","Removal",0,null,15440]
[{"$f":"IF(L1325=FALSE,0,COUNTIF(A$3:A1324,\">0\")+1)","v":0},8940171764,"BURR POWER CUT 12MM HEAD SHAPE F","14 410,-Ft ","CP S.anyag","Removal",0,null,14410]
[{"$f":"IF(L1326=FALSE,0,COUNTIF(A$3:A1325,\">0\")+1)","v":0},8940171765,"BURR POWER CUT 12MM HEAD SHAPE G","14 060,-Ft ","CP S.anyag","Removal",0,null,14060]
[{"$f":"IF(L1327=FALSE,0,COUNTIF(A$3:A1326,\">0\")+1)","v":0},8940171766,"BURR POWER CUT 12MM HEAD SHAPE H","20 630,-Ft ","CP S.anyag","Removal",0,null,20630]
[{"$f":"IF(L1328=FALSE,0,COUNTIF(A$3:A1327,\">0\")+1)","v":0},8940171767,"BURR POWER CUT 12MM HEAD SHAPE L","15 130,-Ft ","CP S.anyag","Removal",0,null,15130]
[{"$f":"IF(L1329=FALSE,0,COUNTIF(A$3:A1328,\">0\")+1)","v":0},8940171768,"BURR POWER CUT 15MM HEAD SHAPE A","17 500,-Ft ","CP S.anyag","Removal",0,null,17500]
[{"$f":"IF(L1330=FALSE,0,COUNTIF(A$3:A1329,\">0\")+1)","v":0},8940171769,"BURR POWER CUT 15MM HEAD SHAPE B","19 250,-Ft ","CP S.anyag","Removal",0,null,19250]
[{"$f":"IF(L1331=FALSE,0,COUNTIF(A$3:A1330,\">0\")+1)","v":0},8940171770,"BURR POWER CUT 15MM HEAD SHAPE C","19 570,-Ft ","CP S.anyag","Removal",0,null,19570]
[{"$f":"IF(L1332=FALSE,0,COUNTIF(A$3:A1331,\">0\")+1)","v":0},8940171771,"BURR POWER CUT 15MM HEAD SHAPE F","19 920,-Ft ","CP S.anyag","Removal",0,null,19920]
[{"$f":"IF(L1333=FALSE,0,COUNTIF(A$3:A1332,\">0\")+1)","v":0},8940171772,"BURR POWER CUT 15MM HEAD SHAPE L","29 680,-Ft ","CP S.anyag","Removal",0,null,29680]
[{"$f":"IF(L1334=FALSE,0,COUNTIF(A$3:A1333,\">0\")+1)","v":0},"A047052","BUSHING SPLITTER SHANK ROUND .498\"","12 000,-Ft ","CP S.anyag","Chisels and Needles",241,null,12000]
[{"$f":"IF(L1335=FALSE,0,COUNTIF(A$3:A1334,\">0\")+1)","v":0},"C123029","BUSHING-COLLET","5 140,-Ft ","CP S.anyag","Removal",3,null,5140]
[{"$f":"IF(L1336=FALSE,0,COUNTIF(A$3:A1335,\">0\")+1)","v":0},6158040620,"CAPE CHISEL SHANK QTR. OCT. WF 1/2\"","45 410,-Ft ","CP S.anyag","Chisels and Needles",189,null,45410]
[{"$f":"IF(L1337=FALSE,0,COUNTIF(A$3:A1336,\">0\")+1)","v":0},"P073224","CAPE CHISEL SHANK QTR. OCT. WF 1/2\"","13 770,-Ft ","CP S.anyag","Chisels and Needles",171,null,13770]
[{"$f":"IF(L1338=FALSE,0,COUNTIF(A$3:A1337,\">0\")+1)","v":0},6155665430,"CARTER INTERMEDIAIR",",-Ft ","CP S.anyag","Removal",533.4]
[{"$f":"IF(L1339=FALSE,0,COUNTIF(A$3:A1338,\">0\")+1)","v":0},"A008541","CHISEL 10,2MM RND SHANK 160MM BLANK",{"$f":"IF(H1339=\"SP\",IF(J1339>0,\"SP: \"&TEXT(J1339*I$1,\"# ###,-Ft  \"),\"SP: \"&TEXT(I1339*I$1,\"# ###,-Ft\")),IF(J1339>0,\"STARS* \"&TEXT(J1339*J$1,\"# ###,-Ft\"),TEXT(I1339*I$1,\"# ###,-Ft  \")))","v":"11 510,-Ft "},"CP S.anyag","Chisels and Needles",165.6,null,11510]
[{"$f":"IF(L1340=FALSE,0,COUNTIF(A$3:A1339,\">0\")+1)","v":0},"P054183","CHISEL 3MM HEX SHANK 35X6MM","24 750,-Ft ","CP S.anyag","Chisels and Needles",1,null,24750]
[{"$f":"IF(L1341=FALSE,0,COUNTIF(A$3:A1340,\">0\")+1)","v":0},"P054184","CHISEL 3MM HEX SHANK 38MM BLANK","12 720,-Ft ","CP S.anyag","Chisels and Needles",1,null,12720]
[{"$f":"IF(L1342=FALSE,0,COUNTIF(A$3:A1341,\">0\")+1)","v":0},"P054182","CHISEL 3MM HEX SHANK 41MM ROUND","23 350,-Ft ","CP S.anyag","Chisels and Needles",1,null,23350]
[{"$f":"IF(L1343=FALSE,0,COUNTIF(A$3:A1342,\">0\")+1)","v":0},"CA155807","CHISEL SET 10,2MM RND SHANK (6 PCS)","12 940,-Ft ","CP S.anyag","Chisels and Needles",936,null,12940]
[{"$f":"IF(L1344=FALSE,0,COUNTIF(A$3:A1343,\">0\")+1)","v":0},6158109140,"CLAW COUPLING DIN FEMALE THREAD 1\" BSP","4 450,-Ft ","CP S.anyag","Air Line & Electric Supply",176,null,4450]
[{"$f":"IF(L1345=FALSE,0,COUNTIF(A$3:A1344,\">0\")+1)","v":0},6158109120,"CLAW COUPLING DIN FEMALE THREAD 1/2\" BSP","4 450,-Ft ","CP S.anyag","Air Line & Electric Supply",130,null,4450]
[{"$f":"IF(L1346=FALSE,0,COUNTIF(A$3:A1345,\">0\")+1)","v":0},6158109130,"CLAW COUPLING DIN FEMALE THREAD 3/4\" BSP","4 450,-Ft ","CP S.anyag","Air Line & Electric Supply",52,null,4450]
[{"$f":"IF(L1347=FALSE,0,COUNTIF(A$3:A1346,\">0\")+1)","v":0},6158109110,"CLAW COUPLING DIN FEMALE THREAD 3/8\" BSP","4 450,-Ft ","CP S.anyag","Air Line & Electric Supply",130,null,4450]
[{"$f":"IF(L1348=FALSE,0,COUNTIF(A$3:A1347,\">0\")+1)","v":0},6158109190,"CLAW COUPLING DIN HOSE CONECT 1/4\"-6,5MM","4 450,-Ft ","CP S.anyag","Air Line & Electric Supply",169,null,4450]
[{"$f":"IF(L1349=FALSE,0,COUNTIF(A$3:A1348,\">0\")+1)","v":0},6158109240,"CLAW COUPLING DIN HOSE CONNECT 1\"-25MM","4 450,-Ft ","CP S.anyag","Air Line & Electric Supply",170,null,4450]
[{"$f":"IF(L1350=FALSE,0,COUNTIF(A$3:A1349,\">0\")+1)","v":0},6158109210,"CLAW COUPLING DIN HOSE CONNECT 1/2\"-13MM","4 450,-Ft ","CP S.anyag","Air Line & Electric Supply",143,null,4450]
[{"$f":"IF(L1351=FALSE,0,COUNTIF(A$3:A1350,\">0\")+1)","v":0},6158109230,"CLAW COUPLING DIN HOSE CONNECT 3/4\"-19MM","4 450,-Ft ","CP S.anyag","Air Line & Electric Supply",151,null,4450]
[{"$f":"IF(L1352=FALSE,0,COUNTIF(A$3:A1351,\">0\")+1)","v":0},6158109200,"CLAW COUPLING DIN HOSE CONNECT 3/8\"-10MM","4 450,-Ft ","CP S.anyag","Air Line & Electric Supply",140,null,4450]
[{"$f":"IF(L1353=FALSE,0,COUNTIF(A$3:A1352,\">0\")+1)","v":0},6158109220,"CLAW COUPLING DIN HOSE CONNECT 5/8\"-16MM","4 450,-Ft ","CP S.anyag","Air Line & Electric Supply",85,null,4450]
[{"$f":"IF(L1354=FALSE,0,COUNTIF(A$3:A1353,\">0\")+1)","v":0},6158109060,"CLAW COUPLING DIN MALE THREAD 1\" BSP","4 450,-Ft ","CP S.anyag","Air Line & Electric Supply",170,null,4450]
[{"$f":"IF(L1355=FALSE,0,COUNTIF(A$3:A1354,\">0\")+1)","v":0},6158109040,"CLAW COUPLING DIN MALE THREAD 1/2\" BSP","4 450,-Ft ","CP S.anyag","Air Line & Electric Supply",154,null,4450]
[{"$f":"IF(L1356=FALSE,0,COUNTIF(A$3:A1355,\">0\")+1)","v":0},6158109050,"CLAW COUPLING DIN MALE THREAD 3/4\" BSP","4 450,-Ft ","CP S.anyag","Air Line & Electric Supply",170,null,4450]
[{"$f":"IF(L1357=FALSE,0,COUNTIF(A$3:A1356,\">0\")+1)","v":0},6158109030,"CLAW COUPLING DIN MALE THREAD 3/8\" BSP","4 450,-Ft ","CP S.anyag","Air Line & Electric Supply",160,null,4450]
[{"$f":"IF(L1358=FALSE,0,COUNTIF(A$3:A1357,\">0\")+1)","v":0},6158109180,"CLAW COUPLING US FEMALE THREAD 1\" NPT","4 120,-Ft ","CP S.anyag","Air Line & Electric Supply",213,null,4120]
[{"$f":"IF(L1359=FALSE,0,COUNTIF(A$3:A1358,\">0\")+1)","v":0},6158109160,"CLAW COUPLING US FEMALE THREAD 1/2\" NPT","4 120,-Ft ","CP S.anyag","Air Line & Electric Supply",181,null,4120]
[{"$f":"IF(L1360=FALSE,0,COUNTIF(A$3:A1359,\">0\")+1)","v":0},6158109170,"CLAW COUPLING US FEMALE THREAD 3/4\" NPT","4 120,-Ft ","CP S.anyag","Air Line & Electric Supply",199,null,4120]
[{"$f":"IF(L1361=FALSE,0,COUNTIF(A$3:A1360,\">0\")+1)","v":0},6158109150,"CLAW COUPLING US FEMALE THREAD 3/8\" NPT","4 120,-Ft ","CP S.anyag","Air Line & Electric Supply",189,null,4120]
[{"$f":"IF(L1362=FALSE,0,COUNTIF(A$3:A1361,\">0\")+1)","v":0},6158109280,"CLAW COUPLING US HOSE CONNECT 1/2\"-13MM","4 790,-Ft ","CP S.anyag","Air Line & Electric Supply",194,null,4790]
[{"$f":"IF(L1363=FALSE,0,COUNTIF(A$3:A1362,\">0\")+1)","v":0},6158109290,"CLAW COUPLING US HOSE CONNECT 3/4\"-19MM","4 790,-Ft ","CP S.anyag","Air Line & Electric Supply",235,null,4790]
[{"$f":"IF(L1364=FALSE,0,COUNTIF(A$3:A1363,\">0\")+1)","v":0},6158109270,"CLAW COUPLING US HOSE CONNECT 3/8\"-10MM","4 790,-Ft ","CP S.anyag","Air Line & Electric Supply",236,null,4790]
[{"$f":"IF(L1365=FALSE,0,COUNTIF(A$3:A1364,\">0\")+1)","v":0},6158109300,"CLAW COUPLING US HOSE CONNECTION 1\"-25MM","4 790,-Ft ","CP S.anyag","Air Line & Electric Supply",280,null,4790]
[{"$f":"IF(L1366=FALSE,0,COUNTIF(A$3:A1365,\">0\")+1)","v":0},6158109100,"CLAW COUPLING US MALE THREAD 1\" NPT","4 120,-Ft ","CP S.anyag","Air Line & Electric Supply",253,null,4120]
[{"$f":"IF(L1367=FALSE,0,COUNTIF(A$3:A1366,\">0\")+1)","v":0},6158109080,"CLAW COUPLING US MALE THREAD 1/2\" NPT","4 120,-Ft ","CP S.anyag","Air Line & Electric Supply",183,null,4120]
[{"$f":"IF(L1368=FALSE,0,COUNTIF(A$3:A1367,\">0\")+1)","v":0},6158109090,"CLAW COUPLING US MALE THREAD 3/4\" NPT","4 120,-Ft ","CP S.anyag","Air Line & Electric Supply",216,null,4120]
[{"$f":"IF(L1369=FALSE,0,COUNTIF(A$3:A1368,\">0\")+1)","v":0},6158109070,"CLAW COUPLING US MALE THREAD 3/8\" NPT","4 120,-Ft ","CP S.anyag","Air Line & Electric Supply",176,null,4120]
[{"$f":"IF(L1370=FALSE,0,COUNTIF(A$3:A1369,\">0\")+1)","v":0},2050484293,"COLLET (1/4\")","3 740,-Ft ","CP S.anyag","Removal",2,null,3740]
[{"$f":"IF(L1371=FALSE,0,COUNTIF(A$3:A1370,\">0\")+1)","v":0},"C138727","COLLET 1/4\"","5 140,-Ft ","CP S.anyag","Removal",9,null,5140]
[{"$f":"IF(L1372=FALSE,0,COUNTIF(A$3:A1371,\">0\")+1)","v":0},2050516623,"COLLET 1/8 \" (CP9111 IKIT)","3 450,-Ft ","CP S.anyag","Removal",11,null,3450]
[{"$f":"IF(L1373=FALSE,0,COUNTIF(A$3:A1372,\">0\")+1)","v":0},2050548553,"COLLET 1/8\"","13 060,-Ft ","CP S.anyag","Removal",6,null,13060]
[{"$f":"IF(L1374=FALSE,0,COUNTIF(A$3:A1373,\">0\")+1)","v":0},2050548563,"COLLET 3613","13 060,-Ft ","CP S.anyag","Removal",6,null,13060]
[{"$f":"IF(L1375=FALSE,0,COUNTIF(A$3:A1374,\">0\")+1)","v":0},2050484292,"COLLET 3MM","2 760,-Ft ","CP S.anyag","Removal",11,null,2760]
[{"$f":"IF(L1376=FALSE,0,COUNTIF(A$3:A1375,\">0\")+1)","v":0},"C139289","COLLET 6MM","5 810,-Ft ","CP S.anyag","Removal",9,null,5810]
[{"$f":"IF(L1377=FALSE,0,COUNTIF(A$3:A1376,\">0\")+1)","v":0},6152505390,"COMB BLADES SHANK HEX 5/8\"","2 400,-Ft ","CP S.anyag","Chisels and Needles",24,null,2400]
[{"$f":"IF(L1378=FALSE,0,COUNTIF(A$3:A1377,\">0\")+1)","v":0},6150029030,"COMB HOLDER SHANK HEX 5/8\"","89 900,-Ft ","CP S.anyag","Chisels and Needles",407,null,89900]
[{"$f":"IF(L1379=FALSE,0,COUNTIF(A$3:A1378,\">0\")+1)","v":0},6158104820,"COUPLING EF-F06S 14 BSP","8 590,-Ft ","CP S.anyag","Air Line & Electric Supply",92,null,8590]
[{"$f":"IF(L1380=FALSE,0,COUNTIF(A$3:A1379,\">0\")+1)","v":0},6158104880,"COUPLING EF-F06S 14 NPT","8 590,-Ft ","CP S.anyag","Air Line & Electric Supply",94,null,8590]
[{"$f":"IF(L1381=FALSE,0,COUNTIF(A$3:A1380,\">0\")+1)","v":0},6158104830,"COUPLING EF-F06S 38 BSP","8 590,-Ft ","CP S.anyag","Air Line & Electric Supply",108,null,8590]
[{"$f":"IF(L1382=FALSE,0,COUNTIF(A$3:A1381,\">0\")+1)","v":0},6158104890,"COUPLING EF-F06S 38 NPT","8 590,-Ft ","CP S.anyag","Air Line & Electric Supply",120,null,8590]
[{"$f":"IF(L1383=FALSE,0,COUNTIF(A$3:A1382,\">0\")+1)","v":0},6158106610,"COUPLING EF-F075A 12 BSPT","10 300,-Ft ","CP S.anyag","Air Line & Electric Supply",125,null,10300]
[{"$f":"IF(L1384=FALSE,0,COUNTIF(A$3:A1383,\">0\")+1)","v":0},6158106590,"COUPLING EF-F075A 14 BSPT","11 000,-Ft ","CP S.anyag","Air Line & Electric Supply",130,null,11000]
[{"$f":"IF(L1385=FALSE,0,COUNTIF(A$3:A1384,\">0\")+1)","v":0},6158106600,"COUPLING EF-F075A 38 BSPT","11 000,-Ft ","CP S.anyag","Air Line & Electric Supply",120,null,11000]
[{"$f":"IF(L1386=FALSE,0,COUNTIF(A$3:A1385,\">0\")+1)","v":0},6158105190,"COUPLING EF-F076E 12 BSP","8 590,-Ft ","CP S.anyag","Air Line & Electric Supply",105,null,8590]
[{"$f":"IF(L1387=FALSE,0,COUNTIF(A$3:A1386,\">0\")+1)","v":0},6158105170,"COUPLING EF-F076E 14 BSP","8 590,-Ft ","CP S.anyag","Air Line & Electric Supply",90,null,8590]
[{"$f":"IF(L1388=FALSE,0,COUNTIF(A$3:A1387,\">0\")+1)","v":0},6158105180,"COUPLING EF-F076E 38 BSP","8 590,-Ft ","CP S.anyag","Air Line & Electric Supply",105,null,8590]
[{"$f":"IF(L1389=FALSE,0,COUNTIF(A$3:A1388,\">0\")+1)","v":0},6158104970,"COUPLING EF-F08S 12 BSP","11 300,-Ft ","CP S.anyag","Air Line & Electric Supply",170,null,11300]
[{"$f":"IF(L1390=FALSE,0,COUNTIF(A$3:A1389,\">0\")+1)","v":0},6158105030,"COUPLING EF-F08S 12 NPT","11 300,-Ft ","CP S.anyag","Air Line & Electric Supply",195,null,11300]
[{"$f":"IF(L1391=FALSE,0,COUNTIF(A$3:A1390,\">0\")+1)","v":0},6158104950,"COUPLING EF-F08S 14 BSP","11 300,-Ft ","CP S.anyag","Air Line & Electric Supply",155,null,11300]
[{"$f":"IF(L1392=FALSE,0,COUNTIF(A$3:A1391,\">0\")+1)","v":0},6158105010,"COUPLING EF-F08S 14 NPT","11 300,-Ft ","CP S.anyag","Air Line & Electric Supply",155,null,11300]
[{"$f":"IF(L1393=FALSE,0,COUNTIF(A$3:A1392,\">0\")+1)","v":0},6158104960,"COUPLING EF-F08S 38 BSP","11 300,-Ft ","CP S.anyag","Air Line & Electric Supply",145,null,11300]
[{"$f":"IF(L1394=FALSE,0,COUNTIF(A$3:A1393,\">0\")+1)","v":0},6158105020,"COUPLING EF-F08S 38 NPT","11 300,-Ft ","CP S.anyag","Air Line & Electric Supply",150,null,11300]
[{"$f":"IF(L1395=FALSE,0,COUNTIF(A$3:A1394,\">0\")+1)","v":0},6158106430,"COUPLING EF-F104E 12 BSP","12 720,-Ft ","CP S.anyag","Air Line & Electric Supply",215,null,12720]
[{"$f":"IF(L1396=FALSE,0,COUNTIF(A$3:A1395,\">0\")+1)","v":0},6158106440,"COUPLING EF-F104E 34 BSP","12 720,-Ft ","CP S.anyag","Air Line & Electric Supply",226,null,12720]
[{"$f":"IF(L1397=FALSE,0,COUNTIF(A$3:A1396,\">0\")+1)","v":0},6158106420,"COUPLING EF-F104E 38 BSP","12 720,-Ft ","CP S.anyag","Air Line & Electric Supply",215,null,12720]
[{"$f":"IF(L1398=FALSE,0,COUNTIF(A$3:A1397,\">0\")+1)","v":0},6158105080,"COUPLING EF-F11S 12 BSP","13 060,-Ft ","CP S.anyag","Air Line & Electric Supply",230,null,13060]
[{"$f":"IF(L1399=FALSE,0,COUNTIF(A$3:A1398,\">0\")+1)","v":0},6158105120,"COUPLING EF-F11S 12 NPT","13 060,-Ft ","CP S.anyag","Air Line & Electric Supply",235,null,13060]
[{"$f":"IF(L1400=FALSE,0,COUNTIF(A$3:A1399,\">0\")+1)","v":0},6158106360,"COUPLING EF-F11S 34 BSP","13 060,-Ft ","CP S.anyag","Air Line & Electric Supply",238,null,13060]
[{"$f":"IF(L1401=FALSE,0,COUNTIF(A$3:A1400,\">0\")+1)","v":0},6158106370,"COUPLING EF-F11S 34 NPT",{"$f":"IF(H1401=\"SP\",IF(J1401>0,\"SP: \"&TEXT(J1401*I$1,\"# ###,-Ft  \"),\"SP: \"&TEXT(I1401*I$1,\"# ###,-Ft\")),IF(J1401>0,\"STARS* \"&TEXT(J1401*J$1,\"# ###,-Ft\"),TEXT(I1401*I$1,\"# ###,-Ft  \")))","v":"13 060,-Ft "},"CP S.anyag","Air Line & Electric Supply",256,null,13060]
[{"$f":"IF(L1402=FALSE,0,COUNTIF(A$3:A1401,\">0\")+1)","v":0},6158105070,"COUPLING EF-F11S 38 BSP","13 060,-Ft ","CP S.anyag","Air Line & Electric Supply",230,null,13060]
[{"$f":"IF(L1403=FALSE,0,COUNTIF(A$3:A1402,\">0\")+1)","v":0},6158105110,"COUPLING EF-F11S 38 NPT","13 060,-Ft ","CP S.anyag","Air Line & Electric Supply",235,null,13060]
[{"$f":"IF(L1404=FALSE,0,COUNTIF(A$3:A1403,\">0\")+1)","v":0},6158105320,"COUPLING EF-H06S 10MM","8 590,-Ft ","CP S.anyag","Air Line & Electric Supply",105,null,8590]
[{"$f":"IF(L1405=FALSE,0,COUNTIF(A$3:A1404,\">0\")+1)","v":0},6158105330,"COUPLING EF-H06S 13MM","8 590,-Ft ","CP S.anyag","Air Line & Electric Supply",114,null,8590]
[{"$f":"IF(L1406=FALSE,0,COUNTIF(A$3:A1405,\">0\")+1)","v":0},6158108710,"COUPLING EF-H075A 06MM","11 000,-Ft ","CP S.anyag","Air Line & Electric Supply",142,null,11000]
[{"$f":"IF(L1407=FALSE,0,COUNTIF(A$3:A1406,\">0\")+1)","v":0},6158106620,"COUPLING EF-H075A 08MM","11 000,-Ft ","CP S.anyag","Air Line & Electric Supply",142,null,11000]
[{"$f":"IF(L1408=FALSE,0,COUNTIF(A$3:A1407,\">0\")+1)","v":0},6158106630,"COUPLING EF-H075A 10MM","11 000,-Ft ","CP S.anyag","Air Line & Electric Supply",140,null,11000]
[{"$f":"IF(L1409=FALSE,0,COUNTIF(A$3:A1408,\">0\")+1)","v":0},6158106640,"COUPLING EF-H075A 13MM","11 000,-Ft ","CP S.anyag","Air Line & Electric Supply",148,null,11000]
[{"$f":"IF(L1410=FALSE,0,COUNTIF(A$3:A1409,\">0\")+1)","v":0},6158105500,"COUPLING EF-H076E 06MM","8 590,-Ft ","CP S.anyag","Air Line & Electric Supply",110,null,8590]
[{"$f":"IF(L1411=FALSE,0,COUNTIF(A$3:A1410,\">0\")+1)","v":0},6158105530,"COUPLING EF-H076E 08MM","8 590,-Ft ","CP S.anyag","Air Line & Electric Supply",110,null,8590]
[{"$f":"IF(L1412=FALSE,0,COUNTIF(A$3:A1411,\">0\")+1)","v":0},6158105540,"COUPLING EF-H076E 10MM","8 590,-Ft ","CP S.anyag","Air Line & Electric Supply",105,null,8590]
[{"$f":"IF(L1413=FALSE,0,COUNTIF(A$3:A1412,\">0\")+1)","v":0},6158105550,"COUPLING EF-H076E 13MM","8 590,-Ft ","CP S.anyag","Air Line & Electric Supply",25,null,8590]
[{"$f":"IF(L1414=FALSE,0,COUNTIF(A$3:A1413,\">0\")+1)","v":0},6158105380,"COUPLING EF-H08S 08MM","11 300,-Ft ","CP S.anyag","Air Line & Electric Supply",175,null,11300]
[{"$f":"IF(L1415=FALSE,0,COUNTIF(A$3:A1414,\">0\")+1)","v":0},6158105390,"COUPLING EF-H08S 10MM","11 300,-Ft ","CP S.anyag","Air Line & Electric Supply",170,null,11300]
[{"$f":"IF(L1416=FALSE,0,COUNTIF(A$3:A1415,\">0\")+1)","v":0},6158105400,"COUPLING EF-H08S 13MM","11 300,-Ft ","CP S.anyag","Air Line & Electric Supply",185,null,11300]
[{"$f":"IF(L1417=FALSE,0,COUNTIF(A$3:A1416,\">0\")+1)","v":0},6158105410,"COUPLING EF-H08S 16MM","11 300,-Ft ","CP S.anyag","Air Line & Electric Supply",182,null,11300]
[{"$f":"IF(L1418=FALSE,0,COUNTIF(A$3:A1417,\">0\")+1)","v":0},6158106510,"COUPLING EF-H104E 10MM","12 720,-Ft ","CP S.anyag","Air Line & Electric Supply",246,null,12720]
[{"$f":"IF(L1419=FALSE,0,COUNTIF(A$3:A1418,\">0\")+1)","v":0},6158106520,"COUPLING EF-H104E 13MM","12 720,-Ft ","CP S.anyag","Air Line & Electric Supply",250,null,12720]
[{"$f":"IF(L1420=FALSE,0,COUNTIF(A$3:A1419,\">0\")+1)","v":0},6158106530,"COUPLING EF-H104E 16MM","12 720,-Ft ","CP S.anyag","Air Line & Electric Supply",245,null,12720]
[{"$f":"IF(L1421=FALSE,0,COUNTIF(A$3:A1420,\">0\")+1)","v":0},6158106540,"COUPLING EF-H104E 19MM","12 720,-Ft ","CP S.anyag","Air Line & Electric Supply",261,null,12720]
[{"$f":"IF(L1422=FALSE,0,COUNTIF(A$3:A1421,\">0\")+1)","v":0},6158105460,"COUPLING EF-H11S 10MM","13 060,-Ft ","CP S.anyag","Air Line & Electric Supply",260,null,13060]
[{"$f":"IF(L1423=FALSE,0,COUNTIF(A$3:A1422,\">0\")+1)","v":0},6158105470,"COUPLING EF-H11S 13MM","13 060,-Ft ","CP S.anyag","Air Line & Electric Supply",265,null,13060]
[{"$f":"IF(L1424=FALSE,0,COUNTIF(A$3:A1423,\">0\")+1)","v":0},6158105480,"COUPLING EF-H11S 16MM","13 060,-Ft ","CP S.anyag","Air Line & Electric Supply",260,null,13060]
[{"$f":"IF(L1425=FALSE,0,COUNTIF(A$3:A1424,\">0\")+1)","v":0},6158105490,"COUPLING EF-H11S 19MM","13 060,-Ft ","CP S.anyag","Air Line & Electric Supply",275,null,13060]
[{"$f":"IF(L1426=FALSE,0,COUNTIF(A$3:A1425,\">0\")+1)","v":0},6158104810,"COUPLING EF-M06S 12 BSP","8 590,-Ft ","CP S.anyag","Air Line & Electric Supply",118,null,8590]
[{"$f":"IF(L1427=FALSE,0,COUNTIF(A$3:A1426,\">0\")+1)","v":0},6158104870,"COUPLING EF-M06S 12 NPT","8 590,-Ft ","CP S.anyag","Air Line & Electric Supply",128,null,8590]
[{"$f":"IF(L1428=FALSE,0,COUNTIF(A$3:A1427,\">0\")+1)","v":0},6158104790,"COUPLING EF-M06S 14 BSP","8 590,-Ft ","CP S.anyag","Air Line & Electric Supply",109,null,8590]
[{"$f":"IF(L1429=FALSE,0,COUNTIF(A$3:A1428,\">0\")+1)","v":0},6158104850,"COUPLING EF-M06S 14 NPT","8 590,-Ft ","CP S.anyag","Air Line & Electric Supply",113,null,8590]
[{"$f":"IF(L1430=FALSE,0,COUNTIF(A$3:A1429,\">0\")+1)","v":0},6158104800,"COUPLING EF-M06S 38 BSP","8 590,-Ft ","CP S.anyag","Air Line & Electric Supply",114,null,8590]
[{"$f":"IF(L1431=FALSE,0,COUNTIF(A$3:A1430,\">0\")+1)","v":0},6158104860,"COUPLING EF-M06S 38 NPT","8 590,-Ft ","CP S.anyag","Air Line & Electric Supply",122,null,8590]
[{"$f":"IF(L1432=FALSE,0,COUNTIF(A$3:A1431,\">0\")+1)","v":0},6158106580,"COUPLING EF-M075A 12 BSPT","11 000,-Ft ","CP S.anyag","Air Line & Electric Supply",147,null,11000]
[{"$f":"IF(L1433=FALSE,0,COUNTIF(A$3:A1432,\">0\")+1)","v":0},6158106560,"COUPLING EF-M075A 14 BSPT","11 000,-Ft ","CP S.anyag","Air Line & Electric Supply",136,null,11000]
[{"$f":"IF(L1434=FALSE,0,COUNTIF(A$3:A1433,\">0\")+1)","v":0},6158106570,"COUPLING EF-M075A 38 BSPT","11 000,-Ft ","CP S.anyag","Air Line & Electric Supply",140,null,11000]
[{"$f":"IF(L1435=FALSE,0,COUNTIF(A$3:A1434,\">0\")+1)","v":0},6158105160,"COUPLING EF-M076E 12 BSP","8 590,-Ft ","CP S.anyag","Air Line & Electric Supply",115,null,8590]
[{"$f":"IF(L1436=FALSE,0,COUNTIF(A$3:A1435,\">0\")+1)","v":0},6158105140,"COUPLING EF-M076E 14 BSP","8 590,-Ft ","CP S.anyag","Air Line & Electric Supply",20,null,8590]
[{"$f":"IF(L1437=FALSE,0,COUNTIF(A$3:A1436,\">0\")+1)","v":0},6158105150,"COUPLING EF-M076E 38 BSP","8 590,-Ft ","CP S.anyag","Air Line & Electric Supply",110,null,8590]
[{"$f":"IF(L1438=FALSE,0,COUNTIF(A$3:A1437,\">0\")+1)","v":0},6158104940,"COUPLING EF-M08S 12 BSP","11 300,-Ft ","CP S.anyag","Air Line & Electric Supply",180,null,11300]
[{"$f":"IF(L1439=FALSE,0,COUNTIF(A$3:A1438,\">0\")+1)","v":0},6158105000,"COUPLING EF-M08S 12 NPT","11 300,-Ft ","CP S.anyag","Air Line & Electric Supply",190,null,11300]
[{"$f":"IF(L1440=FALSE,0,COUNTIF(A$3:A1439,\">0\")+1)","v":0},6158104920,"COUPLING EF-M08S 14 BSP","11 300,-Ft ","CP S.anyag","Air Line & Electric Supply",165,null,11300]
[{"$f":"IF(L1441=FALSE,0,COUNTIF(A$3:A1440,\">0\")+1)","v":0},6158104980,"COUPLING EF-M08S 14 NPT","11 300,-Ft ","CP S.anyag","Air Line & Electric Supply",30,null,11300]
[{"$f":"IF(L1442=FALSE,0,COUNTIF(A$3:A1441,\">0\")+1)","v":0},6158104930,"COUPLING EF-M08S 38 BSP","11 300,-Ft ","CP S.anyag","Air Line & Electric Supply",175,null,11300]
[{"$f":"IF(L1443=FALSE,0,COUNTIF(A$3:A1442,\">0\")+1)","v":0},6158104990,"COUPLING EF-M08S 38 NPT","11 300,-Ft ","CP S.anyag","Air Line & Electric Supply",175,null,11300]
[{"$f":"IF(L1444=FALSE,0,COUNTIF(A$3:A1443,\">0\")+1)","v":0},6158106400,"COUPLING EF-M104E 12 BSP","12 720,-Ft ","CP S.anyag","Air Line & Electric Supply",245,null,12720]
[{"$f":"IF(L1445=FALSE,0,COUNTIF(A$3:A1444,\">0\")+1)","v":0},6158106410,"COUPLING EF-M104E 34 BSP","12 720,-Ft ","CP S.anyag","Air Line & Electric Supply",250,null,12720]
[{"$f":"IF(L1446=FALSE,0,COUNTIF(A$3:A1445,\">0\")+1)","v":0},6158106390,"COUPLING EF-M104E 38 BSP","12 720,-Ft ","CP S.anyag","Air Line & Electric Supply",241,null,12720]
[{"$f":"IF(L1447=FALSE,0,COUNTIF(A$3:A1446,\">0\")+1)","v":0},6158105060,"COUPLING EF-M11S 12 BSP","13 060,-Ft ","CP S.anyag","Air Line & Electric Supply",260,null,13060]
[{"$f":"IF(L1448=FALSE,0,COUNTIF(A$3:A1447,\">0\")+1)","v":0},6158105100,"COUPLING EF-M11S 12 NPT","13 060,-Ft ","CP S.anyag","Air Line & Electric Supply",270,null,13060]
[{"$f":"IF(L1449=FALSE,0,COUNTIF(A$3:A1448,\">0\")+1)","v":0},6158106340,"COUPLING EF-M11S 34 BSP","13 060,-Ft ","CP S.anyag","Air Line & Electric Supply",266,null,13060]
[{"$f":"IF(L1450=FALSE,0,COUNTIF(A$3:A1449,\">0\")+1)","v":0},6158106350,"COUPLING EF-M11S 34 NPT","13 060,-Ft ","CP S.anyag","Air Line & Electric Supply",280,null,13060]
[{"$f":"IF(L1451=FALSE,0,COUNTIF(A$3:A1450,\">0\")+1)","v":0},6158105050,"COUPLING EF-M11S 38 BSP","13 060,-Ft ","CP S.anyag","Air Line & Electric Supply",255,null,13060]
[{"$f":"IF(L1452=FALSE,0,COUNTIF(A$3:A1451,\">0\")+1)","v":0},6158105090,"COUPLING EF-M11S 38 NPT","13 060,-Ft ","CP S.anyag","Air Line & Electric Supply",255,null,13060]
[{"$f":"IF(L1453=FALSE,0,COUNTIF(A$3:A1452,\">0\")+1)","v":0},6158112560,"COUPLING QF-F055S 12 BSP",",-Ft ","CP S.anyag","Air Line & Electric Supply",125]
[{"$f":"IF(L1454=FALSE,0,COUNTIF(A$3:A1453,\">0\")+1)","v":0},6158110470,"COUPLING QF-F055S 12 NPT","8 590,-Ft ","CP S.anyag","Air Line & Electric Supply",150,null,8590]
[{"$f":"IF(L1455=FALSE,0,COUNTIF(A$3:A1454,\">0\")+1)","v":0},6158112540,"COUPLING QF-F055S 14 BSP",",-Ft ","CP S.anyag","Air Line & Electric Supply",108]
[{"$f":"IF(L1456=FALSE,0,COUNTIF(A$3:A1455,\">0\")+1)","v":0},6158110450,"COUPLING QF-F055S 14 NPT","5 510,-Ft ","CP S.anyag","Air Line & Electric Supply",104,null,5510]
[{"$f":"IF(L1457=FALSE,0,COUNTIF(A$3:A1456,\">0\")+1)","v":0},6158112550,"COUPLING QF-F055S 38 BSP",",-Ft ","CP S.anyag","Air Line & Electric Supply",92]
[{"$f":"IF(L1458=FALSE,0,COUNTIF(A$3:A1457,\">0\")+1)","v":0},6158110460,"COUPLING QF-F055S 38 NPT","11 600,-Ft ","CP S.anyag","Air Line & Electric Supply",108,null,11600]
[{"$f":"IF(L1459=FALSE,0,COUNTIF(A$3:A1458,\">0\")+1)","v":0},6158110370,"COUPLING QF-F075A 12","5 510,-Ft ","CP S.anyag","Air Line & Electric Supply",106,null,5510]
[{"$f":"IF(L1460=FALSE,0,COUNTIF(A$3:A1459,\">0\")+1)","v":0},6158110350,"COUPLING QF-F075A 14","5 510,-Ft ","CP S.anyag","Air Line & Electric Supply",1080,null,5510]
[{"$f":"IF(L1461=FALSE,0,COUNTIF(A$3:A1460,\">0\")+1)","v":0},6158110360,"COUPLING QF-F075A 38","5 510,-Ft ","CP S.anyag","Air Line & Electric Supply",96,null,5510]
[{"$f":"IF(L1462=FALSE,0,COUNTIF(A$3:A1461,\">0\")+1)","v":0},6158110770,"COUPLING QF-F076E 12","STARS* 5 270,-Ft","CP S.anyag","Air Line & Electric Supply",128,null,8070,5270]
[{"$f":"IF(L1463=FALSE,0,COUNTIF(A$3:A1462,\">0\")+1)","v":0},6158110750,"COUPLING QF-F076E 14",{"$f":"IF(H1463=\"SP\",IF(J1463>0,\"SP: \"&TEXT(J1463*I$1,\"# ###,-Ft  \"),\"SP: \"&TEXT(I1463*I$1,\"# ###,-Ft\")),IF(J1463>0,\"STARS* \"&TEXT(J1463*J$1,\"# ###,-Ft\"),TEXT(I1463*I$1,\"# ###,-Ft  \")))","v":"STARS* 3 990,-Ft"},"CP S.anyag","Air Line & Electric Supply",102,null,5030,3990]
[{"$f":"IF(L1464=FALSE,0,COUNTIF(A$3:A1463,\">0\")+1)","v":0},6158110760,"COUPLING QF-F076E 38","STARS* 3 990,-Ft","CP S.anyag","Air Line & Electric Supply",98,null,5030,3990]
[{"$f":"IF(L1465=FALSE,0,COUNTIF(A$3:A1464,\">0\")+1)","v":0},6158112620,"COUPLING QF-F085S 12 BSP",",-Ft ","CP S.anyag","Air Line & Electric Supply",135]
[{"$f":"IF(L1466=FALSE,0,COUNTIF(A$3:A1465,\">0\")+1)","v":0},6158110570,"COUPLING QF-F085S 12 NPT","7 790,-Ft ","CP S.anyag","Air Line & Electric Supply",153,null,7790]
[{"$f":"IF(L1467=FALSE,0,COUNTIF(A$3:A1466,\">0\")+1)","v":0},6158112600,"COUPLING QF-F085S 14 BSP",",-Ft ","CP S.anyag","Air Line & Electric Supply",133]
[{"$f":"IF(L1468=FALSE,0,COUNTIF(A$3:A1467,\">0\")+1)","v":0},6158110550,"COUPLING QF-F085S 14 NPT","6 510,-Ft ","CP S.anyag","Air Line & Electric Supply",148,null,6510]
[{"$f":"IF(L1469=FALSE,0,COUNTIF(A$3:A1468,\">0\")+1)","v":0},6158112610,"COUPLING QF-F085S 38 BSP",",-Ft ","CP S.anyag","Air Line & Electric Supply",128]
[{"$f":"IF(L1470=FALSE,0,COUNTIF(A$3:A1469,\">0\")+1)","v":0},6158110560,"COUPLING QF-F085S 38 NPT","6 510,-Ft ","CP S.anyag","Air Line & Electric Supply",145,null,6510]
[{"$f":"IF(L1471=FALSE,0,COUNTIF(A$3:A1470,\">0\")+1)","v":0},6158110860,"COUPLING QF-F104E 12","STARS* 7 980,-Ft","CP S.anyag","Air Line & Electric Supply",159,null,10300,7980]
[{"$f":"IF(L1472=FALSE,0,COUNTIF(A$3:A1471,\">0\")+1)","v":0},6158110870,"COUPLING QF-F104E 34","STARS* 9 120,-Ft","CP S.anyag","Air Line & Electric Supply",252,null,11050,9120]
[{"$f":"IF(L1473=FALSE,0,COUNTIF(A$3:A1472,\">0\")+1)","v":0},6158110850,"COUPLING QF-F104E 38","STARS* 7 980,-Ft","CP S.anyag","Air Line & Electric Supply",170,null,10300,7980]
[{"$f":"IF(L1474=FALSE,0,COUNTIF(A$3:A1473,\">0\")+1)","v":0},6158111980,"COUPLING QF-F11S 12 BSP","12 000,-Ft ","CP S.anyag","Air Line & Electric Supply",312,null,12000]
[{"$f":"IF(L1475=FALSE,0,COUNTIF(A$3:A1474,\">0\")+1)","v":0},6158110660,"COUPLING QF-F11S 12 NPT","12 000,-Ft ","CP S.anyag","Air Line & Electric Supply",350,null,12000]
[{"$f":"IF(L1476=FALSE,0,COUNTIF(A$3:A1475,\">0\")+1)","v":0},6158111990,"COUPLING QF-F11S 34 BSP","12 790,-Ft ","CP S.anyag","Air Line & Electric Supply",323,null,12790]
[{"$f":"IF(L1477=FALSE,0,COUNTIF(A$3:A1476,\">0\")+1)","v":0},6158110670,"COUPLING QF-F11S 34 NPT","12 710,-Ft ","CP S.anyag","Air Line & Electric Supply",360,null,12710]
[{"$f":"IF(L1478=FALSE,0,COUNTIF(A$3:A1477,\">0\")+1)","v":0},6158111970,"COUPLING QF-F11S 38 BSP","12 000,-Ft ","CP S.anyag","Air Line & Electric Supply",309,null,12000]
[{"$f":"IF(L1479=FALSE,0,COUNTIF(A$3:A1478,\">0\")+1)","v":0},6158110650,"COUPLING QF-F11S 38 NPT","13 060,-Ft ","CP S.anyag","Air Line & Electric Supply",336,null,13060]
[{"$f":"IF(L1480=FALSE,0,COUNTIF(A$3:A1479,\">0\")+1)","v":0},6158110480,"COUPLING QF-H055S 06mm","5 490,-Ft ","CP S.anyag","Air Line & Electric Supply",97,null,5490]
[{"$f":"IF(L1481=FALSE,0,COUNTIF(A$3:A1480,\">0\")+1)","v":0},6158110490,"COUPLING QF-H055S 08mm","5 490,-Ft ","CP S.anyag","Air Line & Electric Supply",98,null,5490]
[{"$f":"IF(L1482=FALSE,0,COUNTIF(A$3:A1481,\">0\")+1)","v":0},6158110500,"COUPLING QF-H055S 10mm","5 510,-Ft ","CP S.anyag","Air Line & Electric Supply",100,null,5510]
[{"$f":"IF(L1483=FALSE,0,COUNTIF(A$3:A1482,\">0\")+1)","v":0},6158110510,"COUPLING QF-H055S 13mm","5 600,-Ft ","CP S.anyag","Air Line & Electric Supply",103,null,5600]
[{"$f":"IF(L1484=FALSE,0,COUNTIF(A$3:A1483,\">0\")+1)","v":0},6158110380,"COUPLING QF-H075A 06MM","5 510,-Ft ","CP S.anyag","Air Line & Electric Supply",58,null,5510]
[{"$f":"IF(L1485=FALSE,0,COUNTIF(A$3:A1484,\">0\")+1)","v":0},6158110390,"COUPLING QF-H075A 08MM","5 510,-Ft ","CP S.anyag","Air Line & Electric Supply",90,null,5510]
[{"$f":"IF(L1486=FALSE,0,COUNTIF(A$3:A1485,\">0\")+1)","v":0},6158110400,"COUPLING QF-H075A 10MM","5 510,-Ft ","CP S.anyag","Air Line & Electric Supply",91,null,5510]
[{"$f":"IF(L1487=FALSE,0,COUNTIF(A$3:A1486,\">0\")+1)","v":0},6158110410,"COUPLING QF-H075A 13MM","5 510,-Ft ","CP S.anyag","Air Line & Electric Supply",66,null,5510]
[{"$f":"IF(L1488=FALSE,0,COUNTIF(A$3:A1487,\">0\")+1)","v":0},6158110780,"COUPLING QF-H076E 06MM","5 030,-Ft ","CP S.anyag","Air Line & Electric Supply",104,null,5030]
[{"$f":"IF(L1489=FALSE,0,COUNTIF(A$3:A1488,\">0\")+1)","v":0},6158110790,"COUPLING QF-H076E 08MM","STARS* 3 990,-Ft","CP S.anyag","Air Line & Electric Supply",106,null,5030,3990]
[{"$f":"IF(L1490=FALSE,0,COUNTIF(A$3:A1489,\">0\")+1)","v":0},6158110800,"COUPLING QF-H076E 10MM","STARS* 3 990,-Ft","CP S.anyag","Air Line & Electric Supply",108,null,5030,3990]
[{"$f":"IF(L1491=FALSE,0,COUNTIF(A$3:A1490,\">0\")+1)","v":0},6158110810,"COUPLING QF-H076E 13MM","STARS* 3 990,-Ft","CP S.anyag","Air Line & Electric Supply",110,null,5030,3990]
[{"$f":"IF(L1492=FALSE,0,COUNTIF(A$3:A1491,\">0\")+1)","v":0},6158110580,"COUPLING QF-H085S 06mm","6 510,-Ft ","CP S.anyag","Air Line & Electric Supply",117,null,6510]
[{"$f":"IF(L1493=FALSE,0,COUNTIF(A$3:A1492,\">0\")+1)","v":0},6158110590,"COUPLING QF-H085S 08mm","6 510,-Ft ","CP S.anyag","Air Line & Electric Supply",119,null,6510]
[{"$f":"IF(L1494=FALSE,0,COUNTIF(A$3:A1493,\">0\")+1)","v":0},6158110600,"COUPLING QF-H085S 10mm","6 510,-Ft ","CP S.anyag","Air Line & Electric Supply",120,null,6510]
[{"$f":"IF(L1495=FALSE,0,COUNTIF(A$3:A1494,\">0\")+1)","v":0},6158110610,"COUPLING QF-H085S 13mm","6 510,-Ft ","CP S.anyag","Air Line & Electric Supply",124,null,6510]
[{"$f":"IF(L1496=FALSE,0,COUNTIF(A$3:A1495,\">0\")+1)","v":0},6158110880,"COUPLING QF-H104E 10mm",",-Ft ","CP S.anyag","Air Line & Electric Supply",154]
[{"$f":"IF(L1497=FALSE,0,COUNTIF(A$3:A1496,\">0\")+1)","v":0},6158110890,"COUPLING QF-H104E 13mm","STARS* 9 220,-Ft","CP S.anyag","Air Line & Electric Supply",160,null,10300,9220]
[{"$f":"IF(L1498=FALSE,0,COUNTIF(A$3:A1497,\">0\")+1)","v":0},6158110900,"COUPLING QF-H104E 16mm","STARS* 9 220,-Ft","CP S.anyag","Air Line & Electric Supply",161,null,10300,9220]
[{"$f":"IF(L1499=FALSE,0,COUNTIF(A$3:A1498,\">0\")+1)","v":0},6158110910,"COUPLING QF-H104E 19mm","10 300,-Ft ","CP S.anyag","Air Line & Electric Supply",160,null,10300]
[{"$f":"IF(L1500=FALSE,0,COUNTIF(A$3:A1499,\">0\")+1)","v":0},6158110680,"COUPLING QF-H11S 10mm","13 910,-Ft ","CP S.anyag","Air Line & Electric Supply",277,null,13910]
[{"$f":"IF(L1501=FALSE,0,COUNTIF(A$3:A1500,\">0\")+1)","v":0},6158110690,"COUPLING QF-H11S 13mm","12 000,-Ft ","CP S.anyag","Air Line & Electric Supply",283,null,12000]
[{"$f":"IF(L1502=FALSE,0,COUNTIF(A$3:A1501,\">0\")+1)","v":0},6158110700,"COUPLING QF-H11S 16mm","13 480,-Ft ","CP S.anyag","Air Line & Electric Supply",282,null,13480]
[{"$f":"IF(L1503=FALSE,0,COUNTIF(A$3:A1502,\">0\")+1)","v":0},6158110710,"COUPLING QF-H11S 19mm","12 000,-Ft ","CP S.anyag","Air Line & Electric Supply",286,null,12000]
[{"$f":"IF(L1504=FALSE,0,COUNTIF(A$3:A1503,\">0\")+1)","v":0},6158112530,"COUPLING QF-M055S 12 BSP",",-Ft ","CP S.anyag","Air Line & Electric Supply",135]
[{"$f":"IF(L1505=FALSE,0,COUNTIF(A$3:A1504,\">0\")+1)","v":0},6158110440,"COUPLING QF-M055S 12 NPT","8 070,-Ft ","CP S.anyag","Air Line & Electric Supply",112,null,8070]
[{"$f":"IF(L1506=FALSE,0,COUNTIF(A$3:A1505,\">0\")+1)","v":0},6158112510,"COUPLING QF-M055S 14 BSP",",-Ft ","CP S.anyag","Air Line & Electric Supply",93]
[{"$f":"IF(L1507=FALSE,0,COUNTIF(A$3:A1506,\">0\")+1)","v":0},6158110420,"COUPLING QF-M055S 14 NPT","7 480,-Ft ","CP S.anyag","Air Line & Electric Supply",106,null,7480]
[{"$f":"IF(L1508=FALSE,0,COUNTIF(A$3:A1507,\">0\")+1)","v":0},6158112520,"COUPLING QF-M055S 38 BSP",",-Ft ","CP S.anyag","Air Line & Electric Supply",106]
[{"$f":"IF(L1509=FALSE,0,COUNTIF(A$3:A1508,\">0\")+1)","v":0},6158110430,"COUPLING QF-M055S 38 NPT","6 810,-Ft ","CP S.anyag","Air Line & Electric Supply",108,null,6810]
[{"$f":"IF(L1510=FALSE,0,COUNTIF(A$3:A1509,\">0\")+1)","v":0},6158110340,"COUPLING QF-M075A 12","5 580,-Ft ","CP S.anyag","Air Line & Electric Supply",116,null,5580]
[{"$f":"IF(L1511=FALSE,0,COUNTIF(A$3:A1510,\">0\")+1)","v":0},6158110320,"COUPLING QF-M075A 14","5 510,-Ft ","CP S.anyag","Air Line & Electric Supply",62,null,5510]
[{"$f":"IF(L1512=FALSE,0,COUNTIF(A$3:A1511,\">0\")+1)","v":0},6158110330,"COUPLING QF-M075A 38","6 710,-Ft ","CP S.anyag","Air Line & Electric Supply",94,null,6710]
[{"$f":"IF(L1513=FALSE,0,COUNTIF(A$3:A1512,\">0\")+1)","v":0},6158110740,"COUPLING QF-M076E 12","STARS* 3 990,-Ft","CP S.anyag","Air Line & Electric Supply",112,null,5030,3990]
[{"$f":"IF(L1514=FALSE,0,COUNTIF(A$3:A1513,\">0\")+1)","v":0},6158110720,"COUPLING QF-M076E 14","STARS* 3 420,-Ft","CP S.anyag","Air Line & Electric Supply",104,null,5030,3420]
[{"$f":"IF(L1515=FALSE,0,COUNTIF(A$3:A1514,\">0\")+1)","v":0},6158110730,"COUPLING QF-M076E 38","STARS* 3 990,-Ft","CP S.anyag","Air Line & Electric Supply",100,null,5030,3990]
[{"$f":"IF(L1516=FALSE,0,COUNTIF(A$3:A1515,\">0\")+1)","v":0},6158112590,"COUPLING QF-M085S 12 BSP",",-Ft ","CP S.anyag","Air Line & Electric Supply",130]
[{"$f":"IF(L1517=FALSE,0,COUNTIF(A$3:A1516,\">0\")+1)","v":0},6158110540,"COUPLING QF-M085S 12 NPT","6 510,-Ft ","CP S.anyag","Air Line & Electric Supply",143,null,6510]
[{"$f":"IF(L1518=FALSE,0,COUNTIF(A$3:A1517,\">0\")+1)","v":0},6158112570,"COUPLING QF-M085S 14 BSP",",-Ft ","CP S.anyag","Air Line & Electric Supply",117]
[{"$f":"IF(L1519=FALSE,0,COUNTIF(A$3:A1518,\">0\")+1)","v":0},6158110520,"COUPLING QF-M085S 14 NPT","6 510,-Ft ","CP S.anyag","Air Line & Electric Supply",122,null,6510]
[{"$f":"IF(L1520=FALSE,0,COUNTIF(A$3:A1519,\">0\")+1)","v":0},6158112580,"COUPLING QF-M085S 38 BSP",",-Ft ","CP S.anyag","Air Line & Electric Supply",119]
[{"$f":"IF(L1521=FALSE,0,COUNTIF(A$3:A1520,\">0\")+1)","v":0},6158110530,"COUPLING QF-M085S 38 NPT","6 510,-Ft ","CP S.anyag","Air Line & Electric Supply",124,null,6510]
[{"$f":"IF(L1522=FALSE,0,COUNTIF(A$3:A1521,\">0\")+1)","v":0},6158110830,"COUPLING QF-M104E 12","STARS* 9 120,-Ft","CP S.anyag","Air Line & Electric Supply",166,null,10300,9120]
[{"$f":"IF(L1523=FALSE,0,COUNTIF(A$3:A1522,\">0\")+1)","v":0},6158110840,"COUPLING QF-M104E 34","STARS* 9 120,-Ft","CP S.anyag","Air Line & Electric Supply",167,null,10300,9120]
[{"$f":"IF(L1524=FALSE,0,COUNTIF(A$3:A1523,\">0\")+1)","v":0},6158110820,"COUPLING QF-M104E 38","STARS* 9 120,-Ft","CP S.anyag","Air Line & Electric Supply",154,null,10300,9120]
[{"$f":"IF(L1525=FALSE,0,COUNTIF(A$3:A1524,\">0\")+1)","v":0},6158111950,"COUPLING QF-M11S 12 BSP","12 000,-Ft ","CP S.anyag","Air Line & Electric Supply",276,null,12000]
[{"$f":"IF(L1526=FALSE,0,COUNTIF(A$3:A1525,\">0\")+1)","v":0},6158110630,"COUPLING QF-M11S 12 NPT","12 000,-Ft ","CP S.anyag","Air Line & Electric Supply",289,null,12000]
[{"$f":"IF(L1527=FALSE,0,COUNTIF(A$3:A1526,\">0\")+1)","v":0},6158111960,"COUPLING QF-M11S 34 BSP",{"$f":"IF(H1527=\"SP\",IF(J1527>0,\"SP: \"&TEXT(J1527*I$1,\"# ###,-Ft  \"),\"SP: \"&TEXT(I1527*I$1,\"# ###,-Ft\")),IF(J1527>0,\"STARS* \"&TEXT(J1527*J$1,\"# ###,-Ft\"),TEXT(I1527*I$1,\"# ###,-Ft  \")))","v":"13 320,-Ft "},"CP S.anyag","Air Line & Electric Supply",302,null,13320]
[{"$f":"IF(L1528=FALSE,0,COUNTIF(A$3:A1527,\">0\")+1)","v":0},6158110640,"COUPLING QF-M11S 34 NPT",{"$f":"IF(H1528=\"SP\",IF(J1528>0,\"SP: \"&TEXT(J1528*I$1,\"# ###,-Ft  \"),\"SP: \"&TEXT(I1528*I$1,\"# ###,-Ft\")),IF(J1528>0,\"STARS* \"&TEXT(J1528*J$1,\"# ###,-Ft\"),TEXT(I1528*I$1,\"# ###,-Ft  \")))","v":"12 000,-Ft "},"CP S.anyag","Air Line & Electric Supply",316,null,12000]
[{"$f":"IF(L1529=FALSE,0,COUNTIF(A$3:A1528,\">0\")+1)","v":0},6158111940,"COUPLING QF-M11S 38 BSP",{"$f":"IF(H1529=\"SP\",IF(J1529>0,\"SP: \"&TEXT(J1529*I$1,\"# ###,-Ft  \"),\"SP: \"&TEXT(I1529*I$1,\"# ###,-Ft\")),IF(J1529>0,\"STARS* \"&TEXT(J1529*J$1,\"# ###,-Ft\"),TEXT(I1529*I$1,\"# ###,-Ft  \")))","v":"12 000,-Ft "},"CP S.anyag","Air Line & Electric Supply",281,null,12000]
[{"$f":"IF(L1530=FALSE,0,COUNTIF(A$3:A1529,\">0\")+1)","v":0},6158110620,"COUPLING QF-M11S 38 NPT",{"$f":"IF(H1530=\"SP\",IF(J1530>0,\"SP: \"&TEXT(J1530*I$1,\"# ###,-Ft  \"),\"SP: \"&TEXT(I1530*I$1,\"# ###,-Ft\")),IF(J1530>0,\"STARS* \"&TEXT(J1530*J$1,\"# ###,-Ft\"),TEXT(I1530*I$1,\"# ###,-Ft  \")))","v":"12 000,-Ft "},"CP S.anyag","Air Line & Electric Supply",282,null,12000]
[{"$f":"IF(L1531=FALSE,0,COUNTIF(A$3:A1530,\">0\")+1)","v":0},8940169098,"CP 1/2 FILTER BSP",{"$f":"IF(H1531=\"SP\",IF(J1531>0,\"SP: \"&TEXT(J1531*I$1,\"# ###,-Ft  \"),\"SP: \"&TEXT(I1531*I$1,\"# ###,-Ft\")),IF(J1531>0,\"STARS* \"&TEXT(J1531*J$1,\"# ###,-Ft\"),TEXT(I1531*I$1,\"# ###,-Ft  \")))","v":"34 340,-Ft "},"CP S.anyag","Air Line & Electric Supply",570,null,34340]
[{"$f":"IF(L1532=FALSE,0,COUNTIF(A$3:A1531,\">0\")+1)","v":0},8940169099,"CP 1/2 FILTER NPT","34 340,-Ft ","CP S.anyag","Air Line & Electric Supply",572,null,34340]
[{"$f":"IF(L1533=FALSE,0,COUNTIF(A$3:A1532,\">0\")+1)","v":0},8940169104,"CP 1/2 FILTER-REGULATOR BSP","68 300,-Ft ","CP S.anyag","Air Line & Electric Supply",974,null,68300]
[{"$f":"IF(L1534=FALSE,0,COUNTIF(A$3:A1533,\">0\")+1)","v":0},8940169105,"CP 1/2 FILTER-REGULATOR NPT","64 000,-Ft ","CP S.anyag","Air Line & Electric Supply",1014,null,64000]
[{"$f":"IF(L1535=FALSE,0,COUNTIF(A$3:A1534,\">0\")+1)","v":0},8940169102,"CP 1/2 LUBRICATOR BSP","37 210,-Ft ","CP S.anyag","Air Line & Electric Supply",570,null,37210]
[{"$f":"IF(L1536=FALSE,0,COUNTIF(A$3:A1535,\">0\")+1)","v":0},8940169103,"CP 1/2 LUBRICATOR NPT","37 210,-Ft ","CP S.anyag","Air Line & Electric Supply",570,null,37210]
[{"$f":"IF(L1537=FALSE,0,COUNTIF(A$3:A1536,\">0\")+1)","v":0},8940169100,"CP 1/2 REGULATOR BSP","43 780,-Ft ","CP S.anyag","Air Line & Electric Supply",722,null,43780]
[{"$f":"IF(L1538=FALSE,0,COUNTIF(A$3:A1537,\">0\")+1)","v":0},8940169101,"CP 1/2 REGULATOR NPT","43 780,-Ft ","CP S.anyag","Air Line & Electric Supply",755,null,43780]
[{"$f":"IF(L1539=FALSE,0,COUNTIF(A$3:A1538,\">0\")+1)","v":0},8940169090,"CP 1/4 FILTER BSP","28 620,-Ft ","CP S.anyag","Air Line & Electric Supply",628,null,28620]
[{"$f":"IF(L1540=FALSE,0,COUNTIF(A$3:A1539,\">0\")+1)","v":0},8940169091,"CP 1/4 FILTER NPT","28 620,-Ft ","CP S.anyag","Air Line & Electric Supply",0,null,28620]
[{"$f":"IF(L1541=FALSE,0,COUNTIF(A$3:A1540,\">0\")+1)","v":0},8940169096,"CP 1/4 FILTER-REGULATOR BSP","37 210,-Ft ","CP S.anyag","Air Line & Electric Supply",774,null,37210]
[{"$f":"IF(L1542=FALSE,0,COUNTIF(A$3:A1541,\">0\")+1)","v":0},8940169097,"CP 1/4 FILTER-REGULATOR NPT","40 060,-Ft ","CP S.anyag","Air Line & Electric Supply",778,null,40060]
[{"$f":"IF(L1543=FALSE,0,COUNTIF(A$3:A1542,\">0\")+1)","v":0},8940169094,"CP 1/4 LUBRICATOR BSP","20 580,-Ft ","CP S.anyag","Air Line & Electric Supply",648,null,20580]
[{"$f":"IF(L1544=FALSE,0,COUNTIF(A$3:A1543,\">0\")+1)","v":0},8940169095,"CP 1/4 LUBRICATOR NPT","20 580,-Ft ","CP S.anyag","Air Line & Electric Supply",0,null,20580]
[{"$f":"IF(L1545=FALSE,0,COUNTIF(A$3:A1544,\">0\")+1)","v":0},8940169092,"CP 1/4 REGULATOR BSP","34 340,-Ft ","CP S.anyag","Air Line & Electric Supply",490,null,34340]
[{"$f":"IF(L1546=FALSE,0,COUNTIF(A$3:A1545,\">0\")+1)","v":0},8940169093,"CP 1/4 REGULATOR NPT","34 340,-Ft ","CP S.anyag","Air Line & Electric Supply",467,null,34340]
[{"$f":"IF(L1547=FALSE,0,COUNTIF(A$3:A1546,\">0\")+1)","v":0},8940169106,"CP 3/4 FILTER BSP","51 520,-Ft ","CP S.anyag","Air Line & Electric Supply",793,null,51520]
[{"$f":"IF(L1548=FALSE,0,COUNTIF(A$3:A1547,\">0\")+1)","v":0},8940169107,"CP 3/4 FILTER NPT","51 520,-Ft ","CP S.anyag","Air Line & Electric Supply",0,null,51520]
[{"$f":"IF(L1549=FALSE,0,COUNTIF(A$3:A1548,\">0\")+1)","v":0},8940169112,"CP 3/4 FILTER-REGULATOR BSP","93 500,-Ft ","CP S.anyag","Air Line & Electric Supply",0,null,93500]
[{"$f":"IF(L1550=FALSE,0,COUNTIF(A$3:A1549,\">0\")+1)","v":0},8940169113,"CP 3/4 FILTER-REGULATOR NPT","93 900,-Ft ","CP S.anyag","Air Line & Electric Supply",1448,null,93900]
[{"$f":"IF(L1551=FALSE,0,COUNTIF(A$3:A1550,\">0\")+1)","v":0},8940169110,"CP 3/4 LUBRICATOR BSP","51 520,-Ft ","CP S.anyag","Air Line & Electric Supply",790,null,51520]
[{"$f":"IF(L1552=FALSE,0,COUNTIF(A$3:A1551,\">0\")+1)","v":0},8940169111,"CP 3/4 LUBRICATOR NPT","47 130,-Ft ","CP S.anyag","Air Line & Electric Supply",0,null,47130]
[{"$f":"IF(L1553=FALSE,0,COUNTIF(A$3:A1552,\">0\")+1)","v":0},8940169108,"CP 3/4 REGULATOR BSP","56 900,-Ft ","CP S.anyag","Air Line & Electric Supply",848,null,56900]
[{"$f":"IF(L1554=FALSE,0,COUNTIF(A$3:A1553,\">0\")+1)","v":0},8940169109,"CP 3/4 REGULATOR NPT","56 900,-Ft ","CP S.anyag","Air Line & Electric Supply",894,null,56900]
[{"$f":"IF(L1555=FALSE,0,COUNTIF(A$3:A1554,\">0\")+1)","v":0},8940171566,"CP AIR FLEX 1/2\" BSP","31 950,-Ft ","CP S.anyag","Air Line & Electric Supply",130,null,31950]
[{"$f":"IF(L1556=FALSE,0,COUNTIF(A$3:A1555,\">0\")+1)","v":0},8940171567,"CP AIR FLEX 1/2\" NPT","31 950,-Ft ","CP S.anyag","Air Line & Electric Supply",132,null,31950]
[{"$f":"IF(L1557=FALSE,0,COUNTIF(A$3:A1556,\">0\")+1)","v":0},8940171568,"CP AIR FLEX 1/4\" BSP","24 860,-Ft ","CP S.anyag","Air Line & Electric Supply",74,null,24860]
[{"$f":"IF(L1558=FALSE,0,COUNTIF(A$3:A1557,\">0\")+1)","v":0},8940171570,"CP AIR FLEX 3/8\" BSP","31 950,-Ft ","CP S.anyag","Air Line & Electric Supply",168,null,31950]
[{"$f":"IF(L1559=FALSE,0,COUNTIF(A$3:A1558,\">0\")+1)","v":0},8940171571,"CP AIR FLEX 3/8\" NPT","31 950,-Ft ","CP S.anyag","Air Line & Electric Supply",68,null,31950]
[{"$f":"IF(L1560=FALSE,0,COUNTIF(A$3:A1559,\">0\")+1)","v":0},8940171569,"CP AIR FLEX1/4\" NPT","24 860,-Ft ","CP S.anyag","Air Line & Electric Supply",74,null,24860]
[{"$f":"IF(L1561=FALSE,0,COUNTIF(A$3:A1560,\">0\")+1)","v":0},6151618010,"CP0200B18",{"$f":"IF(H1561=\"SP\",IF(J1561>0,\"SP: \"&TEXT(J1561*I$1,\"# ###,-Ft  \"),\"SP: \"&TEXT(I1561*I$1,\"# ###,-Ft\")),IF(J1561>0,\"STARS* \"&TEXT(J1561*J$1,\"# ###,-Ft\"),TEXT(I1561*I$1,\"# ###,-Ft  \")))","v":"220 800,-Ft "},"CP Termék","Ind Removal Various",1,null,220800]
[{"$f":"IF(L1562=FALSE,0,COUNTIF(A$3:A1561,\">0\")+1)","v":0},6151618020,"CP0200B18-2F","231 500,-Ft ","CP Termék","Ind Removal Various",2608,null,231500]
[{"$f":"IF(L1563=FALSE,0,COUNTIF(A$3:A1562,\">0\")+1)","v":0},6151618080,"CP0200B18L","231 500,-Ft ","CP Termék","Ind Removal Various",1,null,231500]
[{"$f":"IF(L1564=FALSE,0,COUNTIF(A$3:A1563,\">0\")+1)","v":0},6151618090,"CP0200B18L-2F","231 500,-Ft ","CP Termék","Ind Removal Various",2934,null,231500]
[{"$f":"IF(L1565=FALSE,0,COUNTIF(A$3:A1564,\">0\")+1)","v":0},6151618030,"CP0200B22","262 200,-Ft ","CP Termék","Ind Removal Various",1,null,262200]
[{"$f":"IF(L1566=FALSE,0,COUNTIF(A$3:A1565,\">0\")+1)","v":0},6151618040,"CP0200B22-2F","281 900,-Ft ","CP Termék","Ind Removal Various",3381,null,281900]
[{"$f":"IF(L1567=FALSE,0,COUNTIF(A$3:A1566,\">0\")+1)","v":0},6151618100,"CP0200B22L","281 900,-Ft ","CP Termék","Ind Removal Various",1,null,281900]
[{"$f":"IF(L1568=FALSE,0,COUNTIF(A$3:A1567,\">0\")+1)","v":0},6151618110,"CP0200B22L-2F","288 900,-Ft ","CP Termék","Ind Removal Various",3794,null,288900]
[{"$f":"IF(L1569=FALSE,0,COUNTIF(A$3:A1568,\">0\")+1)","v":0},6151618050,"CP0200B25","474 000,-Ft ","CP Termék","Ind Removal Various",1,null,474000]
[{"$f":"IF(L1570=FALSE,0,COUNTIF(A$3:A1569,\">0\")+1)","v":0},6151618060,"CP0200B25-2F","474 000,-Ft ","CP Termék","Ind Removal Various",6161,null,474000]
[{"$f":"IF(L1571=FALSE,0,COUNTIF(A$3:A1570,\">0\")+1)","v":0},6151618120,"CP0200B25L","474 000,-Ft ","CP Termék","Ind Removal Various",1,null,474000]
[{"$f":"IF(L1572=FALSE,0,COUNTIF(A$3:A1571,\">0\")+1)","v":0},6151618130,"CP0200B25L-2F","474 000,-Ft ","CP Termék","Ind Removal Various",7252,null,474000]
[{"$f":"IF(L1573=FALSE,0,COUNTIF(A$3:A1572,\">0\")+1)","v":0},6151618070,"CP0200B32L","474 000,-Ft ","CP Termék","Ind Removal Various",1,null,474000]
[{"$f":"IF(L1574=FALSE,0,COUNTIF(A$3:A1573,\">0\")+1)","v":0},6151618140,"CP0200B32L-2F","474 000,-Ft ","CP Termék","Ind Removal Various",9583,null,474000]
[{"$f":"IF(L1575=FALSE,0,COUNTIF(A$3:A1574,\">0\")+1)","v":0},"T013049","CP0456LASAN","474 000,-Ft ","CP Termék","Ind Hammers Various",3012,null,474000]
[{"$f":"IF(L1576=FALSE,0,COUNTIF(A$3:A1575,\">0\")+1)","v":0},"T013046","CP0456LESAR","381 000,-Ft ","CP Termék","Ind Hammers Various",2043,null,381000]
[{"$f":"IF(L1577=FALSE,0,COUNTIF(A$3:A1576,\">0\")+1)","v":0},6151590050,"CP0611P RS 1\" HOLE",{"$f":"IF(H1577=\"C\",IF(J1577>0,\"C #: \"&TEXT(J1577*I$1,\"# ###,-Ft  \"),\"C #: \"&TEXT(I1577*I$1,\"# ###,-Ft\")),IF(J1577>0,\"TOPS* \"&TEXT(J1577*J$1,\"# ###,-Ft\"),TEXT(I1577*I$1,\"# ###,-Ft  \")))","v":"C #: 1 516 000,-Ft"},"CP Termék","Ind Impact Wrenches",11148,"C",1516000]
[{"$f":"IF(L1578=FALSE,0,COUNTIF(A$3:A1577,\">0\")+1)","v":0},"T022306","CP0951",{"$f":"IF(H1578=\"SP\",IF(J1578>0,\"SP: \"&TEXT(J1578*I$1,\"# ###,-Ft  \"),\"SP: \"&TEXT(I1578*I$1,\"# ###,-Ft\")),IF(J1578>0,\"STARS* \"&TEXT(J1578*J$1,\"# ###,-Ft\"),TEXT(I1578*I$1,\"# ###,-Ft  \")))","v":"276 200,-Ft "},"CP Termék","Ind Hammers Various",2845,null,276200]
[{"$f":"IF(L1579=FALSE,0,COUNTIF(A$3:A1578,\">0\")+1)","v":0},"T019191","CP0952","366 000,-Ft ","CP Termék","Ind Hammers Various",3893,null,366000]
[{"$f":"IF(L1580=FALSE,0,COUNTIF(A$3:A1579,\">0\")+1)","v":0},6151580190,"CP1014P05 DRILL WITH KEYED CHUCK 500RPM","186 400,-Ft ","CP Termék","Ind Drills < 1hp",1496,null,186400]
[{"$f":"IF(L1581=FALSE,0,COUNTIF(A$3:A1580,\">0\")+1)","v":0},6151580050,"CP1014P24 DRILL WITH KEYED CHUCK 2400RPM","170 700,-Ft ","CP Termék","Ind Drills < 1hp",1050,null,170700]
[{"$f":"IF(L1582=FALSE,0,COUNTIF(A$3:A1581,\">0\")+1)","v":0},6151580030,"CP1014P33 DRILL WITH KEYED CHUCK 3300RPM","170 700,-Ft ","CP Termék","Ind Drills < 1hp",1048,null,170700]
[{"$f":"IF(L1583=FALSE,0,COUNTIF(A$3:A1582,\">0\")+1)","v":0},6151580010,"CP1014P45 DRILL WITH KEYED CHUCK 4500RPM","170 700,-Ft ","CP Termék","Ind Drills < 1hp",1046,null,170700]
[{"$f":"IF(L1584=FALSE,0,COUNTIF(A$3:A1583,\">0\")+1)","v":0},6151580240,"CP1117P05 DRILL W/O CHUCKS","176 500,-Ft ","CP Termék","Ind Drills < 1hp",1900,null,176500]
[{"$f":"IF(L1585=FALSE,0,COUNTIF(A$3:A1584,\">0\")+1)","v":0},6151580170,"CP1117P05 KEY CHUCK DRILL","202 900,-Ft ","CP Termék","Ind Drills < 1hp",2350,null,202900]
[{"$f":"IF(L1586=FALSE,0,COUNTIF(A$3:A1585,\">0\")+1)","v":0},6151580180,"CP1117P05 KEYLESS CHUCK DRILL","202 900,-Ft ","CP Termék","Ind Drills < 1hp",2166,null,202900]
[{"$f":"IF(L1587=FALSE,0,COUNTIF(A$3:A1586,\">0\")+1)","v":0},6151580230,"CP1117P09 DRILL W/O CHUCKS","176 500,-Ft ","CP Termék","Ind Drills < 1hp",1855,null,176500]
[{"$f":"IF(L1588=FALSE,0,COUNTIF(A$3:A1587,\">0\")+1)","v":0},6151580150,"CP1117P09 KEY CHUCK DRILL","202 900,-Ft ","CP Termék","Ind Drills < 1hp",2142,null,202900]
[{"$f":"IF(L1589=FALSE,0,COUNTIF(A$3:A1588,\">0\")+1)","v":0},6151580160,"CP1117P09 KEYLESS CHUCK DRILL","202 900,-Ft ","CP Termék","Ind Drills < 1hp",2178,null,202900]
[{"$f":"IF(L1590=FALSE,0,COUNTIF(A$3:A1589,\">0\")+1)","v":0},6151580220,"CP1117P26 DRILL W/O CHUCKS","168 200,-Ft ","CP Termék","Ind Drills < 1hp",1340,null,168200]
[{"$f":"IF(L1591=FALSE,0,COUNTIF(A$3:A1590,\">0\")+1)","v":0},6151580130,"CP1117P26 KEY CHUCK DRILL","183 900,-Ft ","CP Termék","Ind Drills < 1hp",1589,null,183900]
[{"$f":"IF(L1592=FALSE,0,COUNTIF(A$3:A1591,\">0\")+1)","v":0},6151580140,"CP1117P26 KEYLESS CHUCK DRILL","183 900,-Ft ","CP Termék","Ind Drills < 1hp",1535,null,183900]
[{"$f":"IF(L1593=FALSE,0,COUNTIF(A$3:A1592,\">0\")+1)","v":0},6151580210,"CP1117P32 DRILL W/O CHUCKS","168 200,-Ft ","CP Termék","Ind Drills < 1hp",1342,null,168200]
[{"$f":"IF(L1594=FALSE,0,COUNTIF(A$3:A1593,\">0\")+1)","v":0},6151580110,"CP1117P32 KEY CHUCK DRILL","183 900,-Ft ","CP Termék","Ind Drills < 1hp",1597,null,183900]
[{"$f":"IF(L1595=FALSE,0,COUNTIF(A$3:A1594,\">0\")+1)","v":0},6151580120,"CP1117P32 KEYLESS CHUCK DRILL","183 900,-Ft ","CP Termék","Ind Drills < 1hp",1550,null,183900]
[{"$f":"IF(L1596=FALSE,0,COUNTIF(A$3:A1595,\">0\")+1)","v":0},6151580200,"CP1117P60 DRILL W/O CHUCKS","168 200,-Ft ","CP Termék","Ind Drills < 1hp",1340,null,168200]
[{"$f":"IF(L1597=FALSE,0,COUNTIF(A$3:A1596,\">0\")+1)","v":0},6151580090,"CP1117P60 KEY CHUCK DRILL","183 900,-Ft ","CP Termék","Ind Drills < 1hp",1817,null,183900]
[{"$f":"IF(L1598=FALSE,0,COUNTIF(A$3:A1597,\">0\")+1)","v":0},6151580100,"CP1117P60 KEYLESS CHUCK DRILL","183 900,-Ft ","CP Termék","Ind Drills < 1hp",1553,null,183900]
[{"$f":"IF(L1599=FALSE,0,COUNTIF(A$3:A1598,\">0\")+1)","v":0},6151580250,"CP1720R22 CORNER DRILL",{"$f":"IF(H1599=\"C\",IF(J1599>0,\"C #: \"&TEXT(J1599*I$1,\"# ###,-Ft  \"),\"C #: \"&TEXT(I1599*I$1,\"# ###,-Ft\")),IF(J1599>0,\"TOPS* \"&TEXT(J1599*J$1,\"# ###,-Ft\"),TEXT(I1599*I$1,\"# ###,-Ft  \")))","v":"C #: 858 000,-Ft"},"CP Termék","Ind Drills Various",8366,"C",858000]
[{"$f":"IF(L1600=FALSE,0,COUNTIF(A$3:A1599,\">0\")+1)","v":0},6151580260,"CP1720R32 CORNER DRILL","C #: 1 189 000,-Ft","CP Termék","Ind Drills Various",14828,"C",1189000]
[{"$f":"IF(L1601=FALSE,0,COUNTIF(A$3:A1600,\">0\")+1)","v":0},6151580270,"CP1720R50 CORNER DRILL","C #: 1 457 000,-Ft","CP Termék","Ind Drills Various",16796,"C",1457000]
[{"$f":"IF(L1602=FALSE,0,COUNTIF(A$3:A1601,\">0\")+1)","v":0},6151580300,"CP1816 D-HANDLE DRILL","419 000,-Ft ","CP Termék","Ind Drills < 1hp",4282,null,419000]
[{"$f":"IF(L1603=FALSE,0,COUNTIF(A$3:A1602,\">0\")+1)","v":0},6151580280,"CP1820R22 HEAVY DUTY DRILL",{"$f":"IF(H1603=\"C\",IF(J1603>0,\"C #: \"&TEXT(J1603*I$1,\"# ###,-Ft  \"),\"C #: \"&TEXT(I1603*I$1,\"# ###,-Ft\")),IF(J1603>0,\"TOPS* \"&TEXT(J1603*J$1,\"# ###,-Ft\"),TEXT(I1603*I$1,\"# ###,-Ft  \")))","v":"C #: 854 000,-Ft"},"CP Termék","Ind Drills Various",8488,"C",854000]
[{"$f":"IF(L1604=FALSE,0,COUNTIF(A$3:A1603,\">0\")+1)","v":0},6151580290,"CP1820R32 HEAVY DUTY DRILL","C #: 1 357 000,-Ft","CP Termék","Ind Drills Various",16060,"C",1357000]
[{"$f":"IF(L1605=FALSE,0,COUNTIF(A$3:A1604,\">0\")+1)","v":0},6151922003,"CP2003","379 000,-Ft ","CP Termék","Ind Screwdrivers ASO",808,null,379000]
[{"$f":"IF(L1606=FALSE,0,COUNTIF(A$3:A1605,\">0\")+1)","v":0},6151922005,"CP2005","395 000,-Ft ","CP Termék","Ind Screwdrivers ASO",1065,null,395000]
[{"$f":"IF(L1607=FALSE,0,COUNTIF(A$3:A1606,\">0\")+1)","v":0},6151922006,"CP2006",",-Ft ","CP Termék","Ind Screwdrivers Friction",1062]
[{"$f":"IF(L1608=FALSE,0,COUNTIF(A$3:A1607,\">0\")+1)","v":0},6151922007,"CP2007","395 000,-Ft ","CP Termék","Ind Screwdrivers ASO",940,null,395000]
[{"$f":"IF(L1609=FALSE,0,COUNTIF(A$3:A1608,\">0\")+1)","v":0},6151922008,"CP2008","395 000,-Ft ","CP Termék","Ind Screwdrivers ASO",981,null,395000]
[{"$f":"IF(L1610=FALSE,0,COUNTIF(A$3:A1609,\">0\")+1)","v":0},6151922010,"CP2010","395 000,-Ft ","CP Termék","Ind Screwdrivers ASO",1112.5,null,395000]
[{"$f":"IF(L1611=FALSE,0,COUNTIF(A$3:A1610,\">0\")+1)","v":0},6151922011,"CP2011",",-Ft ","CP Termék","Ind Screwdrivers Friction",1233]
[{"$f":"IF(L1612=FALSE,0,COUNTIF(A$3:A1611,\">0\")+1)","v":0},6151922012,"CP2012","403 000,-Ft ","CP Termék","Ind Screwdrivers ASO",1276,null,403000]
[{"$f":"IF(L1613=FALSE,0,COUNTIF(A$3:A1612,\">0\")+1)","v":0},6151922036,"CP2036","116 100,-Ft ","CP Termék","VS / MRO Assembly Various",994,null,116100]
[{"$f":"IF(L1614=FALSE,0,COUNTIF(A$3:A1613,\">0\")+1)","v":0},6151922037,"CP2037","116 100,-Ft ","CP Termék","VS / MRO Assembly Various",1004,null,116100]
[{"$f":"IF(L1615=FALSE,0,COUNTIF(A$3:A1614,\">0\")+1)","v":0},6151922041,"CP2041 1/4\" HEX IMPACT SCREWDRIVER","124 400,-Ft ","CP Termék","Screwdrivers",1255,null,124400]
[{"$f":"IF(L1616=FALSE,0,COUNTIF(A$3:A1615,\">0\")+1)","v":0},6151922042,"CP2042 1/4\" HEX IMPACT SCREWDRIVER","124 400,-Ft ","CP Termék","Screwdrivers",1214,null,124400]
[{"$f":"IF(L1617=FALSE,0,COUNTIF(A$3:A1616,\">0\")+1)","v":0},6151922611,"CP2611 PISTOL","358 000,-Ft ","CP Termék","Ind Screwdrivers ASO",1413,null,358000]
[{"$f":"IF(L1618=FALSE,0,COUNTIF(A$3:A1617,\">0\")+1)","v":0},6151922612,"CP2612 PISTOL","175 300,-Ft ","CP Termék","Ind Screwdrivers Friction",1328,null,175300]
[{"$f":"IF(L1619=FALSE,0,COUNTIF(A$3:A1618,\">0\")+1)","v":0},6151922621,"CP2621 STRAIGHT","270 400,-Ft ","CP Termék","Ind Screwdrivers ASO",1112,null,270400]
[{"$f":"IF(L1620=FALSE,0,COUNTIF(A$3:A1619,\">0\")+1)","v":0},6151922622,"CP2622 STRAIGHT","270 400,-Ft ","CP Termék","Ind Screwdrivers ASO",1118,null,270400]
[{"$f":"IF(L1621=FALSE,0,COUNTIF(A$3:A1620,\">0\")+1)","v":0},6151922623,"CP2623 STRAIGHT","134 000,-Ft ","CP Termék","Ind Screwdrivers Friction",1087,null,134000]
[{"$f":"IF(L1622=FALSE,0,COUNTIF(A$3:A1621,\">0\")+1)","v":0},6151922754,"CP2754",",-Ft ","CP Termék","Ind Screwdrivers Various",1126]
[{"$f":"IF(L1623=FALSE,0,COUNTIF(A$3:A1622,\">0\")+1)","v":0},6151922755,"CP2755","86 300,-Ft ","CP Termék","Screwdrivers",1261,null,86300]
[{"$f":"IF(L1624=FALSE,0,COUNTIF(A$3:A1623,\">0\")+1)","v":0},6151922764,"CP2764",",-Ft ","CP Termék","Ind Screwdrivers Various",1224]
[{"$f":"IF(L1625=FALSE,0,COUNTIF(A$3:A1624,\">0\")+1)","v":0},6151922765,"CP2765","96 600,-Ft ","CP Termék","Screwdrivers",1408,null,96600]
[{"$f":"IF(L1626=FALSE,0,COUNTIF(A$3:A1625,\">0\")+1)","v":0},6151922780,"CP2780","96 600,-Ft ","CP Termék","Screwdrivers",1315,null,96600]
[{"$f":"IF(L1627=FALSE,0,COUNTIF(A$3:A1626,\">0\")+1)","v":0},6151600180,"CP3000-325F","133 600,-Ft ","CP Termék","Ind Die Grinders<0,5hp",706,null,133600]
[{"$f":"IF(L1628=FALSE,0,COUNTIF(A$3:A1627,\">0\")+1)","v":0},6151600150,"CP3000-325R","133 600,-Ft ","CP Termék","Ind Die Grinders<0,5hp",842,null,133600]
[{"$f":"IF(L1629=FALSE,0,COUNTIF(A$3:A1628,\">0\")+1)","v":0},6151600160,"CP3000-330R",{"$f":"IF(H1629=\"SP\",IF(J1629>0,\"SP: \"&TEXT(J1629*I$1,\"# ###,-Ft  \"),\"SP: \"&TEXT(I1629*I$1,\"# ###,-Ft\")),IF(J1629>0,\"STARS* \"&TEXT(J1629*J$1,\"# ###,-Ft\"),TEXT(I1629*I$1,\"# ###,-Ft  \")))","v":"133 600,-Ft "},"CP Termék","Ind Die Grinders<0,5hp",712,null,133600]
[{"$f":"IF(L1630=FALSE,0,COUNTIF(A$3:A1629,\">0\")+1)","v":0},6151600190,"CP3000-415R",{"$f":"IF(H1630=\"SP\",IF(J1630>0,\"SP: \"&TEXT(J1630*I$1,\"# ###,-Ft  \"),\"SP: \"&TEXT(I1630*I$1,\"# ###,-Ft\")),IF(J1630>0,\"STARS* \"&TEXT(J1630*J$1,\"# ###,-Ft\"),TEXT(I1630*I$1,\"# ###,-Ft  \")))","v":"161 200,-Ft "},"CP Termék","Ind Die Grinders<0,5hp",1136,null,161200]
[{"$f":"IF(L1631=FALSE,0,COUNTIF(A$3:A1630,\">0\")+1)","v":0},6151600200,"CP3000-418R",{"$f":"IF(H1631=\"SP\",IF(J1631>0,\"SP: \"&TEXT(J1631*I$1,\"# ###,-Ft  \"),\"SP: \"&TEXT(I1631*I$1,\"# ###,-Ft\")),IF(J1631>0,\"STARS* \"&TEXT(J1631*J$1,\"# ###,-Ft\"),TEXT(I1631*I$1,\"# ###,-Ft  \")))","v":"161 200,-Ft "},"CP Termék","Ind Die Grinders<0,5hp",1136,null,161200]
[{"$f":"IF(L1632=FALSE,0,COUNTIF(A$3:A1631,\">0\")+1)","v":0},6151600250,"CP3000-420F","161 200,-Ft ","CP Termék","Ind Die Grinders<0,5hp",1124,null,161200]
[{"$f":"IF(L1633=FALSE,0,COUNTIF(A$3:A1632,\">0\")+1)","v":0},6151600210,"CP3000-420R","161 200,-Ft ","CP Termék","Ind Die Grinders<0,5hp",1134,null,161200]
[{"$f":"IF(L1634=FALSE,0,COUNTIF(A$3:A1633,\">0\")+1)","v":0},6151600260,"CP3000-424F","161 200,-Ft ","CP Termék","Ind Die Grinders<0,5hp",1124,null,161200]
[{"$f":"IF(L1635=FALSE,0,COUNTIF(A$3:A1634,\">0\")+1)","v":0},6151600220,"CP3000-424R","161 200,-Ft ","CP Termék","Ind Die Grinders<0,5hp",1136,null,161200]
[{"$f":"IF(L1636=FALSE,0,COUNTIF(A$3:A1635,\">0\")+1)","v":0},6151600300,"CP3000-515F","188 900,-Ft ","CP Termék","Ind Die Grinders<0,5hp",1248,null,188900]
[{"$f":"IF(L1637=FALSE,0,COUNTIF(A$3:A1636,\">0\")+1)","v":0},6151600270,"CP3000-515R","188 900,-Ft ","CP Termék","Ind Die Grinders<0,5hp",1216,null,188900]
[{"$f":"IF(L1638=FALSE,0,COUNTIF(A$3:A1637,\">0\")+1)","v":0},6151600310,"CP3000-518F","188 900,-Ft ","CP Termék","Ind Die Grinders<0,5hp",1248,null,188900]
[{"$f":"IF(L1639=FALSE,0,COUNTIF(A$3:A1638,\">0\")+1)","v":0},6151600280,"CP3000-518R","188 900,-Ft ","CP Termék","Ind Die Grinders<0,5hp",1216,null,188900]
[{"$f":"IF(L1640=FALSE,0,COUNTIF(A$3:A1639,\">0\")+1)","v":0},6151600290,"CP3000-520R",{"$f":"IF(H1640=\"SP\",IF(J1640>0,\"SP: \"&TEXT(J1640*I$1,\"# ###,-Ft  \"),\"SP: \"&TEXT(I1640*I$1,\"# ###,-Ft\")),IF(J1640>0,\"STARS* \"&TEXT(J1640*J$1,\"# ###,-Ft\"),TEXT(I1640*I$1,\"# ###,-Ft  \")))","v":"188 900,-Ft "},"CP Termék","Ind Die Grinders<0,5hp",1220,null,188900]
[{"$f":"IF(L1641=FALSE,0,COUNTIF(A$3:A1640,\">0\")+1)","v":0},6151600140,"CP3000-600CR 1/8\"","202 100,-Ft ","CP Termék","Ind Die Grinders<0,5hp",522,null,202100]
[{"$f":"IF(L1642=FALSE,0,COUNTIF(A$3:A1641,\">0\")+1)","v":0},6151600330,"CP3000-600CR 3mm","202 100,-Ft ","CP Termék","Ind Die Grinders<0,5hp",549,null,202100]
[{"$f":"IF(L1643=FALSE,0,COUNTIF(A$3:A1642,\">0\")+1)","v":0},6151604070,"CP3019-12AC","413 000,-Ft ","CP Termék","Ind Collet Angle grinder",990,null,413000]
[{"$f":"IF(L1644=FALSE,0,COUNTIF(A$3:A1643,\">0\")+1)","v":0},6151604230,"CP3019-12AC CNOMO","431 000,-Ft ","CP Termék","Ind Die Grinders>0,5hp",1036,null,431000]
[{"$f":"IF(L1645=FALSE,0,COUNTIF(A$3:A1644,\">0\")+1)","v":0},6151607080,"CP3019-12AF","409 000,-Ft ","CP Termék","Ind Sanders > 0,3hp",969,null,409000]
[{"$f":"IF(L1646=FALSE,0,COUNTIF(A$3:A1645,\">0\")+1)","v":0},6151607050,"CP3019-13A4","431 000,-Ft ","CP Termék","Ind Angle Grinder>2hp",1383,null,431000]
[{"$f":"IF(L1647=FALSE,0,COUNTIF(A$3:A1646,\">0\")+1)","v":0},6151600090,"CP3019-18","296 200,-Ft ","CP Termék","Ind Die Grinders>0,5hp",880,null,296200]
[{"$f":"IF(L1648=FALSE,0,COUNTIF(A$3:A1647,\">0\")+1)","v":0},6151607060,"CP3019-18A3","431 000,-Ft ","CP Termék","Ind Angle Grinder>2hp",1280,null,431000]
[{"$f":"IF(L1649=FALSE,0,COUNTIF(A$3:A1648,\">0\")+1)","v":0},6151600100,"CP3019-20","296 200,-Ft ","CP Termék","Ind Die Grinders>0,5hp",870,null,296200]
[{"$f":"IF(L1650=FALSE,0,COUNTIF(A$3:A1649,\">0\")+1)","v":0},6151600340,"CP3019-20 CNOMO","315 100,-Ft ","CP Termék","Ind Die Grinders>0,5hp",950,null,315100]
[{"$f":"IF(L1651=FALSE,0,COUNTIF(A$3:A1650,\">0\")+1)","v":0},6151607070,"CP3019-20A3","431 000,-Ft ","CP Termék","Ind Angle Grinder>2hp",1285,null,431000]
[{"$f":"IF(L1652=FALSE,0,COUNTIF(A$3:A1651,\">0\")+1)","v":0},6151604080,"CP3019-20AC ANGLE","413 000,-Ft ","CP Termék","Ind Collet Angle grinder",1030,null,413000]
[{"$f":"IF(L1653=FALSE,0,COUNTIF(A$3:A1652,\">0\")+1)","v":0},6151604240,"CP3019-20AC CNOMO","418 000,-Ft ","CP Termék","Ind Collet Angle grinder",1030,null,418000]
[{"$f":"IF(L1654=FALSE,0,COUNTIF(A$3:A1653,\">0\")+1)","v":0},6151607090,"CP3019-20AF","409 000,-Ft ","CP Termék","Ind Sanders > 0,3hp",955,null,409000]
[{"$f":"IF(L1655=FALSE,0,COUNTIF(A$3:A1654,\">0\")+1)","v":0},6151602170,"CP3019-20ES","358 000,-Ft ","CP Termék","Ind Die Grinders>0,5hp",1065,null,358000]
[{"$f":"IF(L1656=FALSE,0,COUNTIF(A$3:A1655,\">0\")+1)","v":0},6151602210,"CP3019-20ES CNOMO","377 000,-Ft ","CP Termék","Ind Die Grinders>0,5hp",1041,null,377000]
[{"$f":"IF(L1657=FALSE,0,COUNTIF(A$3:A1656,\">0\")+1)","v":0},6151600110,"CP3019-25","296 200,-Ft ","CP Termék","Ind Die Grinders>0,5hp",849,null,296200]
[{"$f":"IF(L1658=FALSE,0,COUNTIF(A$3:A1657,\">0\")+1)","v":0},6151600350,"CP3019-25 CNOMO","315 100,-Ft ","CP Termék","Ind Die Grinders>0,5hp",860,null,315100]
[{"$f":"IF(L1659=FALSE,0,COUNTIF(A$3:A1658,\">0\")+1)","v":0},6151602180,"CP3019-25ES","358 000,-Ft ","CP Termék","Ind Die Grinders>0,5hp",1107,null,358000]
[{"$f":"IF(L1660=FALSE,0,COUNTIF(A$3:A1659,\">0\")+1)","v":0},6151602220,"CP3019-25ES CNOMO","377 000,-Ft ","CP Termék","Ind Die Grinders>0,5hp",1020,null,377000]
[{"$f":"IF(L1661=FALSE,0,COUNTIF(A$3:A1660,\">0\")+1)","v":0},6151600120,"CP3019-31","296 200,-Ft ","CP Termék","Ind Die Grinders>0,5hp",867,null,296200]
[{"$f":"IF(L1662=FALSE,0,COUNTIF(A$3:A1661,\">0\")+1)","v":0},6151600360,"CP3019-31 CNOMO","315 100,-Ft ","CP Termék","Ind Die Grinders>0,5hp",911,null,315100]
[{"$f":"IF(L1663=FALSE,0,COUNTIF(A$3:A1662,\">0\")+1)","v":0},6151602190,"CP3019-31ES","358 000,-Ft ","CP Termék","Ind Die Grinders>0,5hp",1047,null,358000]
[{"$f":"IF(L1664=FALSE,0,COUNTIF(A$3:A1663,\">0\")+1)","v":0},6151602230,"CP3019-31ES CNOMO","377 000,-Ft ","CP Termék","Ind Die Grinders>0,5hp",1034,null,377000]
[{"$f":"IF(L1665=FALSE,0,COUNTIF(A$3:A1664,\">0\")+1)","v":0},6151600370,"CP3019-40 CNOMO","315 100,-Ft ","CP Termék","Ind Die Grinders>0,5hp",815,null,315100]
[{"$f":"IF(L1666=FALSE,0,COUNTIF(A$3:A1665,\">0\")+1)","v":0},6151600130,"CP3019-40 DIE-GRINDER","296 200,-Ft ","CP Termék","Ind Die Grinders>0,5hp",975,null,296200]
[{"$f":"IF(L1667=FALSE,0,COUNTIF(A$3:A1666,\">0\")+1)","v":0},6151602200,"CP3019-40ES","358 000,-Ft ","CP Termék","Ind Die Grinders>0,5hp",973,null,358000]
[{"$f":"IF(L1668=FALSE,0,COUNTIF(A$3:A1667,\">0\")+1)","v":0},6151602240,"CP3019-40ES CNOMO","375 000,-Ft ","CP Termék","Ind Die Grinders>0,5hp",1073,null,375000]
[{"$f":"IF(L1669=FALSE,0,COUNTIF(A$3:A1668,\">0\")+1)","v":0},6151620060,"CP3030-325AFR 2\"","141 000,-Ft ","CP Termék","Ind Sanders > 0,3hp",828,null,141000]
[{"$f":"IF(L1670=FALSE,0,COUNTIF(A$3:A1669,\">0\")+1)","v":0},6151604120,"CP3030-325F","161 600,-Ft ","CP Termék","Ind Die Grinders<0,5hp",838,null,161600]
[{"$f":"IF(L1671=FALSE,0,COUNTIF(A$3:A1670,\">0\")+1)","v":0},6151604090,"CP3030-325R","161 600,-Ft ","CP Termék","Ind Die Grinders<0,5hp",848,null,161600]
[{"$f":"IF(L1672=FALSE,0,COUNTIF(A$3:A1671,\">0\")+1)","v":0},6151604110,"CP3030-330F","161 600,-Ft ","CP Termék","Ind Die Grinders<0,5hp",838,null,161600]
[{"$f":"IF(L1673=FALSE,0,COUNTIF(A$3:A1672,\">0\")+1)","v":0},6151604100,"CP3030-330R","161 600,-Ft ","CP Termék","Ind Die Grinders<0,5hp",842,null,161600]
[{"$f":"IF(L1674=FALSE,0,COUNTIF(A$3:A1673,\">0\")+1)","v":0},6151620070,"CP3030-415AFR 3\"","156 700,-Ft ","CP Termék","Ind Sanders > 0,3hp",1250,null,156700]
[{"$f":"IF(L1675=FALSE,0,COUNTIF(A$3:A1674,\">0\")+1)","v":0},6151604130,"CP3030-418R",{"$f":"IF(H1675=\"SP\",IF(J1675>0,\"SP: \"&TEXT(J1675*I$1,\"# ###,-Ft  \"),\"SP: \"&TEXT(I1675*I$1,\"# ###,-Ft\")),IF(J1675>0,\"STARS* \"&TEXT(J1675*J$1,\"# ###,-Ft\"),TEXT(I1675*I$1,\"# ###,-Ft  \")))","v":"191 700,-Ft "},"CP Termék","Ind Die Grinders<0,5hp",1230,null,191700]
[{"$f":"IF(L1676=FALSE,0,COUNTIF(A$3:A1675,\">0\")+1)","v":0},6151620080,"CP3030-420AFR 3\"","156 700,-Ft ","CP Termék","Ind Sanders > 0,3hp",1248,null,156700]
[{"$f":"IF(L1677=FALSE,0,COUNTIF(A$3:A1676,\">0\")+1)","v":0},6151604170,"CP3030-420F","191 700,-Ft ","CP Termék","Ind Die Grinders<0,5hp",1216,null,191700]
[{"$f":"IF(L1678=FALSE,0,COUNTIF(A$3:A1677,\">0\")+1)","v":0},6151604140,"CP3030-420R","191 700,-Ft ","CP Termék","Ind Die Grinders<0,5hp",1230,null,191700]
[{"$f":"IF(L1679=FALSE,0,COUNTIF(A$3:A1678,\">0\")+1)","v":0},6151604180,"CP3030-424F","191 700,-Ft ","CP Termék","Ind Die Grinders<0,5hp",1214,null,191700]
[{"$f":"IF(L1680=FALSE,0,COUNTIF(A$3:A1679,\">0\")+1)","v":0},6151604150,"CP3030-424R","191 700,-Ft ","CP Termék","Ind Die Grinders<0,5hp",1232,null,191700]
[{"$f":"IF(L1681=FALSE,0,COUNTIF(A$3:A1680,\">0\")+1)","v":0},6151620100,"CP3030-515AFR 3\"","188 900,-Ft ","CP Termék","Ind Sanders > 0,3hp",1252,null,188900]
[{"$f":"IF(L1682=FALSE,0,COUNTIF(A$3:A1681,\">0\")+1)","v":0},6151604200,"CP3030-520R",{"$f":"IF(H1682=\"SP\",IF(J1682>0,\"SP: \"&TEXT(J1682*I$1,\"# ###,-Ft  \"),\"SP: \"&TEXT(I1682*I$1,\"# ###,-Ft\")),IF(J1682>0,\"STARS* \"&TEXT(J1682*J$1,\"# ###,-Ft\"),TEXT(I1682*I$1,\"# ###,-Ft  \")))","v":"212 200,-Ft "},"CP Termék","Ind Die Grinders<0,5hp",1232,null,212200]
[{"$f":"IF(L1683=FALSE,0,COUNTIF(A$3:A1682,\">0\")+1)","v":0},6151607010,"CP3040GABTIM","160 000,-Ft ","CP Termék","Ind Angle Grinder<2hp",2087,null,160000]
[{"$f":"IF(L1684=FALSE,0,COUNTIF(A$3:A1683,\">0\")+1)","v":0},6151607020,"CP3040GASTIM","176 900,-Ft ","CP Termék","Ind Angle Grinder<2hp",2200,null,176900]
[{"$f":"IF(L1685=FALSE,0,COUNTIF(A$3:A1684,\">0\")+1)","v":0},6151620090,"CP3070-120G 5\"","215 100,-Ft ","CP Termék","Ind Sanders > 0,3hp",1484,null,215100]
[{"$f":"IF(L1686=FALSE,0,COUNTIF(A$3:A1685,\">0\")+1)","v":0},6151607030,"CP3109-13A4",{"$f":"IF(H1686=\"C\",IF(J1686>0,\"C #: \"&TEXT(J1686*I$1,\"# ###,-Ft  \"),\"C #: \"&TEXT(I1686*I$1,\"# ###,-Ft\")),IF(J1686>0,\"TOPS* \"&TEXT(J1686*J$1,\"# ###,-Ft\"),TEXT(I1686*I$1,\"# ###,-Ft  \")))","v":"C #: 502 000,-Ft"},"CP Termék","Ind Angle Grinder<2hp",2024,"C",502000]
[{"$f":"IF(L1687=FALSE,0,COUNTIF(A$3:A1686,\">0\")+1)","v":0},6151607040,"CP3109-13A4ES","C #: 552 000,-Ft","CP Termék","Ind Angle Grinder<2hp",2301,"C",552000]
[{"$f":"IF(L1688=FALSE,0,COUNTIF(A$3:A1687,\">0\")+1)","v":0},6151604060,"CP3109-13AC","479 000,-Ft ","CP Termék","Ind Collet Angle grinder",1817,null,479000]
[{"$f":"IF(L1689=FALSE,0,COUNTIF(A$3:A1688,\">0\")+1)","v":0},6151600020,"CP3109-19","404 000,-Ft ","CP Termék","Ind Die Grinders>0,5hp",1510,null,404000]
[{"$f":"IF(L1690=FALSE,0,COUNTIF(A$3:A1689,\">0\")+1)","v":0},6151602080,"CP3109-19ES","462 000,-Ft ","CP Termék","Ind Die Grinders>0,5hp",2114,null,462000]
[{"$f":"IF(L1691=FALSE,0,COUNTIF(A$3:A1690,\">0\")+1)","v":0},6151600030,"CP3109-24","404 000,-Ft ","CP Termék","Ind Die Grinders>0,5hp",1489,null,404000]
[{"$f":"IF(L1692=FALSE,0,COUNTIF(A$3:A1691,\">0\")+1)","v":0},6151602090,"CP3109-24ES","462 000,-Ft ","CP Termék","Ind Die Grinders>0,5hp",2067,null,462000]
[{"$f":"IF(L1693=FALSE,0,COUNTIF(A$3:A1692,\">0\")+1)","v":0},6151600040,"CP3109-28","404 000,-Ft ","CP Termék","Ind Die Grinders>0,5hp",1575,null,404000]
[{"$f":"IF(L1694=FALSE,0,COUNTIF(A$3:A1693,\">0\")+1)","v":0},6151602100,"CP3109-28ES","462 000,-Ft ","CP Termék","Ind Die Grinders>0,5hp",2037,null,462000]
[{"$f":"IF(L1695=FALSE,0,COUNTIF(A$3:A1694,\">0\")+1)","v":0},6151600050,"CP3119-12","491 000,-Ft ","CP Termék","Ind Die Grinders>0,5hp",1622,null,491000]
[{"$f":"IF(L1696=FALSE,0,COUNTIF(A$3:A1695,\">0\")+1)","v":0},6151600380,"CP3119-12 CNOMO",{"$f":"IF(H1696=\"C\",IF(J1696>0,\"C #: \"&TEXT(J1696*I$1,\"# ###,-Ft  \"),\"C #: \"&TEXT(I1696*I$1,\"# ###,-Ft\")),IF(J1696>0,\"TOPS* \"&TEXT(J1696*J$1,\"# ###,-Ft\"),TEXT(I1696*I$1,\"# ###,-Ft  \")))","v":"C #: 508 000,-Ft"},"CP Termék","Ind Die Grinders>0,5hp",1622,"C",508000]
[{"$f":"IF(L1697=FALSE,0,COUNTIF(A$3:A1696,\">0\")+1)","v":0},6151606070,"CP3119-123X","464 000,-Ft ","CP Termék","Ind Straight Grinders",2150,null,464000]
[{"$f":"IF(L1698=FALSE,0,COUNTIF(A$3:A1697,\">0\")+1)","v":0},6151602150,"CP3119-12EL",{"$f":"IF(H1698=\"C\",IF(J1698>0,\"C #: \"&TEXT(J1698*I$1,\"# ###,-Ft  \"),\"C #: \"&TEXT(I1698*I$1,\"# ###,-Ft\")),IF(J1698>0,\"TOPS* \"&TEXT(J1698*J$1,\"# ###,-Ft\"),TEXT(I1698*I$1,\"# ###,-Ft  \")))","v":"C #: 958 000,-Ft"},"CP Termék","Ind Die Grinders>0,5hp",2790,"C",958000]
[{"$f":"IF(L1699=FALSE,0,COUNTIF(A$3:A1698,\">0\")+1)","v":0},6151602250,"CP3119-12ES CNOMO","C #: 573 000,-Ft","CP Termék","Ind Die Grinders>0,5hp",2215,"C",573000]
[{"$f":"IF(L1700=FALSE,0,COUNTIF(A$3:A1699,\">0\")+1)","v":0},6151602110,"CP3119-12ES COLLET  GRINDER","C #: 555 000,-Ft","CP Termék","Ind Die Grinders>0,5hp",2215,"C",555000]
[{"$f":"IF(L1701=FALSE,0,COUNTIF(A$3:A1700,\">0\")+1)","v":0},6151606010,"CP3119-12ES3","C #: 536 000,-Ft","CP Termék","Ind Straight Grinders",2467,"C",536000]
[{"$f":"IF(L1702=FALSE,0,COUNTIF(A$3:A1701,\">0\")+1)","v":0},6151606030,"CP3119-12ES3X","C #: 536 000,-Ft","CP Termék","Ind Straight Grinders",2532,"C",536000]
[{"$f":"IF(L1703=FALSE,0,COUNTIF(A$3:A1702,\">0\")+1)","v":0},6151606020,"CP3119-12ES4","C #: 536 000,-Ft","CP Termék","Ind Straight Grinders",2479,"C",536000]
[{"$f":"IF(L1704=FALSE,0,COUNTIF(A$3:A1703,\">0\")+1)","v":0},6151602160,"CP3119-12EXL","C #: 1 036 000,-Ft","CP Termék","Ind Die Grinders>0,5hp",3721,"C",1036000]
[{"$f":"IF(L1705=FALSE,0,COUNTIF(A$3:A1704,\">0\")+1)","v":0},6151600060,"CP3119-15","491 000,-Ft ","CP Termék","Ind Die Grinders>0,5hp",1662,null,491000]
[{"$f":"IF(L1706=FALSE,0,COUNTIF(A$3:A1705,\">0\")+1)","v":0},6151600390,"CP3119-15 CNOMO",{"$f":"IF(H1706=\"C\",IF(J1706>0,\"C #: \"&TEXT(J1706*I$1,\"# ###,-Ft  \"),\"C #: \"&TEXT(I1706*I$1,\"# ###,-Ft\")),IF(J1706>0,\"TOPS* \"&TEXT(J1706*J$1,\"# ###,-Ft\"),TEXT(I1706*I$1,\"# ###,-Ft  \")))","v":"C #: 508 000,-Ft"},"CP Termék","Ind Die Grinders>0,5hp",1578,"C",508000]
[{"$f":"IF(L1707=FALSE,0,COUNTIF(A$3:A1706,\">0\")+1)","v":0},6151602120,"CP3119-15ES","C #: 555 000,-Ft","CP Termék","Ind Die Grinders>0,5hp",2146,"C",555000]
[{"$f":"IF(L1708=FALSE,0,COUNTIF(A$3:A1707,\">0\")+1)","v":0},6151602260,"CP3119-15ES CNOMO","C #: 576 000,-Ft","CP Termék","Ind Die Grinders>0,5hp",2146,"C",576000]
[{"$f":"IF(L1709=FALSE,0,COUNTIF(A$3:A1708,\">0\")+1)","v":0},6151606040,"CP3119-15ES2","C #: 536 000,-Ft","CP Termék","Ind Straight Grinders",2280,"C",536000]
[{"$f":"IF(L1710=FALSE,0,COUNTIF(A$3:A1709,\">0\")+1)","v":0},6151606050,"CP3119-15ES3","C #: 536 000,-Ft","CP Termék","Ind Straight Grinders",2372,"C",536000]
[{"$f":"IF(L1711=FALSE,0,COUNTIF(A$3:A1710,\">0\")+1)","v":0},6151600400,"CP3119-18 CNOMO","C #: 508 000,-Ft","CP Termék","Ind Die Grinders>0,5hp",1594,"C",508000]
[{"$f":"IF(L1712=FALSE,0,COUNTIF(A$3:A1711,\">0\")+1)","v":0},6151600070,"CP3119-18 COLLET    GRINDER","491 000,-Ft ","CP Termék","Ind Die Grinders>0,5hp",1619,null,491000]
[{"$f":"IF(L1713=FALSE,0,COUNTIF(A$3:A1712,\">0\")+1)","v":0},6151602270,"CP3119-18ES CNOMO",{"$f":"IF(H1713=\"C\",IF(J1713>0,\"C #: \"&TEXT(J1713*I$1,\"# ###,-Ft  \"),\"C #: \"&TEXT(I1713*I$1,\"# ###,-Ft\")),IF(J1713>0,\"TOPS* \"&TEXT(J1713*J$1,\"# ###,-Ft\"),TEXT(I1713*I$1,\"# ###,-Ft  \")))","v":"C #: 573 000,-Ft"},"CP Termék","Ind Die Grinders>0,5hp",2110,"C",573000]
[{"$f":"IF(L1714=FALSE,0,COUNTIF(A$3:A1713,\">0\")+1)","v":0},6151602130,"CP3119-18ES COLLET  GRINDER","C #: 555 000,-Ft","CP Termék","Ind Die Grinders>0,5hp",2155,"C",555000]
[{"$f":"IF(L1715=FALSE,0,COUNTIF(A$3:A1714,\">0\")+1)","v":0},6151606060,"CP3119-18ES3","C #: 536 000,-Ft","CP Termék","Ind Straight Grinders",2502,"C",536000]
[{"$f":"IF(L1716=FALSE,0,COUNTIF(A$3:A1715,\">0\")+1)","v":0},6151600080,"CP3119-22","491 000,-Ft ","CP Termék","Ind Die Grinders>0,5hp",1560,null,491000]
[{"$f":"IF(L1717=FALSE,0,COUNTIF(A$3:A1716,\">0\")+1)","v":0},6151600410,"CP3119-22 CNOMO",{"$f":"IF(H1717=\"C\",IF(J1717>0,\"C #: \"&TEXT(J1717*I$1,\"# ###,-Ft  \"),\"C #: \"&TEXT(I1717*I$1,\"# ###,-Ft\")),IF(J1717>0,\"TOPS* \"&TEXT(J1717*J$1,\"# ###,-Ft\"),TEXT(I1717*I$1,\"# ###,-Ft  \")))","v":"C #: 508 000,-Ft"},"CP Termék","Ind Die Grinders>0,5hp",1592,"C",508000]
[{"$f":"IF(L1718=FALSE,0,COUNTIF(A$3:A1717,\">0\")+1)","v":0},6151602140,"CP3119-22ES","C #: 555 000,-Ft","CP Termék","Ind Die Grinders>0,5hp",2140,"C",555000]
[{"$f":"IF(L1719=FALSE,0,COUNTIF(A$3:A1718,\">0\")+1)","v":0},6151602280,"CP3119-22ES CNOMO","C #: 573 000,-Ft","CP Termék","Ind Die Grinders>0,5hp",2140,"C",573000]
[{"$f":"IF(L1720=FALSE,0,COUNTIF(A$3:A1719,\">0\")+1)","v":0},6151606140,"CP3249-GABSUD","C #: 1 250 000,-Ft","CP Termék","Ind Straight Grinders",8210,"C",1250000]
[{"$f":"IF(L1721=FALSE,0,COUNTIF(A$3:A1720,\">0\")+1)","v":0},6151606190,"CP3249-GABSUDE","C #: 1 136 000,-Ft","CP Termék","Ind Straight Grinders",7325,"C",1136000]
[{"$f":"IF(L1722=FALSE,0,COUNTIF(A$3:A1721,\">0\")+1)","v":0},6151606130,"CP3249-GABSYG","C #: 1 026 000,-Ft","CP Termék","Ind Straight Grinders",7330,"C",1026000]
[{"$f":"IF(L1723=FALSE,0,COUNTIF(A$3:A1722,\">0\")+1)","v":0},6151606180,"CP3249-GABSYGE","C #: 1 020 000,-Ft","CP Termék","Ind Straight Grinders",6450,"C",1020000]
[{"$f":"IF(L1724=FALSE,0,COUNTIF(A$3:A1723,\">0\")+1)","v":0},6151609070,"CP3349-SALAVEL","C #: 818 000,-Ft","CP Termék","Ind Vertical Grinders",6371,"C",818000]
[{"$f":"IF(L1725=FALSE,0,COUNTIF(A$3:A1724,\">0\")+1)","v":0},6151609080,"CP3349-SALAVET","C #: 818 000,-Ft","CP Termék","Ind Vertical Grinders",6020,"C",818000]
[{"$f":"IF(L1726=FALSE,0,COUNTIF(A$3:A1725,\">0\")+1)","v":0},6151609150,"CP3349-SALAVETE","C #: 797 000,-Ft","CP Termék","Ind Vertical Grinders",6047,"C",797000]
[{"$f":"IF(L1727=FALSE,0,COUNTIF(A$3:A1726,\">0\")+1)","v":0},6151604010,"CP3450 -12AC4 4\"","280 300,-Ft ","CP Termék","Ind Angle Grinder<2hp",2102,null,280300]
[{"$f":"IF(L1728=FALSE,0,COUNTIF(A$3:A1727,\">0\")+1)","v":0},6151604040,"CP3450-12AA5 5\"","280 300,-Ft ","CP Termék","Ind Angle Grinder<2hp",2110,null,280300]
[{"$f":"IF(L1729=FALSE,0,COUNTIF(A$3:A1728,\">0\")+1)","v":0},6151604050,"CP3450-12AB5 5\"","280 300,-Ft ","CP Termék","Ind Angle Grinder<2hp",2100,null,280300]
[{"$f":"IF(L1730=FALSE,0,COUNTIF(A$3:A1729,\">0\")+1)","v":0},6151604030,"CP3450-12AC45 4,5\"","280 300,-Ft ","CP Termék","Ind Angle Grinder<2hp",2278,null,280300]
[{"$f":"IF(L1731=FALSE,0,COUNTIF(A$3:A1730,\">0\")+1)","v":0},6151604020,"CP3450-12ACR4 4\"","280 300,-Ft ","CP Termék","Ind Angle Grinder<2hp",2184,null,280300]
[{"$f":"IF(L1732=FALSE,0,COUNTIF(A$3:A1731,\">0\")+1)","v":0},6151602020,"CP3451-16SE25 2,5\"",",-Ft ","CP Termék","Ind Die Grinders>0,5hp",2191]
[{"$f":"IF(L1733=FALSE,0,COUNTIF(A$3:A1732,\">0\")+1)","v":0},6151602050,"CP3451-16SER25 2,5\"",",-Ft ","CP Termék","Ind Die Grinders>0,5hp",1600]
[{"$f":"IF(L1734=FALSE,0,COUNTIF(A$3:A1733,\">0\")+1)","v":0},6151602030,"CP3451-18SE3  3\"","247 500,-Ft ","CP Termék","Ind Die Grinders>0,5hp",2287,null,247500]
[{"$f":"IF(L1735=FALSE,0,COUNTIF(A$3:A1734,\">0\")+1)","v":0},6151602010,"CP3451-18SEC","247 500,-Ft ","CP Termék","Ind Die Grinders>0,5hp",1805,null,247500]
[{"$f":"IF(L1736=FALSE,0,COUNTIF(A$3:A1735,\">0\")+1)","v":0},6151602060,"CP3451-18SER3 3\"",",-Ft ","CP Termék","Ind Die Grinders>0,5hp",2292]
[{"$f":"IF(L1737=FALSE,0,COUNTIF(A$3:A1736,\">0\")+1)","v":0},6151602040,"CP3451-18SERC",",-Ft ","CP Termék","Ind Die Grinders>0,5hp",2027]
[{"$f":"IF(L1738=FALSE,0,COUNTIF(A$3:A1737,\">0\")+1)","v":0},6151933510,"CP3510","89 000,-Ft ","CP Termék","Sanders & Polishers",1093,null,89000]
[{"$f":"IF(L1739=FALSE,0,COUNTIF(A$3:A1738,\">0\")+1)","v":0},6151933511,"CP3511","89 000,-Ft ","CP Termék","Sanders & Polishers",1124,null,89000]
[{"$f":"IF(L1740=FALSE,0,COUNTIF(A$3:A1739,\">0\")+1)","v":0},6151933512,"CP3512","93 300,-Ft ","CP Termék","Sanders & Polishers",1751,null,93300]
[{"$f":"IF(L1741=FALSE,0,COUNTIF(A$3:A1740,\">0\")+1)","v":0},6151933514,"CP3514","STARS* 59 100,-Ft","CP Termék","Sanders & Polishers",1205,null,93300,59100]
[{"$f":"IF(L1742=FALSE,0,COUNTIF(A$3:A1741,\">0\")+1)","v":0},6151607270,"CP3650-075AAE",{"$f":"IF(H1742=\"C\",IF(J1742>0,\"C #: \"&TEXT(J1742*I$1,\"# ###,-Ft  \"),\"C #: \"&TEXT(I1742*I$1,\"# ###,-Ft\")),IF(J1742>0,\"TOPS* \"&TEXT(J1742*J$1,\"# ###,-Ft\"),TEXT(I1742*I$1,\"# ###,-Ft  \")))","v":"C #: 519 000,-Ft"},"CP Termék","Ind Angle Grinder>2hp",2300,"C",519000]
[{"$f":"IF(L1743=FALSE,0,COUNTIF(A$3:A1742,\">0\")+1)","v":0},6151607280,"CP3650-075AB","C #: 519 000,-Ft","CP Termék","Ind Angle Grinder>2hp",2274,"C",519000]
[{"$f":"IF(L1744=FALSE,0,COUNTIF(A$3:A1743,\">0\")+1)","v":0},6151607260,"CP3650-085AAE","C #: 519 000,-Ft","CP Termék","Ind Angle Grinder>2hp",2250,"C",519000]
[{"$f":"IF(L1745=FALSE,0,COUNTIF(A$3:A1744,\">0\")+1)","v":0},6151620190,"CP3650-085AB","C #: 519 000,-Ft","CP Termék","Ind Angle Grinder>2hp",2343,"C",519000]
[{"$f":"IF(L1746=FALSE,0,COUNTIF(A$3:A1745,\">0\")+1)","v":0},6151607300,"CP3650-100AB6VK","C #: 599 000,-Ft","CP Termék","Ind Angle Grinder>2hp",3920,"C",599000]
[{"$f":"IF(L1747=FALSE,0,COUNTIF(A$3:A1746,\">0\")+1)","v":0},6151607310,"CP3650-120AA45","C #: 507 000,-Ft","CP Termék","Ind Angle Grinder>2hp",2768,"C",507000]
[{"$f":"IF(L1748=FALSE,0,COUNTIF(A$3:A1747,\">0\")+1)","v":0},6151607240,"CP3650-120AAE","C #: 519 000,-Ft","CP Termék","Ind Angle Grinder>2hp",2512,"C",519000]
[{"$f":"IF(L1749=FALSE,0,COUNTIF(A$3:A1748,\">0\")+1)","v":0},6151607250,"CP3650-120AB","C #: 519 000,-Ft","CP Termék","Ind Angle Grinder>2hp",2524,"C",519000]
[{"$f":"IF(L1750=FALSE,0,COUNTIF(A$3:A1749,\">0\")+1)","v":0},6151607320,"CP3650-120AB45","C #: 507 000,-Ft","CP Termék","Ind Angle Grinder>2hp",2751,"C",507000]
[{"$f":"IF(L1751=FALSE,0,COUNTIF(A$3:A1750,\">0\")+1)","v":0},6151607220,"CP3650-120AB5","C #: 531 000,-Ft","CP Termék","Ind Angle Grinder>2hp",2845,"C",531000]
[{"$f":"IF(L1752=FALSE,0,COUNTIF(A$3:A1751,\">0\")+1)","v":0},6151607190,"CP3650-120AB5VK","C #: 591 000,-Ft","CP Termék","Ind Angle Grinder>2hp",3200,"C",591000]
[{"$f":"IF(L1753=FALSE,0,COUNTIF(A$3:A1752,\">0\")+1)","v":0},6151607230,"CP3650-120ACC","C #: 517 000,-Ft","CP Termék","Ind Angle Grinder>2hp",2365,"C",517000]
[{"$f":"IF(L1754=FALSE,0,COUNTIF(A$3:A1753,\">0\")+1)","v":0},6151607200,"CP3650-120AH5VK","C #: 590 000,-Ft","CP Termék","Ind Angle Grinder>2hp",3310,"C",590000]
[{"$f":"IF(L1755=FALSE,0,COUNTIF(A$3:A1754,\">0\")+1)","v":0},6151607170,"CP3650-135AC4FK","C #: 561 000,-Ft","CP Termék","Ind Angle Grinder>2hp",3430,"C",561000]
[{"$f":"IF(L1756=FALSE,0,COUNTIF(A$3:A1755,\">0\")+1)","v":0},6151607290,"CP3650-135AC4SE","C #: 519 000,-Ft","CP Termék","Ind Angle Grinder>2hp",2680,"C",519000]
[{"$f":"IF(L1757=FALSE,0,COUNTIF(A$3:A1756,\">0\")+1)","v":0},6151705000,"CP3850-60AB","C #: 587 000,-Ft","CP Termék","Ind Angle Grinder>2hp",3206,"C",587000]
[{"$f":"IF(L1758=FALSE,0,COUNTIF(A$3:A1757,\">0\")+1)","v":0},6151607340,"CP3850-60AB9V","C #: 706 000,-Ft","CP Termék","Ind Angle Grinder>2hp",4541,"C",706000]
[{"$f":"IF(L1759=FALSE,0,COUNTIF(A$3:A1758,\">0\")+1)","v":0},6151704980,"CP3850-65ABVE","C #: 720 000,-Ft","CP Termék","Ind Angle Grinder>2hp",3308,"C",720000]
[{"$f":"IF(L1760=FALSE,0,COUNTIF(A$3:A1759,\">0\")+1)","v":0},6151704950,"CP3850-65AH9VE","C #: 720 000,-Ft","CP Termék","Ind Angle Grinder>2hp",4188,"C",720000]
[{"$f":"IF(L1761=FALSE,0,COUNTIF(A$3:A1760,\">0\")+1)","v":0},6151704990,"CP3850-77AB","C #: 587 000,-Ft","CP Termék","Ind Angle Grinder>2hp",3514,"C",587000]
[{"$f":"IF(L1762=FALSE,0,COUNTIF(A$3:A1761,\">0\")+1)","v":0},6151704960,"CP3850-77AB7V","C #: 636 000,-Ft","CP Termék","Ind Angle Grinder>2hp",3966,"C",636000]
[{"$f":"IF(L1763=FALSE,0,COUNTIF(A$3:A1762,\">0\")+1)","v":0},6151607440,"CP3850-85AB7V","C #: 735 000,-Ft","CP Termék","Ind Angle Grinder>2hp",4274,"C",735000]
[{"$f":"IF(L1764=FALSE,0,COUNTIF(A$3:A1763,\">0\")+1)","v":0},6151704970,"CP3850-85ABVE","C #: 685 000,-Ft","CP Termék","Ind Angle Grinder>2hp",3346,"C",685000]
[{"$f":"IF(L1765=FALSE,0,COUNTIF(A$3:A1764,\">0\")+1)","v":0},6151704930,"CP3850-85AH7VE","C #: 688 000,-Ft","CP Termék","Ind Angle Grinder>2hp",4024,"C",688000]
[{"$f":"IF(L1766=FALSE,0,COUNTIF(A$3:A1765,\">0\")+1)","v":0},"T024585","CP5000 IMPACT  WRENCH","C #: 441 000,-Ft ","CP Termék","Impact Wrenches greater than 1/2\"",17727,"C",706000,441000]
[{"$f":"IF(L1767=FALSE,0,COUNTIF(A$3:A1766,\">0\")+1)","v":0},6151620000,"CP5080-3260D12 12''",{"$f":"IF(H1767=\"SP\",IF(J1767>0,\"SP: \"&TEXT(J1767*I$1,\"# ###,-Ft  \"),\"SP: \"&TEXT(I1767*I$1,\"# ###,-Ft\")),IF(J1767>0,\"STARS* \"&TEXT(J1767*J$1,\"# ###,-Ft\"),TEXT(I1767*I$1,\"# ###,-Ft  \")))","v":"189 300,-Ft "},"CP Termék","Ind Sanders > 0,3hp",1060,null,189300]
[{"$f":"IF(L1768=FALSE,0,COUNTIF(A$3:A1767,\">0\")+1)","v":0},6151620050,"CP5080-3260D12K KIT","217 200,-Ft ","CP Termék","Ind Sanders > 0,3hp",2320,null,217200]
[{"$f":"IF(L1769=FALSE,0,COUNTIF(A$3:A1768,\">0\")+1)","v":0},6151620010,"CP5080-4200D24  24'","196 700,-Ft ","CP Termék","Ind Sanders > 0,3hp",1780,null,196700]
[{"$f":"IF(L1770=FALSE,0,COUNTIF(A$3:A1769,\">0\")+1)","v":0},6151620020,"CP5080-4200H18 18''","192 600,-Ft ","CP Termék","Ind Sanders > 0,3hp",1754,null,192600]
[{"$f":"IF(L1771=FALSE,0,COUNTIF(A$3:A1770,\">0\")+1)","v":0},6151620040,"CP5080-4200H18K KIT","235 600,-Ft ","CP Termék","Ind Sanders > 0,3hp",2970,null,235600]
[{"$f":"IF(L1772=FALSE,0,COUNTIF(A$3:A1771,\">0\")+1)","v":0},6151620030,"CP5080-5220H18 18''","254 000,-Ft ","CP Termék","Ind Sanders > 0,3hp",1886,null,254000]
[{"$f":"IF(L1773=FALSE,0,COUNTIF(A$3:A1772,\">0\")+1)","v":0},6151590090,"CP6060-P15H 3/4 HOLE",{"$f":"IF(H1773=\"C\",IF(J1773>0,\"C #: \"&TEXT(J1773*I$1,\"# ###,-Ft  \"),\"C #: \"&TEXT(I1773*I$1,\"# ###,-Ft\")),IF(J1773>0,\"TOPS* \"&TEXT(J1773*J$1,\"# ###,-Ft\"),TEXT(I1773*I$1,\"# ###,-Ft  \")))","v":"C #: 762 000,-Ft"},"CP Termék","Ind Impact Wrenches",6266,"C",762000]
[{"$f":"IF(L1774=FALSE,0,COUNTIF(A$3:A1773,\">0\")+1)","v":0},6151590100,"CP6060-P15R 3/4 RING","C #: 762 000,-Ft","CP Termék","Ind Impact Wrenches",6248,"C",762000]
[{"$f":"IF(L1775=FALSE,0,COUNTIF(A$3:A1774,\">0\")+1)","v":0},6151590110,"CP6070-P15H 1\" HOLE","C #: 770 000,-Ft","CP Termék","Ind Impact Wrenches",6288,"C",770000]
[{"$f":"IF(L1776=FALSE,0,COUNTIF(A$3:A1775,\">0\")+1)","v":0},"T018237","CP6120GASED 1-1/2\"",{"$f":"IF(H1776=\"SP\",IF(J1776>0,\"SP: \"&TEXT(J1776*I$1,\"# ###,-Ft  \"),\"SP: \"&TEXT(I1776*I$1,\"# ###,-Ft\")),IF(J1776>0,\"STARS* \"&TEXT(J1776*J$1,\"# ###,-Ft\"),TEXT(I1776*I$1,\"# ###,-Ft  \")))","v":",-Ft "},"CP Termék","Ind Impact Wrenches",16100]
[{"$f":"IF(L1777=FALSE,0,COUNTIF(A$3:A1776,\">0\")+1)","v":0},6151590010,"CP6130-T70 1-1/2\" T",{"$f":"IF(H1777=\"C\",IF(J1777>0,\"C #: \"&TEXT(J1777*I$1,\"# ###,-Ft  \"),\"C #: \"&TEXT(I1777*I$1,\"# ###,-Ft\")),IF(J1777>0,\"TOPS* \"&TEXT(J1777*J$1,\"# ###,-Ft\"),TEXT(I1777*I$1,\"# ###,-Ft  \")))","v":"C #: 4 645 000,-Ft"},"CP Termék","Ind Impact Wrenches",36400,"C",4645000]
[{"$f":"IF(L1778=FALSE,0,COUNTIF(A$3:A1777,\">0\")+1)","v":0},6151590020,"CP6240-T120 2-1/2\" T","C #: 6 492 000,-Ft","CP Termék","Ind Impact Wrenches",62400,"C",6492000]
[{"$f":"IF(L1779=FALSE,0,COUNTIF(A$3:A1778,\">0\")+1)","v":0},"T025285","CP6300RSR 3/8\" RING","148 400,-Ft ","CP Termék","Ind Impact Wrenches",1799,null,148400]
[{"$f":"IF(L1780=FALSE,0,COUNTIF(A$3:A1779,\">0\")+1)","v":0},"T025214","CP6500-RS 1/2\" PIN","189 700,-Ft ","CP Termék","Ind Impact Wrenches",2908,null,189700]
[{"$f":"IF(L1781=FALSE,0,COUNTIF(A$3:A1780,\">0\")+1)","v":0},"T025216","CP6500-RSR 1/2\" RING","189 700,-Ft ","CP Termék","Ind Impact Wrenches",2885,null,189700]
[{"$f":"IF(L1782=FALSE,0,COUNTIF(A$3:A1781,\">0\")+1)","v":0},6151590400,"CP6763 3/4\"",{"$f":"IF(H1782=\"SP\",IF(J1782>0,\"SP: \"&TEXT(J1782*I$1,\"# ###,-Ft  \"),\"SP: \"&TEXT(I1782*I$1,\"# ###,-Ft\")),IF(J1782>0,\"STARS* \"&TEXT(J1782*J$1,\"# ###,-Ft\"),TEXT(I1782*I$1,\"# ###,-Ft  \")))","v":"249 900,-Ft "},"CP Termék","Ind Impact Wrenches",6087,null,249900]
[{"$f":"IF(L1783=FALSE,0,COUNTIF(A$3:A1782,\">0\")+1)","v":0},6151590410,"CP6773 1\"","254 000,-Ft ","CP Termék","Ind Impact Wrenches",6168,null,254000]
[{"$f":"IF(L1784=FALSE,0,COUNTIF(A$3:A1783,\">0\")+1)","v":0},6151590070,"CP6910-P24 1\" DUAL","493 000,-Ft ","CP Termék","Ind Impact Wrenches",11526,null,493000]
[{"$f":"IF(L1785=FALSE,0,COUNTIF(A$3:A1784,\">0\")+1)","v":0},6151590080,"CP6920-D24 1\" DUAL",{"$f":"IF(H1785=\"C\",IF(J1785>0,\"C #: \"&TEXT(J1785*I$1,\"# ###,-Ft  \"),\"C #: \"&TEXT(I1785*I$1,\"# ###,-Ft\")),IF(J1785>0,\"TOPS* \"&TEXT(J1785*J$1,\"# ###,-Ft\"),TEXT(I1785*I$1,\"# ###,-Ft  \")))","v":"C #: 509 000,-Ft"},"CP Termék","Ind Impact Wrenches",11587,"C",509000]
[{"$f":"IF(L1786=FALSE,0,COUNTIF(A$3:A1785,\">0\")+1)","v":0},6151590390,"CP6930-D35 1-1/2\" D","C #: 1 516 000,-Ft","CP Termék","Ind Impact Wrenches",16400,"C",1516000]
[{"$f":"IF(L1787=FALSE,0,COUNTIF(A$3:A1786,\">0\")+1)","v":0},"T025257","CP710",",-Ft ","CP Termék","VS / MRO Removal Various",395]
[{"$f":"IF(L1788=FALSE,0,COUNTIF(A$3:A1787,\">0\")+1)","v":0},8941071101,"CP7110","46 770,-Ft ","CP Termék","Hammers",1975,null,46770]
[{"$f":"IF(L1789=FALSE,0,COUNTIF(A$3:A1788,\">0\")+1)","v":0},8941171101,"CP7110K","56 100,-Ft ","CP Termék","Hammers",3415,null,56100]
[{"$f":"IF(L1790=FALSE,0,COUNTIF(A$3:A1789,\">0\")+1)","v":0},8941071110,"CP7111","29 730,-Ft ","CP Termék","Hammers",1850,null,29730]
[{"$f":"IF(L1791=FALSE,0,COUNTIF(A$3:A1790,\">0\")+1)","v":0},8941071111,"CP7111H","30 400,-Ft ","CP Termék","Hammers",1600,null,30400]
[{"$f":"IF(L1792=FALSE,0,COUNTIF(A$3:A1791,\">0\")+1)","v":0},8941171111,"CP7111HK","STARS* 29 660,-Ft","CP Termék","Hammers",3160,null,43430,29660]
[{"$f":"IF(L1793=FALSE,0,COUNTIF(A$3:A1792,\">0\")+1)","v":0},8941171110,"CP7111K","STARS* 30 600,-Ft","CP Termék","Hammers",3175,null,41090,30600]
[{"$f":"IF(L1794=FALSE,0,COUNTIF(A$3:A1793,\">0\")+1)","v":0},8941071150,"CP7115","53 800,-Ft ","CP Termék","VS / MRO Removal Various",1475,null,53800]
[{"$f":"IF(L1795=FALSE,0,COUNTIF(A$3:A1794,\">0\")+1)","v":0},8941071200,"CP7120 NEEDLE SCALER","STARS* 59 700,-Ft","CP Termék","Hammers",3255,null,99600,59700]
[{"$f":"IF(L1796=FALSE,0,COUNTIF(A$3:A1795,\">0\")+1)","v":0},8941071250,"CP7125","STARS* 74 300,-Ft","CP Termék","VS / MRO Removal Various",3500,null,110500,74300]
[{"$f":"IF(L1797=FALSE,0,COUNTIF(A$3:A1796,\">0\")+1)","v":0},"T012735","CP714","221 900,-Ft ","CP Termék","Hammers",1662,null,221900]
[{"$f":"IF(L1798=FALSE,0,COUNTIF(A$3:A1797,\">0\")+1)","v":0},"T025364","CP714K","255 000,-Ft ","CP Termék","Hammers",2487,null,255000]
[{"$f":"IF(L1799=FALSE,0,COUNTIF(A$3:A1798,\">0\")+1)","v":0},8941071500,"CP7150","36 420,-Ft ","CP Termék","Hammers",2200,null,36420]
[{"$f":"IF(L1800=FALSE,0,COUNTIF(A$3:A1799,\">0\")+1)","v":0},8941171500,"CP7150K","STARS* 31 420,-Ft","CP Termék","Hammers",3600,null,50450,31420]
[{"$f":"IF(L1801=FALSE,0,COUNTIF(A$3:A1800,\">0\")+1)","v":0},"T025348","CP716","72 200,-Ft ","CP Termék","Ind Hammers Foundry",1806,null,72200]
[{"$f":"IF(L1802=FALSE,0,COUNTIF(A$3:A1801,\">0\")+1)","v":0},"T020120","CP717 ZIP GUN BARE","349 000,-Ft ","CP Termék","Hammers",2352,null,349000]
[{"$f":"IF(L1803=FALSE,0,COUNTIF(A$3:A1802,\">0\")+1)","v":0},"T025365","CP717K","382 000,-Ft ","CP Termék","Hammers",3654,null,382000]
[{"$f":"IF(L1804=FALSE,0,COUNTIF(A$3:A1803,\">0\")+1)","v":0},8941072001,"CP7200","STARS* 40 450,-Ft","CP Termék","Sanders & Polishers",948,null,61100,40450]
[{"$f":"IF(L1805=FALSE,0,COUNTIF(A$3:A1804,\">0\")+1)","v":0},8941172001,"CP7200S","STARS* 47 030,-Ft","CP Termék","Sanders & Polishers",1554,null,84300,47030]
[{"$f":"IF(L1806=FALSE,0,COUNTIF(A$3:A1805,\">0\")+1)","v":0},8941072014,"CP7201","STARS* 40 450,-Ft","CP Termék","Sanders & Polishers",1080,null,60100,40450]
[{"$f":"IF(L1807=FALSE,0,COUNTIF(A$3:A1806,\">0\")+1)","v":0},8941172014,"CP7201P","STARS* 45 330,-Ft","CP Termék","Sanders & Polishers",1928,null,88000,45330]
[{"$f":"IF(L1808=FALSE,0,COUNTIF(A$3:A1807,\">0\")+1)","v":0},8941072021,"CP7202","52 790,-Ft ","CP Termék","Sanders & Polishers",903,null,52790]
[{"$f":"IF(L1809=FALSE,0,COUNTIF(A$3:A1808,\">0\")+1)","v":0},8941172021,"CP7202D  ROTARY","STARS* 43 630,-Ft","CP Termék","Sanders & Polishers",1840,null,77000,43630]
[{"$f":"IF(L1810=FALSE,0,COUNTIF(A$3:A1809,\">0\")+1)","v":0},"T021963","CP721 IMPACT WRENCH MOD C","119 100,-Ft ","CP Termék","Impact Wrenches less / equal to 1/2\"",1430,null,119100]
[{"$f":"IF(L1811=FALSE,0,COUNTIF(A$3:A1810,\">0\")+1)","v":0},8941072151,"CP7215","94 300,-Ft ","CP Termék","Sanders & Polishers",1265,null,94300]
[{"$f":"IF(L1812=FALSE,0,COUNTIF(A$3:A1811,\">0\")+1)","v":0},8941272153,"CP7215CVE","103 200,-Ft ","CP Termék","Sanders & Polishers",1161,null,103200]
[{"$f":"IF(L1813=FALSE,0,COUNTIF(A$3:A1812,\">0\")+1)","v":0},8941272151,"CP7215E","107 200,-Ft ","CP Termék","Sanders & Polishers",1270,null,107200]
[{"$f":"IF(L1814=FALSE,0,COUNTIF(A$3:A1813,\">0\")+1)","v":0},8941072154,"CP7215H","117 800,-Ft ","CP Termék","Sanders & Polishers",1425,null,117800]
[{"$f":"IF(L1815=FALSE,0,COUNTIF(A$3:A1814,\">0\")+1)","v":0},8941272155,"CP7215HCVE","123 700,-Ft ","CP Termék","Sanders & Polishers",1430,null,123700]
[{"$f":"IF(L1816=FALSE,0,COUNTIF(A$3:A1815,\">0\")+1)","v":0},8941272154,"CP7215HE","108 900,-Ft ","CP Termék","Sanders & Polishers",1424,null,108900]
[{"$f":"IF(L1817=FALSE,0,COUNTIF(A$3:A1816,\">0\")+1)","v":0},8941272152,"CP7215SVE",{"$f":"IF(H1817=\"SP\",IF(J1817>0,\"SP: \"&TEXT(J1817*I$1,\"# ###,-Ft  \"),\"SP: \"&TEXT(I1817*I$1,\"# ###,-Ft\")),IF(J1817>0,\"STARS* \"&TEXT(J1817*J$1,\"# ###,-Ft\"),TEXT(I1817*I$1,\"# ###,-Ft  \")))","v":"106 900,-Ft "},"CP Termék","Sanders & Polishers",1477,null,106900]
[{"$f":"IF(L1818=FALSE,0,COUNTIF(A$3:A1817,\">0\")+1)","v":0},8941272203,"CP7220CVE","197 900,-Ft ","CP Termék","Ind Sanders < 0,3hp",1615,null,197900]
[{"$f":"IF(L1819=FALSE,0,COUNTIF(A$3:A1818,\">0\")+1)","v":0},8941272201,"CP7220E","172 000,-Ft ","CP Termék","Ind Sanders < 0,3hp",1085,null,172000]
[{"$f":"IF(L1820=FALSE,0,COUNTIF(A$3:A1819,\">0\")+1)","v":0},6151703790,"CP7220HCVE","194 600,-Ft ","CP Termék","Ind Sanders < 0,3hp",1695,null,194600]
[{"$f":"IF(L1821=FALSE,0,COUNTIF(A$3:A1820,\">0\")+1)","v":0},6151703770,"CP7220HE","189 700,-Ft ","CP Termék","Ind Sanders < 0,3hp",1368,null,189700]
[{"$f":"IF(L1822=FALSE,0,COUNTIF(A$3:A1821,\">0\")+1)","v":0},8941272202,"CP7220SVE","217 600,-Ft ","CP Termék","Ind Sanders < 0,3hp",1540,null,217600]
[{"$f":"IF(L1823=FALSE,0,COUNTIF(A$3:A1822,\">0\")+1)","v":0},8941072251,"CP7225","94 300,-Ft ","CP Termék","Sanders & Polishers",1200,null,94300]
[{"$f":"IF(L1824=FALSE,0,COUNTIF(A$3:A1823,\">0\")+1)","v":0},8941072257,"CP7225-3","89 000,-Ft ","CP Termék","Sanders & Polishers",1030,null,89000]
[{"$f":"IF(L1825=FALSE,0,COUNTIF(A$3:A1824,\">0\")+1)","v":0},8941072253,"CP7225CV","94 300,-Ft ","CP Termék","Sanders & Polishers",1232,null,94300]
[{"$f":"IF(L1826=FALSE,0,COUNTIF(A$3:A1825,\">0\")+1)","v":0},8941272253,"CP7225CVE","STARS* 56 900,-Ft","CP Termék","Sanders & Polishers",1296,null,100600,56900]
[{"$f":"IF(L1827=FALSE,0,COUNTIF(A$3:A1826,\">0\")+1)","v":0},8941272258,"CP7225CVE-3","93 600,-Ft ","CP Termék","Sanders & Polishers",1059,null,93600]
[{"$f":"IF(L1828=FALSE,0,COUNTIF(A$3:A1827,\">0\")+1)","v":0},8941272251,"CP7225E","106 900,-Ft ","CP Termék","Sanders & Polishers",1198,null,106900]
[{"$f":"IF(L1829=FALSE,0,COUNTIF(A$3:A1828,\">0\")+1)","v":0},8941272257,"CP7225E-3","89 600,-Ft ","CP Termék","Sanders & Polishers",1028,null,89600]
[{"$f":"IF(L1830=FALSE,0,COUNTIF(A$3:A1829,\">0\")+1)","v":0},8941272252,"CP7225SVE",{"$f":"IF(H1830=\"SP\",IF(J1830>0,\"SP: \"&TEXT(J1830*I$1,\"# ###,-Ft  \"),\"SP: \"&TEXT(I1830*I$1,\"# ###,-Ft\")),IF(J1830>0,\"STARS* \"&TEXT(J1830*J$1,\"# ###,-Ft\"),TEXT(I1830*I$1,\"# ###,-Ft  \")))","v":"105 900,-Ft "},"CP Termék","Sanders & Polishers",1500,null,105900]
[{"$f":"IF(L1831=FALSE,0,COUNTIF(A$3:A1830,\">0\")+1)","v":0},8941272503,"CP7250CVE",{"$f":"IF(H1831=\"SP\",IF(J1831>0,\"SP: \"&TEXT(J1831*I$1,\"# ###,-Ft  \"),\"SP: \"&TEXT(I1831*I$1,\"# ###,-Ft\")),IF(J1831>0,\"STARS* \"&TEXT(J1831*J$1,\"# ###,-Ft\"),TEXT(I1831*I$1,\"# ###,-Ft  \")))","v":"198 800,-Ft "},"CP Termék","Ind Sanders < 0,3hp",1664,null,198800]
[{"$f":"IF(L1832=FALSE,0,COUNTIF(A$3:A1831,\">0\")+1)","v":0},8941272501,"CP7250E",{"$f":"IF(H1832=\"SP\",IF(J1832>0,\"SP: \"&TEXT(J1832*I$1,\"# ###,-Ft  \"),\"SP: \"&TEXT(I1832*I$1,\"# ###,-Ft\")),IF(J1832>0,\"STARS* \"&TEXT(J1832*J$1,\"# ###,-Ft\"),TEXT(I1832*I$1,\"# ###,-Ft  \")))","v":"169 100,-Ft "},"CP Termék","Ind Sanders < 0,3hp",1196,null,169100]
[{"$f":"IF(L1833=FALSE,0,COUNTIF(A$3:A1832,\">0\")+1)","v":0},6151703760,"CP7250HCVE HANDLE",{"$f":"IF(H1833=\"SP\",IF(J1833>0,\"SP: \"&TEXT(J1833*I$1,\"# ###,-Ft  \"),\"SP: \"&TEXT(I1833*I$1,\"# ###,-Ft\")),IF(J1833>0,\"STARS* \"&TEXT(J1833*J$1,\"# ###,-Ft\"),TEXT(I1833*I$1,\"# ###,-Ft  \")))","v":"240 900,-Ft "},"CP Termék","Ind Sanders < 0,3hp",1771,null,240900]
[{"$f":"IF(L1834=FALSE,0,COUNTIF(A$3:A1833,\">0\")+1)","v":0},8941272502,"CP7250SVE",{"$f":"IF(H1834=\"SP\",IF(J1834>0,\"SP: \"&TEXT(J1834*I$1,\"# ###,-Ft  \"),\"SP: \"&TEXT(I1834*I$1,\"# ###,-Ft\")),IF(J1834>0,\"STARS* \"&TEXT(J1834*J$1,\"# ###,-Ft\"),TEXT(I1834*I$1,\"# ###,-Ft  \")))","v":"202 500,-Ft "},"CP Termék","Ind Sanders < 0,3hp",1585,null,202500]
[{"$f":"IF(L1835=FALSE,0,COUNTIF(A$3:A1834,\">0\")+1)","v":0},8941072551,"CP7255","93 300,-Ft ","CP Termék","Sanders & Polishers",1210,null,93300]
[{"$f":"IF(L1836=FALSE,0,COUNTIF(A$3:A1835,\">0\")+1)","v":0},8941072557,"CP7255-3","89 000,-Ft ","CP Termék","Sanders & Polishers",1049,null,89000]
[{"$f":"IF(L1837=FALSE,0,COUNTIF(A$3:A1836,\">0\")+1)","v":0},8941072553,"CP7255CV","99 300,-Ft ","CP Termék","Sanders & Polishers",1310,null,99300]
[{"$f":"IF(L1838=FALSE,0,COUNTIF(A$3:A1837,\">0\")+1)","v":0},8941272553,"CP7255CVE","STARS* 56 900,-Ft","CP Termék","Sanders & Polishers",1310,null,100600,56900]
[{"$f":"IF(L1839=FALSE,0,COUNTIF(A$3:A1838,\">0\")+1)","v":0},8941272558,"CP7255CVE-3","93 300,-Ft ","CP Termék","Sanders & Polishers",1077,null,93300]
[{"$f":"IF(L1840=FALSE,0,COUNTIF(A$3:A1839,\">0\")+1)","v":0},8941272551,"CP7255E","92 300,-Ft ","CP Termék","Sanders & Polishers",1265,null,92300]
[{"$f":"IF(L1841=FALSE,0,COUNTIF(A$3:A1840,\">0\")+1)","v":0},8941272557,"CP7255E-3","89 000,-Ft ","CP Termék","Sanders & Polishers",1045,null,89000]
[{"$f":"IF(L1842=FALSE,0,COUNTIF(A$3:A1841,\">0\")+1)","v":0},8941072554,"CP7255H","117 800,-Ft ","CP Termék","Sanders & Polishers",1381,null,117800]
[{"$f":"IF(L1843=FALSE,0,COUNTIF(A$3:A1842,\">0\")+1)","v":0},8941272555,"CP7255HCVE","117 800,-Ft ","CP Termék","Sanders & Polishers",1383,null,117800]
[{"$f":"IF(L1844=FALSE,0,COUNTIF(A$3:A1843,\">0\")+1)","v":0},8941272554,"CP7255HE","108 900,-Ft ","CP Termék","Sanders & Polishers",1377,null,108900]
[{"$f":"IF(L1845=FALSE,0,COUNTIF(A$3:A1844,\">0\")+1)","v":0},8941072552,"CP7255SV","103 900,-Ft ","CP Termék","Sanders & Polishers",1425,null,103900]
[{"$f":"IF(L1846=FALSE,0,COUNTIF(A$3:A1845,\">0\")+1)","v":0},8941272552,"CP7255SVE","106 900,-Ft ","CP Termék","Sanders & Polishers",1407,null,106900]
[{"$f":"IF(L1847=FALSE,0,COUNTIF(A$3:A1846,\">0\")+1)","v":0},8941172650,"CP7263CVE  74X109 PAD","100 300,-Ft ","CP Termék","Sanders & Polishers",1090,null,100300]
[{"$f":"IF(L1848=FALSE,0,COUNTIF(A$3:A1847,\">0\")+1)","v":0},8941072650,"CP7263E  74X109 PAD","97 900,-Ft ","CP Termék","Sanders & Polishers",1050,null,97900]
[{"$f":"IF(L1849=FALSE,0,COUNTIF(A$3:A1848,\">0\")+1)","v":0},8941172640,"CP7264CVE  70X198 PAD","100 300,-Ft ","CP Termék","Sanders & Polishers",1100,null,100300]
[{"$f":"IF(L1850=FALSE,0,COUNTIF(A$3:A1849,\">0\")+1)","v":0},8941072640,"CP7264E","97 900,-Ft ","CP Termék","Sanders & Polishers",1094,null,97900]
[{"$f":"IF(L1851=FALSE,0,COUNTIF(A$3:A1850,\">0\")+1)","v":0},6151939166,"CP7265P","184 700,-Ft ","CP Termék","Sanders & Polishers",3053,null,184700]
[{"$f":"IF(L1852=FALSE,0,COUNTIF(A$3:A1851,\">0\")+1)","v":0},8941008650,"CP7265S 7\" VERTICAL SANDER","142 200,-Ft ","CP Termék","Sanders & Polishers",2871,null,142200]
[{"$f":"IF(L1853=FALSE,0,COUNTIF(A$3:A1852,\">0\")+1)","v":0},8941172660,"CP7266CVE  80X130 PAD","100 300,-Ft ","CP Termék","Sanders & Polishers",1100,null,100300]
[{"$f":"IF(L1854=FALSE,0,COUNTIF(A$3:A1853,\">0\")+1)","v":0},8941072660,"CP7266E  80X130 PAD","97 900,-Ft ","CP Termék","Sanders & Polishers",1058,null,97900]
[{"$f":"IF(L1855=FALSE,0,COUNTIF(A$3:A1854,\">0\")+1)","v":0},8941172670,"CP7267CVE  100X144 PAD","100 300,-Ft ","CP Termék","Sanders & Polishers",1100,null,100300]
[{"$f":"IF(L1856=FALSE,0,COUNTIF(A$3:A1855,\">0\")+1)","v":0},8941072670,"CP7267E","100 600,-Ft ","CP Termék","Sanders & Polishers",1064,null,100600]
[{"$f":"IF(L1857=FALSE,0,COUNTIF(A$3:A1856,\">0\")+1)","v":0},8941072680,"CP7268","STARS* 56 300,-Ft","CP Termék","Sanders & Polishers",3150,null,71000,56300]
[{"$f":"IF(L1858=FALSE,0,COUNTIF(A$3:A1857,\">0\")+1)","v":0},8941078691,"CP7269P","149 800,-Ft ","CP Termék","Sanders & Polishers",3180,null,149800]
[{"$f":"IF(L1859=FALSE,0,COUNTIF(A$3:A1858,\">0\")+1)","v":0},8941078690,"CP7269S","136 900,-Ft ","CP Termék","Sanders & Polishers",2955,null,136900]
[{"$f":"IF(L1860=FALSE,0,COUNTIF(A$3:A1859,\">0\")+1)","v":0},8941073000,"CP7300 1/4\" MINI DRILL",{"$f":"IF(H1860=\"SP\",IF(J1860>0,\"SP: \"&TEXT(J1860*I$1,\"# ###,-Ft  \"),\"SP: \"&TEXT(I1860*I$1,\"# ###,-Ft\")),IF(J1860>0,\"STARS* \"&TEXT(J1860*J$1,\"# ###,-Ft\"),TEXT(I1860*I$1,\"# ###,-Ft  \")))","v":",-Ft "},"CP Termék","Drills",811]
[{"$f":"IF(L1861=FALSE,0,COUNTIF(A$3:A1860,\">0\")+1)","v":0},8941073001,"CP7300R 1/4\" REVERSIBLE DRILL",",-Ft ","CP Termék","Drills",870]
[{"$f":"IF(L1862=FALSE,0,COUNTIF(A$3:A1861,\">0\")+1)","v":0},8941073002,"CP7300RQC 1/4\" DRILL",",-Ft ","CP Termék","Drills",871]
[{"$f":"IF(L1863=FALSE,0,COUNTIF(A$3:A1862,\">0\")+1)","v":0},"T024351","CP734H IMPACT WRENCH","STARS* 48 160,-Ft","CP Termék","Impact Wrenches less / equal to 1/2\"",2620,null,95900,48160]
[{"$f":"IF(L1864=FALSE,0,COUNTIF(A$3:A1863,\">0\")+1)","v":0},"T025163","CP734HK - IMPACT WRENCH KIT","113 200,-Ft ","CP Termék","Impact Wrenches less / equal to 1/2\"",3570,null,113200]
[{"$f":"IF(L1865=FALSE,0,COUNTIF(A$3:A1864,\">0\")+1)","v":0},"T025164","CP734HKM - METRIC IMPACT WRENCH KIT","113 200,-Ft ","CP Termék","Impact Wrenches less / equal to 1/2\"",3610,null,113200]
[{"$f":"IF(L1866=FALSE,0,COUNTIF(A$3:A1865,\">0\")+1)","v":0},"T024587","CP749 1/2\" IMPACT WRENCH","STARS* 82 300,-Ft","CP Termék","Impact Wrenches less / equal to 1/2\"",2835,null,143800,82300]
[{"$f":"IF(L1867=FALSE,0,COUNTIF(A$3:A1866,\">0\")+1)","v":0},"T024673","CP749-2 MODEL D AIR WRENCH","147 500,-Ft ","CP Termék","Impact Wrenches less / equal to 1/2\"",2895,null,147500]
[{"$f":"IF(L1868=FALSE,0,COUNTIF(A$3:A1867,\">0\")+1)","v":0},"T025193","CP749K - KIT SAE IMPACT","121 100,-Ft ","CP Termék","Impact Wrenches less / equal to 1/2\"",3748,null,121100]
[{"$f":"IF(L1869=FALSE,0,COUNTIF(A$3:A1868,\">0\")+1)","v":0},8941075001,"CP7500D","85 300,-Ft ","CP Termék","Grinders",861,null,85300]
[{"$f":"IF(L1870=FALSE,0,COUNTIF(A$3:A1869,\">0\")+1)","v":0},8941075002,"CP7500DK","99 900,-Ft ","CP Termék","Grinders",1486,null,99900]
[{"$f":"IF(L1871=FALSE,0,COUNTIF(A$3:A1870,\">0\")+1)","v":0},8941276201,"CP7620KM - METRIC 1/2\" IMPACT WRENCH KIT",{"$f":"IF(H1871=\"SP\",IF(J1871>0,\"SP: \"&TEXT(J1871*I$1,\"# ###,-Ft  \"),\"SP: \"&TEXT(I1871*I$1,\"# ###,-Ft\")),IF(J1871>0,\"STARS* \"&TEXT(J1871*J$1,\"# ###,-Ft\"),TEXT(I1871*I$1,\"# ###,-Ft  \")))","v":",-Ft "},"CP Termék",null,3495]
[{"$f":"IF(L1872=FALSE,0,COUNTIF(A$3:A1871,\">0\")+1)","v":0},8941077220,"CP7722 3/8\" IMPACT WRENCH","75 400,-Ft ","CP Termék","Impact Wrenches less / equal to 1/2\"",1150,null,75400]
[{"$f":"IF(L1873=FALSE,0,COUNTIF(A$3:A1872,\">0\")+1)","v":0},8941077290,"CP7729 3/8\" IMPACT WRENCH","122 700,-Ft ","CP Termék",null,1580,null,122700]
[{"$f":"IF(L1874=FALSE,0,COUNTIF(A$3:A1873,\">0\")+1)","v":0},"T024598","CP772H IMPACT  WRENCH","STARS* 144 800,-Ft","CP Termék","Impact Wrenches greater than 1/2\"",4931,null,252700,144800]
[{"$f":"IF(L1875=FALSE,0,COUNTIF(A$3:A1874,\">0\")+1)","v":0},"T024757","CP772H-6 AIR WRENCH","269 400,-Ft ","CP Termék","Impact Wrenches greater than 1/2\"",5765,null,269400]
[{"$f":"IF(L1876=FALSE,0,COUNTIF(A$3:A1875,\">0\")+1)","v":0},"T025171","CP772HK - KIT IMPACT WRENCH","305 800,-Ft ","CP Termék","Impact Wrenches greater than 1/2\"",8255,null,305800]
[{"$f":"IF(L1877=FALSE,0,COUNTIF(A$3:A1876,\">0\")+1)","v":0},"T025162","CP772HKM - METRIC IMPACT WRENCH KIT","298 600,-Ft ","CP Termék","Impact Wrenches greater than 1/2\"",7670,null,298600]
[{"$f":"IF(L1878=FALSE,0,COUNTIF(A$3:A1877,\">0\")+1)","v":0},8941077320,"CP7732  ½’’ ULTRA COMPACT IMPACT WRENCH","79 300,-Ft ","CP Termék",null,1400,null,79300]
[{"$f":"IF(L1879=FALSE,0,COUNTIF(A$3:A1878,\">0\")+1)","v":0},8941077321,"CP7732C  ½’’ ULTRA COMPACT IMPACT WRENCH","STARS* 63 000,-Ft","CP Termék",null,null,null,87300,63000]
[{"$f":"IF(L1880=FALSE,0,COUNTIF(A$3:A1879,\">0\")+1)","v":0},8941077390,"CP7739 1/2\" IMPACT WRENCH",{"$f":"IF(H1880=\"SP\",IF(J1880>0,\"SP: \"&TEXT(J1880*I$1,\"# ###,-Ft  \"),\"SP: \"&TEXT(I1880*I$1,\"# ###,-Ft\")),IF(J1880>0,\"STARS* \"&TEXT(J1880*J$1,\"# ###,-Ft\"),TEXT(I1880*I$1,\"# ###,-Ft  \")))","v":"130 300,-Ft "},"CP Termék",null,1595,null,130300]
[{"$f":"IF(L1881=FALSE,0,COUNTIF(A$3:A1880,\">0\")+1)","v":0},8941077480,"CP7748 1/2\" IMPACT WRENCH COMPOSITE",",-Ft ","CP Termék","Impact Wrenches less / equal to 1/2\"",2410]
[{"$f":"IF(L1882=FALSE,0,COUNTIF(A$3:A1881,\">0\")+1)","v":0},8941077482,"CP7748-2 IMPACT WRENCH 2'' EXT SHANK",",-Ft ","CP Termék","Impact Wrenches less / equal to 1/2\"",2555]
[{"$f":"IF(L1883=FALSE,0,COUNTIF(A$3:A1882,\">0\")+1)","v":0},8941077491,"CP7749 1/2\" IMPACT WRENCH","STARS* 78 200,-Ft","CP Termék","Impact Wrenches less / equal to 1/2\"",2398,null,127700,78200]
[{"$f":"IF(L1884=FALSE,0,COUNTIF(A$3:A1883,\">0\")+1)","v":0},8941077493,"CP7749-2 MODEL E 1/2\" IMPACT 2\" EXT ANVL","132 600,-Ft ","CP Termék","Impact Wrenches less / equal to 1/2\"",2496,null,132600]
[{"$f":"IF(L1885=FALSE,0,COUNTIF(A$3:A1884,\">0\")+1)","v":0},8941077630,"CP7763  3/4'' IMPACT WRENCH","STARS* 152 100,-Ft","CP Termék","Impact Wrenches greater than 1/2\"",5825,null,239900,152100]
[{"$f":"IF(L1886=FALSE,0,COUNTIF(A$3:A1885,\">0\")+1)","v":0},8941077636,"CP7763-6  3/4 \" EXT ANVIL IMPACT WRENCH","258 300,-Ft ","CP Termék","Impact Wrenches greater than 1/2\"",6250,null,258300]
[{"$f":"IF(L1887=FALSE,0,COUNTIF(A$3:A1886,\">0\")+1)","v":0},8941077690,"CP7769 3/4\" IMPACT WRENCH S2S COMPOSITE",",-Ft ","CP Termék","Impact Wrenches greater than 1/2\"",3945]
[{"$f":"IF(L1888=FALSE,0,COUNTIF(A$3:A1887,\">0\")+1)","v":0},8941077730,"CP7773  1\" IMPACT WRENCH","250 100,-Ft ","CP Termék","Impact Wrenches greater than 1/2\"",5899,null,250100]
[{"$f":"IF(L1889=FALSE,0,COUNTIF(A$3:A1888,\">0\")+1)","v":0},8941077780,"CP7778 1\" IMPACT WRENCH",{"$f":"IF(H1889=\"C\",IF(J1889>0,\"C #: \"&TEXT(J1889*I$1,\"# ###,-Ft  \"),\"C #: \"&TEXT(I1889*I$1,\"# ###,-Ft\")),IF(J1889>0,\"TOPS* \"&TEXT(J1889*J$1,\"# ###,-Ft\"),TEXT(I1889*I$1,\"# ###,-Ft  \")))","v":"C #: 505 000,-Ft"},"CP Termék","Impact Wrenches greater than 1/2\"",11300,"C",505000]
[{"$f":"IF(L1890=FALSE,0,COUNTIF(A$3:A1889,\">0\")+1)","v":0},8941077786,"CP7778-6 1\" EXTENDED IMPACT WRENCH","C #: 341 000,-Ft ","CP Termék","Impact Wrenches greater than 1/2\"",12886,"C",510000,341000]
[{"$f":"IF(L1891=FALSE,0,COUNTIF(A$3:A1890,\">0\")+1)","v":0},8941077790,"CP7779 1\" IMPACT WRENCH S2S COMPOSITE",{"$f":"IF(H1891=\"SP\",IF(J1891>0,\"SP: \"&TEXT(J1891*I$1,\"# ###,-Ft  \"),\"SP: \"&TEXT(I1891*I$1,\"# ###,-Ft\")),IF(J1891>0,\"STARS* \"&TEXT(J1891*J$1,\"# ###,-Ft\"),TEXT(I1891*I$1,\"# ###,-Ft  \")))","v":",-Ft "},"CP Termék","Impact Wrenches greater than 1/2\"",3500]
[{"$f":"IF(L1892=FALSE,0,COUNTIF(A$3:A1891,\">0\")+1)","v":0},8941077820,"CP7782 1\" IMPACT WRENCH","STARS* 211 000,-Ft","CP Termék","Impact Wrenches greater than 1/2\"",11526,null,329000,211000]
[{"$f":"IF(L1893=FALSE,0,COUNTIF(A$3:A1892,\">0\")+1)","v":0},8941077826,"CP7782-6 1\" IMPACT WRENCH 6\" EXT","STARS* 217 000,-Ft","CP Termék","Impact Wrenches greater than 1/2\"",13500,null,329000,217000]
[{"$f":"IF(L1894=FALSE,0,COUNTIF(A$3:A1893,\">0\")+1)","v":0},8941077821,"CP7782-SP6 1\" IMPACT WRNCH SPLINE 6\" EXT","386 000,-Ft ","CP Termék","Impact Wrenches greater than 1/2\"",13934,null,386000]
[{"$f":"IF(L1895=FALSE,0,COUNTIF(A$3:A1894,\">0\")+1)","v":0},"T025095","CP780  1800 RPM","177 800,-Ft ","CP Termék",null,1397,null,177800]
[{"$f":"IF(L1896=FALSE,0,COUNTIF(A$3:A1895,\">0\")+1)","v":0},"T025096","CP781  800RPM","181 400,-Ft ","CP Termék",null,1552,null,181400]
[{"$f":"IF(L1897=FALSE,0,COUNTIF(A$3:A1896,\">0\")+1)","v":0},"T025097","CP782","177 800,-Ft ","CP Termék",null,1360,null,177800]
[{"$f":"IF(L1898=FALSE,0,COUNTIF(A$3:A1897,\">0\")+1)","v":0},"T025098","CP783","177 800,-Ft ","CP Termék",null,895,null,177800]
[{"$f":"IF(L1899=FALSE,0,COUNTIF(A$3:A1898,\">0\")+1)","v":0},8941078308,"CP7830HQ 1/2\" AIR RATCHET WRENCH","STARS* 79 600,-Ft","CP Termék",null,1504,null,136900,79600]
[{"$f":"IF(L1900=FALSE,0,COUNTIF(A$3:A1899,\">0\")+1)","v":0},8941078306,"CP7830Q 3/8\" RATCHET WRENCH","136 900,-Ft ","CP Termék",null,1503,null,136900]
[{"$f":"IF(L1901=FALSE,0,COUNTIF(A$3:A1900,\">0\")+1)","v":0},"T022698","CP785 DRILL 2400RPM","69 400,-Ft ","CP Termék","Drills",1055,null,69400]
[{"$f":"IF(L1902=FALSE,0,COUNTIF(A$3:A1901,\">0\")+1)","v":0},"T024134","CP785H  1/2\" DRILL 500RPM","103 200,-Ft ","CP Termék","Drills",1613,null,103200]
[{"$f":"IF(L1903=FALSE,0,COUNTIF(A$3:A1902,\">0\")+1)","v":0},"T023200","CP785S SHEET METAL SHEAR","126 700,-Ft ","CP Termék","VS / MRO Removal Various",1315,null,126700]
[{"$f":"IF(L1904=FALSE,0,COUNTIF(A$3:A1903,\">0\")+1)","v":0},"T025165","CP789HR  1/2\" DRILL","STARS* 109 100,-Ft","CP Termék","Drills",1821,null,142200,109100]
[{"$f":"IF(L1905=FALSE,0,COUNTIF(A$3:A1904,\">0\")+1)","v":0},"T025180","CP789R-26  3/8\" DRILL","111 200,-Ft ","CP Termék","Drills",1355,null,111200]
[{"$f":"IF(L1906=FALSE,0,COUNTIF(A$3:A1905,\">0\")+1)","v":0},"T025198","CP789R-42   3/8\" DRILL","112 500,-Ft ","CP Termék","Drills",1365,null,112500]
[{"$f":"IF(L1907=FALSE,0,COUNTIF(A$3:A1906,\">0\")+1)","v":0},8941079000,"CP7900 RECIPROCATING SAW","64 700,-Ft ","CP Termék","VS / MRO Removal Various",860,null,64700]
[{"$f":"IF(L1908=FALSE,0,COUNTIF(A$3:A1907,\">0\")+1)","v":0},8941079011,"CP7901 VIBRATION REDUCED SAW","82 300,-Ft ","CP Termék","VS / MRO Removal Various",1017,null,82300]
[{"$f":"IF(L1909=FALSE,0,COUNTIF(A$3:A1908,\">0\")+1)","v":0},8941079010,"CP7901K  VIBRATION REDUCED SAW KIT","STARS* 60 800,-Ft","CP Termék","VS / MRO Removal Various",1590,null,98300,60800]
[{"$f":"IF(L1910=FALSE,0,COUNTIF(A$3:A1909,\">0\")+1)","v":0},"T019799","CP796 1\" SQUARE  IMPACT  WRENCH","Kifutó, érdeklődj!","CP Termék",null,11100]
[{"$f":"IF(L1911=FALSE,0,COUNTIF(A$3:A1910,\">0\")+1)","v":0},"T019139","CP797-1 IMPACT  WRENCH",{"$f":"IF(H1911=\"C\",IF(J1911>0,\"C #: \"&TEXT(J1911*I$1,\"# ###,-Ft  \"),\"C #: \"&TEXT(I1911*I$1,\"# ###,-Ft\")),IF(J1911>0,\"TOPS* \"&TEXT(J1911*J$1,\"# ###,-Ft\"),TEXT(I1911*I$1,\"# ###,-Ft  \")))","v":"C #: 578 000,-Ft"},"CP Termék","Impact Wrenches greater than 1/2\"",14263,"C",578000]
[{"$f":"IF(L1912=FALSE,0,COUNTIF(A$3:A1911,\">0\")+1)","v":0},"T013901","CP797-6 IMPACT  WRENCH","C #: 578 000,-Ft","CP Termék","Impact Wrenches greater than 1/2\"",15761,"C",578000]
[{"$f":"IF(L1913=FALSE,0,COUNTIF(A$3:A1912,\">0\")+1)","v":0},8941081015,"CP80015 TROLLEY JACK 1.5T /  1.65ST VERY LOW PROFILE",{"$f":"IF(H1913=\"SP\",IF(J1913>0,\"SP: \"&TEXT(J1913*I$1,\"# ###,-Ft  \"),\"SP: \"&TEXT(I1913*I$1,\"# ###,-Ft\")),IF(J1913>0,\"STARS* \"&TEXT(J1913*J$1,\"# ###,-Ft\"),TEXT(I1913*I$1,\"# ###,-Ft  \")))","v":"STARS* 84 400,-Ft"},"CP Termék","WSE Hydraulic",53000,null,211800,84400]
[{"$f":"IF(L1914=FALSE,0,COUNTIF(A$3:A1913,\">0\")+1)","v":0},8941181020,"CP80020 TROLLEY JACK 2T / 2.2ST","STARS* 74 900,-Ft","CP Termék","WSE Hydraulic",43000,null,155700,74900]
[{"$f":"IF(L1915=FALSE,0,COUNTIF(A$3:A1914,\">0\")+1)","v":0},8941181030,"CP80030 TROLLEY JACK 3T / 3.3ST","STARS* 103 600,-Ft","CP Termék","WSE Hydraulic",48200,null,215400,103600]
[{"$f":"IF(L1916=FALSE,0,COUNTIF(A$3:A1915,\">0\")+1)","v":0},8941080062,"CP8006 WORKLIGHT AUS PLUG ","54 100,-Ft ","CP Termék","WSE Electric",592,null,54100]
[{"$f":"IF(L1917=FALSE,0,COUNTIF(A$3:A1916,\">0\")+1)","v":0},8941080060,"CP8006 WORKLIGHT EU PLUG ","STARS* 26 230,-Ft","CP Termék","WSE Electric",590,null,54100,26230]
[{"$f":"IF(L1918=FALSE,0,COUNTIF(A$3:A1917,\">0\")+1)","v":0},8941080063,"CP8006 WORKLIGHT UK PLUG ","54 100,-Ft ","CP Termék","WSE Electric",598,null,54100]
[{"$f":"IF(L1919=FALSE,0,COUNTIF(A$3:A1918,\">0\")+1)","v":0},8941080061,"CP8006 WORKLIGHT US PLUG ",",-Ft ","CP Termék","WSE Electric",586]
[{"$f":"IF(L1920=FALSE,0,COUNTIF(A$3:A1919,\">0\")+1)","v":0},8941081020,"CP81020 BOTTLE JACK 2T / 2.2ST",{"$f":"IF(H1920=\"SP\",IF(J1920>0,\"SP: \"&TEXT(J1920*I$1,\"# ###,-Ft  \"),\"SP: \"&TEXT(I1920*I$1,\"# ###,-Ft\")),IF(J1920>0,\"STARS* \"&TEXT(J1920*J$1,\"# ###,-Ft\"),TEXT(I1920*I$1,\"# ###,-Ft  \")))","v":"STARS* 10 840,-Ft"},"CP Termék","WSE Hydraulic",2800,null,19160,10840]
[{"$f":"IF(L1921=FALSE,0,COUNTIF(A$3:A1920,\">0\")+1)","v":0},8941081030,"CP81030 BOTTLE JACK 3T / 3.3ST","STARS* 13 690,-Ft","CP Termék","WSE Hydraulic",3334,null,22860,13690]
[{"$f":"IF(L1922=FALSE,0,COUNTIF(A$3:A1921,\">0\")+1)","v":0},8941081050,"CP81050 BOTTLE JACK 5T / 5.51ST","STARS* 15 400,-Ft","CP Termék","WSE Hydraulic",4400,null,27730,15400]
[{"$f":"IF(L1923=FALSE,0,COUNTIF(A$3:A1922,\">0\")+1)","v":0},8941081080,"CP81080 BOTTLE JACK 8T / 8.81ST","STARS* 21 100,-Ft","CP Termék","WSE Hydraulic",6200,null,38090,21100]
[{"$f":"IF(L1924=FALSE,0,COUNTIF(A$3:A1923,\">0\")+1)","v":0},8941181120,"CP81120 BOTTLE JACK 12T / 13.2ST","STARS* 25 660,-Ft","CP Termék","WSE Hydraulic",7400,null,46770,25660]
[{"$f":"IF(L1925=FALSE,0,COUNTIF(A$3:A1924,\">0\")+1)","v":0},8941081200,"CP81200 BOTTLE JACK 20T / 22ST","STARS* 31 160,-Ft","CP Termék","WSE Hydraulic",9800,null,56400,31160]
[{"$f":"IF(L1926=FALSE,0,COUNTIF(A$3:A1925,\">0\")+1)","v":0},8941081300,"CP81300 BOTTLE JACK 30T / 33ST","STARS* 47 590,-Ft","CP Termék","WSE Hydraulic",19000,null,85000,47590]
[{"$f":"IF(L1927=FALSE,0,COUNTIF(A$3:A1926,\">0\")+1)","v":0},8941082020,"CP82020 - JACK STAND 2T / 2.2ST","STARS* 9 120,-Ft","CP Termék","WSE Hydraulic",5868,null,17150,9120]
[{"$f":"IF(L1928=FALSE,0,COUNTIF(A$3:A1927,\">0\")+1)","v":0},8941082030,"CP82030 - JACK STAND 3T / 3.3ST","STARS* 11 410,-Ft","CP Termék","WSE Hydraulic",7304,null,21180,11410]
[{"$f":"IF(L1929=FALSE,0,COUNTIF(A$3:A1928,\">0\")+1)","v":0},8941082060,"CP82060 - JACK STAND 6T / 6.61ST","STARS* 22 810,-Ft","CP Termék","WSE Hydraulic",16000,null,39760,22810]
[{"$f":"IF(L1930=FALSE,0,COUNTIF(A$3:A1929,\">0\")+1)","v":0},8941082104,"CP8210 12 W","258 600,-Ft ","CP Termék","Removal Electric Tools",3264,null,258600]
[{"$f":"IF(L1931=FALSE,0,COUNTIF(A$3:A1930,\">0\")+1)","v":0},8941082104,"CP8210 12 W POLISHER","258 600,-Ft ","CP Termék","Removal Electric Tools",3264,null,258600]
[{"$f":"IF(L1932=FALSE,0,COUNTIF(A$3:A1931,\">0\")+1)","v":0},8941082105,"CP8210E 12W","236 300,-Ft ","CP Termék","Removal Electric Tools",3323,null,236300]
[{"$f":"IF(L1933=FALSE,0,COUNTIF(A$3:A1932,\">0\")+1)","v":0},6151590180,"CP8222-P 3/8\" PIN","156 700,-Ft ","CP Termék","Ind Impact Wrenches",1700,null,156700]
[{"$f":"IF(L1934=FALSE,0,COUNTIF(A$3:A1933,\">0\")+1)","v":0},6151590230,"CP8222-R 3/8\" RING","156 700,-Ft ","CP Termék","Ind Impact Wrenches",1704,null,156700]
[{"$f":"IF(L1935=FALSE,0,COUNTIF(A$3:A1934,\">0\")+1)","v":0},6151590190,"CP8232-QC 7/16\" HEX","164 900,-Ft ","CP Termék","Ind Impact Wrenches",1793,null,164900]
[{"$f":"IF(L1936=FALSE,0,COUNTIF(A$3:A1935,\">0\")+1)","v":0},"T025390","CP824  RATCHET WRENCH","42 100,-Ft ","CP Termék",null,697,null,42100]
[{"$f":"IF(L1937=FALSE,0,COUNTIF(A$3:A1936,\">0\")+1)","v":0},6151590200,"CP8242-P 1/2\" PIN","158 800,-Ft ","CP Termék","Ind Impact Wrenches",1714,null,158800]
[{"$f":"IF(L1938=FALSE,0,COUNTIF(A$3:A1937,\">0\")+1)","v":0},6151590240,"CP8242-R 1/2\" RING","158 800,-Ft ","CP Termék","Ind Impact Wrenches",1712,null,158800]
[{"$f":"IF(L1939=FALSE,0,COUNTIF(A$3:A1938,\">0\")+1)","v":0},"T025391","CP824T  RATCHET WRENCH","46 440,-Ft ","CP Termék",null,725,null,46440]
[{"$f":"IF(L1940=FALSE,0,COUNTIF(A$3:A1939,\">0\")+1)","v":0},"T023145","CP825 AIR RATCHET WRENCH .25",",-Ft ","CP Termék",null,670]
[{"$f":"IF(L1941=FALSE,0,COUNTIF(A$3:A1940,\">0\")+1)","v":0},6151590210,"CP8252-P 1/2\" PIN",{"$f":"IF(H1941=\"SP\",IF(J1941>0,\"SP: \"&TEXT(J1941*I$1,\"# ###,-Ft  \"),\"SP: \"&TEXT(I1941*I$1,\"# ###,-Ft\")),IF(J1941>0,\"STARS* \"&TEXT(J1941*J$1,\"# ###,-Ft\"),TEXT(I1941*I$1,\"# ###,-Ft  \")))","v":"169 100,-Ft "},"CP Termék","Ind Impact Wrenches",2722,null,169100]
[{"$f":"IF(L1942=FALSE,0,COUNTIF(A$3:A1941,\">0\")+1)","v":0},6151590250,"CP8252-R 1/2\" RING","169 100,-Ft ","CP Termék","Ind Impact Wrenches",2718,null,169100]
[{"$f":"IF(L1943=FALSE,0,COUNTIF(A$3:A1942,\">0\")+1)","v":0},"T023190","CP825T AIR RATCHET.375",",-Ft ","CP Termék",null,663]
[{"$f":"IF(L1944=FALSE,0,COUNTIF(A$3:A1943,\">0\")+1)","v":0},"T025074","CP826 AIR RATCHET WRENCH","100 300,-Ft ","CP Termék",null,770,null,100300]
[{"$f":"IF(L1945=FALSE,0,COUNTIF(A$3:A1944,\">0\")+1)","v":0},"T025075","CP826T AIR RATCHET WRENCH","101 300,-Ft ","CP Termék",null,731,null,101300]
[{"$f":"IF(L1946=FALSE,0,COUNTIF(A$3:A1945,\">0\")+1)","v":0},6151590260,"CP8272-D 3/4\" DUAL","311 400,-Ft ","CP Termék","Ind Impact Wrenches",4241,null,311400]
[{"$f":"IF(L1947=FALSE,0,COUNTIF(A$3:A1946,\">0\")+1)","v":0},6151590220,"CP8272-P 3/4\" PIN","311 400,-Ft ","CP Termék","Ind Impact Wrenches",4208,null,311400]
[{"$f":"IF(L1948=FALSE,0,COUNTIF(A$3:A1947,\">0\")+1)","v":0},"T022708","CP828 RATCHET WRENCH",{"$f":"IF(H1948=\"SP\",IF(J1948>0,\"SP: \"&TEXT(J1948*I$1,\"# ###,-Ft  \"),\"SP: \"&TEXT(I1948*I$1,\"# ###,-Ft\")),IF(J1948>0,\"STARS* \"&TEXT(J1948*J$1,\"# ###,-Ft\"),TEXT(I1948*I$1,\"# ###,-Ft  \")))","v":"66 700,-Ft "},"CP Termék",null,1300,null,66700]
[{"$f":"IF(L1949=FALSE,0,COUNTIF(A$3:A1948,\">0\")+1)","v":0},"T022970","CP828H RATCHET WRENCH .50","STARS* 44 760,-Ft","CP Termék",null,1260,null,66700,44760]
[{"$f":"IF(L1950=FALSE,0,COUNTIF(A$3:A1949,\">0\")+1)","v":0},"T022550","CP835 AIR NIBBLER","STARS* 98 800,-Ft","CP Termék","VS / MRO Removal Various",1240,null,134600,98800]
[{"$f":"IF(L1951=FALSE,0,COUNTIF(A$3:A1950,\">0\")+1)","v":0},8941084010,"CP84010 SINGLE WHEEL DOLLY","STARS* 57 400,-Ft","CP Termék","WSE Hydraulic",15000,null,89600,57400]
[{"$f":"IF(L1952=FALSE,0,COUNTIF(A$3:A1951,\">0\")+1)","v":0},"T023186","CP854","168 900,-Ft ","CP Termék","Grinders",2156,null,168900]
[{"$f":"IF(L1953=FALSE,0,COUNTIF(A$3:A1952,\">0\")+1)","v":0},"T023187","CP854E   10MM","STARS* 81 100,-Ft","CP Termék","Grinders",2140,null,168900,81100]
[{"$f":"IF(L1954=FALSE,0,COUNTIF(A$3:A1953,\">0\")+1)","v":0},"T024387","CP857   7\"","262 200,-Ft ","CP Termék","Grinders",4174,null,262200]
[{"$f":"IF(L1955=FALSE,0,COUNTIF(A$3:A1954,\">0\")+1)","v":0},"T025179","CP858","131 600,-Ft ","CP Termék","Sanders & Polishers",1074,null,131600]
[{"$f":"IF(L1956=FALSE,0,COUNTIF(A$3:A1955,\">0\")+1)","v":0},"T019704","CP860","68 400,-Ft ","CP Termék","Grinders",953,null,68400]
[{"$f":"IF(L1957=FALSE,0,COUNTIF(A$3:A1956,\">0\")+1)","v":0},"T021136","CP860E    6MM","STARS* 41 360,-Ft","CP Termék","Grinders",933,null,85000,41360]
[{"$f":"IF(L1958=FALSE,0,COUNTIF(A$3:A1957,\">0\")+1)","v":0},"T023193","CP860ES","148 400,-Ft ","CP Termék","Grinders",1598,null,148400]
[{"$f":"IF(L1959=FALSE,0,COUNTIF(A$3:A1958,\">0\")+1)","v":0},"T023354","CP860ESE   6MM","148 400,-Ft ","CP Termék","Grinders",1594,null,148400]
[{"$f":"IF(L1960=FALSE,0,COUNTIF(A$3:A1959,\">0\")+1)","v":0},"T022039","CP861 CUT-OFF TOOL","73 000,-Ft ","CP Termék","VS / MRO Removal Various",1185,null,73000]
[{"$f":"IF(L1961=FALSE,0,COUNTIF(A$3:A1960,\">0\")+1)","v":0},8941086150,"CP86150 15T / 16.5ST compact bench workshop press","STARS* 200 800,-Ft","CP Termék","WSE Hydraulic",78000,null,389000,200800]
[{"$f":"IF(L1962=FALSE,0,COUNTIF(A$3:A1961,\">0\")+1)","v":0},8941086200,"CP86200 20T / 22ST workshop press","STARS* 246 000,-Ft","CP Termék","WSE Hydraulic",128000,null,500000,246000]
[{"$f":"IF(L1963=FALSE,0,COUNTIF(A$3:A1962,\">0\")+1)","v":0},8941086300,"CP86300 30T / 33 ST workshop press",{"$f":"IF(H1963=\"C\",IF(J1963>0,\"C #: \"&TEXT(J1963*I$1,\"# ###,-Ft  \"),\"C #: \"&TEXT(I1963*I$1,\"# ###,-Ft\")),IF(J1963>0,\"TOPS* \"&TEXT(J1963*J$1,\"# ###,-Ft\"),TEXT(I1963*I$1,\"# ###,-Ft  \")))","v":"C #: 425 000,-Ft "},"CP Termék","WSE Hydraulic",167000,"C",835000,425000]
[{"$f":"IF(L1964=FALSE,0,COUNTIF(A$3:A1963,\">0\")+1)","v":0},8941086500,"CP86500 50T / 55.1 ST workshop press","C #: 654 000,-Ft ","CP Termék","WSE Hydraulic",380000,"C",1306000,654000]
[{"$f":"IF(L1965=FALSE,0,COUNTIF(A$3:A1964,\">0\")+1)","v":0},"T023990","CP870","36 750,-Ft ","CP Termék","Sanders & Polishers",2213,null,36750]
[{"$f":"IF(L1966=FALSE,0,COUNTIF(A$3:A1965,\">0\")+1)","v":0},"T025372","CP871 HIGH-SPEED TIRE BUFFER","STARS* 23 950,-Ft","CP Termék","VS / MRO Removal Various",957,null,38750,23950]
[{"$f":"IF(L1967=FALSE,0,COUNTIF(A$3:A1966,\">0\")+1)","v":0},"T025420","CP871K TIRE BUFFER K","48 440,-Ft ","CP Termék","VS / MRO Removal Various",1150,null,48440]
[{"$f":"IF(L1968=FALSE,0,COUNTIF(A$3:A1967,\">0\")+1)","v":0},"T025373","CP872 1/4\" DIE GRINDER","STARS* 19 960,-Ft","CP Termék","Grinders",924,null,36750,19960]
[{"$f":"IF(L1969=FALSE,0,COUNTIF(A$3:A1968,\">0\")+1)","v":0},"T025374","CP873 LOW-SPEED TIRE BUFFER","STARS* 26 230,-Ft","CP Termék","VS / MRO Removal Various",1255,null,47440,26230]
[{"$f":"IF(L1970=FALSE,0,COUNTIF(A$3:A1969,\">0\")+1)","v":0},"T024362","CP873K KIT W/HOSES TIRE BUFFER","53 450,-Ft ","CP Termék","VS / MRO Removal Various",1440,null,53450]
[{"$f":"IF(L1971=FALSE,0,COUNTIF(A$3:A1970,\">0\")+1)","v":0},"T025375","CP874   3\" CUT-OFF TOOL","STARS* 21 100,-Ft","CP Termék","VS / MRO Removal Various",994,null,32740,21100]
[{"$f":"IF(L1972=FALSE,0,COUNTIF(A$3:A1971,\">0\")+1)","v":0},"T023995","CP875",{"$f":"IF(H1972=\"SP\",IF(J1972>0,\"SP: \"&TEXT(J1972*I$1,\"# ###,-Ft  \"),\"SP: \"&TEXT(I1972*I$1,\"# ###,-Ft\")),IF(J1972>0,\"STARS* \"&TEXT(J1972*J$1,\"# ###,-Ft\"),TEXT(I1972*I$1,\"# ###,-Ft  \")))","v":"STARS* 26 050,-Ft"},"CP Termék","Grinders",690,null,43430,26050]
[{"$f":"IF(L1973=FALSE,0,COUNTIF(A$3:A1972,\">0\")+1)","v":0},8941108751,"CP875K","63 100,-Ft ","CP Termék","Grinders",1242,null,63100]
[{"$f":"IF(L1974=FALSE,0,COUNTIF(A$3:A1973,\">0\")+1)","v":0},"T023996","CP876","35 080,-Ft ","CP Termék","Grinders",575,null,35080]
[{"$f":"IF(L1975=FALSE,0,COUNTIF(A$3:A1974,\">0\")+1)","v":0},"T023999","CP879  3/8\" ANGLE DRILL",",-Ft ","CP Termék","Drills",1288]
[{"$f":"IF(L1976=FALSE,0,COUNTIF(A$3:A1975,\">0\")+1)","v":0},"T023916","CP881 RECIPROCATING SAW","148 800,-Ft ","CP Termék","VS / MRO Removal Various",969,null,148800]
[{"$f":"IF(L1977=FALSE,0,COUNTIF(A$3:A1976,\">0\")+1)","v":0},"T024240","CP886  RATCHET  WRENCH  3/8\"","STARS* 24 520,-Ft","CP Termék",null,1319,null,40420,24520]
[{"$f":"IF(L1978=FALSE,0,COUNTIF(A$3:A1977,\">0\")+1)","v":0},"T024391","CP886H RATCHET WRENCH 1/2\"","STARS* 27 760,-Ft","CP Termék",null,1347,null,42100,27760]
[{"$f":"IF(L1979=FALSE,0,COUNTIF(A$3:A1978,\">0\")+1)","v":0},"T025376","CP887 IN-LINE DRILL",",-Ft ","CP Termék","Drills",1149]
[{"$f":"IF(L1980=FALSE,0,COUNTIF(A$3:A1979,\">0\")+1)","v":0},6151950104,"CP9104Q","89 600,-Ft ","CP Termék","Grinders",757,null,89600]
[{"$f":"IF(L1981=FALSE,0,COUNTIF(A$3:A1980,\">0\")+1)","v":0},6151959104,"CP9104Q","STARS* 44 510,-Ft","CP Termék","Grinders",435,null,70700,44510]
[{"$f":"IF(L1982=FALSE,0,COUNTIF(A$3:A1981,\">0\")+1)","v":0},6151952105,"CP9105Q-B","STARS* 27 200,-Ft","CP Termék","Grinders",683,null,51450,27200]
[{"$f":"IF(L1983=FALSE,0,COUNTIF(A$3:A1982,\">0\")+1)","v":0},6151952106,"CP9106Q-B","STARS* 36 110,-Ft","CP Termék","Grinders",823,null,57400,36110]
[{"$f":"IF(L1984=FALSE,0,COUNTIF(A$3:A1983,\">0\")+1)","v":0},6151959107,"CP9107","45 440,-Ft ","CP Termék","Grinders",960,null,45440]
[{"$f":"IF(L1985=FALSE,0,COUNTIF(A$3:A1984,\">0\")+1)","v":0},6151952108,"CP9108Q-B","STARS* 36 110,-Ft","CP Termék","Grinders",885,null,57400,36110]
[{"$f":"IF(L1986=FALSE,0,COUNTIF(A$3:A1985,\">0\")+1)","v":0},6151952110,"CP9110Q-B","53 800,-Ft ","CP Termék","Grinders",1030,null,53800]
[{"$f":"IF(L1987=FALSE,0,COUNTIF(A$3:A1986,\">0\")+1)","v":0},6151952111,"CP9111Q-B 12 HP","75 700,-Ft ","CP Termék","Grinders",940,null,75700]
[{"$f":"IF(L1988=FALSE,0,COUNTIF(A$3:A1987,\">0\")+1)","v":0},6151950211,"CP9111Q-B M","STARS* 40 320,-Ft","CP Termék","Grinders",1360,null,81000,40320]
[{"$f":"IF(L1989=FALSE,0,COUNTIF(A$3:A1988,\">0\")+1)","v":0},6151952112,"CP9112Q-B 12HP","127 700,-Ft ","CP Termék","Grinders",1696,null,127700]
[{"$f":"IF(L1990=FALSE,0,COUNTIF(A$3:A1989,\">0\")+1)","v":0},6151600010,"CP9113G 1/4\"","116 300,-Ft ","CP Termék","Ind Die Grinders>0,5hp",1397,null,116300]
[{"$f":"IF(L1991=FALSE,0,COUNTIF(A$3:A1990,\">0\")+1)","v":0},6151602070,"CP9113GES  1/4\"","129 900,-Ft ","CP Termék","Ind Die Grinders>0,5hp",1900,null,129900]
[{"$f":"IF(L1992=FALSE,0,COUNTIF(A$3:A1991,\">0\")+1)","v":0},6151952120,"CP9120CR  (4\" SPIN)","108 900,-Ft ","CP Termék","Grinders",2376,null,108900]
[{"$f":"IF(L1993=FALSE,0,COUNTIF(A$3:A1992,\">0\")+1)","v":0},6151957321,"CP9121AR 5\" ANGLE GRINDER M14 SPINDLE","STARS* 74 500,-Ft","CP Termék","Grinders",2532,null,108900,74500]
[{"$f":"IF(L1994=FALSE,0,COUNTIF(A$3:A1993,\">0\")+1)","v":0},6151957221,"CP9121BR","108 900,-Ft ","CP Termék","Grinders",2515,null,108900]
[{"$f":"IF(L1995=FALSE,0,COUNTIF(A$3:A1994,\">0\")+1)","v":0},6151952121,"CP9121CR  (5\" SPIN)","108 900,-Ft ","CP Termék","Grinders",2525,null,108900]
[{"$f":"IF(L1996=FALSE,0,COUNTIF(A$3:A1995,\">0\")+1)","v":0},6151957222,"CP9122BR","108 900,-Ft ","CP Termék","Grinders",2511,null,108900]
[{"$f":"IF(L1997=FALSE,0,COUNTIF(A$3:A1996,\">0\")+1)","v":0},6151952122,"CP9122CR","108 900,-Ft ","CP Termék","Grinders",2522,null,108900]
[{"$f":"IF(L1998=FALSE,0,COUNTIF(A$3:A1997,\">0\")+1)","v":0},6151959123,"CP9123 7\" ANGLE GRINDER 5/8\" SPINDLE","217 000,-Ft ","CP Termék","Grinders",4265,null,217000]
[{"$f":"IF(L1999=FALSE,0,COUNTIF(A$3:A1998,\">0\")+1)","v":0},6151949285,"CP9285 3/8\" DRILL",",-Ft ","CP Termék","Drills",1399]
[{"$f":"IF(L2000=FALSE,0,COUNTIF(A$3:A1999,\">0\")+1)","v":0},6151949286,"CP9286 1/2\" DRILL",",-Ft ","CP Termék","Drills",2087]
[{"$f":"IF(L2001=FALSE,0,COUNTIF(A$3:A2000,\">0\")+1)","v":0},6151949287,"CP9287 3/8\" KEYLESS CHUCK DRILL",",-Ft ","CP Termék","Drills",1372]
[{"$f":"IF(L2002=FALSE,0,COUNTIF(A$3:A2001,\">0\")+1)","v":0},6151949288,"CP9288 1/2\" KEYLESS CHUCK DRILL",",-Ft ","CP Termék","Drills",1994]
[{"$f":"IF(L2003=FALSE,0,COUNTIF(A$3:A2002,\">0\")+1)","v":0},"T022165","CP9356NS","220 000,-Ft ","CP Termék","Ind Hammers Foundry",3140,null,220000]
[{"$f":"IF(L2004=FALSE,0,COUNTIF(A$3:A2003,\">0\")+1)","v":0},"T021959","CP9356WF","170 700,-Ft ","CP Termék","Ind Hammers Foundry",2120,null,170700]
[{"$f":"IF(L2005=FALSE,0,COUNTIF(A$3:A2004,\">0\")+1)","v":0},"T012644","CP9361","156 300,-Ft ","CP Termék","Ind Engraving Pen",535,null,156300]
[{"$f":"IF(L2006=FALSE,0,COUNTIF(A$3:A2005,\">0\")+1)","v":0},"T011970","CP9361-1","204 900,-Ft ","CP Termék","Ind Engraving Pen",757,null,204900]
[{"$f":"IF(L2007=FALSE,0,COUNTIF(A$3:A2006,\">0\")+1)","v":0},6151919426,"CP9426 1/4\" RATCHET WRENCH","STARS* 43 060,-Ft","CP Termék",null,665,null,58800,43060]
[{"$f":"IF(L2008=FALSE,0,COUNTIF(A$3:A2007,\">0\")+1)","v":0},6151919427,"CP9427 3/8\" RATCHET WRENCH","STARS* 43 630,-Ft","CP Termék",null,600,null,58800,43630]
[{"$f":"IF(L2009=FALSE,0,COUNTIF(A$3:A2008,\">0\")+1)","v":0},6151939534,"CP9534 - 2",{"$f":"IF(H2009=\"SP\",IF(J2009>0,\"SP: \"&TEXT(J2009*I$1,\"# ###,-Ft  \"),\"SP: \"&TEXT(I2009*I$1,\"# ###,-Ft\")),IF(J2009>0,\"STARS* \"&TEXT(J2009*J$1,\"# ###,-Ft\"),TEXT(I2009*I$1,\"# ###,-Ft  \")))","v":"237 200,-Ft "},"CP Termék","Ind Sanders > 0,3hp",1820,null,237200]
[{"$f":"IF(L2010=FALSE,0,COUNTIF(A$3:A2009,\">0\")+1)","v":0},6151909541,"CP9541 1/2\" RING","132 000,-Ft ","CP Termék","Ind Impact Wrenches",2702,null,132000]
[{"$f":"IF(L2011=FALSE,0,COUNTIF(A$3:A2010,\">0\")+1)","v":0},6151909542,"CP9542 1/2\" PIN","132 000,-Ft ","CP Termék","Ind Impact Wrenches",2688,null,132000]
[{"$f":"IF(L2012=FALSE,0,COUNTIF(A$3:A2011,\">0\")+1)","v":0},6151909561,"CP9561 3/4\" RING","303 200,-Ft ","CP Termék","Ind Impact Wrenches",5415,null,303200]
[{"$f":"IF(L2013=FALSE,0,COUNTIF(A$3:A2012,\">0\")+1)","v":0},6151939674,"CP9674","237 200,-Ft ","CP Termék","Ind Sanders > 0,3hp",1850,null,237200]
[{"$f":"IF(L2014=FALSE,0,COUNTIF(A$3:A2013,\">0\")+1)","v":0},6151939705,"CP9705 AIR FILE (5MM)","98 300,-Ft ","CP Termék","VS / MRO Removal Various",1074,null,98300]
[{"$f":"IF(L2015=FALSE,0,COUNTIF(A$3:A2014,\">0\")+1)","v":0},6151939710,"CP9710 AIR FILE (10MM)","101 900,-Ft ","CP Termék","VS / MRO Removal Various",1027,null,101900]
[{"$f":"IF(L2016=FALSE,0,COUNTIF(A$3:A2015,\">0\")+1)","v":0},6151939778,"CP9778",{"$f":"IF(H2016=\"SP\",IF(J2016>0,\"SP: \"&TEXT(J2016*I$1,\"# ###,-Ft  \"),\"SP: \"&TEXT(I2016*I$1,\"# ###,-Ft\")),IF(J2016>0,\"STARS* \"&TEXT(J2016*J$1,\"# ###,-Ft\"),TEXT(I2016*I$1,\"# ###,-Ft  \")))","v":"53 120,-Ft "},"CP Termék","Sanders & Polishers",1292,null,53120]
[{"$f":"IF(L2017=FALSE,0,COUNTIF(A$3:A2016,\">0\")+1)","v":0},6151939779,"CP9779","91 300,-Ft ","CP Termék","Sanders & Polishers",1111,null,91300]
[{"$f":"IF(L2018=FALSE,0,COUNTIF(A$3:A2017,\">0\")+1)","v":0},6151939780,"CP9780","117 800,-Ft ","CP Termék","Sanders & Polishers",1788,null,117800]
[{"$f":"IF(L2019=FALSE,0,COUNTIF(A$3:A2018,\">0\")+1)","v":0},6151949789,"CP9789 1/2\" DRILL",",-Ft ","CP Termék","Drills",2061]
[{"$f":"IF(L2020=FALSE,0,COUNTIF(A$3:A2019,\">0\")+1)","v":0},6151949790,"CP9790 3/8\" DRILL",",-Ft ","CP Termék","Drills",1380]
[{"$f":"IF(L2021=FALSE,0,COUNTIF(A$3:A2020,\">0\")+1)","v":0},6151940790,"CP9790 MKIT 1/2\" DRILL","73 700,-Ft ","CP Termék","Drills",1891,null,73700]
[{"$f":"IF(L2022=FALSE,0,COUNTIF(A$3:A2021,\">0\")+1)","v":0},6151949792,"CP9792 3/8\" KEYLESS CHUCK DRILL",",-Ft ","CP Termék","Drills",1402]
[{"$f":"IF(L2023=FALSE,0,COUNTIF(A$3:A2022,\">0\")+1)","v":0},8940166664,"CP9841 MAGNETIC TOOL HOLDER","STARS* 6 840,-Ft","CP S.anyag","Ergonomics",1140,null,16490,6840]
[{"$f":"IF(L2024=FALSE,0,COUNTIF(A$3:A2023,\">0\")+1)","v":0},8941098820,"CP9882 Riveter",{"$f":"IF(H2024=\"SP\",IF(J2024>0,\"SP: \"&TEXT(J2024*I$1,\"# ###,-Ft  \"),\"SP: \"&TEXT(I2024*I$1,\"# ###,-Ft\")),IF(J2024>0,\"STARS* \"&TEXT(J2024*J$1,\"# ###,-Ft\"),TEXT(I2024*I$1,\"# ###,-Ft  \")))","v":"STARS* 39 100,-Ft"},"CP Termék","VS / MRO Assembly Various",1600,null,61800,39100]
[{"$f":"IF(L2025=FALSE,0,COUNTIF(A$3:A2024,\">0\")+1)","v":0},8941098830,"CP9883 - 3/16\" COMPOSITE AIR RIVETER","STARS* 130 000,-Ft","CP Termék","VS / MRO Assembly Various",2574,null,168200,130000]
[{"$f":"IF(L2026=FALSE,0,COUNTIF(A$3:A2025,\">0\")+1)","v":0},8941098840,"CP9884 - 1/4\" COMPOSITE AIR RIVETER","286 200,-Ft ","CP Termék","VS / MRO Assembly Various",3015,null,286200]
[{"$f":"IF(L2027=FALSE,0,COUNTIF(A$3:A2026,\">0\")+1)","v":0},6151979885,"CP9885 CAULKING GUN","STARS* 13 980,-Ft","CP Termék","Screwdrivers",1377,null,18490,13980]
[{"$f":"IF(L2028=FALSE,0,COUNTIF(A$3:A2027,\">0\")+1)","v":0},8941099110,"CP9911 BALANCER 0.4-1.0KG 0.8-2.2LB","22 300,-Ft ","CP S.anyag","Ergonomics",570,null,22300]
[{"$f":"IF(L2029=FALSE,0,COUNTIF(A$3:A2028,\">0\")+1)","v":0},8941099120,"CP9912 BALANCER 1.0-2.0KG 2.2-4.4LB","23 720,-Ft ","CP S.anyag","Ergonomics",600,null,23720]
[{"$f":"IF(L2030=FALSE,0,COUNTIF(A$3:A2029,\">0\")+1)","v":0},8941099130,"CP9913 BALANCER 2.0-3.0KG 4.4-6.6LB","24 750,-Ft ","CP S.anyag","Ergonomics",815,null,24750]
[{"$f":"IF(L2031=FALSE,0,COUNTIF(A$3:A2030,\">0\")+1)","v":0},8941099200,"CP9920 BALANCER 1.0-2.5KG 2.2-5.5LB","44 700,-Ft ","CP S.anyag","Ergonomics",1800,null,44700]
[{"$f":"IF(L2032=FALSE,0,COUNTIF(A$3:A2031,\">0\")+1)","v":0},8941099210,"CP9921 BALANCER 2.0-4.0KG 4.4-8.8LB","50 560,-Ft ","CP S.anyag","Ergonomics",2035,null,50560]
[{"$f":"IF(L2033=FALSE,0,COUNTIF(A$3:A2032,\">0\")+1)","v":0},8941099220,"CP9922 BALANCER 4.0-6.0KG 8.8-13.2LB","63 500,-Ft ","CP S.anyag","Ergonomics",2150,null,63500]
[{"$f":"IF(L2034=FALSE,0,COUNTIF(A$3:A2033,\">0\")+1)","v":0},8941099230,"CP9923 BALANCER 6.0-8.0KG 13.2-17.6LB","71 900,-Ft ","CP S.anyag","Ergonomics",2280,null,71900]
[{"$f":"IF(L2035=FALSE,0,COUNTIF(A$3:A2034,\">0\")+1)","v":0},8941099360,"CP9936 BALANCER 2.0-4.0KG 4.4-8.8LB","65 500,-Ft ","CP S.anyag","Ergonomics",3140,null,65500]
[{"$f":"IF(L2036=FALSE,0,COUNTIF(A$3:A2035,\">0\")+1)","v":0},8941099370,"CP9937 BALANCER 4.0-6.0KG 8.8-13.2LB","71 900,-Ft ","CP S.anyag","Ergonomics",3300,null,71900]
[{"$f":"IF(L2037=FALSE,0,COUNTIF(A$3:A2036,\">0\")+1)","v":0},8941099380,"CP9938 BALANCER 6.0-8.0KG 13.2-17.6LB","77 700,-Ft ","CP S.anyag","Ergonomics",3360,null,77700]
[{"$f":"IF(L2038=FALSE,0,COUNTIF(A$3:A2037,\">0\")+1)","v":0},8941099390,"CP9939 BALANCER 8.0-10.0KG 17.6-22.0LB","86 900,-Ft ","CP S.anyag","Ergonomics",3430,null,86900]
[{"$f":"IF(L2039=FALSE,0,COUNTIF(A$3:A2038,\">0\")+1)","v":0},8941099400,"CP9940 BALANCER 10.0-14.0KG 22.0-30.8LB","98 100,-Ft ","CP S.anyag","Ergonomics",3580,null,98100]
[{"$f":"IF(L2040=FALSE,0,COUNTIF(A$3:A2039,\">0\")+1)","v":0},8941099460,"CP9946 BALANCER+STOP2.0-4.0KG 4.4-8.8LB","75 300,-Ft ","CP S.anyag","Ergonomics",3140,null,75300]
[{"$f":"IF(L2041=FALSE,0,COUNTIF(A$3:A2040,\">0\")+1)","v":0},8941099470,"CP9947 BALANCER+STOP4.0-6.0KG 8.8-13.2LB","85 200,-Ft ","CP S.anyag","Ergonomics",3320,null,85200]
[{"$f":"IF(L2042=FALSE,0,COUNTIF(A$3:A2041,\">0\")+1)","v":0},8941099480,"CP9948 BALANCER+ST6.0-8.0KG 13.2-17.6LB","91 600,-Ft ","CP S.anyag","Ergonomics",3380,null,91600]
[{"$f":"IF(L2043=FALSE,0,COUNTIF(A$3:A2042,\">0\")+1)","v":0},8941099490,"CP9949 BALANCER+ST8.0-10.0KG 17.6-22.0LB","102 800,-Ft ","CP S.anyag","Ergonomics",3480,null,102800]
[{"$f":"IF(L2044=FALSE,0,COUNTIF(A$3:A2043,\">0\")+1)","v":0},8941099500,"CP9950 BALANCER+ST10.0-14.0KG22.0-30.8LB","118 400,-Ft ","CP S.anyag","Ergonomics",3620,null,118400]
[{"$f":"IF(L2045=FALSE,0,COUNTIF(A$3:A2044,\">0\")+1)","v":0},8941099540,"CP9954 BALANCER 4.0-7.0KG 8.8-15.4LB","162 200,-Ft ","CP S.anyag","Ergonomics",4940,null,162200]
[{"$f":"IF(L2046=FALSE,0,COUNTIF(A$3:A2045,\">0\")+1)","v":0},8941099550,"CP9955 BALANCER 7.0-10.0KG 15.4-22.0LB","162 200,-Ft ","CP S.anyag","Ergonomics",5300,null,162200]
[{"$f":"IF(L2047=FALSE,0,COUNTIF(A$3:A2046,\">0\")+1)","v":0},8941099560,"CP9956 BALANCER 10.0-14.0KG 22.0-30.8LB","171 600,-Ft ","CP S.anyag","Ergonomics",5670,null,171600]
[{"$f":"IF(L2048=FALSE,0,COUNTIF(A$3:A2047,\">0\")+1)","v":0},8941099570,"CP9957 BALANCER 14.0-18.0KG 30.8-39.7LB","171 600,-Ft ","CP S.anyag","Ergonomics",6260,null,171600]
[{"$f":"IF(L2049=FALSE,0,COUNTIF(A$3:A2048,\">0\")+1)","v":0},8941099580,"CP9958 BALANCER 18.0-22.0KG 39.7-48.5LB","181 100,-Ft ","CP S.anyag","Ergonomics",6770,null,181100]
[{"$f":"IF(L2050=FALSE,0,COUNTIF(A$3:A2049,\">0\")+1)","v":0},8941099590,"CP9959 BALANCER 22.0-25.0KG 48.5-55.1LB","181 100,-Ft ","CP S.anyag","Ergonomics",6530,null,181100]
[{"$f":"IF(L2051=FALSE,0,COUNTIF(A$3:A2050,\">0\")+1)","v":0},8941099640,"CP9964 BALANCER 25.0-30.0KG 55.1-66.1LB","298 200,-Ft ","CP S.anyag","Ergonomics",11230,null,298200]
[{"$f":"IF(L2052=FALSE,0,COUNTIF(A$3:A2051,\">0\")+1)","v":0},8941099650,"CP9965 BALANCER 30.0-35.0KG 66.1-77.2LB","323 000,-Ft ","CP S.anyag","Ergonomics",11320,null,323000]
[{"$f":"IF(L2053=FALSE,0,COUNTIF(A$3:A2052,\">0\")+1)","v":0},8941099660,"CP9966 BALANCER 35.0-45.0KG 77.2-99.2LB","323 000,-Ft ","CP S.anyag","Ergonomics",12210,null,323000]
[{"$f":"IF(L2054=FALSE,0,COUNTIF(A$3:A2053,\">0\")+1)","v":0},8941099670,"CP9967 BALANCER 45.0-55.0KG 99.2-121.2LB","380 000,-Ft ","CP S.anyag","Ergonomics",12210,null,380000]
[{"$f":"IF(L2055=FALSE,0,COUNTIF(A$3:A2054,\">0\")+1)","v":0},8941099680,"CP9968 BALANCER 55.0-65.0KG121.2-143.3LB","408 000,-Ft ","CP S.anyag","Ergonomics",13060,null,408000]
[{"$f":"IF(L2056=FALSE,0,COUNTIF(A$3:A2055,\">0\")+1)","v":0},8941099690,"CP9969 BALANCER 65.0-75.0KG143.3-165.3LB","464 000,-Ft ","CP S.anyag","Ergonomics",13060,null,464000]
[{"$f":"IF(L2057=FALSE,0,COUNTIF(A$3:A2056,\">0\")+1)","v":0},8941099700,"CP9970 BALANCER 75.0-90.0KG165.3-198.4LB","497 000,-Ft ","CP S.anyag","Ergonomics",16840,null,497000]
[{"$f":"IF(L2058=FALSE,0,COUNTIF(A$3:A2057,\">0\")+1)","v":0},8941099710,"CP9971 BALANCER90.0-105.0KG198.4-231.5LB",{"$f":"IF(H2058=\"C\",IF(J2058>0,\"C #: \"&TEXT(J2058*I$1,\"# ###,-Ft  \"),\"C #: \"&TEXT(I2058*I$1,\"# ###,-Ft\")),IF(J2058>0,\"TOPS* \"&TEXT(J2058*J$1,\"# ###,-Ft\"),TEXT(I2058*I$1,\"# ###,-Ft  \")))","v":"C #: 503 000,-Ft"},"CP S.anyag","Ergonomics",17770,"C",503000]
[{"$f":"IF(L2059=FALSE,0,COUNTIF(A$3:A2058,\">0\")+1)","v":0},8940164490,"CUTTING WHEEL 2\" (SET OF 5)","5 810,-Ft ","CP S.anyag","Removal",28,null,5810]
[{"$f":"IF(L2060=FALSE,0,COUNTIF(A$3:A2059,\">0\")+1)","v":0},"CA155312","CUTTING WHEEL 75X2X10 (SET OF 5)","STARS* 5 920,-Ft","CP S.anyag","Removal",88,null,6850,5920]
[{"$f":"IF(L2061=FALSE,0,COUNTIF(A$3:A2060,\">0\")+1)","v":0},"CA155782","DIAMOND POINT SHANK HEX .401\"","3 040,-Ft ","CP S.anyag","Chisels and Needles",167,null,3040]
[{"$f":"IF(L2062=FALSE,0,COUNTIF(A$3:A2061,\">0\")+1)","v":0},"WP123995","DIAMOND POINT SHANK ISO SQUARE 1/2\"","11 300,-Ft ","CP S.anyag","Chisels and Needles",163,null,11300]
[{"$f":"IF(L2063=FALSE,0,COUNTIF(A$3:A2062,\">0\")+1)","v":0},"P073223","DIAMOND POINT SHANK QTR. OCT. WF 1/2\"","13 060,-Ft ","CP S.anyag","Chisels and Needles",148,null,13060]
[{"$f":"IF(L2064=FALSE,0,COUNTIF(A$3:A2063,\">0\")+1)","v":0},"A046064","DIAMOND POINT SHANK ROUND .401\"","2 650,-Ft ","CP S.anyag","Chisels and Needles",176,null,2650]
[{"$f":"IF(L2065=FALSE,0,COUNTIF(A$3:A2064,\">0\")+1)","v":0},8940163495,"DUST BAG UNIT (SV)","Kifutó, érdeklődj!","CP S.anyag","Removal",42,null,5040]
[{"$f":"IF(L2066=FALSE,0,COUNTIF(A$3:A2065,\">0\")+1)","v":0},8940169363,"E1010 1-1/2\" DR X 10\" EXTENSION BAR",{"$f":"IF(H2066=\"SP\",IF(J2066>0,\"SP: \"&TEXT(J2066*I$1,\"# ###,-Ft  \"),\"SP: \"&TEXT(I2066*I$1,\"# ###,-Ft\")),IF(J2066>0,\"STARS* \"&TEXT(J2066*J$1,\"# ###,-Ft\"),TEXT(I2066*I$1,\"# ###,-Ft  \")))","v":"93 300,-Ft "},"CP S.anyag","Impact Socket",5004,null,93300]
[{"$f":"IF(L2067=FALSE,0,COUNTIF(A$3:A2066,\">0\")+1)","v":0},8940169362,"E105 1-1/2\" DR X 5\" EXTENSION BAR",{"$f":"IF(H2067=\"SP\",IF(J2067>0,\"SP: \"&TEXT(J2067*I$1,\"# ###,-Ft  \"),\"SP: \"&TEXT(I2067*I$1,\"# ###,-Ft\")),IF(J2067>0,\"STARS* \"&TEXT(J2067*J$1,\"# ###,-Ft\"),TEXT(I2067*I$1,\"# ###,-Ft  \")))","v":"66 200,-Ft "},"CP S.anyag","Impact Socket",3110,null,66200]
[{"$f":"IF(L2068=FALSE,0,COUNTIF(A$3:A2067,\">0\")+1)","v":0},8940165985,"E31-34 3/8 DR 1-3/4\" EXTENSION BAR",{"$f":"IF(H2068=\"SP\",IF(J2068>0,\"SP: \"&TEXT(J2068*I$1,\"# ###,-Ft  \"),\"SP: \"&TEXT(I2068*I$1,\"# ###,-Ft\")),IF(J2068>0,\"STARS* \"&TEXT(J2068*J$1,\"# ###,-Ft\"),TEXT(I2068*I$1,\"# ###,-Ft  \")))","v":",-Ft "},"CP S.anyag","Impact Socket",51]
[{"$f":"IF(L2069=FALSE,0,COUNTIF(A$3:A2068,\">0\")+1)","v":0},8940165986,"E33 3/8 DR 3\" EXTENSION BAR","2 400,-Ft ","CP S.anyag","Impact Socket",79,null,2400]
[{"$f":"IF(L2070=FALSE,0,COUNTIF(A$3:A2069,\">0\")+1)","v":0},8940165987,"E36 3/8 DR 6\" EXTENSION BAR","4 120,-Ft ","CP S.anyag","Impact Socket",147,null,4120]
[{"$f":"IF(L2071=FALSE,0,COUNTIF(A$3:A2070,\">0\")+1)","v":0},8940165997,"E410 1/2 DR 10\" EXTENSION BAR","8 590,-Ft ","CP S.anyag","Impact Socket",438,null,8590]
[{"$f":"IF(L2072=FALSE,0,COUNTIF(A$3:A2071,\">0\")+1)","v":0},8940165994,"E43 1/2 DR 3\" EXTENSION BAR","3 080,-Ft ","CP S.anyag","Impact Socket",144,null,3080]
[{"$f":"IF(L2073=FALSE,0,COUNTIF(A$3:A2072,\">0\")+1)","v":0},8940165995,"E45 1/2 5\" EXTENSION BAR","3 740,-Ft ","CP S.anyag","Impact Socket",232,null,3740]
[{"$f":"IF(L2074=FALSE,0,COUNTIF(A$3:A2073,\">0\")+1)","v":0},8940165996,"E47 1/2 DR 7\" EXTENSION BAR","7 560,-Ft ","CP S.anyag","Impact Socket",310,null,7560]
[{"$f":"IF(L2075=FALSE,0,COUNTIF(A$3:A2074,\">0\")+1)","v":0},8940166006,"E610 3/4 DR 10\" EXTENSION BAR","13 770,-Ft ","CP S.anyag","Impact Socket",1206,null,13770]
[{"$f":"IF(L2076=FALSE,0,COUNTIF(A$3:A2075,\">0\")+1)","v":0},8940166007,"E613 3/4 DR 13\" EXTENSION BAR","15 800,-Ft ","CP S.anyag","Impact Socket",1501,null,15800]
[{"$f":"IF(L2077=FALSE,0,COUNTIF(A$3:A2076,\">0\")+1)","v":0},8940166004,"E63 3/4 DR 3\" EXTENSION BAR","5 510,-Ft ","CP S.anyag","Impact Socket",518,null,5510]
[{"$f":"IF(L2078=FALSE,0,COUNTIF(A$3:A2077,\">0\")+1)","v":0},8940166005,"E67 3/4 DR 7\" EXTENSION BAR","12 000,-Ft ","CP S.anyag","Impact Socket",918,null,12000]
[{"$f":"IF(L2079=FALSE,0,COUNTIF(A$3:A2078,\">0\")+1)","v":0},8940166013,"E810 1\" DR 10\" EXTENSION BAR","27 660,-Ft ","CP S.anyag","Impact Socket",2064,null,27660]
[{"$f":"IF(L2080=FALSE,0,COUNTIF(A$3:A2079,\">0\")+1)","v":0},8940166014,"E813 1\" DR 13\" EXTENSION BAR","36 530,-Ft ","CP S.anyag","Impact Socket",2553,null,36530]
[{"$f":"IF(L2081=FALSE,0,COUNTIF(A$3:A2080,\">0\")+1)","v":0},8940166011,"E83 1\" DR 3\" EXTENSION BAR","17 860,-Ft ","CP S.anyag","Impact Socket",719,null,17860]
[{"$f":"IF(L2082=FALSE,0,COUNTIF(A$3:A2081,\">0\")+1)","v":0},8940166012,"E87 1\" DR 7\" EXTENSION BAR","22 690,-Ft ","CP S.anyag","Impact Socket",1510,null,22690]
[{"$f":"IF(L2083=FALSE,0,COUNTIF(A$3:A2082,\">0\")+1)","v":0},"A046076","EDGING CHISEL SHANK ROUND .401\"","11 300,-Ft ","CP S.anyag","Chisels and Needles",131,null,11300]
[{"$f":"IF(L2084=FALSE,0,COUNTIF(A$3:A2083,\">0\")+1)","v":0},8940169921,"EFFI MAX 3/8\" 10x13mm 20m","STARS* 53 000,-Ft","CP S.anyag","Air Line & Electric Supply",2920,null,82100,53000]
[{"$f":"IF(L2085=FALSE,0,COUNTIF(A$3:A2084,\">0\")+1)","v":0},6152505160,"ENCLUME B19M","16 810,-Ft ","CP S.anyag","Removal",284,null,16810]
[{"$f":"IF(L2086=FALSE,0,COUNTIF(A$3:A2085,\">0\")+1)","v":0},8940170472,"FILTER ELEMENT 0,01","17 860,-Ft ","CP S.anyag","Air Line & Electric Supply",65,null,17860]
[{"$f":"IF(L2087=FALSE,0,COUNTIF(A$3:A2086,\">0\")+1)","v":0},2050500103,"FINGER PAD","2 400,-Ft ","CP S.anyag","Removal",35,null,2400]
[{"$f":"IF(L2088=FALSE,0,COUNTIF(A$3:A2087,\">0\")+1)","v":0},8940169458,"FITTING 3/4\"M BSP","6 630,-Ft ","CP S.anyag","Air Line & Electric Supply",104,null,6630]
[{"$f":"IF(L2089=FALSE,0,COUNTIF(A$3:A2088,\">0\")+1)","v":0},8940169454,"FITTING CRB  12-14FM",{"$f":"IF(H2089=\"SP\",IF(J2089>0,\"SP: \"&TEXT(J2089*I$1,\"# ###,-Ft  \"),\"SP: \"&TEXT(I2089*I$1,\"# ###,-Ft\")),IF(J2089>0,\"STARS* \"&TEXT(J2089*J$1,\"# ###,-Ft\"),TEXT(I2089*I$1,\"# ###,-Ft  \")))","v":"1 370,-Ft "},"CP S.anyag","Air Line & Electric Supply",46,null,1370]
[{"$f":"IF(L2090=FALSE,0,COUNTIF(A$3:A2089,\">0\")+1)","v":0},8940169452,"FITTING CRB 14-18FM",{"$f":"IF(H2090=\"SP\",IF(J2090>0,\"SP: \"&TEXT(J2090*I$1,\"# ###,-Ft  \"),\"SP: \"&TEXT(I2090*I$1,\"# ###,-Ft\")),IF(J2090>0,\"STARS* \"&TEXT(J2090*J$1,\"# ###,-Ft\"),TEXT(I2090*I$1,\"# ###,-Ft  \")))","v":"660,-Ft "},"CP S.anyag","Air Line & Electric Supply",22,null,660]
[{"$f":"IF(L2091=FALSE,0,COUNTIF(A$3:A2090,\">0\")+1)","v":0},8940169427,"FITTING L 3/8FF",{"$f":"IF(H2091=\"SP\",IF(J2091>0,\"SP: \"&TEXT(J2091*I$1,\"# ###,-Ft  \"),\"SP: \"&TEXT(I2091*I$1,\"# ###,-Ft\")),IF(J2091>0,\"STARS* \"&TEXT(J2091*J$1,\"# ###,-Ft\"),TEXT(I2091*I$1,\"# ###,-Ft  \")))","v":",-Ft "},"CP S.anyag","Air Line & Electric Supply",0]
[{"$f":"IF(L2092=FALSE,0,COUNTIF(A$3:A2091,\">0\")+1)","v":0},6150411140,"FLAT CHISEL SHANK FLATNOSE 9,5MM",{"$f":"IF(H2092=\"SP\",IF(J2092>0,\"SP: \"&TEXT(J2092*I$1,\"# ###,-Ft  \"),\"SP: \"&TEXT(I2092*I$1,\"# ###,-Ft\")),IF(J2092>0,\"STARS* \"&TEXT(J2092*J$1,\"# ###,-Ft\"),TEXT(I2092*I$1,\"# ###,-Ft  \")))","v":"21 630,-Ft "},"CP S.anyag","Chisels and Needles",99,null,21630]
[{"$f":"IF(L2093=FALSE,0,COUNTIF(A$3:A2092,\">0\")+1)","v":0},6150411200,"FLAT CHISEL SHANK FLATNOSE 9,5MM","27 660,-Ft ","CP S.anyag","Chisels and Needles",127,null,27660]
[{"$f":"IF(L2094=FALSE,0,COUNTIF(A$3:A2093,\">0\")+1)","v":0},"CA155786","FLAT CHISEL SHANK HEX .401\"","2 730,-Ft ","CP S.anyag","Chisels and Needles",180,null,2730]
[{"$f":"IF(L2095=FALSE,0,COUNTIF(A$3:A2094,\">0\")+1)","v":0},6150461180,"FLAT CHISEL SHANK HEX 12,5MM","16 150,-Ft ","CP S.anyag","Chisels and Needles",258,null,16150]
[{"$f":"IF(L2096=FALSE,0,COUNTIF(A$3:A2095,\">0\")+1)","v":0},6158040890,"FLAT CHISEL SHANK HEX 12,5MM","18 210,-Ft ","CP S.anyag","Chisels and Needles",357,null,18210]
[{"$f":"IF(L2097=FALSE,0,COUNTIF(A$3:A2096,\">0\")+1)","v":0},6158040900,"FLAT CHISEL SHANK HEX 12,5MM","23 720,-Ft ","CP S.anyag","Chisels and Needles",736,null,23720]
[{"$f":"IF(L2098=FALSE,0,COUNTIF(A$3:A2097,\">0\")+1)","v":0},6158044310,"FLAT CHISEL SHANK HEX 12,5MM","17 500,-Ft ","CP S.anyag","Chisels and Needles",450,null,17500]
[{"$f":"IF(L2099=FALSE,0,COUNTIF(A$3:A2098,\">0\")+1)","v":0},6158044400,"FLAT CHISEL SHANK HEX 12,5MM","23 020,-Ft ","CP S.anyag","Chisels and Needles",603,null,23020]
[{"$f":"IF(L2100=FALSE,0,COUNTIF(A$3:A2099,\">0\")+1)","v":0},6158040950,"FLAT CHISEL SHANK HEX 3/4\"","12 720,-Ft ","CP S.anyag","Chisels and Needles",700,null,12720]
[{"$f":"IF(L2101=FALSE,0,COUNTIF(A$3:A2100,\">0\")+1)","v":0},6158040960,"FLAT CHISEL SHANK HEX 3/4\"","18 880,-Ft ","CP S.anyag","Chisels and Needles",1184,null,18880]
[{"$f":"IF(L2102=FALSE,0,COUNTIF(A$3:A2101,\">0\")+1)","v":0},6158044420,"FLAT CHISEL SHANK HEX 5/8\"","41 660,-Ft ","CP S.anyag","Chisels and Needles",668,null,41660]
[{"$f":"IF(L2103=FALSE,0,COUNTIF(A$3:A2102,\">0\")+1)","v":0},6150029000,"FLAT CHISEL SHANK HEX 5/8\"ATEX","169 600,-Ft ","CP S.anyag","Chisels and Needles",370,null,169600]
[{"$f":"IF(L2104=FALSE,0,COUNTIF(A$3:A2103,\">0\")+1)","v":0},2050512803,"FLAT CHISEL SHANK ISO SQUARE 1/2\"","9 620,-Ft ","CP S.anyag","Chisels and Needles",174,null,9620]
[{"$f":"IF(L2105=FALSE,0,COUNTIF(A$3:A2104,\">0\")+1)","v":0},"WP123996","FLAT CHISEL SHANK ISO SQUARE 1/2\"","11 300,-Ft ","CP S.anyag","Chisels and Needles",193,null,11300]
[{"$f":"IF(L2106=FALSE,0,COUNTIF(A$3:A2105,\">0\")+1)","v":0},"WP123997","FLAT CHISEL SHANK ISO SQUARE 1/2\"","13 380,-Ft ","CP S.anyag","Chisels and Needles",88,null,13380]
[{"$f":"IF(L2107=FALSE,0,COUNTIF(A$3:A2106,\">0\")+1)","v":0},6158044430,"FLAT CHISEL SHANK QTR. OCT. WF 1/2\"","22 300,-Ft ","CP S.anyag","Chisels and Needles",187,null,22300]
[{"$f":"IF(L2108=FALSE,0,COUNTIF(A$3:A2107,\">0\")+1)","v":0},6158046180,"FLAT CHISEL SHANK QTR. OCT. WF 1/2\"","22 300,-Ft ","CP S.anyag","Chisels and Needles",187,null,22300]
[{"$f":"IF(L2109=FALSE,0,COUNTIF(A$3:A2108,\">0\")+1)","v":0},6158046200,"FLAT CHISEL SHANK QTR. OCT. WF 1/2\"","24 750,-Ft ","CP S.anyag","Chisels and Needles",281,null,24750]
[{"$f":"IF(L2110=FALSE,0,COUNTIF(A$3:A2109,\">0\")+1)","v":0},"P073225","FLAT CHISEL SHANK QTR. OCT. WF 1/2\"","19 250,-Ft ","CP S.anyag","Chisels and Needles",217,null,19250]
[{"$f":"IF(L2111=FALSE,0,COUNTIF(A$3:A2110,\">0\")+1)","v":0},"A046073","FLAT CHISEL SHANK ROUND .401\"","3 170,-Ft ","CP S.anyag","Chisels and Needles",185,null,3170]
[{"$f":"IF(L2112=FALSE,0,COUNTIF(A$3:A2111,\">0\")+1)","v":0},"A046080","FLAT CHISEL SHANK ROUND .401\"","14 060,-Ft ","CP S.anyag","Chisels and Needles",440,null,14060]
[{"$f":"IF(L2113=FALSE,0,COUNTIF(A$3:A2112,\">0\")+1)","v":0},"A047073","FLAT CHISEL SHANK ROUND .498\"","12 360,-Ft ","CP S.anyag","Chisels and Needles",236,null,12360]
[{"$f":"IF(L2114=FALSE,0,COUNTIF(A$3:A2113,\">0\")+1)","v":0},6150451180,"FLAT CHISEL SHANK ROUND 15MM","16 490,-Ft ","CP S.anyag","Chisels and Needles",271,null,16490]
[{"$f":"IF(L2115=FALSE,0,COUNTIF(A$3:A2114,\">0\")+1)","v":0},6158040880,"FLAT CHISEL SHANK ROUND 15MM","18 210,-Ft ","CP S.anyag","Chisels and Needles",329,null,18210]
[{"$f":"IF(L2116=FALSE,0,COUNTIF(A$3:A2115,\">0\")+1)","v":0},6150401150,"FLAT CHISEL SHANK ROUND 9,5MM","17 860,-Ft ","CP S.anyag","Chisels and Needles",74,null,17860]
[{"$f":"IF(L2117=FALSE,0,COUNTIF(A$3:A2116,\">0\")+1)","v":0},6153980385,"FRL 3/4 KIT","188 200,-Ft ","CP S.anyag","Air Line & Electric Supply",0,null,188200]
[{"$f":"IF(L2118=FALSE,0,COUNTIF(A$3:A2117,\">0\")+1)","v":0},8940169114,"FRL PORTABLE STAND",",-Ft ","CP S.anyag","Air Line & Electric Supply",5802]
[{"$f":"IF(L2119=FALSE,0,COUNTIF(A$3:A2118,\">0\")+1)","v":0},8940158618,"GLOVE-LARGE","STARS* 11 410,-Ft","CP S.anyag","Ergonomics",136,null,16290,11410]
[{"$f":"IF(L2120=FALSE,0,COUNTIF(A$3:A2119,\">0\")+1)","v":0},8940171574,"GLOVE-MEDIUM","Kifutó, érdeklődj!","CP S.anyag","Ergonomics",136,null,16290]
[{"$f":"IF(L2121=FALSE,0,COUNTIF(A$3:A2120,\">0\")+1)","v":0},8940158619,"GLOVE-X-LARGE",{"$f":"IF(H2121=\"SP\",IF(J2121>0,\"SP: \"&TEXT(J2121*I$1,\"# ###,-Ft  \"),\"SP: \"&TEXT(I2121*I$1,\"# ###,-Ft\")),IF(J2121>0,\"STARS* \"&TEXT(J2121*J$1,\"# ###,-Ft\"),TEXT(I2121*I$1,\"# ###,-Ft  \")))","v":"STARS* 11 410,-Ft"},"CP S.anyag","Ergonomics",160,null,16290,11410]
[{"$f":"IF(L2122=FALSE,0,COUNTIF(A$3:A2121,\">0\")+1)","v":0},8940171573,"GLOVE-XX-LARGE","Kifutó, érdeklődj!","CP S.anyag","Ergonomics",150,null,16290]
[{"$f":"IF(L2123=FALSE,0,COUNTIF(A$3:A2122,\">0\")+1)","v":0},"C098689","GREASE GUN",{"$f":"IF(H2123=\"SP\",IF(J2123>0,\"SP: \"&TEXT(J2123*I$1,\"# ###,-Ft  \"),\"SP: \"&TEXT(I2123*I$1,\"# ###,-Ft\")),IF(J2123>0,\"STARS* \"&TEXT(J2123*J$1,\"# ###,-Ft\"),TEXT(I2123*I$1,\"# ###,-Ft  \")))","v":"STARS* 5 130,-Ft"},"CP S.anyag","Air Line & Electric Supply",310,null,9620,5130]
[{"$f":"IF(L2124=FALSE,0,COUNTIF(A$3:A2123,\">0\")+1)","v":0},8940158455,"GREASE PNEU-LUBE 100GM TUBE","STARS* 26 350,-Ft","CP S.anyag","Air Line & Electric Supply",112,null,30850,26350]
[{"$f":"IF(L2125=FALSE,0,COUNTIF(A$3:A2124,\">0\")+1)","v":0},8940158456,"GREASE PNEU-LUBE 400 GM CARTRIDGE","STARS* 41 890,-Ft","CP S.anyag","Air Line & Electric Supply",453,null,51090,41890]
[{"$f":"IF(L2126=FALSE,0,COUNTIF(A$3:A2125,\">0\")+1)","v":0},8940162770,"GRINDING WHEEL 2\" #120 (SET OF 5)","8 590,-Ft ","CP S.anyag","Removal",97,null,8590]
[{"$f":"IF(L2127=FALSE,0,COUNTIF(A$3:A2126,\">0\")+1)","v":0},8940162768,"GRINDING WHEEL 2\" #60 (SET OF 5)","8 920,-Ft ","CP S.anyag","Removal",104,null,8920]
[{"$f":"IF(L2128=FALSE,0,COUNTIF(A$3:A2127,\">0\")+1)","v":0},8940162769,"GRINDING WHEEL 2\" #80 (SET OF 5)","8 590,-Ft ","CP S.anyag","Removal",101,null,8590]
[{"$f":"IF(L2129=FALSE,0,COUNTIF(A$3:A2128,\">0\")+1)","v":0},6151740170,"GV5",{"$f":"IF(H2129=\"C\",IF(J2129>0,\"C #: \"&TEXT(J2129*I$1,\"# ###,-Ft  \"),\"C #: \"&TEXT(I2129*I$1,\"# ###,-Ft\")),IF(J2129>0,\"TOPS* \"&TEXT(J2129*J$1,\"# ###,-Ft\"),TEXT(I2129*I$1,\"# ###,-Ft  \")))","v":"C #: 547 000,-Ft"},"CP Termék","Ind Hammers Various",5613,"C",547000]
[{"$f":"IF(L2130=FALSE,0,COUNTIF(A$3:A2129,\">0\")+1)","v":0},6158020560,"HEXAGON WRENCH 6MM A/F","1 370,-Ft ","CP S.anyag","Removal",31,null,1370]
[{"$f":"IF(L2131=FALSE,0,COUNTIF(A$3:A2130,\">0\")+1)","v":0},2050489723,"HOSE 2 METRES",{"$f":"IF(H2131=\"SP\",IF(J2131>0,\"SP: \"&TEXT(J2131*I$1,\"# ###,-Ft  \"),\"SP: \"&TEXT(I2131*I$1,\"# ###,-Ft\")),IF(J2131>0,\"STARS* \"&TEXT(J2131*J$1,\"# ###,-Ft\"),TEXT(I2131*I$1,\"# ###,-Ft  \")))","v":"15 580,-Ft "},"CP S.anyag","Air Line & Electric Supply",39,null,15580]
[{"$f":"IF(L2132=FALSE,0,COUNTIF(A$3:A2131,\">0\")+1)","v":0},"CA127175","HOSE ASSY-EXHAUST","36 210,-Ft ","CP S.anyag","Removal",451,null,36210]
[{"$f":"IF(L2133=FALSE,0,COUNTIF(A$3:A2132,\">0\")+1)","v":0},6158109000,"HOSE EFFI MAX 13X18.6MM 20M","STARS* 53 000,-Ft","CP S.anyag","Air Line & Electric Supply",4495,null,82100,53000]
[{"$f":"IF(L2134=FALSE,0,COUNTIF(A$3:A2133,\">0\")+1)","v":0},6158109010,"HOSE EFFI MAX 16X22.5MM 20M","STARS* 72 300,-Ft","CP S.anyag","Air Line & Electric Supply",5286,null,103200,72300]
[{"$f":"IF(L2135=FALSE,0,COUNTIF(A$3:A2134,\">0\")+1)","v":0},6158109020,"HOSE EFFI MAX 20X26.1MM 20M","STARS* 72 300,-Ft","CP S.anyag","Air Line & Electric Supply",5582,null,107500,72300]
[{"$f":"IF(L2136=FALSE,0,COUNTIF(A$3:A2135,\">0\")+1)","v":0},6158108470,"HOSE EFFI PVC 06X09MM 30M","20 270,-Ft ","CP S.anyag","Air Line & Electric Supply",1368,null,20270]
[{"$f":"IF(L2137=FALSE,0,COUNTIF(A$3:A2136,\">0\")+1)","v":0},6158108480,"HOSE EFFI PVC 08X10.5MM 30M","21 320,-Ft ","CP S.anyag","Air Line & Electric Supply",2068,null,21320]
[{"$f":"IF(L2138=FALSE,0,COUNTIF(A$3:A2137,\">0\")+1)","v":0},6158108490,"HOSE EFFI PVC 10X13MM 30M","28 680,-Ft ","CP S.anyag","Air Line & Electric Supply",2109,null,28680]
[{"$f":"IF(L2139=FALSE,0,COUNTIF(A$3:A2138,\">0\")+1)","v":0},6158108500,"HOSE EFFI PVC 13X16.5MM 30M","39 190,-Ft ","CP S.anyag","Air Line & Electric Supply",3537,null,39190]
[{"$f":"IF(L2140=FALSE,0,COUNTIF(A$3:A2139,\">0\")+1)","v":0},6158108510,"HOSE EFFI PVC 16X21MM 30M",",-Ft ","CP S.anyag","Air Line & Electric Supply",5685]
[{"$f":"IF(L2141=FALSE,0,COUNTIF(A$3:A2140,\">0\")+1)","v":0},6158108520,"HOSE EFFI PVC 20X24MM 30M","61 100,-Ft ","CP S.anyag","Air Line & Electric Supply",7300,null,61100]
[{"$f":"IF(L2142=FALSE,0,COUNTIF(A$3:A2141,\">0\")+1)","v":0},6158108430,"HOSE EFFI PVC ESD 06X11MM 30M",{"$f":"IF(H2142=\"SP\",IF(J2142>0,\"SP: \"&TEXT(J2142*I$1,\"# ###,-Ft  \"),\"SP: \"&TEXT(I2142*I$1,\"# ###,-Ft\")),IF(J2142>0,\"STARS* \"&TEXT(J2142*J$1,\"# ###,-Ft\"),TEXT(I2142*I$1,\"# ###,-Ft  \")))","v":"62 800,-Ft "},"CP S.anyag","Air Line & Electric Supply",2470,null,62800]
[{"$f":"IF(L2143=FALSE,0,COUNTIF(A$3:A2142,\">0\")+1)","v":0},6158108440,"HOSE EFFI PVC ESD 08X12MM 30M","63 500,-Ft ","CP S.anyag","Air Line & Electric Supply",2672,null,63500]
[{"$f":"IF(L2144=FALSE,0,COUNTIF(A$3:A2143,\">0\")+1)","v":0},6158108450,"HOSE EFFI PVC ESD 10X14MM 30M",",-Ft ","CP S.anyag","Air Line & Electric Supply",3113]
[{"$f":"IF(L2145=FALSE,0,COUNTIF(A$3:A2144,\">0\")+1)","v":0},6158108460,"HOSE EFFI PVC ESD 13X18MM 30M","73 600,-Ft ","CP S.anyag","Air Line & Electric Supply",5276,null,73600]
[{"$f":"IF(L2146=FALSE,0,COUNTIF(A$3:A2145,\">0\")+1)","v":0},6158046280,"HOSE KIT PUR 08X12MM 8M (5/16\"ID) BSP","22 690,-Ft ","CP S.anyag","Air Line & Electric Supply",620,null,22690]
[{"$f":"IF(L2147=FALSE,0,COUNTIF(A$3:A2146,\">0\")+1)","v":0},6158112140,"HOSE KIT PUR 08X12MM 8M (5/16\"ID)1/4 NPT","22 690,-Ft ","CP S.anyag","Air Line & Electric Supply",676,null,22690]
[{"$f":"IF(L2148=FALSE,0,COUNTIF(A$3:A2147,\">0\")+1)","v":0},6158112380,"HOSE KIT PUR 10X13MM 8M (3/8\"ID) 3/8 BSP","25 770,-Ft ","CP S.anyag","Air Line & Electric Supply",668,null,25770]
[{"$f":"IF(L2149=FALSE,0,COUNTIF(A$3:A2148,\">0\")+1)","v":0},6158112400,"HOSE KIT PUR 10X13MM 8M (3/8\"ID) 3/8 NPT","25 770,-Ft ","CP S.anyag","Air Line & Electric Supply",648,null,25770]
[{"$f":"IF(L2150=FALSE,0,COUNTIF(A$3:A2149,\">0\")+1)","v":0},6158046290,"HOSE KIT PUR 10X13MM 8M (3/8\"ID) BSP","25 770,-Ft ","CP S.anyag","Air Line & Electric Supply",635,null,25770]
[{"$f":"IF(L2151=FALSE,0,COUNTIF(A$3:A2150,\">0\")+1)","v":0},6158112160,"HOSE KIT PUR 13X18MM 8M (1/2\"ID) 1/2 NPT","38 600,-Ft ","CP S.anyag","Air Line & Electric Supply",1244,null,38600]
[{"$f":"IF(L2152=FALSE,0,COUNTIF(A$3:A2151,\">0\")+1)","v":0},6158046300,"HOSE KIT PUR 13X18MM 8M (1/2\"ID) 1/2BSP","38 600,-Ft ","CP S.anyag","Air Line & Electric Supply",380,null,38600]
[{"$f":"IF(L2153=FALSE,0,COUNTIF(A$3:A2152,\">0\")+1)","v":0},6158112390,"HOSE KIT PUR 13X18MM 8M (1/2\"ID) 3/8 BSP","38 600,-Ft ","CP S.anyag","Air Line & Electric Supply",0,null,38600]
[{"$f":"IF(L2154=FALSE,0,COUNTIF(A$3:A2153,\">0\")+1)","v":0},6158112410,"HOSE KIT PUR 13X18MM 8M (1/2\"ID) 3/8 NPT","38 600,-Ft ","CP S.anyag","Air Line & Electric Supply",0,null,38600]
[{"$f":"IF(L2155=FALSE,0,COUNTIF(A$3:A2154,\">0\")+1)","v":0},6158046270,"HOSE KIT PUR 6.5X10MM 8M (1/4\"ID) BSP","18 560,-Ft ","CP S.anyag","Air Line & Electric Supply",475,null,18560]
[{"$f":"IF(L2156=FALSE,0,COUNTIF(A$3:A2155,\">0\")+1)","v":0},6158112130,"HOSE KIT PUR 6.5X10MM 8M (1/4\"ID)1/4 NPT","18 560,-Ft ","CP S.anyag","Air Line & Electric Supply",0,null,18560]
[{"$f":"IF(L2157=FALSE,0,COUNTIF(A$3:A2156,\">0\")+1)","v":0},6158112670,"HOSE KIT RUB 18X24MM 8M (5/8\"ID) 1/2 BSP","62 000,-Ft ","CP S.anyag","Air Line & Electric Supply",2546,null,62000]
[{"$f":"IF(L2158=FALSE,0,COUNTIF(A$3:A2157,\">0\")+1)","v":0},6158112680,"HOSE KIT RUB 18X24MM 8M (5/8\"ID) 1/2 NPT","63 300,-Ft ","CP S.anyag","Air Line & Electric Supply",2500,null,63300]
[{"$f":"IF(L2159=FALSE,0,COUNTIF(A$3:A2158,\">0\")+1)","v":0},"P043886","HOSE PUR 05X09MM 2.5M G1/4-G1/8 NPT","9 950,-Ft ","CP S.anyag","Air Line & Electric Supply",160,null,9950]
[{"$f":"IF(L2160=FALSE,0,COUNTIF(A$3:A2159,\">0\")+1)","v":0},6158046230,"HOSE PUR 06.5X10MM 25M","27 130,-Ft ","CP S.anyag","Air Line & Electric Supply",1340,null,27130]
[{"$f":"IF(L2161=FALSE,0,COUNTIF(A$3:A2160,\">0\")+1)","v":0},6158046240,"HOSE PUR 08X12MM 25M","STARS* 28 330,-Ft","CP S.anyag","Air Line & Electric Supply",1785,null,37210,28330]
[{"$f":"IF(L2162=FALSE,0,COUNTIF(A$3:A2161,\">0\")+1)","v":0},6158046250,"HOSE PUR 10X14MM 25M","STARS* 39 100,-Ft","CP S.anyag","Air Line & Electric Supply",1775,null,44700,39100]
[{"$f":"IF(L2163=FALSE,0,COUNTIF(A$3:A2162,\">0\")+1)","v":0},6158046260,"HOSE PUR 13X18MM 25M","STARS* 52 130,-Ft","CP S.anyag","Air Line & Electric Supply",3575,null,70900,52130]
[{"$f":"IF(L2164=FALSE,0,COUNTIF(A$3:A2163,\">0\")+1)","v":0},6158108540,"HOSE PVC 03X07MM 30M","11 300,-Ft ","CP S.anyag","Air Line & Electric Supply",0,null,11300]
[{"$f":"IF(L2165=FALSE,0,COUNTIF(A$3:A2164,\">0\")+1)","v":0},6158108550,"HOSE PVC 05X09MM 30M","13 380,-Ft ","CP S.anyag","Air Line & Electric Supply",0,null,13380]
[{"$f":"IF(L2166=FALSE,0,COUNTIF(A$3:A2165,\">0\")+1)","v":0},6158108580,"HOSE PVC 10X14MM 30M",{"$f":"IF(H2166=\"SP\",IF(J2166>0,\"SP: \"&TEXT(J2166*I$1,\"# ###,-Ft  \"),\"SP: \"&TEXT(I2166*I$1,\"# ###,-Ft\")),IF(J2166>0,\"STARS* \"&TEXT(J2166*J$1,\"# ###,-Ft\"),TEXT(I2166*I$1,\"# ###,-Ft  \")))","v":"19 250,-Ft "},"CP S.anyag","Air Line & Electric Supply",3296,null,19250]
[{"$f":"IF(L2167=FALSE,0,COUNTIF(A$3:A2166,\">0\")+1)","v":0},6158108590,"HOSE PVC 13X18MM 30M","25 770,-Ft ","CP S.anyag","Air Line & Electric Supply",5007,null,25770]
[{"$f":"IF(L2168=FALSE,0,COUNTIF(A$3:A2167,\">0\")+1)","v":0},6158108600,"HOSE PVC 16X22MM 30M","37 650,-Ft ","CP S.anyag","Air Line & Electric Supply",7136,null,37650]
[{"$f":"IF(L2169=FALSE,0,COUNTIF(A$3:A2168,\">0\")+1)","v":0},6158108610,"HOSE PVC 20X25MM 30M","44 060,-Ft ","CP S.anyag","Air Line & Electric Supply",8100,null,44060]
[{"$f":"IF(L2170=FALSE,0,COUNTIF(A$3:A2169,\">0\")+1)","v":0},6158108620,"HOSE PVC 25X32MM 30M","59 400,-Ft ","CP S.anyag","Air Line & Electric Supply",0,null,59400]
[{"$f":"IF(L2171=FALSE,0,COUNTIF(A$3:A2170,\">0\")+1)","v":0},8941094352,"HOSE REEL CP9445H 3/8 HD 50FT 15M","163 900,-Ft ","CP S.anyag","Air Line & Electric Supply",22562,null,163900]
[{"$f":"IF(L2172=FALSE,0,COUNTIF(A$3:A2171,\">0\")+1)","v":0},6158108640,"HOSE RUBBER  10X16MM 20M",{"$f":"IF(H2172=\"SP\",IF(J2172>0,\"SP: \"&TEXT(J2172*I$1,\"# ###,-Ft  \"),\"SP: \"&TEXT(I2172*I$1,\"# ###,-Ft\")),IF(J2172>0,\"STARS* \"&TEXT(J2172*J$1,\"# ###,-Ft\"),TEXT(I2172*I$1,\"# ###,-Ft  \")))","v":"33 460,-Ft "},"CP S.anyag","Air Line & Electric Supply",3142,null,33460]
[{"$f":"IF(L2173=FALSE,0,COUNTIF(A$3:A2172,\">0\")+1)","v":0},6158108650,"HOSE RUBBER  12.5X19.1MM 20M","42 350,-Ft ","CP S.anyag","Air Line & Electric Supply",4614,null,42350]
[{"$f":"IF(L2174=FALSE,0,COUNTIF(A$3:A2173,\">0\")+1)","v":0},6158108660,"HOSE RUBBER  16X23MM 20M","47 470,-Ft ","CP S.anyag","Air Line & Electric Supply",6203,null,47470]
[{"$f":"IF(L2175=FALSE,0,COUNTIF(A$3:A2174,\">0\")+1)","v":0},6158108680,"HOSE RUBBER  20X26.6MM  20M","54 300,-Ft ","CP S.anyag","Air Line & Electric Supply",8000,null,54300]
[{"$f":"IF(L2176=FALSE,0,COUNTIF(A$3:A2175,\">0\")+1)","v":0},6158108700,"HOSE RUBBER  25X34MM 20M","83 800,-Ft ","CP S.anyag","Air Line & Electric Supply",10700,null,83800]
[{"$f":"IF(L2177=FALSE,0,COUNTIF(A$3:A2176,\">0\")+1)","v":0},6158111930,"HOSE WHIPS 1/2 RUBBER 1/2 BSP 0,6M","11 000,-Ft ","CP S.anyag","Air Line & Electric Supply",254,null,11000]
[{"$f":"IF(L2178=FALSE,0,COUNTIF(A$3:A2177,\">0\")+1)","v":0},6158112640,"HOSE WHIPS 1/2 RUBBER 3/8 BSP 0,6M","9 250,-Ft ","CP S.anyag","Air Line & Electric Supply",240,null,9250]
[{"$f":"IF(L2179=FALSE,0,COUNTIF(A$3:A2178,\">0\")+1)","v":0},6158111920,"HOSE WHIPS 3/8 RUBBER 1/4 BSP 0,6M","8 590,-Ft ","CP S.anyag","Air Line & Electric Supply",162,null,8590]
[{"$f":"IF(L2180=FALSE,0,COUNTIF(A$3:A2179,\">0\")+1)","v":0},6158112650,"HOSE WHIPS 5/8 RUBBER 1/2 BSP 0,6M","11 700,-Ft ","CP S.anyag","Air Line & Electric Supply",294,null,11700]
[{"$f":"IF(L2181=FALSE,0,COUNTIF(A$3:A2180,\">0\")+1)","v":0},6158112660,"HOSE WHIPS 5/8 RUBBER 1/2 NPT 0,6M","11 700,-Ft ","CP S.anyag","Air Line & Electric Supply",302,null,11700]
[{"$f":"IF(L2182=FALSE,0,COUNTIF(A$3:A2181,\">0\")+1)","v":0},6158120490,"IN LINE OILER - 1/2''",{"$f":"IF(H2182=\"SP\",IF(J2182>0,\"SP: \"&TEXT(J2182*I$1,\"# ###,-Ft  \"),\"SP: \"&TEXT(I2182*I$1,\"# ###,-Ft\")),IF(J2182>0,\"STARS* \"&TEXT(J2182*J$1,\"# ###,-Ft\"),TEXT(I2182*I$1,\"# ###,-Ft  \")))","v":"STARS* 28 330,-Ft"},"CP S.anyag","Air Line & Electric Supply",606,null,29680,28330]
[{"$f":"IF(L2183=FALSE,0,COUNTIF(A$3:A2182,\">0\")+1)","v":0},6158120480,"IN LINE OILER - 1/4''","STARS* 19 960,-Ft","CP S.anyag","Air Line & Electric Supply",414,null,21320,19960]
[{"$f":"IF(L2184=FALSE,0,COUNTIF(A$3:A2183,\">0\")+1)","v":0},6158120500,"IN LINE OILER - 3/4''","STARS* 30 030,-Ft","CP S.anyag","Air Line & Electric Supply",896,null,31740,30030]
[{"$f":"IF(L2185=FALSE,0,COUNTIF(A$3:A2184,\">0\")+1)","v":0},8940169365,"J10U 1-1/2\" DR UNIVERSL JOINT W/PIN HOLE","128 800,-Ft ","CP S.anyag","Impact Socket",4164,null,128800]
[{"$f":"IF(L2186=FALSE,0,COUNTIF(A$3:A2185,\">0\")+1)","v":0},8940165982,"J2U 1/4 DR UNIVERSAL JOINT","5 510,-Ft ","CP S.anyag","Impact Socket",38,null,5510]
[{"$f":"IF(L2187=FALSE,0,COUNTIF(A$3:A2186,\">0\")+1)","v":0},8940165989,"J3U 3/8 DR UNIVERSAL JOINT",",-Ft ","CP S.anyag","Impact Socket",99]
[{"$f":"IF(L2188=FALSE,0,COUNTIF(A$3:A2187,\">0\")+1)","v":0},8940165998,"J4U 1/2 DR UNIVERSAL JOINT","7 210,-Ft ","CP S.anyag","Impact Socket",206,null,7210]
[{"$f":"IF(L2189=FALSE,0,COUNTIF(A$3:A2188,\">0\")+1)","v":0},8940166008,"J6U 3/4 DR UNIVERSAL JOINT w/Pin hole","20 630,-Ft ","CP S.anyag","Impact Socket",637,null,20630]
[{"$f":"IF(L2190=FALSE,0,COUNTIF(A$3:A2189,\">0\")+1)","v":0},8940166015,"J8U 1\" DR UNIVERSAL JOINT w/Pin hole","25 770,-Ft ","CP S.anyag","Impact Socket",1188,null,25770]
[{"$f":"IF(L2191=FALSE,0,COUNTIF(A$3:A2190,\">0\")+1)","v":0},"CA050120","KEY CHUCK JACOBS K30","2 400,-Ft ","CP S.anyag","Removal",44,null,2400]
[{"$f":"IF(L2192=FALSE,0,COUNTIF(A$3:A2191,\">0\")+1)","v":0},"CA050122","KEY CHUCK JACOBS K32","2 400,-Ft ","CP S.anyag","Removal",45,null,2400]
[{"$f":"IF(L2193=FALSE,0,COUNTIF(A$3:A2192,\">0\")+1)","v":0},2050497003,"KEY CHUCK KG1","1 020,-Ft ","CP S.anyag","Removal",15,null,1020]
[{"$f":"IF(L2194=FALSE,0,COUNTIF(A$3:A2193,\">0\")+1)","v":0},2050507493,"KEY CHUCK KK",{"$f":"IF(H2194=\"SP\",IF(J2194>0,\"SP: \"&TEXT(J2194*I$1,\"# ###,-Ft  \"),\"SP: \"&TEXT(I2194*I$1,\"# ###,-Ft\")),IF(J2194>0,\"STARS* \"&TEXT(J2194*J$1,\"# ###,-Ft\"),TEXT(I2194*I$1,\"# ###,-Ft  \")))","v":"1 020,-Ft "},"CP S.anyag","Removal",45,null,1020]
[{"$f":"IF(L2195=FALSE,0,COUNTIF(A$3:A2194,\">0\")+1)","v":0},"C142408","KEYED CHUCK 10MM-3/8\"x24 41BA",{"$f":"IF(H2195=\"SP\",IF(J2195>0,\"SP: \"&TEXT(J2195*I$1,\"# ###,-Ft  \"),\"SP: \"&TEXT(I2195*I$1,\"# ###,-Ft\")),IF(J2195>0,\"STARS* \"&TEXT(J2195*J$1,\"# ###,-Ft\"),TEXT(I2195*I$1,\"# ###,-Ft  \")))","v":"17 860,-Ft "},"CP S.anyag","Removal",260,null,17860]
[{"$f":"IF(L2196=FALSE,0,COUNTIF(A$3:A2195,\">0\")+1)","v":0},8940170366,"KEYED CHUCK 13MM-3/8\"X24","12 140,-Ft ","CP S.anyag","Removal",498,null,12140]
[{"$f":"IF(L2197=FALSE,0,COUNTIF(A$3:A2196,\">0\")+1)","v":0},2050486963,"KEYED CHUCK 13MM-3/8\"x24 24BA","19 360,-Ft ","CP S.anyag","Removal",409,null,19360]
[{"$f":"IF(L2198=FALSE,0,COUNTIF(A$3:A2197,\">0\")+1)","v":0},"S066095","KEYED CHUCK 13MM-3/8\"x24 33BA","44 700,-Ft ","CP S.anyag","Removal",486,null,44700]
[{"$f":"IF(L2199=FALSE,0,COUNTIF(A$3:A2198,\">0\")+1)","v":0},"CA146176","KEYED CHUCK 13MM-3/8\"x24 MULTICRAFT","18 210,-Ft ","CP S.anyag","Removal",329,null,18210]
[{"$f":"IF(L2200=FALSE,0,COUNTIF(A$3:A2199,\">0\")+1)","v":0},8940170364,"KEYED CHUCK 6,5MM-3/8\"X24","10 660,-Ft ","CP S.anyag","Removal",234,null,10660]
[{"$f":"IF(L2201=FALSE,0,COUNTIF(A$3:A2200,\">0\")+1)","v":0},2050555863,"KEYED CHUCK 6,5MM-3/8\"x24 1BK","20 770,-Ft ","CP S.anyag","Removal",138,null,20770]
[{"$f":"IF(L2202=FALSE,0,COUNTIF(A$3:A2201,\">0\")+1)","v":0},8951011473,"KEYED CHUCK 6,5MM-3/8\"x24 MULTICRAFT","12 000,-Ft ","CP S.anyag","Removal",120,null,12000]
[{"$f":"IF(L2203=FALSE,0,COUNTIF(A$3:A2202,\">0\")+1)","v":0},8940163347,"KEYLESS CHUCK 10MM-1/2\"x20 510-2H",",-Ft ","CP S.anyag","Removal",207]
[{"$f":"IF(L2204=FALSE,0,COUNTIF(A$3:A2203,\">0\")+1)","v":0},"CA146490","KEYLESS CHUCK 10MM-3/8\"x24 210-2P","11 300,-Ft ","CP S.anyag","Removal",176,null,11300]
[{"$f":"IF(L2205=FALSE,0,COUNTIF(A$3:A2204,\">0\")+1)","v":0},2050502063,"KEYLESS CHUCK 10MM-3/8Inchx24 510-2H","24 360,-Ft ","CP S.anyag","Removal",210,null,24360]
[{"$f":"IF(L2206=FALSE,0,COUNTIF(A$3:A2205,\">0\")+1)","v":0},2050502073,"KEYLESS CHUCK 13MM-3/8Inchx24 513-2M","27 310,-Ft ","CP S.anyag","Removal",312,null,27310]
[{"$f":"IF(L2207=FALSE,0,COUNTIF(A$3:A2206,\">0\")+1)","v":0},8940162272,"KEYLESS CHUCK 6,5MM-3/8\"x24 J156S","9 620,-Ft ","CP S.anyag","Removal",129,null,9620]
[{"$f":"IF(L2208=FALSE,0,COUNTIF(A$3:A2207,\">0\")+1)","v":0},6153980435,"KIT BALL VALVE FRL 1/2 COUPLING 075A","85 700,-Ft ","CP S.anyag","Air Line & Electric Supply",2614,null,85700]
[{"$f":"IF(L2209=FALSE,0,COUNTIF(A$3:A2208,\">0\")+1)","v":0},6153980375,"KIT BALL VALVE FRL 1/2 COUPLING 076E","80 100,-Ft ","CP S.anyag","Air Line & Electric Supply",2540,null,80100]
[{"$f":"IF(L2210=FALSE,0,COUNTIF(A$3:A2209,\">0\")+1)","v":0},6153980405,"KIT BALL VALVE FRL 1/2 COUPLING 08S","84 500,-Ft ","CP S.anyag","Air Line & Electric Supply",2690,null,84500]
[{"$f":"IF(L2211=FALSE,0,COUNTIF(A$3:A2210,\">0\")+1)","v":0},6153980425,"KIT BALL VALVE FRL 1/4 COUPLING 075A","60 500,-Ft ","CP S.anyag","Air Line & Electric Supply",2218,null,60500]
[{"$f":"IF(L2212=FALSE,0,COUNTIF(A$3:A2211,\">0\")+1)","v":0},6153980365,"KIT BALL VALVE FRL 1/4 COUPLING 076E","58 800,-Ft ","CP S.anyag","Air Line & Electric Supply",2182,null,58800]
[{"$f":"IF(L2213=FALSE,0,COUNTIF(A$3:A2212,\">0\")+1)","v":0},6153980395,"KIT BALL VALVE FRL 1/4 COUPLING 08S","60 500,-Ft ","CP S.anyag","Air Line & Electric Supply",2270,null,60500]
[{"$f":"IF(L2214=FALSE,0,COUNTIF(A$3:A2213,\">0\")+1)","v":0},6153980665,"KIT HOSE 1/2-3/8 NPT COUPL-NIPP 075A","53 590,-Ft ","CP S.anyag","Air Line & Electric Supply",0,null,53590]
[{"$f":"IF(L2215=FALSE,0,COUNTIF(A$3:A2214,\">0\")+1)","v":0},6153980615,"KIT HOSE 1/2-3/8 NPT COUPL-NIPP 08S","55 300,-Ft ","CP S.anyag","Air Line & Electric Supply",0,null,55300]
[{"$f":"IF(L2216=FALSE,0,COUNTIF(A$3:A2215,\">0\")+1)","v":0},6153980575,"KIT HOSE 1/2-3/8BSP COUPL-NIPP 076E","50 560,-Ft ","CP S.anyag","Air Line & Electric Supply",0,null,50560]
[{"$f":"IF(L2217=FALSE,0,COUNTIF(A$3:A2216,\">0\")+1)","v":0},6153980565,"KIT HOSE 3/8-1/4BSP COUPL-NIPP 076E",{"$f":"IF(H2217=\"SP\",IF(J2217>0,\"SP: \"&TEXT(J2217*I$1,\"# ###,-Ft  \"),\"SP: \"&TEXT(I2217*I$1,\"# ###,-Ft\")),IF(J2217>0,\"STARS* \"&TEXT(J2217*J$1,\"# ###,-Ft\"),TEXT(I2217*I$1,\"# ###,-Ft  \")))","v":"37 570,-Ft "},"CP S.anyag","Air Line & Electric Supply",1442,null,37570]
[{"$f":"IF(L2218=FALSE,0,COUNTIF(A$3:A2217,\">0\")+1)","v":0},6153980635,"KIT HOSE RUB 5/8-1/2 NPT COUPL-NIPP 011S",{"$f":"IF(H2218=\"SP\",IF(J2218>0,\"SP: \"&TEXT(J2218*I$1,\"# ###,-Ft  \"),\"SP: \"&TEXT(I2218*I$1,\"# ###,-Ft\")),IF(J2218>0,\"STARS* \"&TEXT(J2218*J$1,\"# ###,-Ft\"),TEXT(I2218*I$1,\"# ###,-Ft  \")))","v":"107 600,-Ft "},"CP S.anyag","Air Line & Electric Supply",0,null,107600]
[{"$f":"IF(L2219=FALSE,0,COUNTIF(A$3:A2218,\">0\")+1)","v":0},6153980675,"KIT HOSE RUB 5/8-1/2 NPT COUPL-NIPP 075A","100 400,-Ft ","CP S.anyag","Air Line & Electric Supply",0,null,100400]
[{"$f":"IF(L2220=FALSE,0,COUNTIF(A$3:A2219,\">0\")+1)","v":0},6153980585,"KIT HOSE RUB 5/8-1/2BSP NIPPLE 104E","74 500,-Ft ","CP S.anyag","Air Line & Electric Supply",0,null,74500]
[{"$f":"IF(L2221=FALSE,0,COUNTIF(A$3:A2220,\">0\")+1)","v":0},6152505190,"MANCHON REGLAGE CYL","46 100,-Ft ","CP S.anyag","Removal",615,null,46100]
[{"$f":"IF(L2222=FALSE,0,COUNTIF(A$3:A2221,\">0\")+1)","v":0},6152505230,"MANCHON REGLAGE CYL","35 150,-Ft ","CP S.anyag","Removal",194,null,35150]
[{"$f":"IF(L2223=FALSE,0,COUNTIF(A$3:A2222,\">0\")+1)","v":0},6152505180,"MANCHON REGLAGE MEP","30 740,-Ft ","CP S.anyag","Removal",618,null,30740]
[{"$f":"IF(L2224=FALSE,0,COUNTIF(A$3:A2223,\">0\")+1)","v":0},6152505250,"MANCHON RETENUE CAR","97 700,-Ft ","CP S.anyag","Removal",618,null,97700]
[{"$f":"IF(L2225=FALSE,0,COUNTIF(A$3:A2224,\">0\")+1)","v":0},6152505360,"MANCHON RETENUE CAR","121 400,-Ft ","CP S.anyag","Removal",718,null,121400]
[{"$f":"IF(L2226=FALSE,0,COUNTIF(A$3:A2225,\">0\")+1)","v":0},6152505260,"MANCHON RETENUE HEX","107 900,-Ft ","CP S.anyag","Removal",801,null,107900]
[{"$f":"IF(L2227=FALSE,0,COUNTIF(A$3:A2226,\">0\")+1)","v":0},6158046740,"MEDIUM PRESSURE CLAMP 11.0-17.0",{"$f":"IF(H2227=\"SP\",IF(J2227>0,\"SP: \"&TEXT(J2227*I$1,\"# ###,-Ft  \"),\"SP: \"&TEXT(I2227*I$1,\"# ###,-Ft\")),IF(J2227>0,\"STARS* \"&TEXT(J2227*J$1,\"# ###,-Ft\"),TEXT(I2227*I$1,\"# ###,-Ft  \")))","v":"1 020,-Ft "},"CP S.anyag","Air Line & Electric Supply",10,null,1020]
[{"$f":"IF(L2228=FALSE,0,COUNTIF(A$3:A2227,\">0\")+1)","v":0},6158046750,"MEDIUM PRESSURE CLAMP 13.0-20.0","1 020,-Ft ","CP S.anyag","Air Line & Electric Supply",15,null,1020]
[{"$f":"IF(L2229=FALSE,0,COUNTIF(A$3:A2228,\">0\")+1)","v":0},6158046760,"MEDIUM PRESSURE CLAMP 15.0-24.0","1 020,-Ft ","CP S.anyag","Air Line & Electric Supply",14,null,1020]
[{"$f":"IF(L2230=FALSE,0,COUNTIF(A$3:A2229,\">0\")+1)","v":0},6158046770,"MEDIUM PRESSURE CLAMP 19.0-28.0","1 370,-Ft ","CP S.anyag","Air Line & Electric Supply",17,null,1370]
[{"$f":"IF(L2231=FALSE,0,COUNTIF(A$3:A2230,\">0\")+1)","v":0},6158046780,"MEDIUM PRESSURE CLAMP 22.0-32.0","1 370,-Ft ","CP S.anyag","Air Line & Electric Supply",15,null,1370]
[{"$f":"IF(L2232=FALSE,0,COUNTIF(A$3:A2231,\">0\")+1)","v":0},6158046730,"MEDIUM PRESSURE CLAMP 8.0-14.0","1 020,-Ft ","CP S.anyag","Air Line & Electric Supply",10,null,1020]
[{"$f":"IF(L2233=FALSE,0,COUNTIF(A$3:A2232,\">0\")+1)","v":0},436013,"MOUNTED POINT A12 6MM SHANK","4 120,-Ft ","CP S.anyag","Removal",14,null,4120]
[{"$f":"IF(L2234=FALSE,0,COUNTIF(A$3:A2233,\">0\")+1)","v":0},6158118980,"MOUNTED POINT A23 RED 6MMSHANK",{"$f":"IF(H2234=\"SP\",IF(J2234>0,\"SP: \"&TEXT(J2234*I$1,\"# ###,-Ft  \"),\"SP: \"&TEXT(I2234*I$1,\"# ###,-Ft\")),IF(J2234>0,\"STARS* \"&TEXT(J2234*J$1,\"# ###,-Ft\"),TEXT(I2234*I$1,\"# ###,-Ft  \")))","v":"2 060,-Ft "},"CP S.anyag","Removal",24,null,2060]
[{"$f":"IF(L2235=FALSE,0,COUNTIF(A$3:A2234,\">0\")+1)","v":0},435983,"MOUNTED POINT A26 RED 6MMSHANK","4 120,-Ft ","CP S.anyag","Removal",9,null,4120]
[{"$f":"IF(L2236=FALSE,0,COUNTIF(A$3:A2235,\">0\")+1)","v":0},436003,"MOUNTED POINT A5 RED 6MM SHANK","3 740,-Ft ","CP S.anyag","Removal",6,null,3740]
[{"$f":"IF(L2237=FALSE,0,COUNTIF(A$3:A2236,\">0\")+1)","v":0},38582,"MOUNTED POINT B123 RED 3MMSHK","3 450,-Ft ","CP S.anyag","Removal",2,null,3450]
[{"$f":"IF(L2238=FALSE,0,COUNTIF(A$3:A2237,\">0\")+1)","v":0},38522,"MOUNTED POINT B45 RED 3MMSHANK","3 740,-Ft ","CP S.anyag","Removal",2,null,3740]
[{"$f":"IF(L2239=FALSE,0,COUNTIF(A$3:A2238,\">0\")+1)","v":0},38542,"MOUNTED POINT B92 BLUE 3MMSHNK","3 740,-Ft ","CP S.anyag","Removal",2,null,3740]
[{"$f":"IF(L2240=FALSE,0,COUNTIF(A$3:A2239,\">0\")+1)","v":0},38562,"MOUNTED POINT B97 RED 3MMSHANK","3 740,-Ft ","CP S.anyag","Removal",2,null,3740]
[{"$f":"IF(L2241=FALSE,0,COUNTIF(A$3:A2240,\">0\")+1)","v":0},"A046077","MUFFLER CUTTER SHANK ROUND .401\"",{"$f":"IF(H2241=\"SP\",IF(J2241>0,\"SP: \"&TEXT(J2241*I$1,\"# ###,-Ft  \"),\"SP: \"&TEXT(I2241*I$1,\"# ###,-Ft\")),IF(J2241>0,\"STARS* \"&TEXT(J2241*J$1,\"# ###,-Ft\"),TEXT(I2241*I$1,\"# ###,-Ft  \")))","v":"11 720,-Ft "},"CP S.anyag",null,167,null,11720]
[{"$f":"IF(L2242=FALSE,0,COUNTIF(A$3:A2241,\">0\")+1)","v":0},6153998190,"NEEDLE CHISEL 3MM x 178 (SET 100)",{"$f":"IF(H2242=\"SP\",IF(J2242>0,\"SP: \"&TEXT(J2242*I$1,\"# ###,-Ft  \"),\"SP: \"&TEXT(I2242*I$1,\"# ###,-Ft\")),IF(J2242>0,\"STARS* \"&TEXT(J2242*J$1,\"# ###,-Ft\"),TEXT(I2242*I$1,\"# ###,-Ft  \")))","v":"27 310,-Ft "},"CP S.anyag","Chisels and Needles",1080,null,27310]
[{"$f":"IF(L2243=FALSE,0,COUNTIF(A$3:A2242,\">0\")+1)","v":0},6153998160,"NEEDLE FLAT 2MM x 178 (SET 100)","18 210,-Ft ","CP S.anyag","Chisels and Needles",539,null,18210]
[{"$f":"IF(L2244=FALSE,0,COUNTIF(A$3:A2243,\">0\")+1)","v":0},"NP123905","NEEDLE FLAT 2MM x 178 STEEL (SET 29)","STARS* 4 890,-Ft","CP S.anyag","Chisels and Needles",136,null,6510,4890]
[{"$f":"IF(L2245=FALSE,0,COUNTIF(A$3:A2244,\">0\")+1)","v":0},"P136403","NEEDLE FLAT 3MM x 127 STEEL (SET 19)","13 380,-Ft ","CP S.anyag","Chisels and Needles",137,null,13380]
[{"$f":"IF(L2246=FALSE,0,COUNTIF(A$3:A2245,\">0\")+1)","v":0},6153998170,"NEEDLE FLAT 3MM x 178 (SET 100)","16 810,-Ft ","CP S.anyag","Chisels and Needles",1079,null,16810]
[{"$f":"IF(L2247=FALSE,0,COUNTIF(A$3:A2246,\">0\")+1)","v":0},8940159860,"NEEDLE FLAT 3MM x 178 (SET 19)","STARS* 3 200,-Ft","CP S.anyag","Chisels and Needles",189,null,3980,3200]
[{"$f":"IF(L2248=FALSE,0,COUNTIF(A$3:A2247,\">0\")+1)","v":0},8940171565,"NEEDLE FLAT 3MM x 178 SPARKLES (SET 100)","138 900,-Ft ","CP S.anyag","Chisels and Needles",1115,null,138900]
[{"$f":"IF(L2249=FALSE,0,COUNTIF(A$3:A2248,\">0\")+1)","v":0},"P106454","NEEDLE FLAT 3MM X 178 STAINLESS STEEL","28 010,-Ft ","CP S.anyag","Chisels and Needles",195,null,28010]
[{"$f":"IF(L2250=FALSE,0,COUNTIF(A$3:A2249,\">0\")+1)","v":0},"P100146","NEEDLE FLAT 3MM x 178 STEEL (SET 19)","13 060,-Ft ","CP S.anyag","Chisels and Needles",198,null,13060]
[{"$f":"IF(L2251=FALSE,0,COUNTIF(A$3:A2250,\">0\")+1)","v":0},"NP123902","NEEDLE FLAT 3MM x 178 STEEL (SET 23)","7 870,-Ft ","CP S.anyag","Chisels and Needles",235,null,7870]
[{"$f":"IF(L2252=FALSE,0,COUNTIF(A$3:A2251,\">0\")+1)","v":0},"NP137638","NEEDLE FLAT 3MM x 178 STEEL (SET 250)","35 150,-Ft ","CP S.anyag","Chisels and Needles",2517.5,null,35150]
[{"$f":"IF(L2253=FALSE,0,COUNTIF(A$3:A2252,\">0\")+1)","v":0},"NP123903","NEEDLE FLAT 3MM x 178 STEEL (SET 28)","9 620,-Ft ","CP S.anyag","Chisels and Needles",291,null,9620]
[{"$f":"IF(L2254=FALSE,0,COUNTIF(A$3:A2253,\">0\")+1)","v":0},6153998180,"NEEDLE FLAT 4MM x 178 (SET 100)","76 700,-Ft ","CP S.anyag","Chisels and Needles",1852,null,76700]
[{"$f":"IF(L2255=FALSE,0,COUNTIF(A$3:A2254,\">0\")+1)","v":0},6153998210,"NEEDLE POINTED 3MM x 178 (SET 100)","37 210,-Ft ","CP S.anyag","Chisels and Needles",1065,null,37210]
[{"$f":"IF(L2256=FALSE,0,COUNTIF(A$3:A2255,\">0\")+1)","v":0},6153998220,"NEEDLE POINTED 4MM x 178 (SET 100)","50 560,-Ft ","CP S.anyag","Chisels and Needles",1860,null,50560]
[{"$f":"IF(L2257=FALSE,0,COUNTIF(A$3:A2256,\">0\")+1)","v":0},"NP123906","NEEDLE SET","11 700,-Ft ","CP S.anyag","Chisels and Needles",251,null,11700]
[{"$f":"IF(L2258=FALSE,0,COUNTIF(A$3:A2257,\">0\")+1)","v":0},"P120760","NEEDLE SET-5\"NEEDLE","6 210,-Ft ","CP S.anyag","Chisels and Needles",156,null,6210]
[{"$f":"IF(L2259=FALSE,0,COUNTIF(A$3:A2258,\">0\")+1)","v":0},6158105610,"NIPPLE F06S 12 BSP","1 330,-Ft ","CP S.anyag","Air Line & Electric Supply",75,null,1330]
[{"$f":"IF(L2260=FALSE,0,COUNTIF(A$3:A2259,\">0\")+1)","v":0},6158105670,"NIPPLE F06S 12 NPT","Kifutó, érdeklődj!","CP S.anyag","Air Line & Electric Supply",55,null,11400]
[{"$f":"IF(L2261=FALSE,0,COUNTIF(A$3:A2260,\">0\")+1)","v":0},6158105590,"NIPPLE F06S 14 BSP",{"$f":"IF(H2261=\"SP\",IF(J2261>0,\"SP: \"&TEXT(J2261*I$1,\"# ###,-Ft  \"),\"SP: \"&TEXT(I2261*I$1,\"# ###,-Ft\")),IF(J2261>0,\"STARS* \"&TEXT(J2261*J$1,\"# ###,-Ft\"),TEXT(I2261*I$1,\"# ###,-Ft  \")))","v":"2 070,-Ft "},"CP S.anyag","Air Line & Electric Supply",30,null,2070]
[{"$f":"IF(L2262=FALSE,0,COUNTIF(A$3:A2261,\">0\")+1)","v":0},6158105650,"NIPPLE F06S 14 NPT","3 400,-Ft ","CP S.anyag","Air Line & Electric Supply",25,null,3400]
[{"$f":"IF(L2263=FALSE,0,COUNTIF(A$3:A2262,\">0\")+1)","v":0},6158105600,"NIPPLE F06S 38 BSP","2 130,-Ft ","CP S.anyag","Air Line & Electric Supply",35,null,2130]
[{"$f":"IF(L2264=FALSE,0,COUNTIF(A$3:A2263,\">0\")+1)","v":0},6158105660,"NIPPLE F06S 38 NPT","3 400,-Ft ","CP S.anyag","Air Line & Electric Supply",30,null,3400]
[{"$f":"IF(L2265=FALSE,0,COUNTIF(A$3:A2264,\">0\")+1)","v":0},6158106870,"NIPPLE F075A 12","2 160,-Ft ","CP S.anyag","Air Line & Electric Supply",52,null,2160]
[{"$f":"IF(L2266=FALSE,0,COUNTIF(A$3:A2265,\">0\")+1)","v":0},6158106840,"NIPPLE F075A 14","1 690,-Ft ","CP S.anyag","Air Line & Electric Supply",25,null,1690]
[{"$f":"IF(L2267=FALSE,0,COUNTIF(A$3:A2266,\">0\")+1)","v":0},6158106850,"NIPPLE F075A 38","2 700,-Ft ","CP S.anyag","Air Line & Electric Supply",30,null,2700]
[{"$f":"IF(L2268=FALSE,0,COUNTIF(A$3:A2267,\">0\")+1)","v":0},6158105930,"NIPPLE F076E 12 BSP","STARS* 1 140,-Ft","CP S.anyag","Air Line & Electric Supply",70,null,1850,1140]
[{"$f":"IF(L2269=FALSE,0,COUNTIF(A$3:A2268,\">0\")+1)","v":0},6158105910,"NIPPLE F076E 14 BSP","STARS* 1 140,-Ft","CP S.anyag","Air Line & Electric Supply",23,null,1370,1140]
[{"$f":"IF(L2270=FALSE,0,COUNTIF(A$3:A2269,\">0\")+1)","v":0},6158105920,"NIPPLE F076E 38 BSP","STARS* 1 140,-Ft","CP S.anyag","Air Line & Electric Supply",27,null,1370,1140]
[{"$f":"IF(L2271=FALSE,0,COUNTIF(A$3:A2270,\">0\")+1)","v":0},6158105730,"NIPPLE F08S 12 BSP","3 350,-Ft ","CP S.anyag","Air Line & Electric Supply",110,null,3350]
[{"$f":"IF(L2272=FALSE,0,COUNTIF(A$3:A2271,\">0\")+1)","v":0},6158105790,"NIPPLE F08S 12 NPT","5 180,-Ft ","CP S.anyag","Air Line & Electric Supply",110,null,5180]
[{"$f":"IF(L2273=FALSE,0,COUNTIF(A$3:A2272,\">0\")+1)","v":0},6158105710,"NIPPLE F08S 14 BSP","2 560,-Ft ","CP S.anyag","Air Line & Electric Supply",28,null,2560]
[{"$f":"IF(L2274=FALSE,0,COUNTIF(A$3:A2273,\">0\")+1)","v":0},6158105770,"NIPPLE F08S 14 NPT","4 310,-Ft ","CP S.anyag","Air Line & Electric Supply",22,null,4310]
[{"$f":"IF(L2275=FALSE,0,COUNTIF(A$3:A2274,\">0\")+1)","v":0},6158105720,"NIPPLE F08S 38 BSP","2 650,-Ft ","CP S.anyag","Air Line & Electric Supply",30,null,2650]
[{"$f":"IF(L2276=FALSE,0,COUNTIF(A$3:A2275,\">0\")+1)","v":0},6158105780,"NIPPLE F08S 38 NPT","4 020,-Ft ","CP S.anyag","Air Line & Electric Supply",36,null,4020]
[{"$f":"IF(L2277=FALSE,0,COUNTIF(A$3:A2276,\">0\")+1)","v":0},6158106720,"NIPPLE F104E 12 BSP","STARS* 2 280,-Ft","CP S.anyag","Air Line & Electric Supply",66,null,2620,2280]
[{"$f":"IF(L2278=FALSE,0,COUNTIF(A$3:A2277,\">0\")+1)","v":0},6158106730,"NIPPLE F104E 34 BSP","STARS* 3 060,-Ft","CP S.anyag","Air Line & Electric Supply",86,null,5760,3060]
[{"$f":"IF(L2279=FALSE,0,COUNTIF(A$3:A2278,\">0\")+1)","v":0},6158106710,"NIPPLE F104E 38 BSP","STARS* 2 280,-Ft","CP S.anyag","Air Line & Electric Supply",36,null,2400,2280]
[{"$f":"IF(L2280=FALSE,0,COUNTIF(A$3:A2279,\">0\")+1)","v":0},6158105830,"NIPPLE F11S 12 BSP","4 310,-Ft ","CP S.anyag","Air Line & Electric Supply",64,null,4310]
[{"$f":"IF(L2281=FALSE,0,COUNTIF(A$3:A2280,\">0\")+1)","v":0},6158105870,"NIPPLE F11S 12 NPT","9 470,-Ft ","CP S.anyag","Air Line & Electric Supply",65,null,9470]
[{"$f":"IF(L2282=FALSE,0,COUNTIF(A$3:A2281,\">0\")+1)","v":0},6158106930,"NIPPLE F11S 34 BSP","15 580,-Ft ","CP S.anyag","Air Line & Electric Supply",65,null,15580]
[{"$f":"IF(L2283=FALSE,0,COUNTIF(A$3:A2282,\">0\")+1)","v":0},6158106940,"NIPPLE F11S 34 NPT","4 030,-Ft ","CP S.anyag","Air Line & Electric Supply",100,null,4030]
[{"$f":"IF(L2284=FALSE,0,COUNTIF(A$3:A2283,\">0\")+1)","v":0},6158105820,"NIPPLE F11S 38 BSP","8 640,-Ft ","CP S.anyag","Air Line & Electric Supply",43,null,8640]
[{"$f":"IF(L2285=FALSE,0,COUNTIF(A$3:A2284,\">0\")+1)","v":0},6158105860,"NIPPLE F11S 38 NPT","9 470,-Ft ","CP S.anyag","Air Line & Electric Supply",40,null,9470]
[{"$f":"IF(L2286=FALSE,0,COUNTIF(A$3:A2285,\">0\")+1)","v":0},6158106040,"NIPPLE H06S 06-07mm","1 570,-Ft ","CP S.anyag","Air Line & Electric Supply",17,null,1570]
[{"$f":"IF(L2287=FALSE,0,COUNTIF(A$3:A2286,\">0\")+1)","v":0},6158106050,"NIPPLE H06S 08mm","1 360,-Ft ","CP S.anyag","Air Line & Electric Supply",25,null,1360]
[{"$f":"IF(L2288=FALSE,0,COUNTIF(A$3:A2287,\">0\")+1)","v":0},6158106070,"NIPPLE H06S 13mm","1 720,-Ft ","CP S.anyag","Air Line & Electric Supply",23,null,1720]
[{"$f":"IF(L2289=FALSE,0,COUNTIF(A$3:A2288,\">0\")+1)","v":0},6158106060,"NIPPLE H06S 9-10mm","1 400,-Ft ","CP S.anyag","Air Line & Electric Supply",25,null,1400]
[{"$f":"IF(L2290=FALSE,0,COUNTIF(A$3:A2289,\">0\")+1)","v":0},6158106970,"NIPPLE H075A 06-07mm","1 690,-Ft ","CP S.anyag","Air Line & Electric Supply",17,null,1690]
[{"$f":"IF(L2291=FALSE,0,COUNTIF(A$3:A2290,\">0\")+1)","v":0},6158106880,"NIPPLE H075A 08mm","1 690,-Ft ","CP S.anyag","Air Line & Electric Supply",21,null,1690]
[{"$f":"IF(L2292=FALSE,0,COUNTIF(A$3:A2291,\">0\")+1)","v":0},6158106890,"NIPPLE H075A 10mm","1 690,-Ft ","CP S.anyag","Air Line & Electric Supply",21,null,1690]
[{"$f":"IF(L2293=FALSE,0,COUNTIF(A$3:A2292,\">0\")+1)","v":0},6158106900,"NIPPLE H075A 13mm","1 690,-Ft ","CP S.anyag","Air Line & Electric Supply",25,null,1690]
[{"$f":"IF(L2294=FALSE,0,COUNTIF(A$3:A2293,\">0\")+1)","v":0},6158106220,"NIPPLE H076E 06-07mm","1 370,-Ft ","CP S.anyag","Air Line & Electric Supply",20,null,1370]
[{"$f":"IF(L2295=FALSE,0,COUNTIF(A$3:A2294,\">0\")+1)","v":0},6158106250,"NIPPLE H076E 08mm","STARS* 1 140,-Ft","CP S.anyag","Air Line & Electric Supply",21,null,1370,1140]
[{"$f":"IF(L2296=FALSE,0,COUNTIF(A$3:A2295,\">0\")+1)","v":0},6158106260,"NIPPLE H076E 09-10mm","STARS* 1 140,-Ft","CP S.anyag","Air Line & Electric Supply",15,null,1370,1140]
[{"$f":"IF(L2297=FALSE,0,COUNTIF(A$3:A2296,\">0\")+1)","v":0},6158106270,"NIPPLE H076E 13mm","STARS* 2 280,-Ft","CP S.anyag","Air Line & Electric Supply",20,null,1370,2280]
[{"$f":"IF(L2298=FALSE,0,COUNTIF(A$3:A2297,\">0\")+1)","v":0},6158106130,"NIPPLE H08S 13mm","2 400,-Ft ","CP S.anyag","Air Line & Electric Supply",25,null,2400]
[{"$f":"IF(L2299=FALSE,0,COUNTIF(A$3:A2298,\">0\")+1)","v":0},6158111330,"NIPPLE H08S 16mm","10 520,-Ft ","CP S.anyag","Air Line & Electric Supply",34,null,10520]
[{"$f":"IF(L2300=FALSE,0,COUNTIF(A$3:A2299,\">0\")+1)","v":0},6158106120,"NIPPLE H08S 9-10mm","2 450,-Ft ","CP S.anyag","Air Line & Electric Supply",22,null,2450]
[{"$f":"IF(L2301=FALSE,0,COUNTIF(A$3:A2300,\">0\")+1)","v":0},6158106770,"NIPPLE H104E 10mm","STARS* 1 840,-Ft","CP S.anyag","Air Line & Electric Supply",20,null,2400,1840]
[{"$f":"IF(L2302=FALSE,0,COUNTIF(A$3:A2301,\">0\")+1)","v":0},6158106780,"NIPPLE H104E 13mm","STARS* 1 840,-Ft","CP S.anyag","Air Line & Electric Supply",25,null,2400,1840]
[{"$f":"IF(L2303=FALSE,0,COUNTIF(A$3:A2302,\">0\")+1)","v":0},6158106790,"NIPPLE H104E 16mm","STARS* 1 840,-Ft","CP S.anyag","Air Line & Electric Supply",32,null,2400,1840]
[{"$f":"IF(L2304=FALSE,0,COUNTIF(A$3:A2303,\">0\")+1)","v":0},6158106800,"NIPPLE H104E 19mm","2 400,-Ft ","CP S.anyag","Air Line & Electric Supply",37,null,2400]
[{"$f":"IF(L2305=FALSE,0,COUNTIF(A$3:A2304,\">0\")+1)","v":0},6158106180,"NIPPLE H11S 10mm","2 760,-Ft ","CP S.anyag","Air Line & Electric Supply",39,null,2760]
[{"$f":"IF(L2306=FALSE,0,COUNTIF(A$3:A2305,\">0\")+1)","v":0},6158106190,"NIPPLE H11S 13mm","2 760,-Ft ","CP S.anyag","Air Line & Electric Supply",37,null,2760]
[{"$f":"IF(L2307=FALSE,0,COUNTIF(A$3:A2306,\">0\")+1)","v":0},6158106200,"NIPPLE H11S 16mm","2 790,-Ft ","CP S.anyag","Air Line & Electric Supply",10,null,2790]
[{"$f":"IF(L2308=FALSE,0,COUNTIF(A$3:A2307,\">0\")+1)","v":0},6158106210,"NIPPLE H11S 19mm","2 890,-Ft ","CP S.anyag","Air Line & Electric Supply",55,null,2890]
[{"$f":"IF(L2309=FALSE,0,COUNTIF(A$3:A2308,\">0\")+1)","v":0},6158105580,"NIPPLE M06S 12 BSP","2 160,-Ft ","CP S.anyag","Air Line & Electric Supply",65,null,2160]
[{"$f":"IF(L2310=FALSE,0,COUNTIF(A$3:A2309,\">0\")+1)","v":0},6158105640,"NIPPLE M06S 12 NPT","11 600,-Ft ","CP S.anyag","Air Line & Electric Supply",50,null,11600]
[{"$f":"IF(L2311=FALSE,0,COUNTIF(A$3:A2310,\">0\")+1)","v":0},6158105560,"NIPPLE M06S 14 BSP","2 130,-Ft ","CP S.anyag","Air Line & Electric Supply",27,null,2130]
[{"$f":"IF(L2312=FALSE,0,COUNTIF(A$3:A2311,\">0\")+1)","v":0},6158105620,"NIPPLE M06S 14 NPT","3 170,-Ft ","CP S.anyag","Air Line & Electric Supply",20,null,3170]
[{"$f":"IF(L2313=FALSE,0,COUNTIF(A$3:A2312,\">0\")+1)","v":0},6158105570,"NIPPLE M06S 38 BSP","2 130,-Ft ","CP S.anyag","Air Line & Electric Supply",35,null,2130]
[{"$f":"IF(L2314=FALSE,0,COUNTIF(A$3:A2313,\">0\")+1)","v":0},6158105630,"NIPPLE M06S 38 NPT","3 400,-Ft ","CP S.anyag","Air Line & Electric Supply",27,null,3400]
[{"$f":"IF(L2315=FALSE,0,COUNTIF(A$3:A2314,\">0\")+1)","v":0},6158106830,"NIPPLE M075A 12","1 690,-Ft ","CP S.anyag","Air Line & Electric Supply",49,null,1690]
[{"$f":"IF(L2316=FALSE,0,COUNTIF(A$3:A2315,\">0\")+1)","v":0},6158106810,"NIPPLE M075A 14","1 690,-Ft ","CP S.anyag","Air Line & Electric Supply",26,null,1690]
[{"$f":"IF(L2317=FALSE,0,COUNTIF(A$3:A2316,\">0\")+1)","v":0},6158106820,"NIPPLE M075A 38","3 780,-Ft ","CP S.anyag","Air Line & Electric Supply",26,null,3780]
[{"$f":"IF(L2318=FALSE,0,COUNTIF(A$3:A2317,\">0\")+1)","v":0},6158105900,"NIPPLE M076E 12 BSP","STARS* 1 140,-Ft","CP S.anyag","Air Line & Electric Supply",70,null,1850,1140]
[{"$f":"IF(L2319=FALSE,0,COUNTIF(A$3:A2318,\">0\")+1)","v":0},6158105960,"NIPPLE M076E 12 NPT","STARS* 6 320,-Ft","CP S.anyag","Air Line & Electric Supply",51,null,9290,6320]
[{"$f":"IF(L2320=FALSE,0,COUNTIF(A$3:A2319,\">0\")+1)","v":0},6158105880,"NIPPLE M076E 14 BSP","STARS* 1 140,-Ft","CP S.anyag","Air Line & Electric Supply",19,null,1370,1140]
[{"$f":"IF(L2321=FALSE,0,COUNTIF(A$3:A2320,\">0\")+1)","v":0},6158105940,"NIPPLE M076E 14 NPT","STARS* 1 140,-Ft","CP S.anyag","Air Line & Electric Supply",18,null,1370,1140]
[{"$f":"IF(L2322=FALSE,0,COUNTIF(A$3:A2321,\">0\")+1)","v":0},6158105890,"NIPPLE M076E 38 BSP","STARS* 1 140,-Ft","CP S.anyag","Air Line & Electric Supply",30,null,1400,1140]
[{"$f":"IF(L2323=FALSE,0,COUNTIF(A$3:A2322,\">0\")+1)","v":0},6158105950,"NIPPLE M076E 38 NPT","STARS* 2 640,-Ft","CP S.anyag","Air Line & Electric Supply",40,null,2030,2640]
[{"$f":"IF(L2324=FALSE,0,COUNTIF(A$3:A2323,\">0\")+1)","v":0},6158105700,"NIPPLE M08S 12 BSP",{"$f":"IF(H2324=\"SP\",IF(J2324>0,\"SP: \"&TEXT(J2324*I$1,\"# ###,-Ft  \"),\"SP: \"&TEXT(I2324*I$1,\"# ###,-Ft\")),IF(J2324>0,\"STARS* \"&TEXT(J2324*J$1,\"# ###,-Ft\"),TEXT(I2324*I$1,\"# ###,-Ft  \")))","v":"3 350,-Ft "},"CP S.anyag","Air Line & Electric Supply",51,null,3350]
[{"$f":"IF(L2325=FALSE,0,COUNTIF(A$3:A2324,\">0\")+1)","v":0},6158105760,"NIPPLE M08S 12 NPT","3 170,-Ft ","CP S.anyag","Air Line & Electric Supply",48,null,3170]
[{"$f":"IF(L2326=FALSE,0,COUNTIF(A$3:A2325,\">0\")+1)","v":0},6158105680,"NIPPLE M08S 14 BSP","2 560,-Ft ","CP S.anyag","Air Line & Electric Supply",33,null,2560]
[{"$f":"IF(L2327=FALSE,0,COUNTIF(A$3:A2326,\">0\")+1)","v":0},6158105740,"NIPPLE M08S 14 NPT","2 420,-Ft ","CP S.anyag","Air Line & Electric Supply",32,null,2420]
[{"$f":"IF(L2328=FALSE,0,COUNTIF(A$3:A2327,\">0\")+1)","v":0},6158105690,"NIPPLE M08S 38 BSP","2 650,-Ft ","CP S.anyag","Air Line & Electric Supply",30,null,2650]
[{"$f":"IF(L2329=FALSE,0,COUNTIF(A$3:A2328,\">0\")+1)","v":0},6158105750,"NIPPLE M08S 38 NPT","2 420,-Ft ","CP S.anyag","Air Line & Electric Supply",29,null,2420]
[{"$f":"IF(L2330=FALSE,0,COUNTIF(A$3:A2329,\">0\")+1)","v":0},6158106660,"NIPPLE M104E 12 BSP","STARS* 2 280,-Ft","CP S.anyag","Air Line & Electric Supply",53,null,3140,2280]
[{"$f":"IF(L2331=FALSE,0,COUNTIF(A$3:A2330,\">0\")+1)","v":0},6158106690,"NIPPLE M104E 12 NPT","STARS* 2 640,-Ft","CP S.anyag","Air Line & Electric Supply",80,null,3500,2640]
[{"$f":"IF(L2332=FALSE,0,COUNTIF(A$3:A2331,\">0\")+1)","v":0},6158106670,"NIPPLE M104E 34 BSP","STARS* 2 850,-Ft","CP S.anyag","Air Line & Electric Supply",83,null,4990,2850]
[{"$f":"IF(L2333=FALSE,0,COUNTIF(A$3:A2332,\">0\")+1)","v":0},6158106700,"NIPPLE M104E 34 NPT","STARS* 7 910,-Ft","CP S.anyag","Air Line & Electric Supply",74,null,14300,7910]
[{"$f":"IF(L2334=FALSE,0,COUNTIF(A$3:A2333,\">0\")+1)","v":0},6158106650,"NIPPLE M104E 38 BSP","STARS* 2 280,-Ft","CP S.anyag","Air Line & Electric Supply",30,null,2680,2280]
[{"$f":"IF(L2335=FALSE,0,COUNTIF(A$3:A2334,\">0\")+1)","v":0},6158106680,"NIPPLE M104E 38 NPT","STARS* 1 840,-Ft","CP S.anyag","Air Line & Electric Supply",40,null,2400,1840]
[{"$f":"IF(L2336=FALSE,0,COUNTIF(A$3:A2335,\">0\")+1)","v":0},6158105810,"NIPPLE M11S 12 BSP","4 310,-Ft ","CP S.anyag","Air Line & Electric Supply",60,null,4310]
[{"$f":"IF(L2337=FALSE,0,COUNTIF(A$3:A2336,\">0\")+1)","v":0},6158105850,"NIPPLE M11S 12 NPT","3 820,-Ft ","CP S.anyag","Air Line & Electric Supply",60,null,3820]
[{"$f":"IF(L2338=FALSE,0,COUNTIF(A$3:A2337,\">0\")+1)","v":0},6158106910,"NIPPLE M11S 34 BSP","8 610,-Ft ","CP S.anyag","Air Line & Electric Supply",100,null,8610]
[{"$f":"IF(L2339=FALSE,0,COUNTIF(A$3:A2338,\">0\")+1)","v":0},6158106920,"NIPPLE M11S 34 NPT","4 030,-Ft ","CP S.anyag","Air Line & Electric Supply",120,null,4030]
[{"$f":"IF(L2340=FALSE,0,COUNTIF(A$3:A2339,\">0\")+1)","v":0},6158105800,"NIPPLE M11S 38 BSP","4 310,-Ft ","CP S.anyag","Air Line & Electric Supply",40,null,4310]
[{"$f":"IF(L2341=FALSE,0,COUNTIF(A$3:A2340,\">0\")+1)","v":0},6158105840,"NIPPLE M11S 38 NPT","4 540,-Ft ","CP S.anyag","Air Line & Electric Supply",40,null,4540]
[{"$f":"IF(L2342=FALSE,0,COUNTIF(A$3:A2341,\">0\")+1)","v":0},"CA049305","NIPPLE-1/2\"MPT","3 660,-Ft ","CP S.anyag","Air Line & Electric Supply",88,null,3660]
[{"$f":"IF(L2343=FALSE,0,COUNTIF(A$3:A2342,\">0\")+1)","v":0},"CA046302","NIPPLE-1/4 MPT","2 400,-Ft ","CP S.anyag","Air Line & Electric Supply",30,null,2400]
[{"$f":"IF(L2344=FALSE,0,COUNTIF(A$3:A2343,\">0\")+1)","v":0},"CA047302","NIPPLE-1/4\" FPT","2 400,-Ft ","CP S.anyag","Air Line & Electric Supply",27,null,2400]
[{"$f":"IF(L2345=FALSE,0,COUNTIF(A$3:A2344,\">0\")+1)","v":0},"CA047303","NIPPLE-1/4\"MPT","2 400,-Ft ","CP S.anyag","Air Line & Electric Supply",42,null,2400]
[{"$f":"IF(L2346=FALSE,0,COUNTIF(A$3:A2345,\">0\")+1)","v":0},"CA049303","NIPPLE-3/8\"MPT","3 080,-Ft ","CP S.anyag","Air Line & Electric Supply",59,null,3080]
[{"$f":"IF(L2347=FALSE,0,COUNTIF(A$3:A2346,\">0\")+1)","v":0},"CA047305","NIPPLE-3/8\"MPT","2 490,-Ft ","CP S.anyag","Air Line & Electric Supply",52,null,2490]
[{"$f":"IF(L2348=FALSE,0,COUNTIF(A$3:A2347,\">0\")+1)","v":0},2050512903,"NOISE REDUCER KIT","9 250,-Ft ","CP S.anyag","Removal",212,null,9250]
[{"$f":"IF(L2349=FALSE,0,COUNTIF(A$3:A2348,\">0\")+1)","v":0},2050516493,"NOISE REDUCER KIT","9 250,-Ft ","CP S.anyag","Removal",185,null,9250]
[{"$f":"IF(L2350=FALSE,0,COUNTIF(A$3:A2349,\">0\")+1)","v":0},8940166610,"O8 48-52M O-RING",{"$f":"IF(H2350=\"SP\",IF(J2350>0,\"SP: \"&TEXT(J2350*I$1,\"# ###,-Ft  \"),\"SP: \"&TEXT(I2350*I$1,\"# ###,-Ft\")),IF(J2350>0,\"STARS* \"&TEXT(J2350*J$1,\"# ###,-Ft\"),TEXT(I2350*I$1,\"# ###,-Ft  \")))","v":",-Ft "},"CP S.anyag","Impact Socket",9]
[{"$f":"IF(L2351=FALSE,0,COUNTIF(A$3:A2350,\">0\")+1)","v":0},8940166612,"O8 62m O-RING",",-Ft ","CP S.anyag","Impact Socket",12]
[{"$f":"IF(L2352=FALSE,0,COUNTIF(A$3:A2351,\">0\")+1)","v":0},"P089507","OIL AIROILENE 3,8L","STARS* 10 260,-Ft","CP S.anyag","Air Line & Electric Supply",3135,null,12830,10260]
[{"$f":"IF(L2353=FALSE,0,COUNTIF(A$3:A2352,\">0\")+1)","v":0},"CA149661","OIL PROTECTO-LUBE 120ML","STARS* 1 710,-Ft","CP S.anyag","Air Line & Electric Supply",115,null,1850,1710]
[{"$f":"IF(L2354=FALSE,0,COUNTIF(A$3:A2353,\">0\")+1)","v":0},"CA000046","OIL PROTECTO-LUBE 591ML","STARS* 2 280,-Ft","CP S.anyag","Air Line & Electric Supply",560,null,3080,2280]
[{"$f":"IF(L2355=FALSE,0,COUNTIF(A$3:A2354,\">0\")+1)","v":0},98532,"OIL TELLUS T15 1L","10 660,-Ft ","CP S.anyag","Air Line & Electric Supply",914,null,10660]
[{"$f":"IF(L2356=FALSE,0,COUNTIF(A$3:A2355,\">0\")+1)","v":0},2050524123,"OILER 1/4 \"","STARS* 3 420,-Ft","CP S.anyag","Air Line & Electric Supply",90,null,4790,3420]
[{"$f":"IF(L2357=FALSE,0,COUNTIF(A$3:A2356,\">0\")+1)","v":0},2050524293,"OILER 3/8\"","STARS* 4 560,-Ft","CP S.anyag","Air Line & Electric Supply",111,null,5510,4560]
[{"$f":"IF(L2358=FALSE,0,COUNTIF(A$3:A2357,\">0\")+1)","v":0},8940158838,"OVERHOSE KIT FOR CP873",{"$f":"IF(H2358=\"SP\",IF(J2358>0,\"SP: \"&TEXT(J2358*I$1,\"# ###,-Ft  \"),\"SP: \"&TEXT(I2358*I$1,\"# ###,-Ft\")),IF(J2358>0,\"STARS* \"&TEXT(J2358*J$1,\"# ###,-Ft\"),TEXT(I2358*I$1,\"# ###,-Ft  \")))","v":"14 410,-Ft "},"CP S.anyag","Air Line & Electric Supply",440,null,14410]
[{"$f":"IF(L2359=FALSE,0,COUNTIF(A$3:A2358,\">0\")+1)","v":0},8940167223,"PAD","6 210,-Ft ","CP S.anyag","Removal",57,null,6210]
[{"$f":"IF(L2360=FALSE,0,COUNTIF(A$3:A2359,\">0\")+1)","v":0},352493,"PAD & DISC KIT 3M","35 850,-Ft ","CP S.anyag","Removal",245,null,35850]
[{"$f":"IF(L2361=FALSE,0,COUNTIF(A$3:A2360,\">0\")+1)","v":0},2050549913,"PAD 2\" 1/4-20 FEMALE THREAD","4 450,-Ft ","CP S.anyag","Removal",44,null,4450]
[{"$f":"IF(L2362=FALSE,0,COUNTIF(A$3:A2361,\">0\")+1)","v":0},2050553853,"PAD 2\" 3/8-24 FEMALE THREAD","4 120,-Ft ","CP S.anyag","Removal",40,null,4120]
[{"$f":"IF(L2363=FALSE,0,COUNTIF(A$3:A2362,\">0\")+1)","v":0},8940158334,"PAD 2\" H&L","8 590,-Ft ","CP S.anyag","Removal",20,null,8590]
[{"$f":"IF(L2364=FALSE,0,COUNTIF(A$3:A2363,\">0\")+1)","v":0},8940158773,"PAD 2\" POLISHING HAR","STARS* 2 800,-Ft","CP S.anyag","Removal",4,null,4120,2800]
[{"$f":"IF(L2365=FALSE,0,COUNTIF(A$3:A2364,\">0\")+1)","v":0},8940158772,"PAD 2\" POLISHING SOFT","STARS* 2 800,-Ft","CP S.anyag","Removal",3,null,4120,2800]
[{"$f":"IF(L2366=FALSE,0,COUNTIF(A$3:A2365,\">0\")+1)","v":0},2050549933,"PAD 3\" 3/8-24 FEMALE THREAD","4 790,-Ft ","CP S.anyag","Removal",74,null,4790]
[{"$f":"IF(L2367=FALSE,0,COUNTIF(A$3:A2366,\">0\")+1)","v":0},8940158330,"PAD 3\" H&L","9 950,-Ft ","CP S.anyag","Removal",25,null,9950]
[{"$f":"IF(L2368=FALSE,0,COUNTIF(A$3:A2367,\">0\")+1)","v":0},8940167204,"PAD 3\" H&L W/0 HOLE 5/16-24 - 35GR CP","11 300,-Ft ","CP S.anyag","Removal",48,null,11300]
[{"$f":"IF(L2369=FALSE,0,COUNTIF(A$3:A2368,\">0\")+1)","v":0},8940167203,"PAD 3\" PSA W/0 HOLE 5/16-24 - 35GR CP","9 950,-Ft ","CP S.anyag","Removal",50,null,9950]
[{"$f":"IF(L2370=FALSE,0,COUNTIF(A$3:A2369,\">0\")+1)","v":0},"CA158109","PAD 3.5\" HARD","STARS* 3 910,-Ft","CP S.anyag","Removal",6,null,5810,3910]
[{"$f":"IF(L2371=FALSE,0,COUNTIF(A$3:A2370,\">0\")+1)","v":0},"CA158108","PAD 3.5\" SOFT","STARS* 3 910,-Ft","CP S.anyag","Removal",12,null,5810,3910]
[{"$f":"IF(L2372=FALSE,0,COUNTIF(A$3:A2371,\">0\")+1)","v":0},8940166666,"PAD 5\" H&L W/0 HOLE 5/16-24 - 121GR","10 660,-Ft ","CP S.anyag","Removal",155,null,10660]
[{"$f":"IF(L2373=FALSE,0,COUNTIF(A$3:A2372,\">0\")+1)","v":0},8940166668,"PAD 5\" H&L W/5 HOLES 5/16-24 - 121GR","STARS* 7 000,-Ft","CP S.anyag","Removal",125,null,11000,7000]
[{"$f":"IF(L2374=FALSE,0,COUNTIF(A$3:A2373,\">0\")+1)","v":0},8940166665,"PAD 5\" PSA W/0 HOLE 5/16-24 - 121GR","9 950,-Ft ","CP S.anyag","Removal",122,null,9950]
[{"$f":"IF(L2375=FALSE,0,COUNTIF(A$3:A2374,\">0\")+1)","v":0},8940166667,"PAD 5\" PSA W/5 HOLES 5/16-24 - 121GR","10 300,-Ft ","CP S.anyag","Removal",122,null,10300]
[{"$f":"IF(L2376=FALSE,0,COUNTIF(A$3:A2375,\">0\")+1)","v":0},8940163456,"PAD 6\" H&L W/1 HOLE 5/16-24 - 123GR CP",{"$f":"IF(H2376=\"SP\",IF(J2376>0,\"SP: \"&TEXT(J2376*I$1,\"# ###,-Ft  \"),\"SP: \"&TEXT(I2376*I$1,\"# ###,-Ft\")),IF(J2376>0,\"STARS* \"&TEXT(J2376*J$1,\"# ###,-Ft\"),TEXT(I2376*I$1,\"# ###,-Ft  \")))","v":"6 510,-Ft "},"CP S.anyag","Removal",158,null,6510]
[{"$f":"IF(L2377=FALSE,0,COUNTIF(A$3:A2376,\">0\")+1)","v":0},8940168236,"PAD 6\" H&L W/15 HOLES 5/16-24 - 123GR CP","STARS* 8 090,-Ft","CP S.anyag","Removal",176,null,13380,8090]
[{"$f":"IF(L2378=FALSE,0,COUNTIF(A$3:A2377,\">0\")+1)","v":0},8940158690,"PAD 6\" H&L W/6 HOLES 5/16-24 - 130GR","14 060,-Ft ","CP S.anyag","Removal",165,null,14060]
[{"$f":"IF(L2379=FALSE,0,COUNTIF(A$3:A2378,\">0\")+1)","v":0},8940163458,"PAD 6\" H&L W/7 HOLES 5/16-24 - 123GR CP","STARS* 7 110,-Ft","CP S.anyag","Removal",125,null,6850,7110]
[{"$f":"IF(L2380=FALSE,0,COUNTIF(A$3:A2379,\">0\")+1)","v":0},8940163455,"PAD 6\" PSA W/1 HOLE 5/16-24 - 123GR CP","5 810,-Ft ","CP S.anyag","Removal",158,null,5810]
[{"$f":"IF(L2381=FALSE,0,COUNTIF(A$3:A2380,\">0\")+1)","v":0},8940168235,"PAD 6\" PSA W/15 HOLES 5/16-24 - 123GR CP","12 720,-Ft ","CP S.anyag","Removal",176,null,12720]
[{"$f":"IF(L2382=FALSE,0,COUNTIF(A$3:A2381,\">0\")+1)","v":0},8940163457,"PAD 6\" PSA W/7 HOLES 5/16-24 - 123GR CP","6 210,-Ft ","CP S.anyag","Removal",156,null,6210]
[{"$f":"IF(L2383=FALSE,0,COUNTIF(A$3:A2382,\">0\")+1)","v":0},2050488253,"PAD 6\" W/0 HOLE 5/16-24",",-Ft ","CP S.anyag","Removal",98]
[{"$f":"IF(L2384=FALSE,0,COUNTIF(A$3:A2383,\">0\")+1)","v":0},8940163294,"PAD ASSEMBLY","13 380,-Ft ","CP S.anyag","Removal",231,null,13380]
[{"$f":"IF(L2385=FALSE,0,COUNTIF(A$3:A2384,\">0\")+1)","v":0},8940163525,"PAD WRENCH","1 690,-Ft ","CP S.anyag","Removal",69,null,1690]
[{"$f":"IF(L2386=FALSE,0,COUNTIF(A$3:A2385,\">0\")+1)","v":0},"CA145098","PAD-SANDING",{"$f":"IF(H2386=\"SP\",IF(J2386>0,\"SP: \"&TEXT(J2386*I$1,\"# ###,-Ft  \"),\"SP: \"&TEXT(I2386*I$1,\"# ###,-Ft\")),IF(J2386>0,\"STARS* \"&TEXT(J2386*J$1,\"# ###,-Ft\"),TEXT(I2386*I$1,\"# ###,-Ft  \")))","v":"4 450,-Ft "},"CP S.anyag","Removal",107,null,4450]
[{"$f":"IF(L2387=FALSE,0,COUNTIF(A$3:A2386,\">0\")+1)","v":0},6152505170,"PANIER PORTE-AIGUIL","41 660,-Ft ","CP S.anyag","Chisels and Needles",235,null,41660]
[{"$f":"IF(L2388=FALSE,0,COUNTIF(A$3:A2387,\">0\")+1)","v":0},6152505310,"PANIER PORTE-AIGUIL","29 360,-Ft ","CP S.anyag","Chisels and Needles",85.4,null,29360]
[{"$f":"IF(L2389=FALSE,0,COUNTIF(A$3:A2388,\">0\")+1)","v":0},6152505320,"PANIER PORTE-AIGUIL","39 940,-Ft ","CP S.anyag","Chisels and Needles",170,null,39940]
[{"$f":"IF(L2390=FALSE,0,COUNTIF(A$3:A2389,\">0\")+1)","v":0},6152505430,"PANIER PORTE-AIGUIL","41 660,-Ft ","CP S.anyag","Chisels and Needles",400,null,41660]
[{"$f":"IF(L2391=FALSE,0,COUNTIF(A$3:A2390,\">0\")+1)","v":0},6152505370,"PANIER PTE AIGUILLE","69 200,-Ft ","CP S.anyag","Chisels and Needles",382,null,69200]
[{"$f":"IF(L2392=FALSE,0,COUNTIF(A$3:A2391,\">0\")+1)","v":0},6150462180,"PICK CHISEL SHANK HEX 12,5MM","15 800,-Ft ","CP S.anyag","Chisels and Needles",257,null,15800]
[{"$f":"IF(L2393=FALSE,0,COUNTIF(A$3:A2392,\">0\")+1)","v":0},6158040920,"PICK CHISEL SHANK HEX 12,5MM","18 560,-Ft ","CP S.anyag","Chisels and Needles",356,null,18560]
[{"$f":"IF(L2394=FALSE,0,COUNTIF(A$3:A2393,\">0\")+1)","v":0},6158040930,"PICK CHISEL SHANK HEX 3/4\"","12 360,-Ft ","CP S.anyag","Chisels and Needles",712,null,12360]
[{"$f":"IF(L2395=FALSE,0,COUNTIF(A$3:A2394,\">0\")+1)","v":0},6158040940,"PICK CHISEL SHANK HEX 3/4\"","17 500,-Ft ","CP S.anyag","Chisels and Needles",1224,null,17500]
[{"$f":"IF(L2396=FALSE,0,COUNTIF(A$3:A2395,\">0\")+1)","v":0},6150452180,"PICK CHISEL SHANK ROUND 15MM","14 410,-Ft ","CP S.anyag","Chisels and Needles",267,null,14410]
[{"$f":"IF(L2397=FALSE,0,COUNTIF(A$3:A2396,\">0\")+1)","v":0},"KF137214","PLATE-BACKING (4.75)","2 760,-Ft ","CP S.anyag","Removal",23,null,2760]
[{"$f":"IF(L2398=FALSE,0,COUNTIF(A$3:A2397,\">0\")+1)","v":0},"KF137215","PLATE-BACKING 3.75","2 760,-Ft ","CP S.anyag","Removal",9,null,2760]
[{"$f":"IF(L2399=FALSE,0,COUNTIF(A$3:A2398,\">0\")+1)","v":0},2050512793,"POINTED CHISEL SHANK ISO SQUARE 1/2\"",{"$f":"IF(H2399=\"SP\",IF(J2399>0,\"SP: \"&TEXT(J2399*I$1,\"# ###,-Ft  \"),\"SP: \"&TEXT(I2399*I$1,\"# ###,-Ft\")),IF(J2399>0,\"STARS* \"&TEXT(J2399*J$1,\"# ###,-Ft\"),TEXT(I2399*I$1,\"# ###,-Ft  \")))","v":"9 620,-Ft "},"CP S.anyag","Chisels and Needles",162,null,9620]
[{"$f":"IF(L2400=FALSE,0,COUNTIF(A$3:A2399,\">0\")+1)","v":0},8940158546,"POLISHING BACK PAD","22 300,-Ft ","CP S.anyag","Removal",145,null,22300]
[{"$f":"IF(L2401=FALSE,0,COUNTIF(A$3:A2400,\">0\")+1)","v":0},6158110050,"PRESSURE CLAMP HD FOR RUBBER 22-25","3 080,-Ft ","CP S.anyag","Air Line & Electric Supply",125,null,3080]
[{"$f":"IF(L2402=FALSE,0,COUNTIF(A$3:A2401,\">0\")+1)","v":0},6158110060,"PRESSURE CLAMP HD FOR RUBBER 25-28","3 080,-Ft ","CP S.anyag","Air Line & Electric Supply",165,null,3080]
[{"$f":"IF(L2403=FALSE,0,COUNTIF(A$3:A2402,\">0\")+1)","v":0},6158110070,"PRESSURE CLAMP HD FOR RUBBER 29-32","3 080,-Ft ","CP S.anyag","Air Line & Electric Supply",185,null,3080]
[{"$f":"IF(L2404=FALSE,0,COUNTIF(A$3:A2403,\">0\")+1)","v":0},6158109910,"PRESSURE CLAMP SIMPLE  23.3-26.3","1 370,-Ft ","CP S.anyag","Air Line & Electric Supply",5,null,1370]
[{"$f":"IF(L2405=FALSE,0,COUNTIF(A$3:A2404,\">0\")+1)","v":0},6158109840,"PRESSURE CLAMP SIMPLE 11.3-13.3","1 020,-Ft ","CP S.anyag","Air Line & Electric Supply",1,null,1020]
[{"$f":"IF(L2406=FALSE,0,COUNTIF(A$3:A2405,\">0\")+1)","v":0},6158109850,"PRESSURE CLAMP SIMPLE 12.8-14.8","1 020,-Ft ","CP S.anyag","Air Line & Electric Supply",1,null,1020]
[{"$f":"IF(L2407=FALSE,0,COUNTIF(A$3:A2406,\">0\")+1)","v":0},6158109860,"PRESSURE CLAMP SIMPLE 14.6-16.8","1 020,-Ft ","CP S.anyag","Air Line & Electric Supply",1,null,1020]
[{"$f":"IF(L2408=FALSE,0,COUNTIF(A$3:A2407,\">0\")+1)","v":0},6158109870,"PRESSURE CLAMP SIMPLE 16.5-18.8","1 020,-Ft ","CP S.anyag","Air Line & Electric Supply",1,null,1020]
[{"$f":"IF(L2409=FALSE,0,COUNTIF(A$3:A2408,\">0\")+1)","v":0},6158109880,"PRESSURE CLAMP SIMPLE 18-20.3","1 020,-Ft ","CP S.anyag","Air Line & Electric Supply",1,null,1020]
[{"$f":"IF(L2410=FALSE,0,COUNTIF(A$3:A2409,\">0\")+1)","v":0},6158109890,"PRESSURE CLAMP SIMPLE 20.2-22.8","1 020,-Ft ","CP S.anyag","Air Line & Electric Supply",1,null,1020]
[{"$f":"IF(L2411=FALSE,0,COUNTIF(A$3:A2410,\">0\")+1)","v":0},6158109900,"PRESSURE CLAMP SIMPLE 22-24.8","1 020,-Ft ","CP S.anyag","Air Line & Electric Supply",10,null,1020]
[{"$f":"IF(L2412=FALSE,0,COUNTIF(A$3:A2411,\">0\")+1)","v":0},6158109920,"PRESSURE CLAMP SIMPLE 26.5-30","1 370,-Ft ","CP S.anyag","Air Line & Electric Supply",10,null,1370]
[{"$f":"IF(L2413=FALSE,0,COUNTIF(A$3:A2412,\">0\")+1)","v":0},6158109930,"PRESSURE CLAMP SIMPLE 29.8-33.1","1 370,-Ft ","CP S.anyag","Air Line & Electric Supply",10,null,1370]
[{"$f":"IF(L2414=FALSE,0,COUNTIF(A$3:A2413,\">0\")+1)","v":0},6158109790,"PRESSURE CLAMP SIMPLE 5.2-6.2","1 370,-Ft ","CP S.anyag","Air Line & Electric Supply",1,null,1370]
[{"$f":"IF(L2415=FALSE,0,COUNTIF(A$3:A2414,\">0\")+1)","v":0},6158109800,"PRESSURE CLAMP SIMPLE 5.9-7","1 370,-Ft ","CP S.anyag","Air Line & Electric Supply",1,null,1370]
[{"$f":"IF(L2416=FALSE,0,COUNTIF(A$3:A2415,\">0\")+1)","v":0},6158109810,"PRESSURE CLAMP SIMPLE 7-8.5","690,-Ft ","CP S.anyag","Air Line & Electric Supply",1,null,690]
[{"$f":"IF(L2417=FALSE,0,COUNTIF(A$3:A2416,\">0\")+1)","v":0},6158109820,"PRESSURE CLAMP SIMPLE 8.5-10","690,-Ft ","CP S.anyag","Air Line & Electric Supply",1,null,690]
[{"$f":"IF(L2418=FALSE,0,COUNTIF(A$3:A2417,\">0\")+1)","v":0},6158109830,"PRESSURE CLAMP SIMPLE 9.8-11.8","690,-Ft ","CP S.anyag","Air Line & Electric Supply",1,null,690]
[{"$f":"IF(L2419=FALSE,0,COUNTIF(A$3:A2418,\">0\")+1)","v":0},6158109940,"PRESSURE CLAMP WITH SCREW 26-38","1 370,-Ft ","CP S.anyag","Air Line & Electric Supply",10,null,1370]
[{"$f":"IF(L2420=FALSE,0,COUNTIF(A$3:A2419,\">0\")+1)","v":0},6158109950,"PRESSURE CLAMP WITH SCREW 32-44","1 370,-Ft ","CP S.anyag","Air Line & Electric Supply",15,null,1370]
[{"$f":"IF(L2421=FALSE,0,COUNTIF(A$3:A2420,\">0\")+1)","v":0},6158109960,"PRESSURE CLAMP WITH SCREW 38-50","1 370,-Ft ","CP S.anyag","Air Line & Electric Supply",30,null,1370]
[{"$f":"IF(L2422=FALSE,0,COUNTIF(A$3:A2421,\">0\")+1)","v":0},6158109970,"PRESSURE CLAMP WITH SCREW 50-65","1 370,-Ft ","CP S.anyag","Air Line & Electric Supply",0,null,1370]
[{"$f":"IF(L2423=FALSE,0,COUNTIF(A$3:A2422,\">0\")+1)","v":0},8940168830,"PROTECTIVE BOOT CP7729/39","5 140,-Ft ","CP S.anyag","Ergonomics",74,null,5140]
[{"$f":"IF(L2424=FALSE,0,COUNTIF(A$3:A2423,\">0\")+1)","v":0},"CA129405","PROTECTIVE COVER  CP734H","STARS* 1 790,-Ft","CP S.anyag","Ergonomics",90,null,4790,1790]
[{"$f":"IF(L2425=FALSE,0,COUNTIF(A$3:A2424,\">0\")+1)","v":0},"CA124745","PROTECTIVE COVER  CP772H","STARS* 4 100,-Ft","CP S.anyag","Ergonomics",175,null,5140,4100]
[{"$f":"IF(L2426=FALSE,0,COUNTIF(A$3:A2425,\">0\")+1)","v":0},"CA139818","PROTECTIVE COVER  CP797",",-Ft ","CP S.anyag","Ergonomics",237]
[{"$f":"IF(L2427=FALSE,0,COUNTIF(A$3:A2426,\">0\")+1)","v":0},"CA133961","PROTECTIVE COVER  CP828","STARS* 1 630,-Ft","CP S.anyag","Ergonomics",13,null,2400,1630]
[{"$f":"IF(L2428=FALSE,0,COUNTIF(A$3:A2427,\">0\")+1)","v":0},"CA146522","PROTECTIVE COVER CP724 & CP726","4 790,-Ft ","CP S.anyag","Ergonomics",70,null,4790]
[{"$f":"IF(L2429=FALSE,0,COUNTIF(A$3:A2428,\">0\")+1)","v":0},"CA155537","PROTECTIVE COVER CP749","STARS* 2 640,-Ft","CP S.anyag","Ergonomics",106,null,4790,2640]
[{"$f":"IF(L2430=FALSE,0,COUNTIF(A$3:A2429,\">0\")+1)","v":0},8940158949,"PROTECTIVE COVER CP7733","3 740,-Ft ","CP S.anyag","Ergonomics",108,null,3740]
[{"$f":"IF(L2431=FALSE,0,COUNTIF(A$3:A2430,\">0\")+1)","v":0},8940167487,"PROTECTIVE COVER CP7749 SERIE",{"$f":"IF(H2431=\"SP\",IF(J2431>0,\"SP: \"&TEXT(J2431*I$1,\"# ###,-Ft  \"),\"SP: \"&TEXT(I2431*I$1,\"# ###,-Ft\")),IF(J2431>0,\"STARS* \"&TEXT(J2431*J$1,\"# ###,-Ft\"),TEXT(I2431*I$1,\"# ###,-Ft  \")))","v":"4 620,-Ft "},"CP S.anyag","Ergonomics",110,null,4620]
[{"$f":"IF(L2432=FALSE,0,COUNTIF(A$3:A2431,\">0\")+1)","v":0},8940167498,"PROTECTIVE COVER CP7763  SERIE",{"$f":"IF(H2432=\"SP\",IF(J2432>0,\"SP: \"&TEXT(J2432*I$1,\"# ###,-Ft  \"),\"SP: \"&TEXT(I2432*I$1,\"# ###,-Ft\")),IF(J2432>0,\"STARS* \"&TEXT(J2432*J$1,\"# ###,-Ft\"),TEXT(I2432*I$1,\"# ###,-Ft  \")))","v":"7 560,-Ft "},"CP S.anyag","Ergonomics",281,null,7560]
[{"$f":"IF(L2433=FALSE,0,COUNTIF(A$3:A2432,\">0\")+1)","v":0},8940169917,"PROTECTIVE COVER CP7769",",-Ft ","CP S.anyag","Ergonomics",137]
[{"$f":"IF(L2434=FALSE,0,COUNTIF(A$3:A2433,\">0\")+1)","v":0},8940163099,"PROTECTIVE COVER CP7778",",-Ft ","CP S.anyag","Ergonomics",230]
[{"$f":"IF(L2435=FALSE,0,COUNTIF(A$3:A2434,\">0\")+1)","v":0},"CA147993","PROTECTIVE COVER CP7830Q","2 400,-Ft ","CP S.anyag","Ergonomics",17,null,2400]
[{"$f":"IF(L2436=FALSE,0,COUNTIF(A$3:A2435,\">0\")+1)","v":0},2050559173,"PROTECTIVE COVER CP8222-32-42","4 790,-Ft ","CP S.anyag","Ergonomics",62,null,4790]
[{"$f":"IF(L2437=FALSE,0,COUNTIF(A$3:A2436,\">0\")+1)","v":0},2050559183,"PROTECTIVE COVER CP8252","5 510,-Ft ","CP S.anyag","Ergonomics",110,null,5510]
[{"$f":"IF(L2438=FALSE,0,COUNTIF(A$3:A2437,\">0\")+1)","v":0},"CA154993","PROTECTIVE COVER CP826","2 400,-Ft ","CP S.anyag","Ergonomics",9,null,2400]
[{"$f":"IF(L2439=FALSE,0,COUNTIF(A$3:A2438,\">0\")+1)","v":0},2050559193,"PROTECTIVE COVER CP8272","6 510,-Ft ","CP S.anyag","Ergonomics",158,null,6510]
[{"$f":"IF(L2440=FALSE,0,COUNTIF(A$3:A2439,\">0\")+1)","v":0},8940158351,"PSA PAD 6\"","13 380,-Ft ","CP S.anyag","Removal",131,null,13380]
[{"$f":"IF(L2441=FALSE,0,COUNTIF(A$3:A2440,\">0\")+1)","v":0},8940158621,"PSA PAD 6\" W/HOLES","13 380,-Ft ","CP S.anyag","Removal",129,null,13380]
[{"$f":"IF(L2442=FALSE,0,COUNTIF(A$3:A2441,\">0\")+1)","v":0},2050533633,"PVC COVER CP8222-CP8242","7 560,-Ft ","CP S.anyag","Ergonomics",45,null,7560]
[{"$f":"IF(L2443=FALSE,0,COUNTIF(A$3:A2442,\">0\")+1)","v":0},2050533643,"PVC COVER CP8252","7 560,-Ft ","CP S.anyag","Ergonomics",79,null,7560]
[{"$f":"IF(L2444=FALSE,0,COUNTIF(A$3:A2443,\">0\")+1)","v":0},2050533653,"PVC COVER CP8272","8 260,-Ft ","CP S.anyag","Ergonomics",115,null,8260]
[{"$f":"IF(L2445=FALSE,0,COUNTIF(A$3:A2444,\">0\")+1)","v":0},6151740180,"RA1 ROUND","380 000,-Ft ","CP Termék","Ind Hammers Various",1300,null,380000]
[{"$f":"IF(L2446=FALSE,0,COUNTIF(A$3:A2445,\">0\")+1)","v":0},6151740190,"RA1BL FLATNOSE","380 000,-Ft ","CP Termék","Ind Hammers Various",1362,null,380000]
[{"$f":"IF(L2447=FALSE,0,COUNTIF(A$3:A2446,\">0\")+1)","v":0},6151740200,"RA2C ROUND","388 000,-Ft ","CP Termék","Ind Hammers Various",2350,null,388000]
[{"$f":"IF(L2448=FALSE,0,COUNTIF(A$3:A2447,\">0\")+1)","v":0},6151740210,"RA2H HEXAGONAL","388 000,-Ft ","CP Termék","Ind Hammers Various",2343,null,388000]
[{"$f":"IF(L2449=FALSE,0,COUNTIF(A$3:A2448,\">0\")+1)","v":0},"LC121737","REGULATOR-AIR","9 250,-Ft ","CP S.anyag","Air Line & Electric Supply",89,null,9250]
[{"$f":"IF(L2450=FALSE,0,COUNTIF(A$3:A2449,\">0\")+1)","v":0},6156815800,"RESSORT DE COMPRESS","4 790,-Ft ","CP S.anyag","Removal",54,null,4790]
[{"$f":"IF(L2451=FALSE,0,COUNTIF(A$3:A2450,\">0\")+1)","v":0},"CA145690","RETAINER BHIVE WURTH",{"$f":"IF(H2451=\"SP\",IF(J2451>0,\"SP: \"&TEXT(J2451*I$1,\"# ###,-Ft  \"),\"SP: \"&TEXT(I2451*I$1,\"# ###,-Ft\")),IF(J2451>0,\"STARS* \"&TEXT(J2451*J$1,\"# ###,-Ft\"),TEXT(I2451*I$1,\"# ###,-Ft  \")))","v":"5 200,-Ft "},"CP S.anyag","Chisels and Needles",88,null,5200]
[{"$f":"IF(L2452=FALSE,0,COUNTIF(A$3:A2451,\">0\")+1)","v":0},8940158924,"RETAINER QUICK CHANGE","6 510,-Ft ","CP S.anyag","Chisels and Needles",343,null,6510]
[{"$f":"IF(L2453=FALSE,0,COUNTIF(A$3:A2452,\">0\")+1)","v":0},"A046096","RETAINER-BEEHIVE","3 450,-Ft ","CP S.anyag","Chisels and Needles",64,null,3450]
[{"$f":"IF(L2454=FALSE,0,COUNTIF(A$3:A2453,\">0\")+1)","v":0},"A047096","RETAINER-BEEHIVE","4 450,-Ft ","CP S.anyag","Chisels and Needles",81,null,4450]
[{"$f":"IF(L2455=FALSE,0,COUNTIF(A$3:A2454,\">0\")+1)","v":0},"A047095","RETAINER-QUICK CHAN6","4 120,-Ft ","CP S.anyag","Chisels and Needles",72,null,4120]
[{"$f":"IF(L2456=FALSE,0,COUNTIF(A$3:A2455,\">0\")+1)","v":0},"A046095","RETAINER-QUICKCHANGE","3 450,-Ft ","CP S.anyag","Chisels and Needles",31,null,3450]
[{"$f":"IF(L2457=FALSE,0,COUNTIF(A$3:A2456,\">0\")+1)","v":0},"A121721","RETAINER-QUK CHG ZPS","38 250,-Ft ","CP S.anyag","Chisels and Needles",324,null,38250]
[{"$f":"IF(L2458=FALSE,0,COUNTIF(A$3:A2457,\">0\")+1)","v":0},"A046094","RETAINER-ZIP QUICK",{"$f":"IF(H2458=\"SP\",IF(J2458>0,\"SP: \"&TEXT(J2458*I$1,\"# ###,-Ft  \"),\"SP: \"&TEXT(I2458*I$1,\"# ###,-Ft\")),IF(J2458>0,\"STARS* \"&TEXT(J2458*J$1,\"# ###,-Ft\"),TEXT(I2458*I$1,\"# ###,-Ft  \")))","v":"7 210,-Ft "},"CP S.anyag","Chisels and Needles",66,null,7210]
[{"$f":"IF(L2459=FALSE,0,COUNTIF(A$3:A2458,\">0\")+1)","v":0},"C134696","RING-RETAINING 1\" 1/2 DIA 111MM","4 790,-Ft ","CP S.anyag","Impact Socket",22,null,4790]
[{"$f":"IF(L2460=FALSE,0,COUNTIF(A$3:A2459,\">0\")+1)","v":0},"C134693","RING-RETAINING 1\" 1/2 DIA 73MM","4 790,-Ft ","CP S.anyag","Impact Socket",21,null,4790]
[{"$f":"IF(L2461=FALSE,0,COUNTIF(A$3:A2460,\">0\")+1)","v":0},"C134694","RING-RETAINING 1\" 1/2 DIA 86MM","4 790,-Ft ","CP S.anyag","Impact Socket",20,null,4790]
[{"$f":"IF(L2462=FALSE,0,COUNTIF(A$3:A2461,\">0\")+1)","v":0},"C134695","RING-RETAINING 1\" 1/2 DIA 98MM","4 790,-Ft ","CP S.anyag","Impact Socket",23,null,4790]
[{"$f":"IF(L2463=FALSE,0,COUNTIF(A$3:A2462,\">0\")+1)","v":0},"C155470","RING-RETAINING 1\" DIA 44MM","4 120,-Ft ","CP S.anyag","Impact Socket",10,null,4120]
[{"$f":"IF(L2464=FALSE,0,COUNTIF(A$3:A2463,\">0\")+1)","v":0},"C155471","RING-RETAINING 1\" DIA 51MM","4 120,-Ft ","CP S.anyag","Impact Socket",15,null,4120]
[{"$f":"IF(L2465=FALSE,0,COUNTIF(A$3:A2464,\">0\")+1)","v":0},"C155472","RING-RETAINING 1\" DIA 54MM","4 120,-Ft ","CP S.anyag","Impact Socket",10,null,4120]
[{"$f":"IF(L2466=FALSE,0,COUNTIF(A$3:A2465,\">0\")+1)","v":0},"C134692","RING-RETAINING 1\" DIA 57MM","4 120,-Ft ","CP S.anyag","Impact Socket",11,null,4120]
[{"$f":"IF(L2467=FALSE,0,COUNTIF(A$3:A2466,\">0\")+1)","v":0},"C155467","RING-RETAINING 3/4\" DIA 32MM",{"$f":"IF(H2467=\"SP\",IF(J2467>0,\"SP: \"&TEXT(J2467*I$1,\"# ###,-Ft  \"),\"SP: \"&TEXT(I2467*I$1,\"# ###,-Ft\")),IF(J2467>0,\"STARS* \"&TEXT(J2467*J$1,\"# ###,-Ft\"),TEXT(I2467*I$1,\"# ###,-Ft  \")))","v":"3 080,-Ft "},"CP S.anyag","Impact Socket",6,null,3080]
[{"$f":"IF(L2468=FALSE,0,COUNTIF(A$3:A2467,\">0\")+1)","v":0},"C134690","RING-RETAINING 3/4\" DIA 41MM","3 080,-Ft ","CP S.anyag","Impact Socket",8,null,3080]
[{"$f":"IF(L2469=FALSE,0,COUNTIF(A$3:A2468,\">0\")+1)","v":0},"C134691","RING-RETAINING 3/4\" DIA 44MM","3 080,-Ft ","CP S.anyag","Impact Socket",10,null,3080]
[{"$f":"IF(L2470=FALSE,0,COUNTIF(A$3:A2469,\">0\")+1)","v":0},"C155468","RING-RETAINING 3/4\" DIA 44MM","3 080,-Ft ","CP S.anyag","Impact Socket",7,null,3080]
[{"$f":"IF(L2471=FALSE,0,COUNTIF(A$3:A2470,\">0\")+1)","v":0},"CA155778","RIVET CUTTER SHANK HEX .401\"","3 770,-Ft ","CP S.anyag","Chisels and Needles",179,null,3770]
[{"$f":"IF(L2472=FALSE,0,COUNTIF(A$3:A2471,\">0\")+1)","v":0},"A046050","RIVET CUTTER SHANK ROUND .401\"","3 500,-Ft ","CP S.anyag","Chisels and Needles",168,null,3500]
[{"$f":"IF(L2473=FALSE,0,COUNTIF(A$3:A2472,\">0\")+1)","v":0},"A047050","RIVET CUTTER SHANK ROUND .498\"","11 300,-Ft ","CP S.anyag","Chisels and Needles",215,null,11300]
[{"$f":"IF(L2474=FALSE,0,COUNTIF(A$3:A2473,\">0\")+1)","v":0},"A046087","RIVET REMOVAL SHANK ROUND .401\"","10 660,-Ft ","CP S.anyag","Chisels and Needles",84,null,10660]
[{"$f":"IF(L2475=FALSE,0,COUNTIF(A$3:A2474,\">0\")+1)","v":0},"A046088","RIVET REMOVAL SHANK ROUND .401\"","10 300,-Ft ","CP S.anyag","Chisels and Needles",85,null,10300]
[{"$f":"IF(L2476=FALSE,0,COUNTIF(A$3:A2475,\">0\")+1)","v":0},"A046089","RIVET REMOVAL SHANK ROUND .401\"","18 520,-Ft ","CP S.anyag","Chisels and Needles",93,null,18520]
[{"$f":"IF(L2477=FALSE,0,COUNTIF(A$3:A2476,\">0\")+1)","v":0},"P089207","RIVET SET 10,2MM ROUND 1/8\"","11 300,-Ft ","CP S.anyag","Chisels and Needles",79.400000000000006,null,11300]
[{"$f":"IF(L2478=FALSE,0,COUNTIF(A$3:A2477,\">0\")+1)","v":0},"P072213","ROUNDED POINT SHANK QTR. OCT. WF 1/2\"","13 060,-Ft ","CP S.anyag","Chisels and Needles",101,null,13060]
[{"$f":"IF(L2479=FALSE,0,COUNTIF(A$3:A2478,\">0\")+1)","v":0},"P084175","ROUNDED POINT SHANK QTR. OCT. WF 1/2\"","11 000,-Ft ","CP S.anyag","Chisels and Needles",267,null,11000]
[{"$f":"IF(L2480=FALSE,0,COUNTIF(A$3:A2479,\">0\")+1)","v":0},"P084176","ROUNDED POINT SHANK QTR. OCT. WF 1/2\"","16 810,-Ft ","CP S.anyag","Chisels and Needles",340,null,16810]
[{"$f":"IF(L2481=FALSE,0,COUNTIF(A$3:A2480,\">0\")+1)","v":0},"P084177","ROUNDED POINT SHANK QTR. OCT. WF 1/2\"","18 560,-Ft ","CP S.anyag","Chisels and Needles",512.4,null,18560]
[{"$f":"IF(L2482=FALSE,0,COUNTIF(A$3:A2481,\">0\")+1)","v":0},8940169348,"S1041M 1-1/2\" DR STD IMPACT SOCKET 41MM","39 630,-Ft ","CP S.anyag","Impact Socket",2128,null,39630]
[{"$f":"IF(L2483=FALSE,0,COUNTIF(A$3:A2482,\">0\")+1)","v":0},8940169349,"S1046M 1-1/2\" DR STD IMPACT SOCKET 46MM","43 360,-Ft ","CP S.anyag","Impact Socket",2292,null,43360]
[{"$f":"IF(L2484=FALSE,0,COUNTIF(A$3:A2483,\">0\")+1)","v":0},8940169350,"S1050M 1-1/2\" DR STD IMPACT SOCKET 50MM","47 800,-Ft ","CP S.anyag","Impact Socket",2402,null,47800]
[{"$f":"IF(L2485=FALSE,0,COUNTIF(A$3:A2484,\">0\")+1)","v":0},8940169351,"S1055M 1-1/2\" DR STD IMPACT SOCKET 55MM","48 120,-Ft ","CP S.anyag","Impact Socket",2512,null,48120]
[{"$f":"IF(L2486=FALSE,0,COUNTIF(A$3:A2485,\">0\")+1)","v":0},8940169352,"S1060M 1-1/2\" DR STD IMPACT SOCKET 60MM","51 210,-Ft ","CP S.anyag","Impact Socket",2730,null,51210]
[{"$f":"IF(L2487=FALSE,0,COUNTIF(A$3:A2486,\">0\")+1)","v":0},8940169353,"S1065M 1-1/2\" DR STD IMPACT SOCKET 65MM","65 100,-Ft ","CP S.anyag","Impact Socket",3000,null,65100]
[{"$f":"IF(L2488=FALSE,0,COUNTIF(A$3:A2487,\">0\")+1)","v":0},8940169354,"S1070M 1-1/2\" DR STD IMPACT SOCKET 70MM","78 000,-Ft ","CP S.anyag","Impact Socket",3280,null,78000]
[{"$f":"IF(L2489=FALSE,0,COUNTIF(A$3:A2488,\">0\")+1)","v":0},8940169355,"S1075M 1-1/2\" DR STD IMPACT SOCKET 75MM","78 000,-Ft ","CP S.anyag","Impact Socket",3526,null,78000]
[{"$f":"IF(L2490=FALSE,0,COUNTIF(A$3:A2489,\">0\")+1)","v":0},8940169356,"S1080M 1-1/2\" DR STD IMPACT SOCKET 80MM","90 600,-Ft ","CP S.anyag","Impact Socket",4484,null,90600]
[{"$f":"IF(L2491=FALSE,0,COUNTIF(A$3:A2490,\">0\")+1)","v":0},8940169359,"S1080MD 1-1/2\" DR DEEP IMPACT SCKET 80MM","147 000,-Ft ","CP S.anyag","Impact Socket",7670,null,147000]
[{"$f":"IF(L2492=FALSE,0,COUNTIF(A$3:A2491,\">0\")+1)","v":0},8940169357,"S1085M 1-1/2\" DR STD IMPACT SOCKET 85MM","96 700,-Ft ","CP S.anyag","Impact Socket",4844,null,96700]
[{"$f":"IF(L2493=FALSE,0,COUNTIF(A$3:A2492,\">0\")+1)","v":0},8940169358,"S1090M 1-1/2\" DR STD IMPACT SOCKET 90MM","109 200,-Ft ","CP S.anyag","Impact Socket",5170,null,109200]
[{"$f":"IF(L2494=FALSE,0,COUNTIF(A$3:A2493,\">0\")+1)","v":0},8940163927,"S405 1/2\" DR. STD IMPACT SOCKET 5/16\"","690,-Ft ","CP S.anyag","Impact Socket",69,null,690]
[{"$f":"IF(L2495=FALSE,0,COUNTIF(A$3:A2494,\">0\")+1)","v":0},8940163928,"S4055 1/2\" DR. STD IMPACT SOCKET 11/32\"",",-Ft ","CP S.anyag","Impact Socket",69]
[{"$f":"IF(L2496=FALSE,0,COUNTIF(A$3:A2495,\">0\")+1)","v":0},8940163975,"S405D 1/2\" DR. DEEP IMPACT SOCKET 5/16\"","1 020,-Ft ","CP S.anyag","Impact Socket",153,null,1020]
[{"$f":"IF(L2497=FALSE,0,COUNTIF(A$3:A2496,\">0\")+1)","v":0},8940163929,"S406 1/2\" DR. STD IMPACT SOCKET 3/8\"",",-Ft ","CP S.anyag","Impact Socket",69]
[{"$f":"IF(L2498=FALSE,0,COUNTIF(A$3:A2497,\">0\")+1)","v":0},8940163977,"S406D 1/2\" DR. DEEP IMPACT SOCKET 3/8\"",",-Ft ","CP S.anyag","Impact Socket",156]
[{"$f":"IF(L2499=FALSE,0,COUNTIF(A$3:A2498,\">0\")+1)","v":0},8940163930,"S407 1/2\" DR. STD IMPACT SOCKET 7/16\"","690,-Ft ","CP S.anyag","Impact Socket",67,null,690]
[{"$f":"IF(L2500=FALSE,0,COUNTIF(A$3:A2499,\">0\")+1)","v":0},8940163978,"S407D 1/2\" DR. DEEP IMPACT SOCKET 7/16\"","1 020,-Ft ","CP S.anyag","Impact Socket",151,null,1020]
[{"$f":"IF(L2501=FALSE,0,COUNTIF(A$3:A2500,\">0\")+1)","v":0},8940163931,"S408 1/2\" DR. STD IMPACT SOCKET 1/2\"",",-Ft ","CP S.anyag","Impact Socket",65]
[{"$f":"IF(L2502=FALSE,0,COUNTIF(A$3:A2501,\">0\")+1)","v":0},8940163979,"S408D 1/2\" DR. DEEP IMPACT SOCKET 1/2\"","1 550,-Ft ","CP S.anyag","Impact Socket",149,null,1550]
[{"$f":"IF(L2503=FALSE,0,COUNTIF(A$3:A2502,\">0\")+1)","v":0},8940163950,"S408M 1/2\" DR. STD IMPACT SOCKET 8MM","1 370,-Ft ","CP S.anyag","Impact Socket",72,null,1370]
[{"$f":"IF(L2504=FALSE,0,COUNTIF(A$3:A2503,\">0\")+1)","v":0},8940163932,"S409 1/2\" DR. STD IMPACT SOCKET 9/16\"","1 020,-Ft ","CP S.anyag","Impact Socket",81,null,1020]
[{"$f":"IF(L2505=FALSE,0,COUNTIF(A$3:A2504,\">0\")+1)","v":0},8940163980,"S409D 1/2\" DR. DEEP IMPACT SOCKET 9/16\"","1 090,-Ft ","CP S.anyag","Impact Socket",169,null,1090]
[{"$f":"IF(L2506=FALSE,0,COUNTIF(A$3:A2505,\">0\")+1)","v":0},8940163951,"S409M 1/2\" DR. STD IMPACT SOCKET 9MM","1 370,-Ft ","CP S.anyag","Impact Socket",68,null,1370]
[{"$f":"IF(L2507=FALSE,0,COUNTIF(A$3:A2506,\">0\")+1)","v":0},8940163999,"S409MD 1/2\" DR. DEEP IMPACT SOCKET 9MM","2 060,-Ft ","CP S.anyag","Impact Socket",4,null,2060]
[{"$f":"IF(L2508=FALSE,0,COUNTIF(A$3:A2507,\">0\")+1)","v":0},8940163933,"S410 1/2\" DR. STD IMPACT SOCKET 5/8\"","1 020,-Ft ","CP S.anyag","Impact Socket",89,null,1020]
[{"$f":"IF(L2509=FALSE,0,COUNTIF(A$3:A2508,\">0\")+1)","v":0},8940163981,"S410D 1/2\" DR. DEEP IMPACT SOCKET 5/8\"","1 160,-Ft ","CP S.anyag","Impact Socket",188,null,1160]
[{"$f":"IF(L2510=FALSE,0,COUNTIF(A$3:A2509,\">0\")+1)","v":0},8940163952,"S410M 1/2\" DR. STD IMPACT SOCKET 10MM","1 370,-Ft ","CP S.anyag","Impact Socket",53,null,1370]
[{"$f":"IF(L2511=FALSE,0,COUNTIF(A$3:A2510,\">0\")+1)","v":0},8940164000,"S410MD 1/2\" DR. DEEP IMPACT SOCKET 10MM",",-Ft ","CP S.anyag","Impact Socket",153]
[{"$f":"IF(L2512=FALSE,0,COUNTIF(A$3:A2511,\">0\")+1)","v":0},8940163934,"S411 1/2\" DR. STD IMPACT SOCKET 11/16\"",{"$f":"IF(H2512=\"SP\",IF(J2512>0,\"SP: \"&TEXT(J2512*I$1,\"# ###,-Ft  \"),\"SP: \"&TEXT(I2512*I$1,\"# ###,-Ft\")),IF(J2512>0,\"STARS* \"&TEXT(J2512*J$1,\"# ###,-Ft\"),TEXT(I2512*I$1,\"# ###,-Ft  \")))","v":",-Ft "},"CP S.anyag","Impact Socket",94]
[{"$f":"IF(L2513=FALSE,0,COUNTIF(A$3:A2512,\">0\")+1)","v":0},8940163982,"S411D 1/2\" DR. DEEP IMPACT SOCKET 11/16\"",",-Ft ","CP S.anyag","Impact Socket",193]
[{"$f":"IF(L2514=FALSE,0,COUNTIF(A$3:A2513,\">0\")+1)","v":0},8940163953,"S411M 1/2\" DR. STD IMPACT SOCKET 11MM",",-Ft ","CP S.anyag","Impact Socket",63]
[{"$f":"IF(L2515=FALSE,0,COUNTIF(A$3:A2514,\">0\")+1)","v":0},8940164001,"S411MD 1/2\" DR. DEEP IMPACT SOCKET 11MM","2 060,-Ft ","CP S.anyag","Impact Socket",156,null,2060]
[{"$f":"IF(L2516=FALSE,0,COUNTIF(A$3:A2515,\">0\")+1)","v":0},8940163935,"S412 1/2\" DR. STD IMPACT SOCKET 3/4\"","1 020,-Ft ","CP S.anyag","Impact Socket",108,null,1020]
[{"$f":"IF(L2517=FALSE,0,COUNTIF(A$3:A2516,\">0\")+1)","v":0},8940163983,"S412D 1/2\" DR. DEEP IMPACT SOCKET 3/4\"","1 370,-Ft ","CP S.anyag","Impact Socket",226,null,1370]
[{"$f":"IF(L2518=FALSE,0,COUNTIF(A$3:A2517,\">0\")+1)","v":0},8940163954,"S412M 1/2\" DR. STD IMPACT SOCKET 12MM","1 370,-Ft ","CP S.anyag","Impact Socket",63,null,1370]
[{"$f":"IF(L2519=FALSE,0,COUNTIF(A$3:A2518,\">0\")+1)","v":0},8940164002,"S412MD 1/2\" DR. DEEP IMPACT SOCKET 12MM","2 060,-Ft ","CP S.anyag","Impact Socket",151,null,2060]
[{"$f":"IF(L2520=FALSE,0,COUNTIF(A$3:A2519,\">0\")+1)","v":0},8940164128,"S412WP 1/2\"DR WHEEL PROT IMPACT  3/4\"","2 020,-Ft ","CP S.anyag","Impact Socket",240,null,2020]
[{"$f":"IF(L2521=FALSE,0,COUNTIF(A$3:A2520,\">0\")+1)","v":0},8940166935,"S412X13FD 1/2 DR FLIP 3/4X13/16 DEEP","1 690,-Ft ","CP S.anyag","Impact Socket",227,null,1690]
[{"$f":"IF(L2522=FALSE,0,COUNTIF(A$3:A2521,\">0\")+1)","v":0},8940166933,"S412X13FTW 1/2 FLIP 3/4X13/16 DEEP THIN","1 370,-Ft ","CP S.anyag","Impact Socket",159,null,1370]
[{"$f":"IF(L2523=FALSE,0,COUNTIF(A$3:A2522,\">0\")+1)","v":0},8940163936,"S413 1/2\" DR. STD IMPACT SOCKET 13/16\"","1 020,-Ft ","CP S.anyag","Impact Socket",127,null,1020]
[{"$f":"IF(L2524=FALSE,0,COUNTIF(A$3:A2523,\">0\")+1)","v":0},8940163984,"S413D 1/2\" DR. DEEP IMPACT SOCKET 13/16\"","1 690,-Ft ","CP S.anyag","Impact Socket",251,null,1690]
[{"$f":"IF(L2525=FALSE,0,COUNTIF(A$3:A2524,\">0\")+1)","v":0},8940163955,"S413M 1/2\" DR. STD IMPACT SOCKET 13MM","1 370,-Ft ","CP S.anyag","Impact Socket",79,null,1370]
[{"$f":"IF(L2526=FALSE,0,COUNTIF(A$3:A2525,\">0\")+1)","v":0},8940164003,"S413MD 1/2\" DR. DEEP IMPACT SOCKET 13MM","2 400,-Ft ","CP S.anyag","Impact Socket",192,null,2400]
[{"$f":"IF(L2527=FALSE,0,COUNTIF(A$3:A2526,\">0\")+1)","v":0},8940164129,"S413WP 1/2\"DR WHEEL PROT IMPACT  13/16\"","2 020,-Ft ","CP S.anyag","Impact Socket",241,null,2020]
[{"$f":"IF(L2528=FALSE,0,COUNTIF(A$3:A2527,\">0\")+1)","v":0},8940163937,"S414 1/2\" DR. STD IMPACT SOCKET 7/8\"","1 370,-Ft ","CP S.anyag","Impact Socket",147,null,1370]
[{"$f":"IF(L2529=FALSE,0,COUNTIF(A$3:A2528,\">0\")+1)","v":0},8940163985,"S414D 1/2\" DR. DEEP IMPACT SOCKET 7/8\"","1 690,-Ft ","CP S.anyag","Impact Socket",287,null,1690]
[{"$f":"IF(L2530=FALSE,0,COUNTIF(A$3:A2529,\">0\")+1)","v":0},8940163956,"S414M 1/2\" DR. STD IMPACT SOCKET 14MM","1 370,-Ft ","CP S.anyag","Impact Socket",77,null,1370]
[{"$f":"IF(L2531=FALSE,0,COUNTIF(A$3:A2530,\">0\")+1)","v":0},8940164004,"S414MD 1/2\" DR. DEEP IMPACT SOCKET 14MM","2 400,-Ft ","CP S.anyag","Impact Socket",174,null,2400]
[{"$f":"IF(L2532=FALSE,0,COUNTIF(A$3:A2531,\">0\")+1)","v":0},8940164130,"S414WP 1/2\"DR WHEEL PROT IMPACT  7/8\"",",-Ft ","CP S.anyag","Impact Socket",258]
[{"$f":"IF(L2533=FALSE,0,COUNTIF(A$3:A2532,\">0\")+1)","v":0},8940166938,"S414X15FTW 1/2 DR FLIP 7/8X15/16 THIN W","1 690,-Ft ","CP S.anyag","Impact Socket",281,null,1690]
[{"$f":"IF(L2534=FALSE,0,COUNTIF(A$3:A2533,\">0\")+1)","v":0},8940163938,"S415 1/2\" DR. STD IMPACT SOCKET 15/16\"","1 370,-Ft ","CP S.anyag","Impact Socket",165,null,1370]
[{"$f":"IF(L2535=FALSE,0,COUNTIF(A$3:A2534,\">0\")+1)","v":0},8940163986,"S415D 1/2\" DR. DEEP IMPACT SOCKET 15/16\"","1 690,-Ft ","CP S.anyag","Impact Socket",324,null,1690]
[{"$f":"IF(L2536=FALSE,0,COUNTIF(A$3:A2535,\">0\")+1)","v":0},8940163957,"S415M 1/2\" DR. STD IMPACT SOCKET 15MM","1 370,-Ft ","CP S.anyag","Impact Socket",89,null,1370]
[{"$f":"IF(L2537=FALSE,0,COUNTIF(A$3:A2536,\">0\")+1)","v":0},8940164005,"S415MD 1/2\" DR. DEEP IMPACT SOCKET 15MM","2 400,-Ft ","CP S.anyag","Impact Socket",173,null,2400]
[{"$f":"IF(L2538=FALSE,0,COUNTIF(A$3:A2537,\">0\")+1)","v":0},8940167074,"S415MWP 1/2\"DR WHEEL PROT IMPACT 15MM","3 450,-Ft ","CP S.anyag","Impact Socket",204,null,3450]
[{"$f":"IF(L2539=FALSE,0,COUNTIF(A$3:A2538,\">0\")+1)","v":0},8940163939,"S416 1/2\" DR. STD IMPACT SOCKET 1\"","1 690,-Ft ","CP S.anyag","Impact Socket",186,null,1690]
[{"$f":"IF(L2540=FALSE,0,COUNTIF(A$3:A2539,\">0\")+1)","v":0},8940163987,"S416D 1/2\" DR. DEEP IMPACT SOCKET 1\"","2 060,-Ft ","CP S.anyag","Impact Socket",367,null,2060]
[{"$f":"IF(L2541=FALSE,0,COUNTIF(A$3:A2540,\">0\")+1)","v":0},8940163958,"S416M 1/2\" DR. STD IMPACT SOCKET 16MM",",-Ft ","CP S.anyag","Impact Socket",85]
[{"$f":"IF(L2542=FALSE,0,COUNTIF(A$3:A2541,\">0\")+1)","v":0},8940164006,"S416MD 1/2\" DR. DEEP IMPACT SOCKET 16MM","2 400,-Ft ","CP S.anyag","Impact Socket",183,null,2400]
[{"$f":"IF(L2543=FALSE,0,COUNTIF(A$3:A2542,\">0\")+1)","v":0},8940163940,"S417 1/2\" DR. STD IMPACT SOCKET 1-1/16\"","1 690,-Ft ","CP S.anyag","Impact Socket",223,null,1690]
[{"$f":"IF(L2544=FALSE,0,COUNTIF(A$3:A2543,\">0\")+1)","v":0},8940163988,"S417D 1/2\" DR DEEP IMPACT SOCKET 1-1/16\"","2 400,-Ft ","CP S.anyag","Impact Socket",405,null,2400]
[{"$f":"IF(L2545=FALSE,0,COUNTIF(A$3:A2544,\">0\")+1)","v":0},8940163959,"S417M 1/2\" DR. STD IMPACT SOCKET 17MM","1 370,-Ft ","CP S.anyag","Impact Socket",92,null,1370]
[{"$f":"IF(L2546=FALSE,0,COUNTIF(A$3:A2545,\">0\")+1)","v":0},8940164007,"S417MD 1/2\" DR. DEEP IMPACT SOCKET 17MM","2 400,-Ft ","CP S.anyag","Impact Socket",206,null,2400]
[{"$f":"IF(L2547=FALSE,0,COUNTIF(A$3:A2546,\">0\")+1)","v":0},8940167729,"S417METW 1/2\" DR EX THIN WALL DEEP 17MM","1 690,-Ft ","CP S.anyag","Impact Socket",151,null,1690]
[{"$f":"IF(L2548=FALSE,0,COUNTIF(A$3:A2547,\">0\")+1)","v":0},8940164134,"S417MWP 1/2\"DR WHEEL PROT IMPACT  17MM","3 740,-Ft ","CP S.anyag","Impact Socket",202,null,3740]
[{"$f":"IF(L2549=FALSE,0,COUNTIF(A$3:A2548,\">0\")+1)","v":0},8940166937,"S417X21MFD 1/2 DR 17X21MM DEEP","1 690,-Ft ","CP S.anyag","Impact Socket",227,null,1690]
[{"$f":"IF(L2550=FALSE,0,COUNTIF(A$3:A2549,\">0\")+1)","v":0},8940163941,"S418 1/2\" DR. STD IMPACT SOCKET 1-1/8\"","3 450,-Ft ","CP S.anyag","Impact Socket",230,null,3450]
[{"$f":"IF(L2551=FALSE,0,COUNTIF(A$3:A2550,\">0\")+1)","v":0},8940163960,"S418M 1/2\" DR. STD IMPACT SOCKET 18MM","1 370,-Ft ","CP S.anyag","Impact Socket",110,null,1370]
[{"$f":"IF(L2552=FALSE,0,COUNTIF(A$3:A2551,\">0\")+1)","v":0},8940164008,"S418MD 1/2\" DR. DEEP IMPACT SOCKET 18MM","2 400,-Ft ","CP S.anyag","Impact Socket",197,null,2400]
[{"$f":"IF(L2553=FALSE,0,COUNTIF(A$3:A2552,\">0\")+1)","v":0},8940163942,"S419 1/2\" DR. STD IMPACT SOCKET 1-3/16\"",",-Ft ","CP S.anyag","Impact Socket",250]
[{"$f":"IF(L2554=FALSE,0,COUNTIF(A$3:A2553,\">0\")+1)","v":0},8940163990,"S419D 1/2\" DR DEEP IMPACT SOCKET 1-3/16\"","2 400,-Ft ","CP S.anyag","Impact Socket",467,null,2400]
[{"$f":"IF(L2555=FALSE,0,COUNTIF(A$3:A2554,\">0\")+1)","v":0},8940163961,"S419M 1/2\" DR. STD IMPACT SOCKET 19MM","1 690,-Ft ","CP S.anyag","Impact Socket",106,null,1690]
[{"$f":"IF(L2556=FALSE,0,COUNTIF(A$3:A2555,\">0\")+1)","v":0},8940164009,"S419MD 1/2\" DR. DEEP IMPACT SOCKET 19MM","2 760,-Ft ","CP S.anyag","Impact Socket",232,null,2760]
[{"$f":"IF(L2557=FALSE,0,COUNTIF(A$3:A2556,\">0\")+1)","v":0},8940167730,"S419METW 1/2\" DR EX THIN WALL DEEP 19MM","1 690,-Ft ","CP S.anyag","Impact Socket",174,null,1690]
[{"$f":"IF(L2558=FALSE,0,COUNTIF(A$3:A2557,\">0\")+1)","v":0},8940164135,"S419MWP 1/2\"DR WHEEL PROT IMPACT  19MM","3 740,-Ft ","CP S.anyag","Impact Socket",229,null,3740]
[{"$f":"IF(L2559=FALSE,0,COUNTIF(A$3:A2558,\">0\")+1)","v":0},8940166936,"S419X21MFD 1/2 DR FLIP 19X21MM DEEP","1 690,-Ft ","CP S.anyag","Impact Socket",200,null,1690]
[{"$f":"IF(L2560=FALSE,0,COUNTIF(A$3:A2559,\">0\")+1)","v":0},8940166934,"S419X21MFETW 1/2 FLIP 19X21MM EXTRA THIN","1 370,-Ft ","CP S.anyag","Impact Socket",335,null,1370]
[{"$f":"IF(L2561=FALSE,0,COUNTIF(A$3:A2560,\">0\")+1)","v":0},8940163943,"S420 1/2\" DR. STD IMPACT SOCKET 1-1/4\"","1 690,-Ft ","CP S.anyag","Impact Socket",263,null,1690]
[{"$f":"IF(L2562=FALSE,0,COUNTIF(A$3:A2561,\">0\")+1)","v":0},8940163962,"S420M 1/2\" DR. STD IMPACT SOCKET 20MM","1 690,-Ft ","CP S.anyag","Impact Socket",123,null,1690]
[{"$f":"IF(L2563=FALSE,0,COUNTIF(A$3:A2562,\">0\")+1)","v":0},8940167722,"S420MD 1/2\" DR DEEP 20MM","2 400,-Ft ","CP S.anyag","Impact Socket",273,null,2400]
[{"$f":"IF(L2564=FALSE,0,COUNTIF(A$3:A2563,\">0\")+1)","v":0},8940163944,"S421 1/2\" DR. STD IMPACT SOCKET 1-5/16\"","1 990,-Ft ","CP S.anyag","Impact Socket",286,null,1990]
[{"$f":"IF(L2565=FALSE,0,COUNTIF(A$3:A2564,\">0\")+1)","v":0},8940163992,"S421D 1/2\" DR DEEP IMPACT SOCKET 1-5/16\"","3 040,-Ft ","CP S.anyag","Impact Socket",483,null,3040]
[{"$f":"IF(L2566=FALSE,0,COUNTIF(A$3:A2565,\">0\")+1)","v":0},8940163963,"S421M 1/2\" DR. STD IMPACT SOCKET 21MM","1 690,-Ft ","CP S.anyag","Impact Socket",123,null,1690]
[{"$f":"IF(L2567=FALSE,0,COUNTIF(A$3:A2566,\">0\")+1)","v":0},8940164010,"S421MD 1/2\" DR. DEEP IMPACT SOCKET 21MM","3 080,-Ft ","CP S.anyag","Impact Socket",248,null,3080]
[{"$f":"IF(L2568=FALSE,0,COUNTIF(A$3:A2567,\">0\")+1)","v":0},8940167731,"S421METW 1/2\" DR EX THIN WALL DEEP 21MM","2 060,-Ft ","CP S.anyag","Impact Socket",200,null,2060]
[{"$f":"IF(L2569=FALSE,0,COUNTIF(A$3:A2568,\">0\")+1)","v":0},8940164136,"S421MWP 1/2\"DR WHEEL PROT IMPACT  21MM","4 120,-Ft ","CP S.anyag","Impact Socket",220,null,4120]
[{"$f":"IF(L2570=FALSE,0,COUNTIF(A$3:A2569,\">0\")+1)","v":0},8940163945,"S422 1/2\" DR. STD IMPACT SOCKET 1-3/8\"","2 300,-Ft ","CP S.anyag","Impact Socket",296,null,2300]
[{"$f":"IF(L2571=FALSE,0,COUNTIF(A$3:A2570,\">0\")+1)","v":0},8940163993,"S422D 1/2\" DR. DEEP IMPACT SOCKET 1-3/8\"",{"$f":"IF(H2571=\"SP\",IF(J2571>0,\"SP: \"&TEXT(J2571*I$1,\"# ###,-Ft  \"),\"SP: \"&TEXT(I2571*I$1,\"# ###,-Ft\")),IF(J2571>0,\"STARS* \"&TEXT(J2571*J$1,\"# ###,-Ft\"),TEXT(I2571*I$1,\"# ###,-Ft  \")))","v":",-Ft "},"CP S.anyag","Impact Socket",517]
[{"$f":"IF(L2572=FALSE,0,COUNTIF(A$3:A2571,\">0\")+1)","v":0},8940163964,"S422M 1/2\" DR. STD IMPACT SOCKET 22MM","1 690,-Ft ","CP S.anyag","Impact Socket",146,null,1690]
[{"$f":"IF(L2573=FALSE,0,COUNTIF(A$3:A2572,\">0\")+1)","v":0},8940167723,"S422MD 1/2\" DR DEEP 22MM","2 760,-Ft ","CP S.anyag","Impact Socket",309,null,2760]
[{"$f":"IF(L2574=FALSE,0,COUNTIF(A$3:A2573,\">0\")+1)","v":0},8940164137,"S422MWP 1/2\"DR WHEEL PROT IMPACT  22MM","4 120,-Ft ","CP S.anyag","Impact Socket",243,null,4120]
[{"$f":"IF(L2575=FALSE,0,COUNTIF(A$3:A2574,\">0\")+1)","v":0},8940163946,"S423 1/2\" DR. STD IMPACT SOCKET 1-7/16\"",",-Ft ","CP S.anyag","Impact Socket",308]
[{"$f":"IF(L2576=FALSE,0,COUNTIF(A$3:A2575,\">0\")+1)","v":0},8940163994,"S423D 1/2\" DR DEEP IMPACT SOCKET 1-7/16\"","4 010,-Ft ","CP S.anyag","Impact Socket",530,null,4010]
[{"$f":"IF(L2577=FALSE,0,COUNTIF(A$3:A2576,\">0\")+1)","v":0},8940167724,"S423MD 1/2\" DR DEEP 23MM","2 760,-Ft ","CP S.anyag","Impact Socket",295,null,2760]
[{"$f":"IF(L2578=FALSE,0,COUNTIF(A$3:A2577,\">0\")+1)","v":0},8940164138,"S423MWP 1/2\"DR WHEEL PROT IMPACT  23MM",",-Ft ","CP S.anyag","Impact Socket",246]
[{"$f":"IF(L2579=FALSE,0,COUNTIF(A$3:A2578,\">0\")+1)","v":0},8940163947,"S424 1/2\" DR. STD IMPACT SOCKET 1-1/2\"",",-Ft ","CP S.anyag","Impact Socket",351]
[{"$f":"IF(L2580=FALSE,0,COUNTIF(A$3:A2579,\">0\")+1)","v":0},8940163995,"S424D 1/2\" DR. DEEP IMPACT SOCKET 1-1/2\"","4 790,-Ft ","CP S.anyag","Impact Socket",586,null,4790]
[{"$f":"IF(L2581=FALSE,0,COUNTIF(A$3:A2580,\">0\")+1)","v":0},8940163966,"S424M 1/2\" DR. STD IMPACT SOCKET 24MM","2 060,-Ft ","CP S.anyag","Impact Socket",165,null,2060]
[{"$f":"IF(L2582=FALSE,0,COUNTIF(A$3:A2581,\">0\")+1)","v":0},8940167725,"S424MD 1/2\" DR DEEP 24MM","3 080,-Ft ","CP S.anyag","Impact Socket",345,null,3080]
[{"$f":"IF(L2583=FALSE,0,COUNTIF(A$3:A2582,\">0\")+1)","v":0},8940163996,"S425D 1/2\" DR DEEP IMPACT SOCKET 1-9/16\"","5 010,-Ft ","CP S.anyag","Impact Socket",606,null,5010]
[{"$f":"IF(L2584=FALSE,0,COUNTIF(A$3:A2583,\">0\")+1)","v":0},8940163967,"S425M 1/2\" DR. STD IMPACT SOCKET 25MM","2 400,-Ft ","CP S.anyag","Impact Socket",185,null,2400]
[{"$f":"IF(L2585=FALSE,0,COUNTIF(A$3:A2584,\">0\")+1)","v":0},8940167726,"S425MD 1/2\" DR DEEP 25MM","3 080,-Ft ","CP S.anyag","Impact Socket",383,null,3080]
[{"$f":"IF(L2586=FALSE,0,COUNTIF(A$3:A2585,\">0\")+1)","v":0},8940163949,"S426 1/2\" DR. STD IMPACT SOCKET 1-5/8\"","3 990,-Ft ","CP S.anyag","Impact Socket",385,null,3990]
[{"$f":"IF(L2587=FALSE,0,COUNTIF(A$3:A2586,\">0\")+1)","v":0},8940163997,"S426D 1/2\" DR. DEEP IMPACT SOCKET 1-5/8\"","5 270,-Ft ","CP S.anyag","Impact Socket",631,null,5270]
[{"$f":"IF(L2588=FALSE,0,COUNTIF(A$3:A2587,\">0\")+1)","v":0},8940163968,"S426M 1/2\" DR. STD IMPACT SOCKET 26MM","2 400,-Ft ","CP S.anyag","Impact Socket",178,null,2400]
[{"$f":"IF(L2589=FALSE,0,COUNTIF(A$3:A2588,\">0\")+1)","v":0},8940163969,"S427M 1/2\" DR. STD IMPACT SOCKET 27MM","2 760,-Ft ","CP S.anyag","Impact Socket",214,null,2760]
[{"$f":"IF(L2590=FALSE,0,COUNTIF(A$3:A2589,\">0\")+1)","v":0},8940164012,"S427MD 1/2\" DR. DEEP IMPACT SOCKET 27MM","3 740,-Ft ","CP S.anyag","Impact Socket",403,null,3740]
[{"$f":"IF(L2591=FALSE,0,COUNTIF(A$3:A2590,\">0\")+1)","v":0},8940163970,"S428M 1/2\" DR. STD IMPACT SOCKET 28MM","2 760,-Ft ","CP S.anyag","Impact Socket",246,null,2760]
[{"$f":"IF(L2592=FALSE,0,COUNTIF(A$3:A2591,\">0\")+1)","v":0},8940163971,"S429M 1/2\" DR. STD IMPACT SOCKET 29MM","2 760,-Ft ","CP S.anyag","Impact Socket",234,null,2760]
[{"$f":"IF(L2593=FALSE,0,COUNTIF(A$3:A2592,\">0\")+1)","v":0},8940163972,"S430M 1/2\" DR. STD IMPACT SOCKET 30MM","3 080,-Ft ","CP S.anyag","Impact Socket",238,null,3080]
[{"$f":"IF(L2594=FALSE,0,COUNTIF(A$3:A2593,\">0\")+1)","v":0},8940164015,"S430MD 1/2\" DR. DEEP IMPACT SOCKET 30MM","4 450,-Ft ","CP S.anyag","Impact Socket",499,null,4450]
[{"$f":"IF(L2595=FALSE,0,COUNTIF(A$3:A2594,\">0\")+1)","v":0},8940163973,"S431M 1/2\" DR. STD IMPACT SOCKET 31MM","3 080,-Ft ","CP S.anyag","Impact Socket",282,null,3080]
[{"$f":"IF(L2596=FALSE,0,COUNTIF(A$3:A2595,\">0\")+1)","v":0},8940164016,"S431MD 1/2\" DR. DEEP IMPACT SOCKET 31MM",",-Ft ","CP S.anyag","Impact Socket",517]
[{"$f":"IF(L2597=FALSE,0,COUNTIF(A$3:A2596,\">0\")+1)","v":0},8940163974,"S432M 1/2\" DR. STD IMPACT SOCKET 32MM","3 080,-Ft ","CP S.anyag","Impact Socket",254,null,3080]
[{"$f":"IF(L2598=FALSE,0,COUNTIF(A$3:A2597,\">0\")+1)","v":0},8940164017,"S432MD 1/2\" DR. DEEP IMPACT SOCKET 32MM","4 450,-Ft ","CP S.anyag","Impact Socket",478,null,4450]
[{"$f":"IF(L2599=FALSE,0,COUNTIF(A$3:A2598,\">0\")+1)","v":0},8940164018,"S433MD 1/2\" DR. DEEP IMPACT SOCKET 33MM","5 810,-Ft ","CP S.anyag","Impact Socket",482,null,5810]
[{"$f":"IF(L2600=FALSE,0,COUNTIF(A$3:A2599,\">0\")+1)","v":0},8940164019,"S434MD 1/2\" DR. DEEP IMPACT SOCKET 34MM","5 810,-Ft ","CP S.anyag","Impact Socket",507,null,5810]
[{"$f":"IF(L2601=FALSE,0,COUNTIF(A$3:A2600,\">0\")+1)","v":0},8940164020,"S435MD 1/2\" DR. DEEP IMPACT SOCKET 35MM",",-Ft ","CP S.anyag","Impact Socket",632]
[{"$f":"IF(L2602=FALSE,0,COUNTIF(A$3:A2601,\">0\")+1)","v":0},8940164021,"S436MD 1/2\" DR. DEEP IMPACT SOCKET 36MM","6 510,-Ft ","CP S.anyag","Impact Socket",623,null,6510]
[{"$f":"IF(L2603=FALSE,0,COUNTIF(A$3:A2602,\">0\")+1)","v":0},8940164140,"S609 3/4\" DR. STD IMPACT SOCKET 9/16\"","2 060,-Ft ","CP S.anyag","Impact Socket",216,null,2060]
[{"$f":"IF(L2604=FALSE,0,COUNTIF(A$3:A2603,\">0\")+1)","v":0},8940164141,"S610 3/4\" DR. STD IMPACT SOCKET 5/8\"","2 060,-Ft ","CP S.anyag","Impact Socket",232,null,2060]
[{"$f":"IF(L2605=FALSE,0,COUNTIF(A$3:A2604,\">0\")+1)","v":0},8940164143,"S612 3/4\" DR. STD IMPACT SOCKET 3/4\"",",-Ft ","CP S.anyag","Impact Socket",230]
[{"$f":"IF(L2606=FALSE,0,COUNTIF(A$3:A2605,\">0\")+1)","v":0},8940164211,"S612D 3/4\" DR. DEEP IMPACT SOCKET 3/4\"","3 740,-Ft ","CP S.anyag","Impact Socket",370,null,3740]
[{"$f":"IF(L2607=FALSE,0,COUNTIF(A$3:A2606,\">0\")+1)","v":0},8940164144,"S613 3/4\" DR. STD IMPACT SOCKET 13/16\"","2 400,-Ft ","CP S.anyag","Impact Socket",242,null,2400]
[{"$f":"IF(L2608=FALSE,0,COUNTIF(A$3:A2607,\">0\")+1)","v":0},8940164212,"S613D 3/4\" DR. DEEP IMPACT SOCKET 13/16\"","3 740,-Ft ","CP S.anyag","Impact Socket",384,null,3740]
[{"$f":"IF(L2609=FALSE,0,COUNTIF(A$3:A2608,\">0\")+1)","v":0},8940164145,"S614 3/4\" DR. STD IMPACT SOCKET 7/8\"","2 060,-Ft ","CP S.anyag","Impact Socket",249,null,2060]
[{"$f":"IF(L2610=FALSE,0,COUNTIF(A$3:A2609,\">0\")+1)","v":0},8940164213,"S614D 3/4\" DR. DEEP IMPACT SOCKET 7/8\"","3 740,-Ft ","CP S.anyag","Impact Socket",408,null,3740]
[{"$f":"IF(L2611=FALSE,0,COUNTIF(A$3:A2610,\">0\")+1)","v":0},8940164146,"S615 3/4\" DR. STD IMPACT SOCKET 15/16\"",",-Ft ","CP S.anyag","Impact Socket",255]
[{"$f":"IF(L2612=FALSE,0,COUNTIF(A$3:A2611,\">0\")+1)","v":0},8940164214,"S615D 3/4\" DR. DEEP IMPACT SOCKET 15/16\"","4 010,-Ft ","CP S.anyag","Impact Socket",417,null,4010]
[{"$f":"IF(L2613=FALSE,0,COUNTIF(A$3:A2612,\">0\")+1)","v":0},8940164147,"S616 3/4\" DR. STD IMPACT SOCKET 1\"",",-Ft ","CP S.anyag","Impact Socket",311]
[{"$f":"IF(L2614=FALSE,0,COUNTIF(A$3:A2613,\">0\")+1)","v":0},8940164215,"S616D 3/4\" DR. DEEP IMPACT SOCKET 1\"","4 010,-Ft ","CP S.anyag","Impact Socket",508,null,4010]
[{"$f":"IF(L2615=FALSE,0,COUNTIF(A$3:A2614,\">0\")+1)","v":0},8940164148,"S617 3/4\" DR. STD IMPACT SOCKET 1-1/16\"","2 400,-Ft ","CP S.anyag","Impact Socket",296,null,2400]
[{"$f":"IF(L2616=FALSE,0,COUNTIF(A$3:A2615,\">0\")+1)","v":0},8940164216,"S617D 3/4\" DR DEEP IMPAC SOCKET 1-1/16\"","4 310,-Ft ","CP S.anyag","Impact Socket",464,null,4310]
[{"$f":"IF(L2617=FALSE,0,COUNTIF(A$3:A2616,\">0\")+1)","v":0},8940164149,"S618 3/4\" DR. STD IMPACT SOCKET 1-1/8\"","2 400,-Ft ","CP S.anyag","Impact Socket",326,null,2400]
[{"$f":"IF(L2618=FALSE,0,COUNTIF(A$3:A2617,\">0\")+1)","v":0},8940164217,"S618D 3/4\" DR. DEEP IMPACT SOCKET 1-1/8\"","4 450,-Ft ","CP S.anyag","Impact Socket",557,null,4450]
[{"$f":"IF(L2619=FALSE,0,COUNTIF(A$3:A2618,\">0\")+1)","v":0},8940164150,"S619 3/4\" DR. STD IMPACT SOCKET 1-3/16\"",",-Ft ","CP S.anyag","Impact Socket",376]
[{"$f":"IF(L2620=FALSE,0,COUNTIF(A$3:A2619,\">0\")+1)","v":0},8940164218,"S619D 3/4\" DR DEEP IMPAC SOCKET 1-3/16\"","4 650,-Ft ","CP S.anyag","Impact Socket",574,null,4650]
[{"$f":"IF(L2621=FALSE,0,COUNTIF(A$3:A2620,\">0\")+1)","v":0},8940164180,"S619M 3/4\" DR. STD IMPACT SOCKET 19MM","4 120,-Ft ","CP S.anyag","Impact Socket",217,null,4120]
[{"$f":"IF(L2622=FALSE,0,COUNTIF(A$3:A2621,\">0\")+1)","v":0},8940164248,"S619MD 3/4\" DR. DEEP IMPACT SOCKET 19MM","6 510,-Ft ","CP S.anyag","Impact Socket",368,null,6510]
[{"$f":"IF(L2623=FALSE,0,COUNTIF(A$3:A2622,\">0\")+1)","v":0},8940164151,"S620 3/4\" DR. STD IMPACT SOCKET 1-1/4'",{"$f":"IF(H2623=\"SP\",IF(J2623>0,\"SP: \"&TEXT(J2623*I$1,\"# ###,-Ft  \"),\"SP: \"&TEXT(I2623*I$1,\"# ###,-Ft\")),IF(J2623>0,\"STARS* \"&TEXT(J2623*J$1,\"# ###,-Ft\"),TEXT(I2623*I$1,\"# ###,-Ft  \")))","v":",-Ft "},"CP S.anyag","Impact Socket",349]
[{"$f":"IF(L2624=FALSE,0,COUNTIF(A$3:A2623,\">0\")+1)","v":0},8940164181,"S620M 3/4\" DR. STD IMPACT SOCKET 20MM","4 120,-Ft ","CP S.anyag","Impact Socket",242,null,4120]
[{"$f":"IF(L2625=FALSE,0,COUNTIF(A$3:A2624,\">0\")+1)","v":0},8940164249,"S620MD 3/4\" DR. DEEP IMPACT SOCKET 20MM",",-Ft ","CP S.anyag","Impact Socket",375]
[{"$f":"IF(L2626=FALSE,0,COUNTIF(A$3:A2625,\">0\")+1)","v":0},8940164152,"S621 3/4\" DR. STD IMPACT SOCKET 1-5/16\"",",-Ft ","CP S.anyag","Impact Socket",402]
[{"$f":"IF(L2627=FALSE,0,COUNTIF(A$3:A2626,\">0\")+1)","v":0},8940164220,"S621D 3/4\" DR DEEP IMPAC SOCKET 1-5/16\"","4 930,-Ft ","CP S.anyag","Impact Socket",613,null,4930]
[{"$f":"IF(L2628=FALSE,0,COUNTIF(A$3:A2627,\">0\")+1)","v":0},8940164182,"S621M 3/4\" DR. STD IMPACT SOCKET 21MM","4 120,-Ft ","CP S.anyag","Impact Socket",239,null,4120]
[{"$f":"IF(L2629=FALSE,0,COUNTIF(A$3:A2628,\">0\")+1)","v":0},8940164250,"S621MD 3/4\" DR. DEEP IMPACT SOCKET 21MM","6 510,-Ft ","CP S.anyag","Impact Socket",376,null,6510]
[{"$f":"IF(L2630=FALSE,0,COUNTIF(A$3:A2629,\">0\")+1)","v":0},8940164153,"S622 3/4\" DR. STD IMPACT SOCKET 1-3/8\"","4 790,-Ft ","CP S.anyag","Impact Socket",438,null,4790]
[{"$f":"IF(L2631=FALSE,0,COUNTIF(A$3:A2630,\">0\")+1)","v":0},8940164221,"S622D 3/4\" DR. DEEP IMPACT SOCKET 1-3/8\"","5 240,-Ft ","CP S.anyag","Impact Socket",705,null,5240]
[{"$f":"IF(L2632=FALSE,0,COUNTIF(A$3:A2631,\">0\")+1)","v":0},8940164183,"S622M 3/4\" DR. STD IMPACT SOCKET 22MM","4 120,-Ft ","CP S.anyag","Impact Socket",217,null,4120]
[{"$f":"IF(L2633=FALSE,0,COUNTIF(A$3:A2632,\">0\")+1)","v":0},8940164251,"S622MD 3/4\" DR. DEEP IMPACT SOCKET 22MM","6 510,-Ft ","CP S.anyag","Impact Socket",396,null,6510]
[{"$f":"IF(L2634=FALSE,0,COUNTIF(A$3:A2633,\">0\")+1)","v":0},8940164154,"S623 3/4\" DR. STD IMPACT SOCKET 1-7/16\"",",-Ft ","CP S.anyag","Impact Socket",453]
[{"$f":"IF(L2635=FALSE,0,COUNTIF(A$3:A2634,\">0\")+1)","v":0},8940164222,"S623D 3/4\" DR DEEP IMPAC SOCKET 1-7/16\"","4 870,-Ft ","CP S.anyag","Impact Socket",685,null,4870]
[{"$f":"IF(L2636=FALSE,0,COUNTIF(A$3:A2635,\">0\")+1)","v":0},8940164184,"S623M 3/4\" DR. STD IMPACT SOCKET 23MM","4 120,-Ft ","CP S.anyag","Impact Socket",254,null,4120]
[{"$f":"IF(L2637=FALSE,0,COUNTIF(A$3:A2636,\">0\")+1)","v":0},8940164252,"S623MD 3/4\" DR. DEEP IMPACT SOCKET 23MM","6 510,-Ft ","CP S.anyag","Impact Socket",418,null,6510]
[{"$f":"IF(L2638=FALSE,0,COUNTIF(A$3:A2637,\">0\")+1)","v":0},8940164155,"S624 3/4\" DR. STD IMPACT SOCKET 1-1/2\"","5 810,-Ft ","CP S.anyag","Impact Socket",487,null,5810]
[{"$f":"IF(L2639=FALSE,0,COUNTIF(A$3:A2638,\">0\")+1)","v":0},8940164223,"S624D 3/4\" DR. DEEP IMPACT SOCKET 1-1/2\"","5 030,-Ft ","CP S.anyag","Impact Socket",712,null,5030]
[{"$f":"IF(L2640=FALSE,0,COUNTIF(A$3:A2639,\">0\")+1)","v":0},8940164185,"S624M 3/4\" DR. STD IMPACT SOCKET 24MM","4 120,-Ft ","CP S.anyag","Impact Socket",248,null,4120]
[{"$f":"IF(L2641=FALSE,0,COUNTIF(A$3:A2640,\">0\")+1)","v":0},8940164253,"S624MD 3/4\" DR. DEEP IMPACT SOCKET 24MM","6 510,-Ft ","CP S.anyag","Impact Socket",406,null,6510]
[{"$f":"IF(L2642=FALSE,0,COUNTIF(A$3:A2641,\">0\")+1)","v":0},8940167734,"S624X13BW 3/4\" DR COMB BUDD 1-1/2x13/16","9 620,-Ft ","CP S.anyag","Impact Socket",1356,null,9620]
[{"$f":"IF(L2643=FALSE,0,COUNTIF(A$3:A2642,\">0\")+1)","v":0},8940164156,"S625 3/4\" DR. STD IMPACT SOCKET 1-9/16\"",",-Ft ","CP S.anyag","Impact Socket",578]
[{"$f":"IF(L2644=FALSE,0,COUNTIF(A$3:A2643,\">0\")+1)","v":0},8940164224,"S625D 3/4\" DR DEEP IMPAC SOCKET 1-9/16\"",",-Ft ","CP S.anyag","Impact Socket",770]
[{"$f":"IF(L2645=FALSE,0,COUNTIF(A$3:A2644,\">0\")+1)","v":0},8940164186,"S625M 3/4\" DR. STD IMPACT SOCKET 25MM","4 120,-Ft ","CP S.anyag","Impact Socket",266,null,4120]
[{"$f":"IF(L2646=FALSE,0,COUNTIF(A$3:A2645,\">0\")+1)","v":0},8940164254,"S625MD 3/4\" DR. DEEP IMPACT SOCKET 25MM",",-Ft ","CP S.anyag","Impact Socket",443]
[{"$f":"IF(L2647=FALSE,0,COUNTIF(A$3:A2646,\">0\")+1)","v":0},8940164157,"S626 3/4\" DR. STD IMPACT SOCKET 1-5/8\"",",-Ft ","CP S.anyag","Impact Socket",613]
[{"$f":"IF(L2648=FALSE,0,COUNTIF(A$3:A2647,\">0\")+1)","v":0},8940164187,"S626M 3/4\" DR. STD IMPACT SOCKET 26MM","4 010,-Ft ","CP S.anyag","Impact Socket",289,null,4010]
[{"$f":"IF(L2649=FALSE,0,COUNTIF(A$3:A2648,\">0\")+1)","v":0},8940164226,"S627D 3/4\" DR DEEP IMPAC SOCKET 1-11/16'","6 490,-Ft ","CP S.anyag","Impact Socket",982,null,6490]
[{"$f":"IF(L2650=FALSE,0,COUNTIF(A$3:A2649,\">0\")+1)","v":0},8940164188,"S627M 3/4\" DR. STD IMPACT SOCKET 27MM","4 120,-Ft ","CP S.anyag","Impact Socket",303,null,4120]
[{"$f":"IF(L2651=FALSE,0,COUNTIF(A$3:A2650,\">0\")+1)","v":0},8940164256,"S627MD 3/4\" DR. DEEP IMPACT SOCKET 27MM","6 850,-Ft ","CP S.anyag","Impact Socket",472,null,6850]
[{"$f":"IF(L2652=FALSE,0,COUNTIF(A$3:A2651,\">0\")+1)","v":0},8940164159,"S628 3/4\" DR. STD IMPACT SOCKET 1-3/4\"","4 860,-Ft ","CP S.anyag","Impact Socket",764,null,4860]
[{"$f":"IF(L2653=FALSE,0,COUNTIF(A$3:A2652,\">0\")+1)","v":0},8940164227,"S628D 3/4\" DR. DEEP IMPACT SOCKET 1-3/4\"","8 260,-Ft ","CP S.anyag","Impact Socket",1039,null,8260]
[{"$f":"IF(L2654=FALSE,0,COUNTIF(A$3:A2653,\">0\")+1)","v":0},8940164189,"S628M 3/4\" DR. STD IMPACT SOCKET 28MM",",-Ft ","CP S.anyag","Impact Socket",330]
[{"$f":"IF(L2655=FALSE,0,COUNTIF(A$3:A2654,\">0\")+1)","v":0},8940164160,"S629 3/4\" DR. STD IMPACT SOCKET 1-13/16\"",",-Ft ","CP S.anyag","Impact Socket",870]
[{"$f":"IF(L2656=FALSE,0,COUNTIF(A$3:A2655,\">0\")+1)","v":0},8940164228,"S629D 3/4\" DR DEEP IMPAC SOCKET 1-13/16\"","7 270,-Ft ","CP S.anyag","Impact Socket",1086,null,7270]
[{"$f":"IF(L2657=FALSE,0,COUNTIF(A$3:A2656,\">0\")+1)","v":0},8940164190,"S629M 3/4\" DR. STD IMPACT SOCKET 29MM","4 450,-Ft ","CP S.anyag","Impact Socket",321,null,4450]
[{"$f":"IF(L2658=FALSE,0,COUNTIF(A$3:A2657,\">0\")+1)","v":0},8940164161,"S630 3/4\" DR. STD IMPACT SOCKET 1-7/8\"","5 740,-Ft ","CP S.anyag","Impact Socket",882,null,5740]
[{"$f":"IF(L2659=FALSE,0,COUNTIF(A$3:A2658,\">0\")+1)","v":0},8940164229,"S630D 3/4\" DR. DEEP IMPACT SOCKET 1-7/8\"","8 590,-Ft ","CP S.anyag","Impact Socket",1093,null,8590]
[{"$f":"IF(L2660=FALSE,0,COUNTIF(A$3:A2659,\">0\")+1)","v":0},8940164191,"S630M 3/4\" DR. STD IMPACT SOCKET 30MM","4 450,-Ft ","CP S.anyag","Impact Socket",367,null,4450]
[{"$f":"IF(L2661=FALSE,0,COUNTIF(A$3:A2660,\">0\")+1)","v":0},8940164259,"S630MD 3/4\" DR. DEEP IMPACT SOCKET 30MM","7 210,-Ft ","CP S.anyag","Impact Socket",569,null,7210]
[{"$f":"IF(L2662=FALSE,0,COUNTIF(A$3:A2661,\">0\")+1)","v":0},8940164162,"S631 3/4\" DR. STD IMPACT SOCKET 1-5/16\"",",-Ft ","CP S.anyag","Impact Socket",963]
[{"$f":"IF(L2663=FALSE,0,COUNTIF(A$3:A2662,\">0\")+1)","v":0},8940164230,"S631D 3/4\" DR DEEP IMPAC SOCKET 1-5/16\"","9 620,-Ft ","CP S.anyag","Impact Socket",1179,null,9620]
[{"$f":"IF(L2664=FALSE,0,COUNTIF(A$3:A2663,\">0\")+1)","v":0},8940164192,"S631M 3/4\" DR. STD IMPACT SOCKET 31MM","4 450,-Ft ","CP S.anyag","Impact Socket",364,null,4450]
[{"$f":"IF(L2665=FALSE,0,COUNTIF(A$3:A2664,\">0\")+1)","v":0},8940164260,"S631MD 3/4\" DR. DEEP IMPACT SOCKET 31MM","7 210,-Ft ","CP S.anyag","Impact Socket",555,null,7210]
[{"$f":"IF(L2666=FALSE,0,COUNTIF(A$3:A2665,\">0\")+1)","v":0},8940164163,"S632 3/4\" DR. STD IMPACT SOCKET 2\"","6 960,-Ft ","CP S.anyag","Impact Socket",1110,null,6960]
[{"$f":"IF(L2667=FALSE,0,COUNTIF(A$3:A2666,\">0\")+1)","v":0},8940164231,"S632D 3/4\" DR. DEEP IMPACT SOCKET 2\"","9 950,-Ft ","CP S.anyag","Impact Socket",1241,null,9950]
[{"$f":"IF(L2668=FALSE,0,COUNTIF(A$3:A2667,\">0\")+1)","v":0},8940164193,"S632M 3/4\" DR. STD IMPACT SOCKET 32MM","4 790,-Ft ","CP S.anyag","Impact Socket",370,null,4790]
[{"$f":"IF(L2669=FALSE,0,COUNTIF(A$3:A2668,\">0\")+1)","v":0},8940164261,"S632MD 3/4\" DR. DEEP IMPACT SOCKET 32MM","7 210,-Ft ","CP S.anyag","Impact Socket",514,null,7210]
[{"$f":"IF(L2670=FALSE,0,COUNTIF(A$3:A2669,\">0\")+1)","v":0},8940164164,"S633 3/4\" DR. STD IMPACT SOCKET 2-1/16\"",",-Ft ","CP S.anyag","Impact Socket",1179]
[{"$f":"IF(L2671=FALSE,0,COUNTIF(A$3:A2670,\">0\")+1)","v":0},8940164194,"S633M 3/4\" DR. STD IMPACT SOCKET 33M6","4 790,-Ft ","CP S.anyag","Impact Socket",420,null,4790]
[{"$f":"IF(L2672=FALSE,0,COUNTIF(A$3:A2671,\">0\")+1)","v":0},8940164262,"S633MD 3/4\" DR. DEEP IMPACT SOCKET 33MM","7 210,-Ft ","CP S.anyag","Impact Socket",586,null,7210]
[{"$f":"IF(L2673=FALSE,0,COUNTIF(A$3:A2672,\">0\")+1)","v":0},8940164165,"S634 3/4\" DR. STD IMPACT SOCKET 2-1/8\"","13 380,-Ft ","CP S.anyag","Impact Socket",1236,null,13380]
[{"$f":"IF(L2674=FALSE,0,COUNTIF(A$3:A2673,\">0\")+1)","v":0},8940164233,"S634D 3/4\" DR. DEEP IMPACT SOCKET 2-1/8\"","10 300,-Ft ","CP S.anyag","Impact Socket",1598,null,10300]
[{"$f":"IF(L2675=FALSE,0,COUNTIF(A$3:A2674,\">0\")+1)","v":0},8940164195,"S634M 3/4\" DR. STD IMPACT SOCKET 34MM","4 790,-Ft ","CP S.anyag","Impact Socket",435,null,4790]
[{"$f":"IF(L2676=FALSE,0,COUNTIF(A$3:A2675,\">0\")+1)","v":0},8940164263,"S634MD 3/4\" DR. DEEP IMPACT SOCKET 34MM","7 560,-Ft ","CP S.anyag","Impact Socket",607,null,7560]
[{"$f":"IF(L2677=FALSE,0,COUNTIF(A$3:A2676,\">0\")+1)","v":0},8940164166,"S635 3/4\" DR. STD IMPACT SOCKET 2-3/16\"","8 240,-Ft ","CP S.anyag","Impact Socket",1114,null,8240]
[{"$f":"IF(L2678=FALSE,0,COUNTIF(A$3:A2677,\">0\")+1)","v":0},8940164234,"S635D 3/4\" DR DEEP IMPAC SOCKET 2-3/16\"","10 300,-Ft ","CP S.anyag","Impact Socket",1543,null,10300]
[{"$f":"IF(L2679=FALSE,0,COUNTIF(A$3:A2678,\">0\")+1)","v":0},8940164196,"S635M 3/4\" DR. STD IMPACT SOCKET 35MM","5 510,-Ft ","CP S.anyag","Impact Socket",442,null,5510]
[{"$f":"IF(L2680=FALSE,0,COUNTIF(A$3:A2679,\">0\")+1)","v":0},8940164264,"S635MD 3/4\" DR. DEEP IMPACT SOCKET 35MM",{"$f":"IF(H2680=\"SP\",IF(J2680>0,\"SP: \"&TEXT(J2680*I$1,\"# ###,-Ft  \"),\"SP: \"&TEXT(I2680*I$1,\"# ###,-Ft\")),IF(J2680>0,\"STARS* \"&TEXT(J2680*J$1,\"# ###,-Ft\"),TEXT(I2680*I$1,\"# ###,-Ft  \")))","v":"7 560,-Ft "},"CP S.anyag","Impact Socket",660,null,7560]
[{"$f":"IF(L2681=FALSE,0,COUNTIF(A$3:A2680,\">0\")+1)","v":0},8940164167,"S636 3/4\" DR. STD IMPACT SOCKET 2-1/4'","8 710,-Ft ","CP S.anyag","Impact Socket",1355,null,8710]
[{"$f":"IF(L2682=FALSE,0,COUNTIF(A$3:A2681,\">0\")+1)","v":0},8940164235,"S636D 3/4\" DR. DEEP IMPACT SOCKET 2-1/4'","15 440,-Ft ","CP S.anyag","Impact Socket",1704,null,15440]
[{"$f":"IF(L2683=FALSE,0,COUNTIF(A$3:A2682,\">0\")+1)","v":0},8940164197,"S636M 3/4\" DR. STD IMPACT SOCKET 36MM","5 510,-Ft ","CP S.anyag","Impact Socket",476,null,5510]
[{"$f":"IF(L2684=FALSE,0,COUNTIF(A$3:A2683,\">0\")+1)","v":0},8940164265,"S636MD 3/4\" DR. DEEP IMPACT SOCKET 36MM","7 870,-Ft ","CP S.anyag","Impact Socket",686,null,7870]
[{"$f":"IF(L2685=FALSE,0,COUNTIF(A$3:A2684,\">0\")+1)","v":0},8940164168,"S637 3/4\" DR. STD IMPACT SOCKET 2-5/16\"",",-Ft ","CP S.anyag","Impact Socket",1402]
[{"$f":"IF(L2686=FALSE,0,COUNTIF(A$3:A2685,\">0\")+1)","v":0},8940164236,"S637D 3/4\" DR DEEP IMPAC SOCKET 2-5/16\"","12 360,-Ft ","CP S.anyag","Impact Socket",1732,null,12360]
[{"$f":"IF(L2687=FALSE,0,COUNTIF(A$3:A2686,\">0\")+1)","v":0},8940164198,"S637M 3/4\" DR. STD IMPACT SOCKET 37MM","5 810,-Ft ","CP S.anyag","Impact Socket",485,null,5810]
[{"$f":"IF(L2688=FALSE,0,COUNTIF(A$3:A2687,\">0\")+1)","v":0},8940164266,"S637MD 3/4\" DR. DEEP IMPACT SOCKET 37MM","7 210,-Ft ","CP S.anyag","Impact Socket",699,null,7210]
[{"$f":"IF(L2689=FALSE,0,COUNTIF(A$3:A2688,\">0\")+1)","v":0},8940164169,"S638 3/4\" DR. STD IMPACT SOCKET 2-3/8\"","9 250,-Ft ","CP S.anyag","Impact Socket",1461,null,9250]
[{"$f":"IF(L2690=FALSE,0,COUNTIF(A$3:A2689,\">0\")+1)","v":0},8940164237,"S638D 3/4\" DR. DEEP IMPACT SOCKET 2-3/8\"","13 770,-Ft ","CP S.anyag","Impact Socket",1824,null,13770]
[{"$f":"IF(L2691=FALSE,0,COUNTIF(A$3:A2690,\">0\")+1)","v":0},8940164199,"S638M 3/4\" DR. STD IMPACT SOCKET 38MM","5 650,-Ft ","CP S.anyag","Impact Socket",488,null,5650]
[{"$f":"IF(L2692=FALSE,0,COUNTIF(A$3:A2691,\">0\")+1)","v":0},8940164267,"S638MD 3/4\" DR. DEEP IMPACT SOCKET 38MM","7 870,-Ft ","CP S.anyag","Impact Socket",499,null,7870]
[{"$f":"IF(L2693=FALSE,0,COUNTIF(A$3:A2692,\">0\")+1)","v":0},8940164170,"S639 3/4\" DR. STD IMPACT SOCKET 2-7/16\"",",-Ft ","CP S.anyag","Impact Socket",1428]
[{"$f":"IF(L2694=FALSE,0,COUNTIF(A$3:A2693,\">0\")+1)","v":0},8940164238,"S639D 3/4\" DR DEEP IMPAC SOCKET 2-7/16\"","14 780,-Ft ","CP S.anyag","Impact Socket",1779,null,14780]
[{"$f":"IF(L2695=FALSE,0,COUNTIF(A$3:A2694,\">0\")+1)","v":0},8940164171,"S640 3/4\" DR. STD IMPACT SOCKET 2-1/2\"","9 990,-Ft ","CP S.anyag","Impact Socket",1434,null,9990]
[{"$f":"IF(L2696=FALSE,0,COUNTIF(A$3:A2695,\">0\")+1)","v":0},8940164200,"S640M 3/4\" DR. STD IMPACT SOCKET 40MM","7 210,-Ft ","CP S.anyag","Impact Socket",564,null,7210]
[{"$f":"IF(L2697=FALSE,0,COUNTIF(A$3:A2696,\">0\")+1)","v":0},8940164268,"S640MD 3/4\" DR. DEEP IMPACT SOCKET 40MM",",-Ft ","CP S.anyag","Impact Socket",761]
[{"$f":"IF(L2698=FALSE,0,COUNTIF(A$3:A2697,\">0\")+1)","v":0},8940164172,"S641 3/4\" DR. STD IMPACT SOCKET 2-9/16\"","12 830,-Ft ","CP S.anyag","Impact Socket",1638,null,12830]
[{"$f":"IF(L2699=FALSE,0,COUNTIF(A$3:A2698,\">0\")+1)","v":0},8940164240,"S641D 3/4\" DR DEEP IMPAC SOCKET 2-9/16\"","16 150,-Ft ","CP S.anyag","Impact Socket",2586,null,16150]
[{"$f":"IF(L2700=FALSE,0,COUNTIF(A$3:A2699,\">0\")+1)","v":0},8940164201,"S641M 3/4\" DR. STD IMPACT SOCKET 41MM","7 560,-Ft ","CP S.anyag","Impact Socket",585,null,7560]
[{"$f":"IF(L2701=FALSE,0,COUNTIF(A$3:A2700,\">0\")+1)","v":0},8940164269,"S641MD 3/4\" DR. DEEP IMPACT SOCKET 41MM","9 620,-Ft ","CP S.anyag","Impact Socket",796,null,9620]
[{"$f":"IF(L2702=FALSE,0,COUNTIF(A$3:A2701,\">0\")+1)","v":0},8940164241,"S642D 3/4\" DR. DEEP IMPACT SOCKET 2-5/8\"","20 050,-Ft ","CP S.anyag","Impact Socket",2302,null,20050]
[{"$f":"IF(L2703=FALSE,0,COUNTIF(A$3:A2702,\">0\")+1)","v":0},8940164202,"S642M 3/4\" DR. STD IMPACT SOCKET 42MM","8 260,-Ft ","CP S.anyag","Impact Socket",660,null,8260]
[{"$f":"IF(L2704=FALSE,0,COUNTIF(A$3:A2703,\">0\")+1)","v":0},8940164270,"S642MD 3/4\" DR. DEEP IMPACT SOCKET 42MM","11 000,-Ft ","CP S.anyag","Impact Socket",888,null,11000]
[{"$f":"IF(L2705=FALSE,0,COUNTIF(A$3:A2704,\">0\")+1)","v":0},8940164174,"S643 3/4\" DR. STD IMPACT SOCKET 2-11/16\"","14 440,-Ft ","CP S.anyag","Impact Socket",1867,null,14440]
[{"$f":"IF(L2706=FALSE,0,COUNTIF(A$3:A2705,\">0\")+1)","v":0},8940164242,"S643D 3/4\" DR DEEP IMPAC SOCKET 2-11/16\"",",-Ft ","CP S.anyag","Impact Socket",2388]
[{"$f":"IF(L2707=FALSE,0,COUNTIF(A$3:A2706,\">0\")+1)","v":0},8940164203,"S643M 3/4\" DR. STD IMPACT SOCKET 43MM","8 920,-Ft ","CP S.anyag","Impact Socket",754,null,8920]
[{"$f":"IF(L2708=FALSE,0,COUNTIF(A$3:A2707,\">0\")+1)","v":0},8940164271,"S643MD 3/4\" DR. DEEP IMPACT SOCKET 43MM","12 720,-Ft ","CP S.anyag","Impact Socket",1141,null,12720]
[{"$f":"IF(L2709=FALSE,0,COUNTIF(A$3:A2708,\">0\")+1)","v":0},8940164175,"S644 3/4\" DR. STD IMPACT SOCKET 2-3/4\"","14 750,-Ft ","CP S.anyag","Impact Socket",2016,null,14750]
[{"$f":"IF(L2710=FALSE,0,COUNTIF(A$3:A2709,\">0\")+1)","v":0},8940164243,"S644D 3/4\" DR. DEEP IMPACT SOCKET 2-3/4\"","16 810,-Ft ","CP S.anyag","Impact Socket",2429,null,16810]
[{"$f":"IF(L2711=FALSE,0,COUNTIF(A$3:A2710,\">0\")+1)","v":0},8940164204,"S644M 3/4\" DR. STD IMPACT SOCKET 44MM","9 250,-Ft ","CP S.anyag","Impact Socket",790,null,9250]
[{"$f":"IF(L2712=FALSE,0,COUNTIF(A$3:A2711,\">0\")+1)","v":0},8940164272,"S644MD 3/4\" DR. DEEP IMPACT SOCKET 44MM","13 060,-Ft ","CP S.anyag","Impact Socket",1210,null,13060]
[{"$f":"IF(L2713=FALSE,0,COUNTIF(A$3:A2712,\">0\")+1)","v":0},8940164176,"S645 3/4\" DR. STD IMPACT SOCKET 2-13/16\"","15 090,-Ft ","CP S.anyag","Impact Socket",2199,null,15090]
[{"$f":"IF(L2714=FALSE,0,COUNTIF(A$3:A2713,\">0\")+1)","v":0},8940164244,"S645D 3/4\" DR DEEP IMPAC SOCKET 2-13/16\"",",-Ft ","CP S.anyag","Impact Socket",2881]
[{"$f":"IF(L2715=FALSE,0,COUNTIF(A$3:A2714,\">0\")+1)","v":0},8940164177,"S646 3/4\" DR. STD IMPACT SOCKET 2-7/8\"","16 040,-Ft ","CP S.anyag","Impact Socket",2162,null,16040]
[{"$f":"IF(L2716=FALSE,0,COUNTIF(A$3:A2715,\">0\")+1)","v":0},8940164245,"S646D 3/4\" DR. DEEP IMPACT SOCKET 2-7/8\"","19 250,-Ft ","CP S.anyag","Impact Socket",2910,null,19250]
[{"$f":"IF(L2717=FALSE,0,COUNTIF(A$3:A2716,\">0\")+1)","v":0},8940164205,"S646M 3/4\" DR. STD IMPACT SOCKET 46MM","10 300,-Ft ","CP S.anyag","Impact Socket",792,null,10300]
[{"$f":"IF(L2718=FALSE,0,COUNTIF(A$3:A2717,\">0\")+1)","v":0},8940164273,"S646MD 3/4\" DR. DEEP IMPACT SOCKET 46MM","13 380,-Ft ","CP S.anyag","Impact Socket",1141,null,13380]
[{"$f":"IF(L2719=FALSE,0,COUNTIF(A$3:A2718,\">0\")+1)","v":0},8940164178,"S647 3/4\" DR. STD IMPACT SOCKET 2-15/16\"","16 680,-Ft ","CP S.anyag","Impact Socket",2338,null,16680]
[{"$f":"IF(L2720=FALSE,0,COUNTIF(A$3:A2719,\">0\")+1)","v":0},8940164246,"S647D 3/4\" DR DEEP IMPAC SOCKET 2-15/16\"","21 630,-Ft ","CP S.anyag","Impact Socket",3263,null,21630]
[{"$f":"IF(L2721=FALSE,0,COUNTIF(A$3:A2720,\">0\")+1)","v":0},8940164179,"S648 3/4\" DR. STD IMPACT SOCKET 3\"","19 160,-Ft ","CP S.anyag","Impact Socket",2539,null,19160]
[{"$f":"IF(L2722=FALSE,0,COUNTIF(A$3:A2721,\">0\")+1)","v":0},8940164247,"S648D 3/4\" DR. DEEP IMPACT SOCKET 3\"",",-Ft ","CP S.anyag","Impact Socket",3301]
[{"$f":"IF(L2723=FALSE,0,COUNTIF(A$3:A2722,\">0\")+1)","v":0},8940164206,"S650M 3/4\" DR. STD IMPACT SOCKET 50MM",",-Ft ","CP S.anyag","Impact Socket",1120]
[{"$f":"IF(L2724=FALSE,0,COUNTIF(A$3:A2723,\">0\")+1)","v":0},8940166942,"S8 13SQ 1 DR 13/16 SQUARE","3 180,-Ft ","CP S.anyag","Impact Socket",227,null,3180]
[{"$f":"IF(L2725=FALSE,0,COUNTIF(A$3:A2724,\">0\")+1)","v":0},8940164275,"S812 1\" DR. STD IMPACT SOCKET 3/4\"",",-Ft ","CP S.anyag","Impact Socket",485]
[{"$f":"IF(L2726=FALSE,0,COUNTIF(A$3:A2725,\">0\")+1)","v":0},8940164355,"S812D 1\" DR. DEEP IMPACT SOCKET 3/4\"","6 070,-Ft ","CP S.anyag","Impact Socket",708,null,6070]
[{"$f":"IF(L2727=FALSE,0,COUNTIF(A$3:A2726,\">0\")+1)","v":0},8940164276,"S813 1\" DR. STD IMPACT SOCKET 13/16\"","3 740,-Ft ","CP S.anyag","Impact Socket",501,null,3740]
[{"$f":"IF(L2728=FALSE,0,COUNTIF(A$3:A2727,\">0\")+1)","v":0},8940164356,"S813D 1\" DR. DEEP IMPACT SOCKET 13/16\"","6 230,-Ft ","CP S.anyag","Impact Socket",757,null,6230]
[{"$f":"IF(L2729=FALSE,0,COUNTIF(A$3:A2728,\">0\")+1)","v":0},8940164277,"S814 1\" DR. STD IMPACT SOCKET 7/8\"",",-Ft ","CP S.anyag","Impact Socket",501]
[{"$f":"IF(L2730=FALSE,0,COUNTIF(A$3:A2729,\">0\")+1)","v":0},8940164357,"S814D 1\" DR. DEEP IMPACT SOCKET 7/8\"","6 070,-Ft ","CP S.anyag","Impact Socket",749,null,6070]
[{"$f":"IF(L2731=FALSE,0,COUNTIF(A$3:A2730,\">0\")+1)","v":0},8940164278,"S815 1\" DR. STD IMPACT SOCKET 15/16\"",",-Ft ","CP S.anyag","Impact Socket",485]
[{"$f":"IF(L2732=FALSE,0,COUNTIF(A$3:A2731,\">0\")+1)","v":0},8940164358,"S815D 1\" DR. DEEP IMPACT SOCKET 15/16\"",",-Ft ","CP S.anyag","Impact Socket",741]
[{"$f":"IF(L2733=FALSE,0,COUNTIF(A$3:A2732,\">0\")+1)","v":0},8940164279,"S816 1\" DR. STD IMPACT SOCKET 1\"",",-Ft ","CP S.anyag","Impact Socket",503]
[{"$f":"IF(L2734=FALSE,0,COUNTIF(A$3:A2733,\">0\")+1)","v":0},8940164359,"S816D 1\" DR. DEEP IMPACT SOCKET 1\"","7 090,-Ft ","CP S.anyag","Impact Socket",755,null,7090]
[{"$f":"IF(L2735=FALSE,0,COUNTIF(A$3:A2734,\">0\")+1)","v":0},8940164280,"S817 1\" DR. STD IMPACT SOCKET 1-1/16\"","4 790,-Ft ","CP S.anyag","Impact Socket",517,null,4790]
[{"$f":"IF(L2736=FALSE,0,COUNTIF(A$3:A2735,\">0\")+1)","v":0},8940164281,"S818 1\" DR. STD IMPACT SOCKET 1-1/8\"","4 790,-Ft ","CP S.anyag","Impact Socket",519,null,4790]
[{"$f":"IF(L2737=FALSE,0,COUNTIF(A$3:A2736,\">0\")+1)","v":0},8940164361,"S818D 1\" DR. DEEP IMPACT SOCKET 1-1/8\"",",-Ft ","CP S.anyag","Impact Socket",793]
[{"$f":"IF(L2738=FALSE,0,COUNTIF(A$3:A2737,\">0\")+1)","v":0},8940164282,"S819 1\" DR. STD IMPACT SOCKET 1-3/16\"",",-Ft ","CP S.anyag","Impact Socket",544]
[{"$f":"IF(L2739=FALSE,0,COUNTIF(A$3:A2738,\">0\")+1)","v":0},8940164323,"S819M 1\" DR. STD IMPACT SOCKET 19MM",{"$f":"IF(H2739=\"SP\",IF(J2739>0,\"SP: \"&TEXT(J2739*I$1,\"# ###,-Ft  \"),\"SP: \"&TEXT(I2739*I$1,\"# ###,-Ft\")),IF(J2739>0,\"STARS* \"&TEXT(J2739*J$1,\"# ###,-Ft\"),TEXT(I2739*I$1,\"# ###,-Ft  \")))","v":"7 560,-Ft "},"CP S.anyag","Impact Socket",480,null,7560]
[{"$f":"IF(L2740=FALSE,0,COUNTIF(A$3:A2739,\">0\")+1)","v":0},8940164283,"S820 1\" DR. STD IMPACT SOCKET 1-1/4\"","5 140,-Ft ","CP S.anyag","Impact Socket",568,null,5140]
[{"$f":"IF(L2741=FALSE,0,COUNTIF(A$3:A2740,\">0\")+1)","v":0},8940164363,"S820D 1\" DR. DEEP IMPACT SOCKET 1-1/4\"",",-Ft ","CP S.anyag","Impact Socket",858]
[{"$f":"IF(L2742=FALSE,0,COUNTIF(A$3:A2741,\">0\")+1)","v":0},8940166944,"S820TW  1 DR 1 1/4 THIN WALL","14 060,-Ft ","CP S.anyag","Impact Socket",904,null,14060]
[{"$f":"IF(L2743=FALSE,0,COUNTIF(A$3:A2742,\">0\")+1)","v":0},8940164284,"S821 1\" DR. STD IMPACT SOCKET 1-5/16\"","6 850,-Ft ","CP S.anyag","Impact Socket",642,null,6850]
[{"$f":"IF(L2744=FALSE,0,COUNTIF(A$3:A2743,\">0\")+1)","v":0},8940164324,"S821M 1\" DR. STD IMPACT SOCKET 21MM","7 560,-Ft ","CP S.anyag","Impact Socket",490,null,7560]
[{"$f":"IF(L2745=FALSE,0,COUNTIF(A$3:A2744,\">0\")+1)","v":0},8940164404,"S821MD 1\" DR. DEEP IMPACT SOCKET 21MM",",-Ft ","CP S.anyag","Impact Socket",730]
[{"$f":"IF(L2746=FALSE,0,COUNTIF(A$3:A2745,\">0\")+1)","v":0},8940164285,"S822 1\" DR. STD IMPACT SOCKET 1-3/8\"","5 510,-Ft ","CP S.anyag","Impact Socket",643,null,5510]
[{"$f":"IF(L2747=FALSE,0,COUNTIF(A$3:A2746,\">0\")+1)","v":0},8940164365,"S822D 1\" DR. DEEP IMPACT SOCKET 1-3/8\"","8 590,-Ft ","CP S.anyag","Impact Socket",938,null,8590]
[{"$f":"IF(L2748=FALSE,0,COUNTIF(A$3:A2747,\">0\")+1)","v":0},8940164325,"S822M 1\" DR. STD IMPACT SOCKET 22MM","7 870,-Ft ","CP S.anyag","Impact Socket",566,null,7870]
[{"$f":"IF(L2749=FALSE,0,COUNTIF(A$3:A2748,\">0\")+1)","v":0},8940164286,"S823 1\" DR. STD IMPACT SOCKET 1-7/16\"","5 510,-Ft ","CP S.anyag","Impact Socket",653,null,5510]
[{"$f":"IF(L2750=FALSE,0,COUNTIF(A$3:A2749,\">0\")+1)","v":0},8940164366,"S823D 1\" DR. DEEP IMPACT SOCKET 1-7/16\"","7 860,-Ft ","CP S.anyag","Impact Socket",953,null,7860]
[{"$f":"IF(L2751=FALSE,0,COUNTIF(A$3:A2750,\">0\")+1)","v":0},8940164326,"S823M 1\" DR. STD IMPACT SOCKET 23MM","7 870,-Ft ","CP S.anyag","Impact Socket",504,null,7870]
[{"$f":"IF(L2752=FALSE,0,COUNTIF(A$3:A2751,\">0\")+1)","v":0},8940164287,"S824 1\" DR. STD IMPACT SOCKET 1-1/2\"","5 510,-Ft ","CP S.anyag","Impact Socket",674,null,5510]
[{"$f":"IF(L2753=FALSE,0,COUNTIF(A$3:A2752,\">0\")+1)","v":0},8940164367,"S824D 1\" DR. DEEP IMPACT SOCKET 1-1/2\"","13 060,-Ft ","CP S.anyag","Impact Socket",1017,null,13060]
[{"$f":"IF(L2754=FALSE,0,COUNTIF(A$3:A2753,\">0\")+1)","v":0},8940164327,"S824M 1\" DR. STD IMPACT SOCKET 24MM","8 260,-Ft ","CP S.anyag","Impact Socket",477,null,8260]
[{"$f":"IF(L2755=FALSE,0,COUNTIF(A$3:A2754,\">0\")+1)","v":0},8940164407,"S824MD 1\" DR. DEEP IMPACT SOCKET 24MM","11 000,-Ft ","CP S.anyag","Impact Socket",720,null,11000]
[{"$f":"IF(L2756=FALSE,0,COUNTIF(A$3:A2755,\">0\")+1)","v":0},8940166932,"S824X13BW 1 1 1/2X13/16 COMBO BUDD WHEEL","7 210,-Ft ","CP S.anyag","Impact Socket",1361,null,7210]
[{"$f":"IF(L2757=FALSE,0,COUNTIF(A$3:A2756,\">0\")+1)","v":0},8940164288,"S825 1\" DR. STD IMPACT SOCKET 1-9/16\"",",-Ft ","CP S.anyag","Impact Socket",702]
[{"$f":"IF(L2758=FALSE,0,COUNTIF(A$3:A2757,\">0\")+1)","v":0},8940164328,"S825M 1\" DR. STD IMPACT SOCKET 25MM","8 260,-Ft ","CP S.anyag","Impact Socket",510,null,8260]
[{"$f":"IF(L2759=FALSE,0,COUNTIF(A$3:A2758,\">0\")+1)","v":0},8940164369,"S826D 1\" DR. DEEP IMPACT SOCKET 1-5/8\"","9 620,-Ft ","CP S.anyag","Impact Socket",1087,null,9620]
[{"$f":"IF(L2760=FALSE,0,COUNTIF(A$3:A2759,\">0\")+1)","v":0},8940164329,"S826M 1\" DR. STD IMPACT SOCKET 26MM",",-Ft ","CP S.anyag","Impact Socket",510]
[{"$f":"IF(L2761=FALSE,0,COUNTIF(A$3:A2760,\">0\")+1)","v":0},8940164370,"S827D 1\" DR. DEEP IMPACT SOCKET 1-11/16\"","7 560,-Ft ","CP S.anyag","Impact Socket",1222,null,7560]
[{"$f":"IF(L2762=FALSE,0,COUNTIF(A$3:A2761,\">0\")+1)","v":0},8940164330,"S827M 1\" DR. STD IMPACT SOCKET 27MM","8 260,-Ft ","CP S.anyag","Impact Socket",507,null,8260]
[{"$f":"IF(L2763=FALSE,0,COUNTIF(A$3:A2762,\">0\")+1)","v":0},8940164410,"S827MD 1\" DR. DEEP IMPACT SOCKET 27MM","11 000,-Ft ","CP S.anyag","Impact Socket",771,null,11000]
[{"$f":"IF(L2764=FALSE,0,COUNTIF(A$3:A2763,\">0\")+1)","v":0},8940164291,"S828 1\" DR. STD IMPACT SOCKET 1-3/4\"",",-Ft ","CP S.anyag","Impact Socket",948]
[{"$f":"IF(L2765=FALSE,0,COUNTIF(A$3:A2764,\">0\")+1)","v":0},8940164371,"S828D 1\" DR. DEEP IMPACT SOCKET 1-3/4\"","8 730,-Ft ","CP S.anyag","Impact Socket",1319,null,8730]
[{"$f":"IF(L2766=FALSE,0,COUNTIF(A$3:A2765,\">0\")+1)","v":0},8940164331,"S828M 1\" DR. STD IMPACT SOCKET 28MM","8 330,-Ft ","CP S.anyag","Impact Socket",518,null,8330]
[{"$f":"IF(L2767=FALSE,0,COUNTIF(A$3:A2766,\">0\")+1)","v":0},8940164372,"S829D 1\" DR. DEEP IMPACT SOCKET 1-13/16\"",",-Ft ","CP S.anyag","Impact Socket",1358]
[{"$f":"IF(L2768=FALSE,0,COUNTIF(A$3:A2767,\">0\")+1)","v":0},8940164332,"S829M 1\" DR. STD IMPACT SOCKET 29MM","8 590,-Ft ","CP S.anyag","Impact Socket",522,null,8590]
[{"$f":"IF(L2769=FALSE,0,COUNTIF(A$3:A2768,\">0\")+1)","v":0},8940164412,"S829MD 1\" DR. DEEP IMPACT SOCKET 29MM","10 690,-Ft ","CP S.anyag","Impact Socket",778,null,10690]
[{"$f":"IF(L2770=FALSE,0,COUNTIF(A$3:A2769,\">0\")+1)","v":0},8940164293,"S830 1\" DR. STD IMPACT SOCKET 1-7/8\"","7 210,-Ft ","CP S.anyag","Impact Socket",1042,null,7210]
[{"$f":"IF(L2771=FALSE,0,COUNTIF(A$3:A2770,\">0\")+1)","v":0},8940164333,"S830M 1\" DR. STD IMPACT SOCKET 30MM","8 590,-Ft ","CP S.anyag","Impact Socket",534,null,8590]
[{"$f":"IF(L2772=FALSE,0,COUNTIF(A$3:A2771,\">0\")+1)","v":0},8940164413,"S830MD 1\" DR. DEEP IMPACT SOCKET 30MM","11 000,-Ft ","CP S.anyag","Impact Socket",813,null,11000]
[{"$f":"IF(L2773=FALSE,0,COUNTIF(A$3:A2772,\">0\")+1)","v":0},8940164294,"S831 1\" DR. STD IMPACT SOCKET 1-15/16\"","7 560,-Ft ","CP S.anyag","Impact Socket",1062,null,7560]
[{"$f":"IF(L2774=FALSE,0,COUNTIF(A$3:A2773,\">0\")+1)","v":0},8940164374,"S831D 1\" DR. DEEP IMPACT SOCKET 1-15/16\"","16 490,-Ft ","CP S.anyag","Impact Socket",1480,null,16490]
[{"$f":"IF(L2775=FALSE,0,COUNTIF(A$3:A2774,\">0\")+1)","v":0},8940164295,"S832 1\" DR. STD IMPACT SOCKET 2\"","7 870,-Ft ","CP S.anyag","Impact Socket",1162,null,7870]
[{"$f":"IF(L2776=FALSE,0,COUNTIF(A$3:A2775,\">0\")+1)","v":0},8940164375,"S832D 1\" DR. DEEP IMPACT SOCKET 2\"","19 570,-Ft ","CP S.anyag","Impact Socket",1482,null,19570]
[{"$f":"IF(L2777=FALSE,0,COUNTIF(A$3:A2776,\">0\")+1)","v":0},8940164334,"S832M 1\" DR. STD IMPACT SOCKET 32MM","8 590,-Ft ","CP S.anyag","Impact Socket",562,null,8590]
[{"$f":"IF(L2778=FALSE,0,COUNTIF(A$3:A2777,\">0\")+1)","v":0},8940164414,"S832MD 1\" DR. DEEP IMPACT SOCKET 32MM","11 000,-Ft ","CP S.anyag","Impact Socket",854,null,11000]
[{"$f":"IF(L2779=FALSE,0,COUNTIF(A$3:A2778,\">0\")+1)","v":0},8940164296,"S833 1\" DR. STD IMPACT SOCKET 2-1/16\"","8 050,-Ft ","CP S.anyag","Impact Socket",1163,null,8050]
[{"$f":"IF(L2780=FALSE,0,COUNTIF(A$3:A2779,\">0\")+1)","v":0},8940164376,"S833D 1\" DR. DEEP IMPACT SOCKET 2-1/16\"","19 920,-Ft ","CP S.anyag","Impact Socket",1573,null,19920]
[{"$f":"IF(L2781=FALSE,0,COUNTIF(A$3:A2780,\">0\")+1)","v":0},8940164335,"S833M 1\" DR. STD IMPACT SOCKET 33MM","8 590,-Ft ","CP S.anyag","Impact Socket",623,null,8590]
[{"$f":"IF(L2782=FALSE,0,COUNTIF(A$3:A2781,\">0\")+1)","v":0},8940164415,"S833MD 1\" DR. DEEP IMPACT SOCKET 33MM","11 000,-Ft ","CP S.anyag","Impact Socket",937,null,11000]
[{"$f":"IF(L2783=FALSE,0,COUNTIF(A$3:A2782,\">0\")+1)","v":0},8940164297,"S834 1\" DR. STD IMPACT SOCKET 2-1/8\"","8 710,-Ft ","CP S.anyag","Impact Socket",1216,null,8710]
[{"$f":"IF(L2784=FALSE,0,COUNTIF(A$3:A2783,\">0\")+1)","v":0},8940164416,"S834MD 1\" DR. DEEP IMPACT SOCKET 34MM","11 300,-Ft ","CP S.anyag","Impact Socket",939,null,11300]
[{"$f":"IF(L2785=FALSE,0,COUNTIF(A$3:A2784,\">0\")+1)","v":0},8940164298,"S835 1\" DR. STD IMPACT SOCKET 2-3/16\"","10 340,-Ft ","CP S.anyag","Impact Socket",1375,null,10340]
[{"$f":"IF(L2786=FALSE,0,COUNTIF(A$3:A2785,\">0\")+1)","v":0},8940164336,"S835M 1\" DR. STD IMPACT SOCKET 35MM","8 590,-Ft ","CP S.anyag","Impact Socket",627,null,8590]
[{"$f":"IF(L2787=FALSE,0,COUNTIF(A$3:A2786,\">0\")+1)","v":0},8940164417,"S835MD 1\" DR. DEEP IMPACT SOCKET 35MM","12 000,-Ft ","CP S.anyag","Impact Socket",885,null,12000]
[{"$f":"IF(L2788=FALSE,0,COUNTIF(A$3:A2787,\">0\")+1)","v":0},8940164299,"S836 1\" DR. STD IMPACT SOCKET 2-1/4\"",",-Ft ","CP S.anyag","Impact Socket",1619]
[{"$f":"IF(L2789=FALSE,0,COUNTIF(A$3:A2788,\">0\")+1)","v":0},8940164379,"S836D 1\" DR. DEEP IMPACT SOCKET 2-1/4\"","24 070,-Ft ","CP S.anyag","Impact Socket",2154,null,24070]
[{"$f":"IF(L2790=FALSE,0,COUNTIF(A$3:A2789,\">0\")+1)","v":0},8940164337,"S836M 1\" DR. STD IMPACT SOCKET 36MM",{"$f":"IF(H2790=\"SP\",IF(J2790>0,\"SP: \"&TEXT(J2790*I$1,\"# ###,-Ft  \"),\"SP: \"&TEXT(I2790*I$1,\"# ###,-Ft\")),IF(J2790>0,\"STARS* \"&TEXT(J2790*J$1,\"# ###,-Ft\"),TEXT(I2790*I$1,\"# ###,-Ft  \")))","v":"8 590,-Ft "},"CP S.anyag","Impact Socket",623,null,8590]
[{"$f":"IF(L2791=FALSE,0,COUNTIF(A$3:A2790,\">0\")+1)","v":0},8940164418,"S836MD 1\" DR. DEEP IMPACT SOCKET 36MM","12 000,-Ft ","CP S.anyag","Impact Socket",996,null,12000]
[{"$f":"IF(L2792=FALSE,0,COUNTIF(A$3:A2791,\">0\")+1)","v":0},8940164380,"S837D 1\" DR. DEEP IMPACT SOCKET 2-5/16\"","25 070,-Ft ","CP S.anyag","Impact Socket",2324,null,25070]
[{"$f":"IF(L2793=FALSE,0,COUNTIF(A$3:A2792,\">0\")+1)","v":0},8940164338,"S838M 1\" DR. STD IMPACT SOCKET 38MM","9 250,-Ft ","CP S.anyag","Impact Socket",640,null,9250]
[{"$f":"IF(L2794=FALSE,0,COUNTIF(A$3:A2793,\">0\")+1)","v":0},8940164419,"S838MD 1\" DR. DEEP IMPACT SOCKET 38MM","12 000,-Ft ","CP S.anyag","Impact Socket",1005,null,12000]
[{"$f":"IF(L2795=FALSE,0,COUNTIF(A$3:A2794,\">0\")+1)","v":0},8940164302,"S839 1\" DR. STD IMPACT SOCKET 2-7/16\"","12 570,-Ft ","CP S.anyag","Impact Socket",1759,null,12570]
[{"$f":"IF(L2796=FALSE,0,COUNTIF(A$3:A2795,\">0\")+1)","v":0},8940164303,"S840 1\" DR. STD IMPACT SOCKET 2-1/2\"","13 110,-Ft ","CP S.anyag","Impact Socket",1839,null,13110]
[{"$f":"IF(L2797=FALSE,0,COUNTIF(A$3:A2796,\">0\")+1)","v":0},8940164383,"S840D 1\" DR. DEEP IMPACT SOCKET 2-1/2\"","30 740,-Ft ","CP S.anyag","Impact Socket",2565,null,30740]
[{"$f":"IF(L2798=FALSE,0,COUNTIF(A$3:A2797,\">0\")+1)","v":0},8940164339,"S840M 1\" DR. STD IMPACT SOCKET 40MM","9 250,-Ft ","CP S.anyag","Impact Socket",696,null,9250]
[{"$f":"IF(L2799=FALSE,0,COUNTIF(A$3:A2798,\">0\")+1)","v":0},8940164304,"S841 1\" DR. STD IMPACT SOCKET 2-9/16\"",",-Ft ","CP S.anyag","Impact Socket",1888]
[{"$f":"IF(L2800=FALSE,0,COUNTIF(A$3:A2799,\">0\")+1)","v":0},8940164384,"S841D 1\" DR. DEEP IMPACT SOCKET 2-9/16\"","36 210,-Ft ","CP S.anyag","Impact Socket",3129,null,36210]
[{"$f":"IF(L2801=FALSE,0,COUNTIF(A$3:A2800,\">0\")+1)","v":0},8940164340,"S841M 1\" DR. STD IMPACT SOCKET 41MM","9 620,-Ft ","CP S.anyag","Impact Socket",688,null,9620]
[{"$f":"IF(L2802=FALSE,0,COUNTIF(A$3:A2801,\">0\")+1)","v":0},8940164421,"S841MD 1\" DR. DEEP IMPACT SOCKET 41MM","12 720,-Ft ","CP S.anyag","Impact Socket",1089,null,12720]
[{"$f":"IF(L2803=FALSE,0,COUNTIF(A$3:A2802,\">0\")+1)","v":0},8940167738,"S841x21MBW 1\" DR COMB BUDD WHEEL 41x21MM","11 300,-Ft ","CP S.anyag","Impact Socket",1081,null,11300]
[{"$f":"IF(L2804=FALSE,0,COUNTIF(A$3:A2803,\">0\")+1)","v":0},8940164305,"S842 1\" DR. STD IMPACT SOCKET 2-5/8\"",",-Ft ","CP S.anyag","Impact Socket",2013]
[{"$f":"IF(L2805=FALSE,0,COUNTIF(A$3:A2804,\">0\")+1)","v":0},8940164385,"S842D 1\" DR. DEEP IMPACT SOCKET 2-5/8\"","37 210,-Ft ","CP S.anyag","Impact Socket",2952,null,37210]
[{"$f":"IF(L2806=FALSE,0,COUNTIF(A$3:A2805,\">0\")+1)","v":0},8940164422,"S842MD 1\" DR. DEEP IMPACT SOCKET 42MM",",-Ft ","CP S.anyag","Impact Socket",1132]
[{"$f":"IF(L2807=FALSE,0,COUNTIF(A$3:A2806,\">0\")+1)","v":0},8940164306,"S843 1\" DR. STD IMPACT SOCKET 2-11/16\"",",-Ft ","CP S.anyag","Impact Socket",1992]
[{"$f":"IF(L2808=FALSE,0,COUNTIF(A$3:A2807,\">0\")+1)","v":0},8940164386,"S843D 1\" DR. DEEP IMPACT SOCKET 2-11/16\"","38 600,-Ft ","CP S.anyag","Impact Socket",3117,null,38600]
[{"$f":"IF(L2809=FALSE,0,COUNTIF(A$3:A2808,\">0\")+1)","v":0},8940164342,"S843M 1\" DR. STD IMPACT SOCKET 43MM","10 300,-Ft ","CP S.anyag","Impact Socket",801,null,10300]
[{"$f":"IF(L2810=FALSE,0,COUNTIF(A$3:A2809,\">0\")+1)","v":0},8940164423,"S843MD 1\" DR. DEEP IMPACT SOCKET 43MM","14 410,-Ft ","CP S.anyag","Impact Socket",1201,null,14410]
[{"$f":"IF(L2811=FALSE,0,COUNTIF(A$3:A2810,\">0\")+1)","v":0},8940164307,"S844 1\" DR. STD IMPACT SOCKET 2-3/4\"",",-Ft ","CP S.anyag","Impact Socket",2119]
[{"$f":"IF(L2812=FALSE,0,COUNTIF(A$3:A2811,\">0\")+1)","v":0},8940164343,"S844M 1\" DR. STD IMPACT SOCKET 44MM","10 300,-Ft ","CP S.anyag","Impact Socket",954,null,10300]
[{"$f":"IF(L2813=FALSE,0,COUNTIF(A$3:A2812,\">0\")+1)","v":0},8940164424,"S844MD 1\" DR. DEEP IMPACT SOCKET 44MM","14 780,-Ft ","CP S.anyag","Impact Socket",1334,null,14780]
[{"$f":"IF(L2814=FALSE,0,COUNTIF(A$3:A2813,\">0\")+1)","v":0},8940164308,"S845 1\" DR. STD IMPACT SOCKET 2-13/16\"","16 740,-Ft ","CP S.anyag","Impact Socket",2217,null,16740]
[{"$f":"IF(L2815=FALSE,0,COUNTIF(A$3:A2814,\">0\")+1)","v":0},8940164388,"S845D 1\" DR. DEEP IMPACT SOCKET 2-13/16\"",",-Ft ","CP S.anyag","Impact Socket",3340]
[{"$f":"IF(L2816=FALSE,0,COUNTIF(A$3:A2815,\">0\")+1)","v":0},8940164344,"S845M 1\" DR. STD IMPACT SOCKET 45MM","11 000,-Ft ","CP S.anyag","Impact Socket",960,null,11000]
[{"$f":"IF(L2817=FALSE,0,COUNTIF(A$3:A2816,\">0\")+1)","v":0},8940164425,"S845MD 1\" DR. DEEP IMPACT SOCKET 45MM","14 780,-Ft ","CP S.anyag","Impact Socket",1347,null,14780]
[{"$f":"IF(L2818=FALSE,0,COUNTIF(A$3:A2817,\">0\")+1)","v":0},8940164309,"S846 1\" DR. STD IMPACT SOCKET 2-7/8\"","20 270,-Ft ","CP S.anyag","Impact Socket",2336,null,20270]
[{"$f":"IF(L2819=FALSE,0,COUNTIF(A$3:A2818,\">0\")+1)","v":0},8940164345,"S846M 1\" DR. STD IMPACT SOCKET 46MM","11 700,-Ft ","CP S.anyag","Impact Socket",985,null,11700]
[{"$f":"IF(L2820=FALSE,0,COUNTIF(A$3:A2819,\">0\")+1)","v":0},8940164426,"S846MD 1\" DR. DEEP IMPACT SOCKET 46MM","15 800,-Ft ","CP S.anyag","Impact Socket",1277,null,15800]
[{"$f":"IF(L2821=FALSE,0,COUNTIF(A$3:A2820,\">0\")+1)","v":0},8940164310,"S847 1\" DR. STD IMPACT SOCKET 2-15/16\"",",-Ft ","CP S.anyag","Impact Socket",2576]
[{"$f":"IF(L2822=FALSE,0,COUNTIF(A$3:A2821,\">0\")+1)","v":0},8940164390,"S847D 1\" DR. DEEP IMPACT SOCKET 2-15/16\"",",-Ft ","CP S.anyag","Impact Socket",4367]
[{"$f":"IF(L2823=FALSE,0,COUNTIF(A$3:A2822,\">0\")+1)","v":0},8940164311,"S848 1\" DR. STD IMPACT SOCKET 3\"",",-Ft ","CP S.anyag","Impact Socket",3385]
[{"$f":"IF(L2824=FALSE,0,COUNTIF(A$3:A2823,\">0\")+1)","v":0},8940164391,"S848D 1\" DR. DEEP IMPACT SOCKET 3\"","52 610,-Ft ","CP S.anyag","Impact Socket",4530,null,52610]
[{"$f":"IF(L2825=FALSE,0,COUNTIF(A$3:A2824,\">0\")+1)","v":0},8940164312,"S849 1\" DR. STD IMPACT SOCKET 3-1/8\"","28 330,-Ft ","CP S.anyag","Impact Socket",3416,null,28330]
[{"$f":"IF(L2826=FALSE,0,COUNTIF(A$3:A2825,\">0\")+1)","v":0},8940164392,"S849D 1\" DR. DEEP IMPACT SOCKET 3-1/8\"",",-Ft ","CP S.anyag","Impact Socket",4604]
[{"$f":"IF(L2827=FALSE,0,COUNTIF(A$3:A2826,\">0\")+1)","v":0},8940164313,"S850 1\" DR. STD IMPACT SOCKET 3-1/4\"","28 410,-Ft ","CP S.anyag","Impact Socket",3774,null,28410]
[{"$f":"IF(L2828=FALSE,0,COUNTIF(A$3:A2827,\">0\")+1)","v":0},8940164393,"S850D 1\" DR. DEEP IMPACT SOCKET 3-1/4\"","37 400,-Ft ","CP S.anyag","Impact Socket",4856,null,37400]
[{"$f":"IF(L2829=FALSE,0,COUNTIF(A$3:A2828,\">0\")+1)","v":0},8940164346,"S850M 1\" DR. STD IMPACT SOCKET 50MM",",-Ft ","CP S.anyag","Impact Socket",1127]
[{"$f":"IF(L2830=FALSE,0,COUNTIF(A$3:A2829,\">0\")+1)","v":0},8940164427,"S850MD 1\" DR. DEEP IMPACT SOCKET 50MM","19 570,-Ft ","CP S.anyag","Impact Socket",1509,null,19570]
[{"$f":"IF(L2831=FALSE,0,COUNTIF(A$3:A2830,\">0\")+1)","v":0},8940164314,"S851 1\" DR. STD IMPACT SOCKET 3-3/8\"","30 040,-Ft ","CP S.anyag","Impact Socket",3690,null,30040]
[{"$f":"IF(L2832=FALSE,0,COUNTIF(A$3:A2831,\">0\")+1)","v":0},8940164394,"S851D 1\" DR. DEEP IMPACT SOCKET 3-3/8\"","38 350,-Ft ","CP S.anyag","Impact Socket",4834,null,38350]
[{"$f":"IF(L2833=FALSE,0,COUNTIF(A$3:A2832,\">0\")+1)","v":0},8940164315,"S852 1\" DR. STD IMPACT SOCKET 3-1/2\"","31 420,-Ft ","CP S.anyag","Impact Socket",4091,null,31420]
[{"$f":"IF(L2834=FALSE,0,COUNTIF(A$3:A2833,\">0\")+1)","v":0},8940164395,"S852D 1\" DR. DEEP IMPACT SOCKET 3-1/2\"","41 650,-Ft ","CP S.anyag","Impact Socket",5140,null,41650]
[{"$f":"IF(L2835=FALSE,0,COUNTIF(A$3:A2834,\">0\")+1)","v":0},8940164347,"S852M 1\" DR. STD IMPACT SOCKET 52MM","15 800,-Ft ","CP S.anyag","Impact Socket",1157,null,15800]
[{"$f":"IF(L2836=FALSE,0,COUNTIF(A$3:A2835,\">0\")+1)","v":0},8940164428,"S852MD 1\" DR. DEEP IMPACT SOCKET 52MM","20 940,-Ft ","CP S.anyag","Impact Socket",1522,null,20940]
[{"$f":"IF(L2837=FALSE,0,COUNTIF(A$3:A2836,\">0\")+1)","v":0},8940164316,"S853 1\" DR. STD IMPACT SOCKET 3-5/8\"","53 900,-Ft ","CP S.anyag","Impact Socket",5016,null,53900]
[{"$f":"IF(L2838=FALSE,0,COUNTIF(A$3:A2837,\">0\")+1)","v":0},8940164396,"S853D 1\" DR. DEEP IMPACT SOCKET 3-5/8\"","73 000,-Ft ","CP S.anyag","Impact Socket",6236,null,73000]
[{"$f":"IF(L2839=FALSE,0,COUNTIF(A$3:A2838,\">0\")+1)","v":0},8940164317,"S854 1\" DR. STD IMPACT SOCKET 3-3/4\"","57 700,-Ft ","CP S.anyag","Impact Socket",4998,null,57700]
[{"$f":"IF(L2840=FALSE,0,COUNTIF(A$3:A2839,\">0\")+1)","v":0},8940164397,"S854D 1\" DR. DEEP IMPACT SOCKET 3-3/4\"","76 100,-Ft ","CP S.anyag","Impact Socket",6012,null,76100]
[{"$f":"IF(L2841=FALSE,0,COUNTIF(A$3:A2840,\">0\")+1)","v":0},8940164348,"S854M 1\" DR. STD IMPACT SOCKET 54MM","16 150,-Ft ","CP S.anyag","Impact Socket",1237,null,16150]
[{"$f":"IF(L2842=FALSE,0,COUNTIF(A$3:A2841,\">0\")+1)","v":0},8940164429,"S854MD 1\" DR. DEEP IMPACT SOCKET 54MM","21 980,-Ft ","CP S.anyag","Impact Socket",1685,null,21980]
[{"$f":"IF(L2843=FALSE,0,COUNTIF(A$3:A2842,\">0\")+1)","v":0},8940164318,"S855 1\" DR. STD IMPACT SOCKET 3-7/8\"","62 800,-Ft ","CP S.anyag","Impact Socket",6198,null,62800]
[{"$f":"IF(L2844=FALSE,0,COUNTIF(A$3:A2843,\">0\")+1)","v":0},8940164398,"S855D 1\" DR. DEEP IMPACT SOCKET 3-7/8\"","79 300,-Ft ","CP S.anyag","Impact Socket",7114,null,79300]
[{"$f":"IF(L2845=FALSE,0,COUNTIF(A$3:A2844,\">0\")+1)","v":0},8940164349,"S855M 1\" DR. STD IMPACT SOCKET 55MM","17 500,-Ft ","CP S.anyag","Impact Socket",1332,null,17500]
[{"$f":"IF(L2846=FALSE,0,COUNTIF(A$3:A2845,\">0\")+1)","v":0},8940164430,"S855MD 1\" DR. DEEP IMPACT SOCKET 55MM","22 690,-Ft ","CP S.anyag","Impact Socket",1814,null,22690]
[{"$f":"IF(L2847=FALSE,0,COUNTIF(A$3:A2846,\">0\")+1)","v":0},8940164319,"S856 1\" DR. STD IMPACT SOCKET 4\"",{"$f":"IF(H2847=\"SP\",IF(J2847>0,\"SP: \"&TEXT(J2847*I$1,\"# ###,-Ft  \"),\"SP: \"&TEXT(I2847*I$1,\"# ###,-Ft\")),IF(J2847>0,\"STARS* \"&TEXT(J2847*J$1,\"# ###,-Ft\"),TEXT(I2847*I$1,\"# ###,-Ft  \")))","v":"69 100,-Ft "},"CP S.anyag","Impact Socket",6856,null,69100]
[{"$f":"IF(L2848=FALSE,0,COUNTIF(A$3:A2847,\">0\")+1)","v":0},8940164399,"S856D 1\" DR. DEEP IMPACT SOCKET 4\"","87 700,-Ft ","CP S.anyag","Impact Socket",8542,null,87700]
[{"$f":"IF(L2849=FALSE,0,COUNTIF(A$3:A2848,\">0\")+1)","v":0},8940164350,"S856M 1\" DR. STD IMPACT SOCKET 56MM","18 210,-Ft ","CP S.anyag","Impact Socket",1394,null,18210]
[{"$f":"IF(L2850=FALSE,0,COUNTIF(A$3:A2849,\">0\")+1)","v":0},8940164431,"S856MD 1\" DR. DEEP IMPACT SOCKET 56MM","23 720,-Ft ","CP S.anyag","Impact Socket",1856,null,23720]
[{"$f":"IF(L2851=FALSE,0,COUNTIF(A$3:A2850,\">0\")+1)","v":0},8940164320,"S857 1\" DR. STD IMPACT SOCKET 4-1/8\"","79 200,-Ft ","CP S.anyag","Impact Socket",6704,null,79200]
[{"$f":"IF(L2852=FALSE,0,COUNTIF(A$3:A2851,\">0\")+1)","v":0},8940164400,"S857D 1\" DR. DEEP IMPACT SOCKET 4-1/8\"","91 900,-Ft ","CP S.anyag","Impact Socket",8482,null,91900]
[{"$f":"IF(L2853=FALSE,0,COUNTIF(A$3:A2852,\">0\")+1)","v":0},8940164321,"S858 1\" DR. STD IMPACT SOCKET 4-1/4\"","85 600,-Ft ","CP S.anyag","Impact Socket",6864,null,85600]
[{"$f":"IF(L2854=FALSE,0,COUNTIF(A$3:A2853,\">0\")+1)","v":0},8940164401,"S858D 1\" DR. DEEP IMPACT SOCKET 4-1/4\"",",-Ft ","CP S.anyag","Impact Socket",8598]
[{"$f":"IF(L2855=FALSE,0,COUNTIF(A$3:A2854,\">0\")+1)","v":0},8940164351,"S858M 1\" DR. STD IMPACT SOCKET 58MM","18 560,-Ft ","CP S.anyag","Impact Socket",1591,null,18560]
[{"$f":"IF(L2856=FALSE,0,COUNTIF(A$3:A2855,\">0\")+1)","v":0},8940164432,"S858MD 1\" DR. DEEP IMPACT SOCKET 58MM","26 830,-Ft ","CP S.anyag","Impact Socket",2225,null,26830]
[{"$f":"IF(L2857=FALSE,0,COUNTIF(A$3:A2856,\">0\")+1)","v":0},8940164322,"S859 1\" DR. STD IMPACT SOCKET 4-1/2\"",",-Ft ","CP S.anyag","Impact Socket",7078]
[{"$f":"IF(L2858=FALSE,0,COUNTIF(A$3:A2857,\">0\")+1)","v":0},8940164402,"S859D 1\" DR. DEEP IMPACT SOCKET 4-1/2\"","107 100,-Ft ","CP S.anyag","Impact Socket",8950,null,107100]
[{"$f":"IF(L2859=FALSE,0,COUNTIF(A$3:A2858,\">0\")+1)","v":0},8940164352,"S860M 1\" DR. STD IMPACT SOCKET 60MM","20 940,-Ft ","CP S.anyag","Impact Socket",1712,null,20940]
[{"$f":"IF(L2860=FALSE,0,COUNTIF(A$3:A2859,\">0\")+1)","v":0},8940164433,"S860MD 1\" DR. DEEP IMPACT SOCKET 60MM","29 360,-Ft ","CP S.anyag","Impact Socket",2336,null,29360]
[{"$f":"IF(L2861=FALSE,0,COUNTIF(A$3:A2860,\">0\")+1)","v":0},8940164353,"S865M 1\" DR. STD IMPACT SOCKET 65MM","23 350,-Ft ","CP S.anyag","Impact Socket",1938,null,23350]
[{"$f":"IF(L2862=FALSE,0,COUNTIF(A$3:A2861,\">0\")+1)","v":0},8940164434,"S865MD 1\" DR. DEEP IMPACT SOCKET 65MM","36 210,-Ft ","CP S.anyag","Impact Socket",2913,null,36210]
[{"$f":"IF(L2863=FALSE,0,COUNTIF(A$3:A2862,\">0\")+1)","v":0},8940164354,"S870M 1\" DR. STD IMPACT SOCKET 70MM","27 660,-Ft ","CP S.anyag","Impact Socket",2170,null,27660]
[{"$f":"IF(L2864=FALSE,0,COUNTIF(A$3:A2863,\">0\")+1)","v":0},6158111760,"SAFETY COUPLING F076E 12","8 590,-Ft ","CP S.anyag","Air Line & Electric Supply",147,null,8590]
[{"$f":"IF(L2865=FALSE,0,COUNTIF(A$3:A2864,\">0\")+1)","v":0},6158111740,"SAFETY COUPLING F076E 14","8 590,-Ft ","CP S.anyag","Air Line & Electric Supply",123,null,8590]
[{"$f":"IF(L2866=FALSE,0,COUNTIF(A$3:A2865,\">0\")+1)","v":0},6158111750,"SAFETY COUPLING F076E 38","8 590,-Ft ","CP S.anyag","Air Line & Electric Supply",114,null,8590]
[{"$f":"IF(L2867=FALSE,0,COUNTIF(A$3:A2866,\">0\")+1)","v":0},6158111900,"SAFETY COUPLING F104E 12","13 770,-Ft ","CP S.anyag","Air Line & Electric Supply",179,null,13770]
[{"$f":"IF(L2868=FALSE,0,COUNTIF(A$3:A2867,\">0\")+1)","v":0},6158111680,"SAFETY COUPLING H076E 10MM","8 590,-Ft ","CP S.anyag","Air Line & Electric Supply",122,null,8590]
[{"$f":"IF(L2869=FALSE,0,COUNTIF(A$3:A2868,\">0\")+1)","v":0},6158111690,"SAFETY COUPLING H076E 125MM","8 590,-Ft ","CP S.anyag","Air Line & Electric Supply",124,null,8590]
[{"$f":"IF(L2870=FALSE,0,COUNTIF(A$3:A2869,\">0\")+1)","v":0},6158111660,"SAFETY COUPLING H076E 6MM","8 590,-Ft ","CP S.anyag","Air Line & Electric Supply",115,null,8590]
[{"$f":"IF(L2871=FALSE,0,COUNTIF(A$3:A2870,\">0\")+1)","v":0},6158111670,"SAFETY COUPLING H076E 8MM","8 590,-Ft ","CP S.anyag","Air Line & Electric Supply",121,null,8590]
[{"$f":"IF(L2872=FALSE,0,COUNTIF(A$3:A2871,\">0\")+1)","v":0},6158111840,"SAFETY COUPLING H104E 10MM","13 770,-Ft ","CP S.anyag","Air Line & Electric Supply",177,null,13770]
[{"$f":"IF(L2873=FALSE,0,COUNTIF(A$3:A2872,\">0\")+1)","v":0},6158111850,"SAFETY COUPLING H104E 13MM","13 770,-Ft ","CP S.anyag","Air Line & Electric Supply",180,null,13770]
[{"$f":"IF(L2874=FALSE,0,COUNTIF(A$3:A2873,\">0\")+1)","v":0},6158111860,"SAFETY COUPLING H104E 16MM","13 770,-Ft ","CP S.anyag","Air Line & Electric Supply",184,null,13770]
[{"$f":"IF(L2875=FALSE,0,COUNTIF(A$3:A2874,\">0\")+1)","v":0},6158111730,"SAFETY COUPLING M076A 12","8 590,-Ft ","CP S.anyag","Air Line & Electric Supply",129,null,8590]
[{"$f":"IF(L2876=FALSE,0,COUNTIF(A$3:A2875,\">0\")+1)","v":0},6158111720,"SAFETY COUPLING M076E 12","8 590,-Ft ","CP S.anyag","Air Line & Electric Supply",160,null,8590]
[{"$f":"IF(L2877=FALSE,0,COUNTIF(A$3:A2876,\">0\")+1)","v":0},6158111700,"SAFETY COUPLING M076E 14","8 590,-Ft ","CP S.anyag","Air Line & Electric Supply",117,null,8590]
[{"$f":"IF(L2878=FALSE,0,COUNTIF(A$3:A2877,\">0\")+1)","v":0},6158111710,"SAFETY COUPLING M076E 38","8 590,-Ft ","CP S.anyag","Air Line & Electric Supply",129,null,8590]
[{"$f":"IF(L2879=FALSE,0,COUNTIF(A$3:A2878,\">0\")+1)","v":0},6158111890,"SAFETY COUPLING M104E 12","13 770,-Ft ","CP S.anyag","Air Line & Electric Supply",179,null,13770]
[{"$f":"IF(L2880=FALSE,0,COUNTIF(A$3:A2879,\">0\")+1)","v":0},6158111870,"SAFETY COUPLING M104E 14","13 770,-Ft ","CP S.anyag","Air Line & Electric Supply",175,null,13770]
[{"$f":"IF(L2881=FALSE,0,COUNTIF(A$3:A2880,\">0\")+1)","v":0},6158111880,"SAFETY COUPLING M104E 38","13 770,-Ft ","CP S.anyag","Air Line & Electric Supply",174,null,13770]
[{"$f":"IF(L2882=FALSE,0,COUNTIF(A$3:A2881,\">0\")+1)","v":0},8940161714,"SANDING DISC ROLOC 3\",  100 GRIT-(5 pcs)","STARS* 3 080,-Ft","CP S.anyag","Removal",31,null,4120,3080]
[{"$f":"IF(L2883=FALSE,0,COUNTIF(A$3:A2882,\">0\")+1)","v":0},8940161715,"SANDING DISC ROLOC 3\",  120 GRIT-(5 pcs)","STARS* 3 080,-Ft","CP S.anyag","Removal",29,null,4120,3080]
[{"$f":"IF(L2884=FALSE,0,COUNTIF(A$3:A2883,\">0\")+1)","v":0},8940161712,"SANDING DISC ROLOC 3\",  60 GRIT-(5 pcs)","STARS* 3 080,-Ft","CP S.anyag","Removal",34,null,4120,3080]
[{"$f":"IF(L2885=FALSE,0,COUNTIF(A$3:A2884,\">0\")+1)","v":0},8940161713,"SANDING DISC ROLOC 3\",  80 GRIT-(5pcs)","STARS* 3 080,-Ft","CP S.anyag","Removal",33,null,4120,3080]
[{"$f":"IF(L2886=FALSE,0,COUNTIF(A$3:A2885,\">0\")+1)","v":0},2050527333,"SANDING DISC, 2\", 80 GRIT (x10)",{"$f":"IF(H2886=\"SP\",IF(J2886>0,\"SP: \"&TEXT(J2886*I$1,\"# ###,-Ft  \"),\"SP: \"&TEXT(I2886*I$1,\"# ###,-Ft\")),IF(J2886>0,\"STARS* \"&TEXT(J2886*J$1,\"# ###,-Ft\"),TEXT(I2886*I$1,\"# ###,-Ft  \")))","v":",-Ft "},"CP S.anyag","Removal",40]
[{"$f":"IF(L2887=FALSE,0,COUNTIF(A$3:A2886,\">0\")+1)","v":0},6159901900,"SANDING PAD 4\" ARBOR 3/8-24 CP3450","7 870,-Ft ","CP S.anyag","Removal",72,null,7870]
[{"$f":"IF(L2888=FALSE,0,COUNTIF(A$3:A2887,\">0\")+1)","v":0},6159901910,"SANDING PAD 5\" ARBOR 5/8-11 & M14 CP3450","11 000,-Ft ","CP S.anyag","Removal",121,null,11000]
[{"$f":"IF(L2889=FALSE,0,COUNTIF(A$3:A2888,\">0\")+1)","v":0},8940158775,"SAW BLADE 101MM 18T SET (5 PCS)","STARS* 4 290,-Ft","CP S.anyag","Removal",30,null,6510,4290]
[{"$f":"IF(L2890=FALSE,0,COUNTIF(A$3:A2889,\">0\")+1)","v":0},8940158776,"SAW BLADE 101MM 24T SET (5 PCS)","STARS* 4 290,-Ft","CP S.anyag","Removal",33,null,6510,4290]
[{"$f":"IF(L2891=FALSE,0,COUNTIF(A$3:A2890,\">0\")+1)","v":0},8940158777,"SAW BLADE 101MM 32T SET (5 PCS)","STARS* 4 290,-Ft","CP S.anyag","Removal",35,null,6510,4290]
[{"$f":"IF(L2892=FALSE,0,COUNTIF(A$3:A2891,\">0\")+1)","v":0},2050488933,"SAW BLADE 140MM 14T","2 060,-Ft ","CP S.anyag","Removal",8,null,2060]
[{"$f":"IF(L2893=FALSE,0,COUNTIF(A$3:A2892,\">0\")+1)","v":0},2050488943,"SAW BLADE 140MM 18T","2 060,-Ft ","CP S.anyag","Removal",8,null,2060]
[{"$f":"IF(L2894=FALSE,0,COUNTIF(A$3:A2893,\">0\")+1)","v":0},2050488953,"SAW BLADE 140MM 24T","2 060,-Ft ","CP S.anyag","Removal",7,null,2060]
[{"$f":"IF(L2895=FALSE,0,COUNTIF(A$3:A2894,\">0\")+1)","v":0},"CA146719","SAW BLADE 74MM 18T SET (5 PCS)","7 560,-Ft ","CP S.anyag","Removal",15,null,7560]
[{"$f":"IF(L2896=FALSE,0,COUNTIF(A$3:A2895,\">0\")+1)","v":0},"CA146720","SAW BLADE 74MM 24T SET (5 PCS)","7 560,-Ft ","CP S.anyag","Removal",16,null,7560]
[{"$f":"IF(L2897=FALSE,0,COUNTIF(A$3:A2896,\">0\")+1)","v":0},"CA146721","SAW BLADE 74MM 32T SET (5 PCS)","7 560,-Ft ","CP S.anyag","Removal",16,null,7560]
[{"$f":"IF(L2898=FALSE,0,COUNTIF(A$3:A2897,\">0\")+1)","v":0},"CA145161","SAW BLADE 86MM 32T","4 120,-Ft ","CP S.anyag","Removal",2,null,4120]
[{"$f":"IF(L2899=FALSE,0,COUNTIF(A$3:A2898,\">0\")+1)","v":0},6158040970,"SCRAPER SHANK HEX 3/4\"","33 120,-Ft ","CP S.anyag","Chisels and Needles",775,null,33120]
[{"$f":"IF(L2900=FALSE,0,COUNTIF(A$3:A2899,\">0\")+1)","v":0},6150029010,"SCRAPER SHANK HEX 5/8\"","70 600,-Ft ","CP S.anyag","Chisels and Needles",800,null,70600]
[{"$f":"IF(L2901=FALSE,0,COUNTIF(A$3:A2900,\">0\")+1)","v":0},6150029020,"SCRAPER SHANK HEX 5/8\"","74 600,-Ft ","CP S.anyag","Chisels and Needles",607,null,74600]
[{"$f":"IF(L2902=FALSE,0,COUNTIF(A$3:A2901,\">0\")+1)","v":0},"A047059","SEPARATOR FORK SHANK ROUND .498\"",{"$f":"IF(H2902=\"SP\",IF(J2902>0,\"SP: \"&TEXT(J2902*I$1,\"# ###,-Ft  \"),\"SP: \"&TEXT(I2902*I$1,\"# ###,-Ft\")),IF(J2902>0,\"STARS* \"&TEXT(J2902*J$1,\"# ###,-Ft\"),TEXT(I2902*I$1,\"# ###,-Ft  \")))","v":"30 740,-Ft "},"CP S.anyag","Chisels and Needles",360,null,30740]
[{"$f":"IF(L2903=FALSE,0,COUNTIF(A$3:A2902,\">0\")+1)","v":0},"A047061","SEPARATOR FORK SHANK ROUND .498\"","31 420,-Ft ","CP S.anyag","Chisels and Needles",620,null,31420]
[{"$f":"IF(L2904=FALSE,0,COUNTIF(A$3:A2903,\">0\")+1)","v":0},2050519133,"SHANK FILE-HALF ROUND (5PCS, 5MM )","15 440,-Ft ","CP S.anyag","Removal",96,null,15440]
[{"$f":"IF(L2905=FALSE,0,COUNTIF(A$3:A2904,\">0\")+1)","v":0},2050519113,"SHANK FILE-RECTANGULAR (5PCS, 5MM)","15 440,-Ft ","CP S.anyag","Removal",114,null,15440]
[{"$f":"IF(L2906=FALSE,0,COUNTIF(A$3:A2905,\">0\")+1)","v":0},2050519123,"SHANK FILE-ROUND (5PCS, 5MM )","15 440,-Ft ","CP S.anyag","Removal",98,null,15440]
[{"$f":"IF(L2907=FALSE,0,COUNTIF(A$3:A2906,\">0\")+1)","v":0},2050519143,"SHANK FILE-TRIANGULAR (5PCS, 5MM)","15 440,-Ft ","CP S.anyag","Removal",15,null,15440]
[{"$f":"IF(L2908=FALSE,0,COUNTIF(A$3:A2907,\">0\")+1)","v":0},2050498543,"SIDE HANDLE ASSY","8 590,-Ft ","CP S.anyag","Removal",288,null,8590]
[{"$f":"IF(L2909=FALSE,0,COUNTIF(A$3:A2908,\">0\")+1)","v":0},2050498553,"SIDE HANDLE ASSY","8 590,-Ft ","CP S.anyag","Removal",267,null,8590]
[{"$f":"IF(L2910=FALSE,0,COUNTIF(A$3:A2909,\">0\")+1)","v":0},2050555883,"SIDE HANDLE FIXTURE CP1014","7 940,-Ft ","CP S.anyag","Removal",0,null,7940]
[{"$f":"IF(L2911=FALSE,0,COUNTIF(A$3:A2910,\">0\")+1)","v":0},8940170033,"SILENCING EXHAUST HOSE","5 700,-Ft ","CP S.anyag","Removal",208,null,5700]
[{"$f":"IF(L2912=FALSE,0,COUNTIF(A$3:A2911,\">0\")+1)","v":0},"A046090","SMOOTHING HAMMER SHANK ROUND .401\"","15 790,-Ft ","CP S.anyag","Chisels and Needles",96,null,15790]
[{"$f":"IF(L2913=FALSE,0,COUNTIF(A$3:A2912,\">0\")+1)","v":0},"A046091","SMOOTHING HAMMER SHANK ROUND .401\"","17 860,-Ft ","CP S.anyag","Chisels and Needles",176,null,17860]
[{"$f":"IF(L2914=FALSE,0,COUNTIF(A$3:A2913,\">0\")+1)","v":0},"A047091","SMOOTHING HAMMER SHANK ROUND .498\"","15 440,-Ft ","CP S.anyag","Chisels and Needles",158,null,15440]
[{"$f":"IF(L2915=FALSE,0,COUNTIF(A$3:A2914,\">0\")+1)","v":0},8940167533,"SOCKET SLEEVE & NUT WP 13/16 & 21MM",",-Ft ","CP S.anyag","Impact Socket",10]
[{"$f":"IF(L2916=FALSE,0,COUNTIF(A$3:A2915,\">0\")+1)","v":0},8940167532,"SOCKET SLEEVE & NUT WP 17MM",",-Ft ","CP S.anyag","Impact Socket",5]
[{"$f":"IF(L2917=FALSE,0,COUNTIF(A$3:A2916,\">0\")+1)","v":0},8940167531,"SOCKET SLEEVE & NUT WP 3/4\" & 19MM",",-Ft ","CP S.anyag","Impact Socket",8]
[{"$f":"IF(L2918=FALSE,0,COUNTIF(A$3:A2917,\">0\")+1)","v":0},6158046310,"SPIRAL HOSE PUR 05X08MM 2M BSP",{"$f":"IF(H2918=\"SP\",IF(J2918>0,\"SP: \"&TEXT(J2918*I$1,\"# ###,-Ft  \"),\"SP: \"&TEXT(I2918*I$1,\"# ###,-Ft\")),IF(J2918>0,\"STARS* \"&TEXT(J2918*J$1,\"# ###,-Ft\"),TEXT(I2918*I$1,\"# ###,-Ft  \")))","v":"9 620,-Ft "},"CP S.anyag","Air Line & Electric Supply",183,null,9620]
[{"$f":"IF(L2919=FALSE,0,COUNTIF(A$3:A2918,\">0\")+1)","v":0},6158046320,"SPIRAL HOSE PUR 05X08MM 4M BSP","11 300,-Ft ","CP S.anyag","Air Line & Electric Supply",272,null,11300]
[{"$f":"IF(L2920=FALSE,0,COUNTIF(A$3:A2919,\">0\")+1)","v":0},6158046330,"SPIRAL HOSE PUR 05X08MM 6M BSP","12 720,-Ft ","CP S.anyag","Air Line & Electric Supply",372,null,12720]
[{"$f":"IF(L2921=FALSE,0,COUNTIF(A$3:A2920,\">0\")+1)","v":0},6158046340,"SPIRAL HOSE PUR 05X08MM 8M BSP","14 060,-Ft ","CP S.anyag","Air Line & Electric Supply",467,null,14060]
[{"$f":"IF(L2922=FALSE,0,COUNTIF(A$3:A2921,\">0\")+1)","v":0},6158046370,"SPIRAL HOSE PUR 06,5X10MM 6M BSP","15 440,-Ft ","CP S.anyag","Air Line & Electric Supply",515,null,15440]
[{"$f":"IF(L2923=FALSE,0,COUNTIF(A$3:A2922,\">0\")+1)","v":0},6158046350,"SPIRAL HOSE PUR 06.5X10MM 2M BSP","9 950,-Ft ","CP S.anyag","Air Line & Electric Supply",239,null,9950]
[{"$f":"IF(L2924=FALSE,0,COUNTIF(A$3:A2923,\">0\")+1)","v":0},6158109670,"SPIRAL HOSE PUR 06.5X10MM 2M NPT","11 300,-Ft ","CP S.anyag","Air Line & Electric Supply",240,null,11300]
[{"$f":"IF(L2925=FALSE,0,COUNTIF(A$3:A2924,\">0\")+1)","v":0},6158046360,"SPIRAL HOSE PUR 06.5X10MM 4M BSP","12 360,-Ft ","CP S.anyag","Air Line & Electric Supply",374,null,12360]
[{"$f":"IF(L2926=FALSE,0,COUNTIF(A$3:A2925,\">0\")+1)","v":0},6158109680,"SPIRAL HOSE PUR 06.5X10MM 4M NPT","12 360,-Ft ","CP S.anyag","Air Line & Electric Supply",240,null,12360]
[{"$f":"IF(L2927=FALSE,0,COUNTIF(A$3:A2926,\">0\")+1)","v":0},6158109690,"SPIRAL HOSE PUR 06.5X10MM 6M NPT","15 440,-Ft ","CP S.anyag","Air Line & Electric Supply",530,null,15440]
[{"$f":"IF(L2928=FALSE,0,COUNTIF(A$3:A2927,\">0\")+1)","v":0},6158046380,"SPIRAL HOSE PUR 06.5X10MM 8M BSP","17 860,-Ft ","CP S.anyag","Air Line & Electric Supply",560,null,17860]
[{"$f":"IF(L2929=FALSE,0,COUNTIF(A$3:A2928,\">0\")+1)","v":0},6158109700,"SPIRAL HOSE PUR 06.5X10MM 8M NPT","17 860,-Ft ","CP S.anyag","Air Line & Electric Supply",660,null,17860]
[{"$f":"IF(L2930=FALSE,0,COUNTIF(A$3:A2929,\">0\")+1)","v":0},6158046390,"SPIRAL HOSE PUR 08X12MM 2M BSP","13 770,-Ft ","CP S.anyag","Air Line & Electric Supply",344,null,13770]
[{"$f":"IF(L2931=FALSE,0,COUNTIF(A$3:A2930,\">0\")+1)","v":0},6158109710,"SPIRAL HOSE PUR 08X12MM 2M NPT","13 770,-Ft ","CP S.anyag","Air Line & Electric Supply",260,null,13770]
[{"$f":"IF(L2932=FALSE,0,COUNTIF(A$3:A2931,\">0\")+1)","v":0},6158046400,"SPIRAL HOSE PUR 08X12MM 4M BSP","17 860,-Ft ","CP S.anyag","Air Line & Electric Supply",537,null,17860]
[{"$f":"IF(L2933=FALSE,0,COUNTIF(A$3:A2932,\">0\")+1)","v":0},6158109720,"SPIRAL HOSE PUR 08X12MM 4M NPT","17 860,-Ft ","CP S.anyag","Air Line & Electric Supply",530,null,17860]
[{"$f":"IF(L2934=FALSE,0,COUNTIF(A$3:A2933,\">0\")+1)","v":0},6158046410,"SPIRAL HOSE PUR 08X12MM 6M BSP","STARS* 15 740,-Ft","CP S.anyag","Air Line & Electric Supply",720,null,21320,15740]
[{"$f":"IF(L2935=FALSE,0,COUNTIF(A$3:A2934,\">0\")+1)","v":0},6158109730,"SPIRAL HOSE PUR 08X12MM 6M NPT","21 320,-Ft ","CP S.anyag","Air Line & Electric Supply",730,null,21320]
[{"$f":"IF(L2936=FALSE,0,COUNTIF(A$3:A2935,\">0\")+1)","v":0},6158046420,"SPIRAL HOSE PUR 08X12MM 8M BSP","STARS* 19 000,-Ft","CP S.anyag","Air Line & Electric Supply",930,null,24750,19000]
[{"$f":"IF(L2937=FALSE,0,COUNTIF(A$3:A2936,\">0\")+1)","v":0},6158109740,"SPIRAL HOSE PUR 08X12MM 8M NPT","24 750,-Ft ","CP S.anyag","Air Line & Electric Supply",930,null,24750]
[{"$f":"IF(L2938=FALSE,0,COUNTIF(A$3:A2937,\">0\")+1)","v":0},6158046430,"SPIRAL HOSE PUR 11X16MM 2M BSP","20 270,-Ft ","CP S.anyag","Air Line & Electric Supply",510,null,20270]
[{"$f":"IF(L2939=FALSE,0,COUNTIF(A$3:A2938,\">0\")+1)","v":0},6158109750,"SPIRAL HOSE PUR 11X16MM 2M NPT","20 270,-Ft ","CP S.anyag","Air Line & Electric Supply",510,null,20270]
[{"$f":"IF(L2940=FALSE,0,COUNTIF(A$3:A2939,\">0\")+1)","v":0},6158046440,"SPIRAL HOSE PUR 11X16MM 4M BSP","30 370,-Ft ","CP S.anyag","Air Line & Electric Supply",890,null,30370]
[{"$f":"IF(L2941=FALSE,0,COUNTIF(A$3:A2940,\">0\")+1)","v":0},6158109760,"SPIRAL HOSE PUR 11X16MM 4M NPT","30 370,-Ft ","CP S.anyag","Air Line & Electric Supply",825,null,30370]
[{"$f":"IF(L2942=FALSE,0,COUNTIF(A$3:A2941,\">0\")+1)","v":0},6158046450,"SPIRAL HOSE PUR 11X16MM 6M BSP","STARS* 29 660,-Ft","CP S.anyag","Air Line & Electric Supply",1180,null,42350,29660]
[{"$f":"IF(L2943=FALSE,0,COUNTIF(A$3:A2942,\">0\")+1)","v":0},6158109770,"SPIRAL HOSE PUR 11X16MM 6M NPT","42 350,-Ft ","CP S.anyag","Air Line & Electric Supply",1165,null,42350]
[{"$f":"IF(L2944=FALSE,0,COUNTIF(A$3:A2943,\">0\")+1)","v":0},6158046460,"SPIRAL HOSE PUR 11X16MM 8M BSP","STARS* 35 060,-Ft","CP S.anyag","Air Line & Electric Supply",1460,null,49860,35060]
[{"$f":"IF(L2945=FALSE,0,COUNTIF(A$3:A2944,\">0\")+1)","v":0},6158109780,"SPIRAL HOSE PUR 11X16MM 8M NPT","49 860,-Ft ","CP S.anyag","Air Line & Electric Supply",1510,null,49860]
[{"$f":"IF(L2946=FALSE,0,COUNTIF(A$3:A2945,\">0\")+1)","v":0},"A046075","SPOT WELD SPLITTER SHANK ROUND .401\"",{"$f":"IF(H2946=\"SP\",IF(J2946>0,\"SP: \"&TEXT(J2946*I$1,\"# ###,-Ft  \"),\"SP: \"&TEXT(I2946*I$1,\"# ###,-Ft\")),IF(J2946>0,\"STARS* \"&TEXT(J2946*J$1,\"# ###,-Ft\"),TEXT(I2946*I$1,\"# ###,-Ft  \")))","v":"3 390,-Ft "},"CP S.anyag","Chisels and Needles",178,null,3390]
[{"$f":"IF(L2947=FALSE,0,COUNTIF(A$3:A2946,\">0\")+1)","v":0},8940167878,"SS#5210WS #5 SPLINE DR WS SAE/MET SET","127 800,-Ft ","CP S.anyag","Impact Socket",10426,null,127800]
[{"$f":"IF(L2948=FALSE,0,COUNTIF(A$3:A2947,\">0\")+1)","v":0},8940164441,"SS2010 1/4\"DR 10PCS SAE IMP  SET",",-Ft ","CP S.anyag","Impact Socket",318]
[{"$f":"IF(L2949=FALSE,0,COUNTIF(A$3:A2948,\">0\")+1)","v":0},8940164442,"SS2010D 1/4\"DR 10PCS SAE DEEP IMP  SET","7 560,-Ft ","CP S.anyag","Impact Socket",612,null,7560]
[{"$f":"IF(L2950=FALSE,0,COUNTIF(A$3:A2949,\">0\")+1)","v":0},8940164443,"SS206U 1/4\"DR 6PCS SAE UNIV IMP  SET","16 490,-Ft ","CP S.anyag","Impact Socket",411,null,16490]
[{"$f":"IF(L2951=FALSE,0,COUNTIF(A$3:A2950,\">0\")+1)","v":0},8940164445,"SS209DG 1/4\"DR 9PC SAE DP MAGN IMP SET","20 940,-Ft ","CP S.anyag","Impact Socket",580,null,20940]
[{"$f":"IF(L2952=FALSE,0,COUNTIF(A$3:A2951,\">0\")+1)","v":0},8940164444,"SS209G 1/4\"DR 9PCS SAE MAGN IMP  SET","10 660,-Ft ","CP S.anyag","Impact Socket",316,null,10660]
[{"$f":"IF(L2953=FALSE,0,COUNTIF(A$3:A2952,\">0\")+1)","v":0},8940164440,"SS2112DG 1/4\"DR 12PC MET DP MAGN IMP SET","51 580,-Ft ","CP S.anyag","Impact Socket",776,null,51580]
[{"$f":"IF(L2954=FALSE,0,COUNTIF(A$3:A2953,\">0\")+1)","v":0},8940164439,"SS2112G 1/4\"DR 12PCS MET MAGN IMP  SET",",-Ft ","CP S.anyag","Impact Socket",396]
[{"$f":"IF(L2955=FALSE,0,COUNTIF(A$3:A2954,\">0\")+1)","v":0},8940164438,"SS2112U 1/4\"DR 12PCS MET UNIV IMP  SET","67 900,-Ft ","CP S.anyag","Impact Socket",779,null,67900]
[{"$f":"IF(L2956=FALSE,0,COUNTIF(A$3:A2955,\">0\")+1)","v":0},8940164436,"SS2114 1/4\"DR 14PCS MET IMP  SET","STARS* 10 860,-Ft","CP S.anyag","Impact Socket",390,null,13060,10860]
[{"$f":"IF(L2957=FALSE,0,COUNTIF(A$3:A2956,\">0\")+1)","v":0},8940164437,"SS2114D 1/4\"DR 14PCS MET DEEP IMP  SET","19 570,-Ft ","CP S.anyag","Impact Socket",763,null,19570]
[{"$f":"IF(L2958=FALSE,0,COUNTIF(A$3:A2957,\">0\")+1)","v":0},8940164452,"SS3012 3/8\"DR 12PCS SAE IMP  SET","8 260,-Ft ","CP S.anyag","Impact Socket",1038.73,null,8260]
[{"$f":"IF(L2959=FALSE,0,COUNTIF(A$3:A2958,\">0\")+1)","v":0},8940164455,"SS3012DU 3/8\"DR 12PC SAE DP UNIV IMP SET","41 320,-Ft ","CP S.anyag","Impact Socket",2620,null,41320]
[{"$f":"IF(L2960=FALSE,0,COUNTIF(A$3:A2959,\">0\")+1)","v":0},8940164454,"SS3012U 3/8\"DR 12PCS SAE UNIV IMP  SET","36 530,-Ft ","CP S.anyag","Impact Socket",1931,null,36530]
[{"$f":"IF(L2961=FALSE,0,COUNTIF(A$3:A2960,\">0\")+1)","v":0},8940164457,"SS309DG 3/8\"DR 9PC SAE DP MAGN IMP SET","28 680,-Ft ","CP S.anyag","Impact Socket",1214,null,28680]
[{"$f":"IF(L2962=FALSE,0,COUNTIF(A$3:A2961,\">0\")+1)","v":0},8940164456,"SS309G 3/8\"DR 9PCS SAE MAGN IMP  SET","13 770,-Ft ","CP S.anyag","Impact Socket",700,null,13770]
[{"$f":"IF(L2963=FALSE,0,COUNTIF(A$3:A2962,\">0\")+1)","v":0},8940164449,"SS3110DU 3/8\"DR 10PC MET DP UNIV IMP SET","55 300,-Ft ","CP S.anyag","Impact Socket",2055,null,55300]
[{"$f":"IF(L2964=FALSE,0,COUNTIF(A$3:A2963,\">0\")+1)","v":0},8940164448,"SS3110U 3/8\"DR 10PCS MET UNIV IMP  SET",",-Ft ","CP S.anyag","Impact Socket",1642]
[{"$f":"IF(L2965=FALSE,0,COUNTIF(A$3:A2964,\">0\")+1)","v":0},8940164446,"SS3113 3/8\"DR 13PCS MET IMP  SET","STARS* 10 260,-Ft","CP S.anyag","Impact Socket",863,null,12720,10260]
[{"$f":"IF(L2966=FALSE,0,COUNTIF(A$3:A2965,\">0\")+1)","v":0},8940164447,"SS3113D 3/8\"DR 13PCS DEEP MET IMP  SET",",-Ft ","CP S.anyag","Impact Socket",1867]
[{"$f":"IF(L2967=FALSE,0,COUNTIF(A$3:A2966,\">0\")+1)","v":0},8940164451,"SS3113DG 3/8\"DR 13PC MET DP MAGN IMP SET","75 700,-Ft ","CP S.anyag","Impact Socket",1819,null,75700]
[{"$f":"IF(L2968=FALSE,0,COUNTIF(A$3:A2967,\">0\")+1)","v":0},8940164450,"SS3113G 3/8\"DR 11PCS MET MAGN IMP  SET","35 510,-Ft ","CP S.anyag","Impact Socket",934,null,35510]
[{"$f":"IF(L2969=FALSE,0,COUNTIF(A$3:A2968,\">0\")+1)","v":0},8940164470,"SS4011DG 1/2\"DR 11PC SAE DP MAGN IMP SET","59 100,-Ft ","CP S.anyag","Impact Socket",3162,null,59100]
[{"$f":"IF(L2970=FALSE,0,COUNTIF(A$3:A2969,\">0\")+1)","v":0},8940164469,"SS4011G 1/2\"DR 11PCS SAE MAGN IMP  SET","29 680,-Ft ","CP S.anyag","Impact Socket",1506,null,29680]
[{"$f":"IF(L2971=FALSE,0,COUNTIF(A$3:A2970,\">0\")+1)","v":0},8940164465,"SS4013 1/2\"DR 13PCS SAE IMP  SET","13 060,-Ft ","CP S.anyag","Impact Socket",2308,null,13060]
[{"$f":"IF(L2972=FALSE,0,COUNTIF(A$3:A2971,\">0\")+1)","v":0},8940164466,"SS4013D 1/2\"DR 13PCS SAE DEEP IMP  SET","22 880,-Ft ","CP S.anyag","Impact Socket",4622,null,22880]
[{"$f":"IF(L2973=FALSE,0,COUNTIF(A$3:A2972,\">0\")+1)","v":0},8940164468,"SS4014DU 1/2\"DR 14PC SAE DP UNIV IMP SET","74 000,-Ft ","CP S.anyag","Impact Socket",5569,null,74000]
[{"$f":"IF(L2974=FALSE,0,COUNTIF(A$3:A2973,\">0\")+1)","v":0},8940164467,"SS4014U 1/2\"DR 14PC SAE UNIV IMP SET","66 500,-Ft ","CP S.anyag","Impact Socket",4758.18,null,66500]
[{"$f":"IF(L2975=FALSE,0,COUNTIF(A$3:A2974,\">0\")+1)","v":0},8940164463,"SS4112DG 1/2\"DR 12PC MET DP MAGN IMP SET",",-Ft ","CP S.anyag","Impact Socket",2983]
[{"$f":"IF(L2976=FALSE,0,COUNTIF(A$3:A2975,\">0\")+1)","v":0},8940164462,"SS4112G 1/2\"DR 12PCS MET MAGN IMP  SET",",-Ft ","CP S.anyag","Impact Socket",1608]
[{"$f":"IF(L2977=FALSE,0,COUNTIF(A$3:A2976,\">0\")+1)","v":0},8940164461,"SS4113DU 1/2\"DR 13PC MET DP UNIV IMP SET",",-Ft ","CP S.anyag","Impact Socket",4658]
[{"$f":"IF(L2978=FALSE,0,COUNTIF(A$3:A2977,\">0\")+1)","v":0},8940164460,"SS4113U 1/2\"DR 13PCS MET UNIV IMP  SET",",-Ft ","CP S.anyag","Impact Socket",3775]
[{"$f":"IF(L2979=FALSE,0,COUNTIF(A$3:A2978,\">0\")+1)","v":0},8940164458,"SS4114 1/2\"DR 14PCS MET IMP  SET","STARS* 14 260,-Ft","CP S.anyag","Impact Socket",1909.62,null,22300,14260]
[{"$f":"IF(L2980=FALSE,0,COUNTIF(A$3:A2979,\">0\")+1)","v":0},8940164459,"SS4114D 1/2\"DR 14PCS MET DEEP IMP  SET","STARS* 24 520,-Ft","CP S.anyag","Impact Socket",4000.68,null,33460,24520]
[{"$f":"IF(L2981=FALSE,0,COUNTIF(A$3:A2980,\">0\")+1)","v":0},8940166760,"SS413DTW 1/2DR 3PC MET DEE THIN WALL SET","STARS* 8 550,-Ft","CP S.anyag","Impact Socket",649,null,11300,8550]
[{"$f":"IF(L2982=FALSE,0,COUNTIF(A$3:A2981,\">0\")+1)","v":0},8940164464,"SS413WP 1/2\"DR 3PC MET WHEEL PROT IMP ST","STARS* 8 550,-Ft","CP S.anyag","Impact Socket",843,null,12000,8550]
[{"$f":"IF(L2983=FALSE,0,COUNTIF(A$3:A2982,\">0\")+1)","v":0},8940168375,"SS414WP 1/2\"DR 4PC MET WHEEL PROT ST",{"$f":"IF(H2983=\"SP\",IF(J2983>0,\"SP: \"&TEXT(J2983*I$1,\"# ###,-Ft  \"),\"SP: \"&TEXT(I2983*I$1,\"# ###,-Ft\")),IF(J2983>0,\"STARS* \"&TEXT(J2983*J$1,\"# ###,-Ft\"),TEXT(I2983*I$1,\"# ###,-Ft  \")))","v":"STARS* 10 260,-Ft"},"CP S.anyag","Impact Socket",1105,null,15130,10260]
[{"$f":"IF(L2984=FALSE,0,COUNTIF(A$3:A2983,\">0\")+1)","v":0},8940164471,"SS4211WP 1/2\"DR 11PC SAE/MET WHL PROT ST","50 560,-Ft ","CP S.anyag","Impact Socket",3664,null,50560]
[{"$f":"IF(L2985=FALSE,0,COUNTIF(A$3:A2984,\">0\")+1)","v":0},8940168332,"SS4224D 1/2\" DR 24 PC MET SAE SOCKET SET","43 840,-Ft ","CP S.anyag","Impact Socket",606,null,43840]
[{"$f":"IF(L2986=FALSE,0,COUNTIF(A$3:A2985,\">0\")+1)","v":0},8940166940,"SS4229D 1/2 29PC DEEP MET&SAE MASTER SET","52 940,-Ft ","CP S.anyag","Impact Socket",8532,null,52940]
[{"$f":"IF(L2987=FALSE,0,COUNTIF(A$3:A2986,\">0\")+1)","v":0},8940169702,"SS422FD 19-21 AND 3/4\"-13/16\"","3 450,-Ft ","CP S.anyag","Impact Socket",204,null,3450]
[{"$f":"IF(L2988=FALSE,0,COUNTIF(A$3:A2987,\">0\")+1)","v":0},8940169701,"SS422FTW 19-21 AND 3/4\"-13/16\"","3 450,-Ft ","CP S.anyag","Impact Socket",312,null,3450]
[{"$f":"IF(L2989=FALSE,0,COUNTIF(A$3:A2988,\">0\")+1)","v":0},8940168376,"SS435B 1/2\"DR 5 PC NM LTD EXT BAR SET","37 890,-Ft ","CP S.anyag","Impact Socket",1685,null,37890]
[{"$f":"IF(L2990=FALSE,0,COUNTIF(A$3:A2989,\">0\")+1)","v":0},8940167073,"SS6008D 3/4\"DR 8PC SAE DEEP IMP SE4","39 940,-Ft ","CP S.anyag","Impact Socket",7495,null,39940]
[{"$f":"IF(L2991=FALSE,0,COUNTIF(A$3:A2990,\">0\")+1)","v":0},8940164474,"SS6014 3/4\"DR 14PCS SAE IMP  SET",",-Ft ","CP S.anyag","Impact Socket",6050.92]
[{"$f":"IF(L2992=FALSE,0,COUNTIF(A$3:A2991,\">0\")+1)","v":0},8940167072,"SS6111DWS 3/4\" DR 11PC DEEP WS MET SET","70 200,-Ft ","CP S.anyag","Impact Socket",7574,null,70200]
[{"$f":"IF(L2993=FALSE,0,COUNTIF(A$3:A2992,\">0\")+1)","v":0},8940164472,"SS618 3/4\"DR 8PCS MET IMP  SET","STARS* 31 160,-Ft","CP S.anyag","Impact Socket",3900.89,null,37210,31160]
[{"$f":"IF(L2994=FALSE,0,COUNTIF(A$3:A2993,\">0\")+1)","v":0},8940164473,"SS618D 3/4\"DR 8PCS MET DEEP IMP  SET","STARS* 45 330,-Ft","CP S.anyag","Impact Socket",5701,null,56300,45330]
[{"$f":"IF(L2995=FALSE,0,COUNTIF(A$3:A2994,\">0\")+1)","v":0},8940167877,"SS8107WS 1\"DR WS 7PC SET","43 040,-Ft ","CP S.anyag","Impact Socket",18720,null,43040]
[{"$f":"IF(L2996=FALSE,0,COUNTIF(A$3:A2995,\">0\")+1)","v":0},8940166016,"SS814D 1\"DR 4PCS MET IMP  SET","STARS* 37 400,-Ft","CP S.anyag","Impact Socket",4270,null,50560,37400]
[{"$f":"IF(L2997=FALSE,0,COUNTIF(A$3:A2996,\">0\")+1)","v":0},8940164477,"SS818D 1\"DR 8PCS MET DEEP IMP  SET","85 900,-Ft ","CP S.anyag","Impact Socket",8441,null,85900]
[{"$f":"IF(L2998=FALSE,0,COUNTIF(A$3:A2997,\">0\")+1)","v":0},8940166943,"SS8205WS 1\" 5PC WHEEL SER SAE&MET SET","32 780,-Ft ","CP S.anyag","Impact Socket",5443,null,32780]
[{"$f":"IF(L2999=FALSE,0,COUNTIF(A$3:A2998,\">0\")+1)","v":0},8940167876,"SS8208WS 1\"DR WS 8PC SET",",-Ft ","CP S.anyag","Impact Socket",16000]
[{"$f":"IF(L3000=FALSE,0,COUNTIF(A$3:A2999,\">0\")+1)","v":0},8940166939,"SS8210HDW 1\" 10 PC HVY DUTY WHEEL SERV","64 500,-Ft ","CP S.anyag","Impact Socket",11363,null,64500]
[{"$f":"IF(L3001=FALSE,0,COUNTIF(A$3:A3000,\">0\")+1)","v":0},6158044380,"STRAIGHT CHISEL SHANK ROUND 9,5MM","11 700,-Ft ","CP S.anyag","Chisels and Needles",73,null,11700]
[{"$f":"IF(L3002=FALSE,0,COUNTIF(A$3:A3001,\">0\")+1)","v":0},"A047074","STRAIGHT PUNCH SHANK ROUND .498\"","11 700,-Ft ","CP S.anyag","Chisels and Needles",254,null,11700]
[{"$f":"IF(L3003=FALSE,0,COUNTIF(A$3:A3002,\">0\")+1)","v":0},8940161718,"SURFACE PREP PAD 3\", COARSE (Set of 5)","STARS* 7 270,-Ft","CP S.anyag","Removal",57,null,8920,7270]
[{"$f":"IF(L3004=FALSE,0,COUNTIF(A$3:A3003,\">0\")+1)","v":0},8940161716,"SURFACE PREP PAD 3\", FINE (Set of 5)","STARS* 7 270,-Ft","CP S.anyag","Removal",49,null,8920,7270]
[{"$f":"IF(L3005=FALSE,0,COUNTIF(A$3:A3004,\">0\")+1)","v":0},8940161717,"SURFACE PREP PAD 3\", MEDIUM (Set of 5)","STARS* 7 270,-Ft","CP S.anyag","Removal",44,null,8920,7270]
[{"$f":"IF(L3006=FALSE,0,COUNTIF(A$3:A3005,\">0\")+1)","v":0},2050559893,"SUSPENSION KIT","8 830,-Ft ","CP S.anyag","Ind Impact Wrenches",225,null,8830]
[{"$f":"IF(L3007=FALSE,0,COUNTIF(A$3:A3006,\">0\")+1)","v":0},2050555853,"SUSPENSION RING","1 370,-Ft ","CP S.anyag","Removal",0,null,1370]
[{"$f":"IF(L3008=FALSE,0,COUNTIF(A$3:A3007,\">0\")+1)","v":0},8940158412,"SWIVEL AIR INLET 1/4 ALUM (922A)","STARS* 5 700,-Ft","CP S.anyag","Air Line & Electric Supply",90,null,7580,5700]
[{"$f":"IF(L3009=FALSE,0,COUNTIF(A$3:A3008,\">0\")+1)","v":0},"CA157107","TAPERED PUNCH SHANK HEX .401\"",",-Ft ","CP S.anyag","Chisels and Needles",171]
[{"$f":"IF(L3010=FALSE,0,COUNTIF(A$3:A3009,\">0\")+1)","v":0},"A046078","TAPERED PUNCH SHANK ROUND .401\"","3 170,-Ft ","CP S.anyag","Chisels and Needles",154,null,3170]
[{"$f":"IF(L3011=FALSE,0,COUNTIF(A$3:A3010,\">0\")+1)","v":0},"A047078","TAPERED PUNCH SHANK ROUND .498\"","11 700,-Ft ","CP S.anyag","Chisels and Needles",237,null,11700]
[{"$f":"IF(L3012=FALSE,0,COUNTIF(A$3:A3011,\">0\")+1)","v":0},"A046057","TIE ROD SHANK ROUND .401\"","12 360,-Ft ","CP S.anyag","Chisels and Needles",137,null,12360]
[{"$f":"IF(L3013=FALSE,0,COUNTIF(A$3:A3012,\">0\")+1)","v":0},"A047057","TIE ROD SHANK ROUND .498\"","22 690,-Ft ","CP S.anyag","Chisels and Needles",191,null,22690]
[{"$f":"IF(L3014=FALSE,0,COUNTIF(A$3:A3013,\">0\")+1)","v":0},"A046071","TWIN BLADE PANEL CUTTER SHANK ROUND.401\"",{"$f":"IF(H3014=\"SP\",IF(J3014>0,\"SP: \"&TEXT(J3014*I$1,\"# ###,-Ft  \"),\"SP: \"&TEXT(I3014*I$1,\"# ###,-Ft\")),IF(J3014>0,\"STARS* \"&TEXT(J3014*J$1,\"# ###,-Ft\"),TEXT(I3014*I$1,\"# ###,-Ft  \")))","v":",-Ft "},"CP S.anyag","Chisels and Needles",173]
[{"$f":"IF(L3015=FALSE,0,COUNTIF(A$3:A3014,\">0\")+1)","v":0},"A047071","TWIN BLADE PANEL CUTTER SHANK ROUND.498\"",{"$f":"IF(H3015=\"SP\",IF(J3015>0,\"SP: \"&TEXT(J3015*I$1,\"# ###,-Ft  \"),\"SP: \"&TEXT(I3015*I$1,\"# ###,-Ft\")),IF(J3015>0,\"STARS* \"&TEXT(J3015*J$1,\"# ###,-Ft\"),TEXT(I3015*I$1,\"# ###,-Ft  \")))","v":"15 130,-Ft "},"CP S.anyag","Chisels and Needles",231,null,15130]
[{"$f":"IF(L3016=FALSE,0,COUNTIF(A$3:A3015,\">0\")+1)","v":0},"A046072","UNDERCOAT GOO SCRAPER SHANK ROUND .401\"",{"$f":"IF(H3016=\"SP\",IF(J3016>0,\"SP: \"&TEXT(J3016*I$1,\"# ###,-Ft  \"),\"SP: \"&TEXT(I3016*I$1,\"# ###,-Ft\")),IF(J3016>0,\"STARS* \"&TEXT(J3016*J$1,\"# ###,-Ft\"),TEXT(I3016*I$1,\"# ###,-Ft  \")))","v":"10 300,-Ft "},"CP S.anyag","Chisels and Needles",149,null,10300]
[{"$f":"IF(L3017=FALSE,0,COUNTIF(A$3:A3016,\">0\")+1)","v":0},8940163448,"VACUUM ADAPTER",{"$f":"IF(H3017=\"SP\",IF(J3017>0,\"SP: \"&TEXT(J3017*I$1,\"# ###,-Ft  \"),\"SP: \"&TEXT(I3017*I$1,\"# ###,-Ft\")),IF(J3017>0,\"STARS* \"&TEXT(J3017*J$1,\"# ###,-Ft\"),TEXT(I3017*I$1,\"# ###,-Ft  \")))","v":"690,-Ft "},"CP S.anyag","Removal",21,null,690]
[{"$f":"IF(L3018=FALSE,0,COUNTIF(A$3:A3017,\">0\")+1)","v":0},8940158689,"VELCRO SANDING PAD","14 060,-Ft ","CP S.anyag","Removal",135,null,14060]
[{"$f":"IF(L3019=FALSE,0,COUNTIF(A$3:A3018,\">0\")+1)","v":0},6151609110,"VERTICAL GRINDER CP3349-SALAVA ",{"$f":"IF(H3019=\"C\",IF(J3019>0,\"C #: \"&TEXT(J3019*I$1,\"# ###,-Ft  \"),\"C #: \"&TEXT(I3019*I$1,\"# ###,-Ft\")),IF(J3019>0,\"TOPS* \"&TEXT(J3019*J$1,\"# ###,-Ft\"),TEXT(I3019*I$1,\"# ###,-Ft  \")))","v":"C #: 771 000,-Ft"},"CP Termék","Ind Vertical Grinders",5727,"C",771000]
[{"$f":"IF(L3020=FALSE,0,COUNTIF(A$3:A3019,\">0\")+1)","v":0},6151609130,"VERTICAL GRINDER CP3349-SALAVA ","C #: 795 000,-Ft","CP Termék","Ind Vertical Grinders",5883,"C",795000]
[{"$f":"IF(L3021=FALSE,0,COUNTIF(A$3:A3020,\">0\")+1)","v":0},6155760780,"VIBRATION DAMPING SIDE HANDLE","20 270,-Ft ","CP S.anyag","Removal",307,null,20270]
[{"$f":"IF(L3022=FALSE,0,COUNTIF(A$3:A3021,\">0\")+1)","v":0},"CA049270","WHIP HOSE 1/2 x 2 FT","13 180,-Ft ","CP S.anyag","Air Line & Electric Supply",335,null,13180]
[{"$f":"IF(L3023=FALSE,0,COUNTIF(A$3:A3022,\">0\")+1)","v":0},"CA049271","WHIP HOSE 1/2 x 3 FT","14 410,-Ft ","CP S.anyag","Air Line & Electric Supply",401,null,14410]
[{"$f":"IF(L3024=FALSE,0,COUNTIF(A$3:A3023,\">0\")+1)","v":0},"CA047270","WHIP HOSE 3/8X2FT",{"$f":"IF(H3024=\"SP\",IF(J3024>0,\"SP: \"&TEXT(J3024*I$1,\"# ###,-Ft  \"),\"SP: \"&TEXT(I3024*I$1,\"# ###,-Ft\")),IF(J3024>0,\"STARS* \"&TEXT(J3024*J$1,\"# ###,-Ft\"),TEXT(I3024*I$1,\"# ###,-Ft  \")))","v":"8 920,-Ft "},"CP S.anyag","Air Line & Electric Supply",105,null,8920]
[{"$f":"IF(L3025=FALSE,0,COUNTIF(A$3:A3024,\">0\")+1)","v":0},6158044210,"WIDE SCALING SHANK HEX 12,5MM",{"$f":"IF(H3025=\"SP\",IF(J3025>0,\"SP: \"&TEXT(J3025*I$1,\"# ###,-Ft  \"),\"SP: \"&TEXT(I3025*I$1,\"# ###,-Ft\")),IF(J3025>0,\"STARS* \"&TEXT(J3025*J$1,\"# ###,-Ft\"),TEXT(I3025*I$1,\"# ###,-Ft  \")))","v":"31 420,-Ft "},"CP S.anyag","Chisels and Needles",543,null,31420]
[{"$f":"IF(L3026=FALSE,0,COUNTIF(A$3:A3025,\">0\")+1)","v":0},8940162308,"WIDE SCALING SHANK ISO SQUARE 1/2\"","14 780,-Ft ","CP S.anyag","Chisels and Needles",218,null,14780]
[{"$f":"IF(L3027=FALSE,0,COUNTIF(A$3:A3026,\">0\")+1)","v":0},"WP123998","WIDE SCALING SHANK ISO SQUARE 1/2\"","11 700,-Ft ","CP S.anyag","Chisels and Needles",183,null,11700]
[{"$f":"IF(L3028=FALSE,0,COUNTIF(A$3:A3027,\">0\")+1)","v":0},6158044450,"WIDE SCALING SHANK QTR. OCT. WF 1/2\"","22 300,-Ft ","CP S.anyag","Chisels and Needles",253,null,22300]
[{"$f":"IF(L3029=FALSE,0,COUNTIF(A$3:A3028,\">0\")+1)","v":0},6158046190,"WIDE SCALING SHANK QTR. OCT. WF 1/2\"","22 300,-Ft ","CP S.anyag","Chisels and Needles",335,null,22300]
[{"$f":"IF(L3030=FALSE,0,COUNTIF(A$3:A3029,\">0\")+1)","v":0},"P070982","WIDE SCALING SHANK QTR. OCT. WF 1/2\"","19 920,-Ft ","CP S.anyag","Chisels and Needles",251,null,19920]
[{"$f":"IF(L3031=FALSE,0,COUNTIF(A$3:A3030,\">0\")+1)","v":0},6150039000,"WIDE SCALING SHANK QTR. OCT. WF 1/2\"ATEX","176 000,-Ft ","CP S.anyag","Chisels and Needles",287.60000000000002,null,176000]
[{"$f":"IF(L3032=FALSE,0,COUNTIF(A$3:A3031,\">0\")+1)","v":0},6158046210,"WIDE SCALING SHANK QTR. OCT. WF 1/2\"ATEX","176 000,-Ft ","CP S.anyag","Chisels and Needles",282,null,176000]
[{"$f":"IF(L3033=FALSE,0,COUNTIF(A$3:A3032,\">0\")+1)","v":0},2050531233,"WOOL POLISHING PAD","16 490,-Ft ","CP S.anyag","Removal",188,null,16490]
[{"$f":"IF(L3034=FALSE,0,COUNTIF(A$3:A3033,\">0\")+1)","v":0},2050525333,"ZIP CHANGE RETAINER","2 510,-Ft ","CP S.anyag","Chisels and Needles",55,null,2510]
[{"$f":"IF(L3035=FALSE,0,COUNTIF(A$3:A3034,\">0\")+1)","v":0},8941089050,"CP8905 Nyomatékkulcs 1/4\" (5-25Nm)","STARS* 40 230,-Ft","CP Termék",null,null,null,82700,40230]
[{"$f":"IF(L3036=FALSE,0,COUNTIF(A$3:A3035,\">0\")+1)","v":0},8941089100,"CP8910 Nyomatékkulcs 3/8\" (20-100Nm)","STARS* 40 230,-Ft","CP Termék",null,null,null,82700,40230]
[{"$f":"IF(L3037=FALSE,0,COUNTIF(A$3:A3036,\">0\")+1)","v":0},8941089150,"CP8915 Nyomatékkulcs 1/2\" (40-200Nm)","STARS* 43 630,-Ft","CP Termék",null,null,null,85700,43630]
[{"$f":"IF(L3038=FALSE,0,COUNTIF(A$3:A3037,\">0\")+1)","v":0},8941089200,"CP8920 Nyomatékkulcs 3/4\" (150-750Nm)","STARS* 149 300,-Ft","CP Termék",null,null,null,315700,149300]
[{"$f":"IF(L3039=FALSE,0,COUNTIF(A$3:A3038,\">0\")+1)","v":0},8941089250,"CP8905 Nyomatékkulcs 1\" (200-1000Nm)","STARS* 189 600,-Ft","CP Termék",null,null,null,393000,189600]
[{"$f":"IF(L3040=FALSE,0,COUNTIF(A$3:A3039,\">0\")+1)","v":0},8941085289,"12V 3/8\" Fúrógép (akksi nélkül)",",-Ft ","CP Termék","Akkus gépek"]
[{"$f":"IF(L3041=FALSE,0,COUNTIF(A$3:A3040,\">0\")+1)","v":0},8941085280,"12V 3/8\" Fúró készlet (gép+ 2db akksi + töltő)","STARS* 72 600,-Ft","CP Termék","Akkus gépek",null,null,null,72600]
[{"$f":"IF(L3042=FALSE,0,COUNTIF(A$3:A3041,\">0\")+1)","v":0},8941088189,"12V 1/4\" BIT Üttvecsavarozó (akksi nélkül)",",-Ft ","CP Termék","Akkus gépek"]
[{"$f":"IF(L3043=FALSE,0,COUNTIF(A$3:A3042,\">0\")+1)","v":0},8941088180,"12V 1/4\" BIT Üttvecsavarozó (gép+ 2db akksi + töltő)","STARS* 69 200,-Ft","CP Termék","Akkus gépek",null,null,null,69200]
[{"$f":"IF(L3044=FALSE,0,COUNTIF(A$3:A3043,\">0\")+1)","v":0},8941085489,"20V 1/2\" Üttvefúrógép (akksi nélkül)",",-Ft ","CP Termék","Akkus gépek"]
[{"$f":"IF(L3045=FALSE,0,COUNTIF(A$3:A3044,\">0\")+1)","v":0},8941085480,"20V 1/2\" Üttvefúró készlet (gép+ 2db akksi + töltő)","STARS* 152 700,-Ft","CP Termék","Akkus gépek",null,null,null,152700]
[{"$f":"IF(L3046=FALSE,0,COUNTIF(A$3:A3045,\">0\")+1)","v":0},8941088289,"20V 3/8'' Üttvecsavarozó (akksi nélkül)",",-Ft ","CP Termék","Akkus gépek"]
[{"$f":"IF(L3047=FALSE,0,COUNTIF(A$3:A3046,\">0\")+1)","v":0},8941088280,"20V 3/8'' Üttvecsavarozó készlet (gép+ 2db akksi + töltő)","STARS* 147 100,-Ft","CP Termék","Akkus gépek",null,null,null,147100]
[{"$f":"IF(L3048=FALSE,0,COUNTIF(A$3:A3047,\">0\")+1)","v":0},8940172263,"12V 1,5AH BATTERY","17 930,-Ft ","CP Termék","Akkus gépek",null,null,17930]
[{"$f":"IF(L3049=FALSE,0,COUNTIF(A$3:A3048,\">0\")+1)","v":0},8940172261,"20V 4AH BATTERY","60 600,-Ft ","CP Termék","Akkus gépek",null,null,60600]
[{"$f":"IF(L3050=FALSE,0,COUNTIF(A$3:A3049,\">0\")+1)","v":0},8940172259,"12V CHARGER EUROPE","26 620,-Ft ","CP Termék","Akkus gépek",null,null,26620]
[{"$f":"IF(L3051=FALSE,0,COUNTIF(A$3:A3050,\">0\")+1)","v":0},8940172262,"20V CHARGER EUROPE","25 490,-Ft ","CP Termék","Akkus gépek",null,null,25490]
[{"$f":"IF(L3052=FALSE,0,COUNTIF(A$3:A3051,\">0\")+1)","v":0},8941088489,"20V 1/2\" Üttvecsavarozó (akksi nélkül)",",-Ft ","CP Termék","Akkus gépek"]
[{"$f":"IF(L3053=FALSE,0,COUNTIF(A$3:A3052,\">0\")+1)","v":0},8941088480,"20V 1/2\" Üttvecsavarozó készlet (gép+ 2db akksi + töltő)",{"$f":"IF(H3053=\"C\",IF(J3053>0,\"C #: \"&TEXT(J3053*I$1,\"# ###,-Ft  \"),\"C #: \"&TEXT(I3053*I$1,\"# ###,-Ft\")),IF(J3053>0,\"TOPS* \"&TEXT(J3053*J$1,\"# ###,-Ft\"),TEXT(I3053*I$1,\"# ###,-Ft  \")))","v":"C #: ,-Ft"},"CP Termék","Akkus gépek",null,"C"]
[{"$f":"IF(L3054=FALSE,0,COUNTIF(A$3:A3053,\">0\")+1)","v":0},6152505450,"TAILLANT EMPREINTE","35 510,-Ft ","CP S.anyag",null,null,null,35510]
[{"$f":"IF(L3055=FALSE,0,COUNTIF(A$3:A3054,\">0\")+1)","v":0},"T024448","CP828HK 1/2\" KIT MM","75 700,-Ft ","CP Termék",null,null,null,75700]
[{"$f":"IF(L3056=FALSE,0,COUNTIF(A$3:A3055,\">0\")+1)","v":0},8941076300,"CP7630 3/4\" TH","STARS* 124 200,-Ft","CP Termék",null,null,null,170200,124200]
[{"$f":"IF(L3057=FALSE,0,COUNTIF(A$3:A3056,\">0\")+1)","v":0},8941077484,"CP7748TL","106 900,-Ft ","CP Termék",null,null,null,106900]
[{"$f":"IF(L3058=FALSE,0,COUNTIF(A$3:A3057,\">0\")+1)","v":0},8941077485,"CP7748-2 TL","111 200,-Ft ","CP Termék",null,null,null,111200]
[{"$f":"IF(L3059=FALSE,0,COUNTIF(A$3:A3058,\">0\")+1)","v":0},8941077310,"CP7731","79 300,-Ft ","CP Termék",null,null,null,79300]
[{"$f":"IF(L3060=FALSE,0,COUNTIF(A$3:A3059,\">0\")+1)","v":0},6151590380,"CP6135-D80",{"$f":"IF(H3060=\"C\",IF(J3060>0,\"C #: \"&TEXT(J3060*I$1,\"# ###,-Ft  \"),\"C #: \"&TEXT(I3060*I$1,\"# ###,-Ft\")),IF(J3060>0,\"TOPS* \"&TEXT(J3060*J$1,\"# ###,-Ft\"),TEXT(I3060*I$1,\"# ###,-Ft  \")))","v":"C #: 3 304 000,-Ft"},"CP Termék",null,null,"C",3304000]
[{"$f":"IF(L3061=FALSE,0,COUNTIF(A$3:A3060,\">0\")+1)","v":0},6151590570,"CP6748EX-P11R ATEX","193 800,-Ft ","CP Termék",null,null,null,193800]
[{"$f":"IF(L3062=FALSE,0,COUNTIF(A$3:A3061,\">0\")+1)","v":0},2050499653,"CHISEL 35MM","7 240,-Ft ","CP S.anyag",null,null,null,7240]
[{"$f":"IF(L3063=FALSE,0,COUNTIF(A$3:A3062,\">0\")+1)","v":0},6158120450,"FRL STAND FOR 1/2\" METALLIC","37 570,-Ft ","CP S.anyag",null,null,null,37570]
[{"$f":"IF(L3064=FALSE,0,COUNTIF(A$3:A3063,\">0\")+1)","v":0},8940171927,"COMPOSITE FRL 1/4\" BSP","STARS* 27 760,-Ft","CP S.anyag",null,null,null,31000,27760]
[{"$f":"IF(L3065=FALSE,0,COUNTIF(A$3:A3064,\">0\")+1)","v":0},8940171928,"COMPOSITE FRL 3/8\" BSP","STARS* 27 760,-Ft","CP S.anyag",null,null,null,30740,27760]
[{"$f":"IF(L3066=FALSE,0,COUNTIF(A$3:A3065,\">0\")+1)","v":0},8940171929,"COMPOSITE FRL 1/2\" BSP","STARS* 27 760,-Ft","CP S.anyag",null,null,null,33400,27760]
[{"$f":"IF(L3067=FALSE,0,COUNTIF(A$3:A3066,\">0\")+1)","v":0},8940171932,"BURR DOUBLE CUT 8MM HEAD SHAPE F","8 260,-Ft ","CP S.anyag",null,null,null,8260]
[{"$f":"IF(L3068=FALSE,0,COUNTIF(A$3:A3067,\">0\")+1)","v":0},8940171933,"BURR DOUBLE CUT 6MM HEAD SHAPE L","7 210,-Ft ","CP S.anyag",null,null,null,7210]
[{"$f":"IF(L3069=FALSE,0,COUNTIF(A$3:A3068,\">0\")+1)","v":0},8940171934,"BURR DOUBLE CUT 8MM HEAD SHAPE L","9 250,-Ft ","CP S.anyag",null,null,null,9250]
[{"$f":"IF(L3070=FALSE,0,COUNTIF(A$3:A3069,\">0\")+1)","v":0},8940171935,"BURR ALUMINUM CUT 10MM HEAD SHAPE B","11 300,-Ft ","CP S.anyag",null,null,null,11300]
[{"$f":"IF(L3071=FALSE,0,COUNTIF(A$3:A3070,\">0\")+1)","v":0},8940171936,"BURR ALUMINUM CUT 10MM HEAD SHAPE G","11 700,-Ft ","CP S.anyag",null,null,null,11700]
[{"$f":"IF(L3072=FALSE,0,COUNTIF(A$3:A3071,\">0\")+1)","v":0},8940171944,"COMPOSITE FRL 1/4\" NPT","31 000,-Ft ","CP S.anyag",null,null,null,31000]
[{"$f":"IF(L3073=FALSE,0,COUNTIF(A$3:A3072,\">0\")+1)","v":0},8940171945,"COMPOSITE FRL 3/8\" NPT","32 750,-Ft ","CP S.anyag",null,null,null,32750]
[{"$f":"IF(L3074=FALSE,0,COUNTIF(A$3:A3073,\">0\")+1)","v":0},8940171946,"COMPOSITE FRL 1/2\" NPT","32 420,-Ft ","CP S.anyag",null,null,null,32420]
[{"$f":"IF(L3075=FALSE,0,COUNTIF(A$3:A3074,\">0\")+1)","v":0},8940171990,"HOSE REEL 08 MM NPT HR8108","69 000,-Ft ","CP S.anyag",null,null,null,69000]
[{"$f":"IF(L3076=FALSE,0,COUNTIF(A$3:A3075,\">0\")+1)","v":0},8940171992,"HOSE REEL 10 MM NPT HR8110","106 700,-Ft ","CP S.anyag",null,null,null,106700]
[{"$f":"IF(L3077=FALSE,0,COUNTIF(A$3:A3076,\">0\")+1)","v":0},8940171994,"HOSE REEL 08 MM NPT HR8208","89 400,-Ft ","CP S.anyag",null,null,null,89400]
[{"$f":"IF(L3078=FALSE,0,COUNTIF(A$3:A3077,\">0\")+1)","v":0},8940171996,"HOSE REEL 10 MM NPT HR8210","130 600,-Ft ","CP S.anyag",null,null,null,130600]
[{"$f":"IF(L3079=FALSE,0,COUNTIF(A$3:A3078,\">0\")+1)","v":0},8940171998,"HOSE REEL 13 MM NPT HR8113","154 300,-Ft ","CP S.anyag",null,null,null,154300]
[{"$f":"IF(L3080=FALSE,0,COUNTIF(A$3:A3079,\">0\")+1)","v":0},8940172000,"HOSE REEL 10 MM NPT HR9110","196 100,-Ft ","CP S.anyag",null,null,null,196100]
[{"$f":"IF(L3081=FALSE,0,COUNTIF(A$3:A3080,\">0\")+1)","v":0},8940172002,"HOSE REEL 13 MM NPT HR9113","209 200,-Ft ","CP S.anyag",null,null,null,209200]
[{"$f":"IF(L3082=FALSE,0,COUNTIF(A$3:A3081,\">0\")+1)","v":0},8940172156,"1/4\" BSP AIR FLEX WITH COVER","41 070,-Ft ","CP S.anyag",null,null,null,41070]
[{"$f":"IF(L3083=FALSE,0,COUNTIF(A$3:A3082,\">0\")+1)","v":0},8940172157,"1/4\" NPT AIR FLEX WITH COVER",",-Ft ","CP S.anyag"]
[{"$f":"IF(L3084=FALSE,0,COUNTIF(A$3:A3083,\">0\")+1)","v":0},8940172176,"BURR DOUBLE CUT 1/8\" HEAD SHAPE C IMP","4 050,-Ft ","CP S.anyag",null,null,null,4050]
[{"$f":"IF(L3085=FALSE,0,COUNTIF(A$3:A3084,\">0\")+1)","v":0},8940172177,"BURR DOUBLE CUT 1/8\" HEAD SHAPE D IMP","4 050,-Ft ","CP S.anyag",null,null,null,4050]
[{"$f":"IF(L3086=FALSE,0,COUNTIF(A$3:A3085,\">0\")+1)","v":0},8940172181,"BURR DOUBLE CUT 1/8\" HEAD SHAPE L IMP",{"$f":"IF(H3086=\"SP\",IF(J3086>0,\"SP: \"&TEXT(J3086*I$1,\"# ###,-Ft  \"),\"SP: \"&TEXT(I3086*I$1,\"# ###,-Ft\")),IF(J3086>0,\"STARS* \"&TEXT(J3086*J$1,\"# ###,-Ft\"),TEXT(I3086*I$1,\"# ###,-Ft  \")))","v":"4 050,-Ft "},"CP S.anyag",null,null,null,4050]
[{"$f":"IF(L3087=FALSE,0,COUNTIF(A$3:A3086,\">0\")+1)","v":0},8940172184,"BURR DOUBLE CUT 3/8\" HEAD SHAPE B IMP","10 730,-Ft ","CP S.anyag",null,null,null,10730]
[{"$f":"IF(L3088=FALSE,0,COUNTIF(A$3:A3087,\">0\")+1)","v":0},8940172185,"BURR DOUBLE CUT 3/8\" HEAD SHAPE C IMP","10 840,-Ft ","CP S.anyag",null,null,null,10840]
[{"$f":"IF(L3089=FALSE,0,COUNTIF(A$3:A3088,\">0\")+1)","v":0},8940172186,"BURR DOUBLE CUT 3/8\" HEAD SHAPE D IMP","8 880,-Ft ","CP S.anyag",null,null,null,8880]
[{"$f":"IF(L3090=FALSE,0,COUNTIF(A$3:A3089,\">0\")+1)","v":0},8940172189,"BURR DOUBLE CUT 3/8\" HEAD SHAPE G IMP","11 300,-Ft ","CP S.anyag",null,null,null,11300]
[{"$f":"IF(L3091=FALSE,0,COUNTIF(A$3:A3090,\">0\")+1)","v":0},8940172193,"BURR DOUBLE CUT 1/2\" HEAD SHAPE B IMP","16 730,-Ft ","CP S.anyag",null,null,null,16730]
[{"$f":"IF(L3092=FALSE,0,COUNTIF(A$3:A3091,\">0\")+1)","v":0},8940172197,"BURR DOUBLE CUT 1/2\" HEAD SHAPE G IMP","15 410,-Ft ","CP S.anyag",null,null,null,15410]
[{"$f":"IF(L3093=FALSE,0,COUNTIF(A$3:A3092,\">0\")+1)","v":0},8940172204,"BURR DOUBLE CUT 1/4\" HEAD SHAPE A IMP","7 940,-Ft ","CP S.anyag",null,null,null,7940]
[{"$f":"IF(L3094=FALSE,0,COUNTIF(A$3:A3093,\">0\")+1)","v":0},8940172205,"BURR DOUBLE CUT 1/4\" HEAD SHAPE B IMP","7 940,-Ft ","CP S.anyag",null,null,null,7940]
[{"$f":"IF(L3095=FALSE,0,COUNTIF(A$3:A3094,\">0\")+1)","v":0},8940172206,"BURR DOUBLE CUT 1/4\" HEAD SHAPE C IMP","7 940,-Ft ","CP S.anyag",null,null,null,7940]
[{"$f":"IF(L3096=FALSE,0,COUNTIF(A$3:A3095,\">0\")+1)","v":0},8940172207,"BURR DOUBLE CUT 1/4\" HEAD SHAPE D IMP","7 940,-Ft ","CP S.anyag",null,null,null,7940]
[{"$f":"IF(L3097=FALSE,0,COUNTIF(A$3:A3096,\">0\")+1)","v":0},8940172208,"BURR DOUBLE CUT 1/4\" HEAD SHAPE F IMP","7 940,-Ft ","CP S.anyag",null,null,null,7940]
[{"$f":"IF(L3098=FALSE,0,COUNTIF(A$3:A3097,\">0\")+1)","v":0},8940172209,"BURR DOUBLE CUT 1/4\" HEAD SHAPE G IMP","7 940,-Ft ","CP S.anyag",null,null,null,7940]
[{"$f":"IF(L3099=FALSE,0,COUNTIF(A$3:A3098,\">0\")+1)","v":0},8940172210,"BURR DOUBLE CUT 1/4\" HEAD SHAPE M IMP","7 940,-Ft ","CP S.anyag",null,null,null,7940]
[{"$f":"IF(L3100=FALSE,0,COUNTIF(A$3:A3099,\">0\")+1)","v":0},8940172240,"BURR KIT DOUBLE CUT 1/8\" SHANK 10PC IMP","47 800,-Ft ","CP S.anyag",null,null,null,47800]
[{"$f":"IF(L3101=FALSE,0,COUNTIF(A$3:A3100,\">0\")+1)","v":0},8940172246,"BURR DOUBLE CUT 1/4\" HEAD SHAPE L IMP",{"$f":"IF(H3101=\"SP\",IF(J3101>0,\"SP: \"&TEXT(J3101*I$1,\"# ###,-Ft  \"),\"SP: \"&TEXT(I3101*I$1,\"# ###,-Ft\")),IF(J3101>0,\"STARS* \"&TEXT(J3101*J$1,\"# ###,-Ft\"),TEXT(I3101*I$1,\"# ###,-Ft  \")))","v":"7 940,-Ft "},"CP S.anyag",null,null,null,7940]
[{"$f":"IF(L3102=FALSE,0,COUNTIF(A$3:A3101,\">0\")+1)","v":0},"A046044","NUT SPLITTER SHANK ROUND .401\"","12 190,-Ft ","CP S.anyag",null,null,null,12190]
[{"$f":"IF(L3103=FALSE,0,COUNTIF(A$3:A3102,\">0\")+1)","v":0},"T024242","CP785 DRILL 10M QCC","73 000,-Ft ","CP Termék",null,null,null,73000]
[{"$f":"IF(L3104=FALSE,0,COUNTIF(A$3:A3103,\">0\")+1)","v":0},6151949791,"CP9791 1/2\" KEYLESS CHUCK DRILL",",-Ft ","CP Termék"]
[{"$f":"IF(L3105=FALSE,0,COUNTIF(A$3:A3104,\">0\")+1)","v":0},8941021360,"CP2136 STRAIGHT 1/4#","74 400,-Ft ","CP Termék",null,null,null,74400]
[{"$f":"IF(L3106=FALSE,0,COUNTIF(A$3:A3105,\">0\")+1)","v":0},8941021410,"CP2141 PISTOL 1/4#","74 400,-Ft ","CP Termék",null,null,null,74400]
[{"$f":"IF(L3107=FALSE,0,COUNTIF(A$3:A3106,\">0\")+1)","v":0},6151979160,"CP9160","STARS* 39 270,-Ft","CP Termék",null,null,null,72200,39270]
[{"$f":"IF(L3108=FALSE,0,COUNTIF(A$3:A3107,\">0\")+1)","v":0},8941076200,"CP7620  1/2\" Légkulcs  New Generation ",",-Ft ","CP Termék"]
[{"$f":"IF(L3109=FALSE,0,COUNTIF(A$3:A3108,\">0\")+1)","v":0},8941276200,"CP7620KM      New Generation ",",-Ft ","CP Termék"]
[{"$f":"IF(L3110=FALSE,0,COUNTIF(A$3:A3109,\">0\")+1)","v":0},8941077360,"CP7736       New in range",{"$f":"IF(H3110=\"SP\",IF(J3110>0,\"SP: \"&TEXT(J3110*I$1,\"# ###,-Ft  \"),\"SP: \"&TEXT(I3110*I$1,\"# ###,-Ft\")),IF(J3110>0,\"STARS* \"&TEXT(J3110*J$1,\"# ###,-Ft\"),TEXT(I3110*I$1,\"# ###,-Ft  \")))","v":"STARS* 59 700,-Ft"},"CP Termék",null,null,null,90600,59700]
[{"$f":"IF(L3111=FALSE,0,COUNTIF(A$3:A3110,\">0\")+1)","v":0},8941077760,"CP7776     ","372 000,-Ft ","CP Termék",null,null,null,372000]
[{"$f":"IF(L3112=FALSE,0,COUNTIF(A$3:A3111,\">0\")+1)","v":0},8941077766,"CP7776-6   ","381 000,-Ft ","CP Termék",null,null,null,381000]
[{"$f":"IF(L3113=FALSE,0,COUNTIF(A$3:A3112,\">0\")+1)","v":0},8941177480,"CP7748  + tool's bag",",-Ft ","CP Termék"]
[{"$f":"IF(L3114=FALSE,0,COUNTIF(A$3:A3113,\">0\")+1)","v":0},8940171930,"CP7748  + CP Quartz Watch ","106 900,-Ft ","CP Termék",null,null,null,106900]
[{"$f":"IF(L3115=FALSE,0,COUNTIF(A$3:A3114,\">0\")+1)","v":0},8940171197,"CP7748  + flash light rechargable",",-Ft ","CP Termék"]
[{"$f":"IF(L3116=FALSE,0,COUNTIF(A$3:A3115,\">0\")+1)","v":0},8940172253,"CP7748  + CP8915 torque wrench 40-200Nm",",-Ft ","CP Termék"]
[{"$f":"IF(L3117=FALSE,0,COUNTIF(A$3:A3116,\">0\")+1)","v":0},8941177827,"CP7782-6 + SS814D socket set ","STARS* 226 000,-Ft","CP Termék",null,null,null,329000,226000]
[{"$f":"IF(L3118=FALSE,0,COUNTIF(A$3:A3117,\">0\")+1)","v":0},8940172255,"CP7782-6  + CP8925 Torque Wrench 200-1000Nm",{"$f":"IF(H3118=\"C\",IF(J3118>0,\"C #: \"&TEXT(J3118*I$1,\"# ###,-Ft  \"),\"C #: \"&TEXT(I3118*I$1,\"# ###,-Ft\")),IF(J3118>0,\"TOPS* \"&TEXT(J3118*J$1,\"# ###,-Ft\"),TEXT(I3118*I$1,\"# ###,-Ft  \")))","v":"C #: 571 000,-Ft"},"CP Termék",null,null,"C",571000]
[{"$f":"IF(L3119=FALSE,0,COUNTIF(A$3:A3118,\">0\")+1)","v":0},8940171718,"CP7782-6 + CP7732","329 000,-Ft ","CP Termék",null,null,null,329000]
[{"$f":"IF(L3120=FALSE,0,COUNTIF(A$3:A3119,\">0\")+1)","v":0},8941091160,"CP9116",{"$f":"IF(H3120=\"SP\",IF(J3120>0,\"SP: \"&TEXT(J3120*I$1,\"# ###,-Ft  \"),\"SP: \"&TEXT(I3120*I$1,\"# ###,-Ft\")),IF(J3120>0,\"STARS* \"&TEXT(J3120*J$1,\"# ###,-Ft\"),TEXT(I3120*I$1,\"# ###,-Ft  \")))","v":"STARS* 72 100,-Ft"},"CP Termék",null,null,null,92000,72100]
[{"$f":"IF(L3121=FALSE,0,COUNTIF(A$3:A3120,\">0\")+1)","v":0},8940171700,"CP 7748 protective cover","STARS* 3 180,-Ft","CP Termék",null,null,null,4050,3180]
[{"$f":"IF(L3122=FALSE,0,COUNTIF(A$3:A3121,\">0\")+1)","v":0},8940171717,"IMPACT WRENCH PROMO_ CP7782 + CP7732","329 000,-Ft ","CP Termék",null,14000,null,329000]
[{"$f":"IF(L3123=FALSE,0,COUNTIF(A$3:A3122,\">0\")+1)","v":0},8940172279,"CASE",",-Ft ","CP Termék",null,884]
[{"$f":"IF(L3124=FALSE,0,COUNTIF(A$3:A3123,\">0\")+1)","v":0},8941076428,"IMPACT WRENCH_CP7642","220 900,-Ft ","CP Termék",null,15000,null,220900]
[{"$f":"IF(L3125=FALSE,0,COUNTIF(A$3:A3124,\">0\")+1)","v":0},8941077270,"ANGLE IMPACT WRENCH_CP7727","123 700,-Ft ","CP Termék",null,1388,null,123700]
[{"$f":"IF(L3126=FALSE,0,COUNTIF(A$3:A3125,\">0\")+1)","v":0},8941077311,"IMPACT WRENCH_CP7731C","87 300,-Ft ","CP Termék",null,1322,null,87300]
[{"$f":"IF(L3127=FALSE,0,COUNTIF(A$3:A3126,\">0\")+1)","v":0},8940174709,"PROMO IMPACT_CP7736 + SS4114D 1/2\"DR","130 000,-Ft ","CP Termék",null,9060,null,130000]
[{"$f":"IF(L3128=FALSE,0,COUNTIF(A$3:A3127,\">0\")+1)","v":0},8941077370,"ANGLE IMPACT WRENCH_CP7737","STARS* 87 800,-Ft","CP Termék",null,1400,null,123700,87800]
[{"$f":"IF(L3129=FALSE,0,COUNTIF(A$3:A3128,\">0\")+1)","v":0},8945677370,"PROMO IMPACT_CP7737 + CP7732C","211 100,-Ft ","CP Termék",null,3432,null,211100]
[{"$f":"IF(L3130=FALSE,0,COUNTIF(A$3:A3129,\">0\")+1)","v":0},8945677482,"PROMO IMPACT_CP7737 + CP7748",",-Ft ","CP Termék",null,4531]
[{"$f":"IF(L3131=FALSE,0,COUNTIF(A$3:A3130,\">0\")+1)","v":0},8941077620,"IMPACT WRENCH_CP7762","STARS* 128 100,-Ft","CP Termék",null,2938,null,187400,128100]
[{"$f":"IF(L3132=FALSE,0,COUNTIF(A$3:A3131,\">0\")+1)","v":0},8941077631,"IMPACT WRENCH_CP7763D","248 100,-Ft ","CP Termék",null,7000,null,248100]
[{"$f":"IF(L3133=FALSE,0,COUNTIF(A$3:A3132,\">0\")+1)","v":0},8941077637,"IMPACT WRENCH_CP7763D-6","260 300,-Ft ","CP Termék",null,8150,null,260300]
[{"$f":"IF(L3134=FALSE,0,COUNTIF(A$3:A3133,\">0\")+1)","v":0},8941077731,"IMPACT WRENCH_CP7773D","252 700,-Ft ","CP Termék",null,7140,null,252700]
[{"$f":"IF(L3135=FALSE,0,COUNTIF(A$3:A3134,\">0\")+1)","v":0},8941077737,"IMPACT WRENCH_CP7773D-6","270 400,-Ft ","CP Termék",null,8200,null,270400]
[{"$f":"IF(L3136=FALSE,0,COUNTIF(A$3:A3135,\">0\")+1)","v":0},8941078293,"RATCHET_CP7829 3/8\"","STARS* 55 700,-Ft","CP Termék",null,1498,null,96600,55700]
[{"$f":"IF(L3137=FALSE,0,COUNTIF(A$3:A3136,\">0\")+1)","v":0},8941078294,"RATCHET_CP7829H 1/2\"","STARS* 55 700,-Ft","CP Termék",null,1514,null,96600,55700]
[{"$f":"IF(L3138=FALSE,0,COUNTIF(A$3:A3137,\">0\")+1)","v":0},8940174710,"PROMO_CP7255CVE+ CP9106Q-B+CP9105Q-B","203 500,-Ft ","CP Termék",null,2763,null,203500]
[{"$f":"IF(L3139=FALSE,0,COUNTIF(A$3:A3138,\">0\")+1)","v":0},8941075400,"ANGLE GRINDER_CP7540-CN","130 300,-Ft ","CP Termék",null,2404.04,null,130300]
[{"$f":"IF(L3140=FALSE,0,COUNTIF(A$3:A3139,\">0\")+1)","v":0},8941075502,"ANGLE GRINDER_CP7550-B 5\"","134 300,-Ft ","CP Termék",null,2525,null,134300]
[{"$f":"IF(L3141=FALSE,0,COUNTIF(A$3:A3140,\">0\")+1)","v":0},6151590130,"CP6120-D35L",{"$f":"IF(H3141=\"C\",IF(J3141>0,\"C #: \"&TEXT(J3141*I$1,\"# ###,-Ft  \"),\"C #: \"&TEXT(I3141*I$1,\"# ###,-Ft\")),IF(J3141>0,\"TOPS* \"&TEXT(J3141*J$1,\"# ###,-Ft\"),TEXT(I3141*I$1,\"# ###,-Ft  \")))","v":"C #: 2 527 000,-Ft"},"CP Termék",null,17236,"C",2527000]
[{"$f":"IF(L3142=FALSE,0,COUNTIF(A$3:A3141,\">0\")+1)","v":0},6151590170,"CP0611-D28L","C #: 1 769 000,-Ft","CP Termék",null,12165,"C",1769000]
[{"$f":"IF(L3143=FALSE,0,COUNTIF(A$3:A3142,\">0\")+1)","v":0},6151590640,"CP6763-D18D","387 000,-Ft ","CP Termék",null,7200,null,387000]
[{"$f":"IF(L3144=FALSE,0,COUNTIF(A$3:A3143,\">0\")+1)","v":0},6151590650,"CP6773-D18D","391 000,-Ft ","CP Termék",null,7292,null,391000]
[{"$f":"IF(L3145=FALSE,0,COUNTIF(A$3:A3144,\">0\")+1)","v":0},6151590660,"CP6135-D80L SP #5",{"$f":"IF(H3145=\"C\",IF(J3145>0,\"C #: \"&TEXT(J3145*I$1,\"# ###,-Ft  \"),\"C #: \"&TEXT(I3145*I$1,\"# ###,-Ft\")),IF(J3145>0,\"TOPS* \"&TEXT(J3145*J$1,\"# ###,-Ft\"),TEXT(I3145*I$1,\"# ###,-Ft  \")))","v":"C #: 3 382 000,-Ft"},"CP Termék",null,18218,"C",3382000]
[{"$f":"IF(L3146=FALSE,0,COUNTIF(A$3:A3145,\">0\")+1)","v":0},6151630020,"CP2816  PISTOL 1900RPM","169 100,-Ft ","CP Termék",null,1550,null,169100]
[{"$f":"IF(L3147=FALSE,0,COUNTIF(A$3:A3146,\">0\")+1)","v":0},6151630030,"CP2817  PISTOL 800RPM","169 100,-Ft ","CP Termék",null,1700,null,169100]
[{"$f":"IF(L3148=FALSE,0,COUNTIF(A$3:A3147,\">0\")+1)","v":0},6151630040,"CP2828 STRAIGHT 1600RPM","164 900,-Ft ","CP Termék",null,833,null,164900]
[{"$f":"IF(L3149=FALSE,0,COUNTIF(A$3:A3148,\">0\")+1)","v":0},6151630050,"CP2829 STRAIGHT 750RPM","164 900,-Ft ","CP Termék",null,833,null,164900]
[{"$f":"IF(L3150=FALSE,0,COUNTIF(A$3:A3149,\">0\")+1)","v":0},6153991550,"CP0611 - D28H + FRL KIT",",-Ft ","CP Termék",null,0]
[{"$f":"IF(L3151=FALSE,0,COUNTIF(A$3:A3150,\">0\")+1)","v":0},6153991570,"CP6120-D35H + FRL KIT",",-Ft ","CP Termék",null,0]
[{"$f":"IF(L3152=FALSE,0,COUNTIF(A$3:A3151,\">0\")+1)","v":0},6153991580,"CP6135-D80 + FRL KIT",",-Ft ","CP Termék",null,0]
[{"$f":"IF(L3153=FALSE,0,COUNTIF(A$3:A3152,\">0\")+1)","v":0},8941076031,"CP7600C-R",",-Ft ","CP Termék",null,7047]
[{"$f":"IF(L3154=FALSE,0,COUNTIF(A$3:A3153,\">0\")+1)","v":0},8941076035,"CP7600C-R4P",",-Ft ","CP Termék",null,7358]
[{"$f":"IF(L3155=FALSE,0,COUNTIF(A$3:A3154,\">0\")+1)","v":0},8941076010,"CP7600xB",",-Ft ","CP Termék",null,7384]
[{"$f":"IF(L3156=FALSE,0,COUNTIF(A$3:A3155,\">0\")+1)","v":0},8941076011,"CP7600xB-R",",-Ft ","CP Termék",null,7725]
[{"$f":"IF(L3157=FALSE,0,COUNTIF(A$3:A3156,\">0\")+1)","v":0},8941076015,"CP7600xB-R4P",",-Ft ","CP Termék",null,8022]
[{"$f":"IF(L3158=FALSE,0,COUNTIF(A$3:A3157,\">0\")+1)","v":0},8941076021,"CP7600xC-R",",-Ft ","CP Termék",null,9978]
[{"$f":"IF(L3159=FALSE,0,COUNTIF(A$3:A3158,\">0\")+1)","v":0},8941076025,"CP7600xC-R4P",",-Ft ","CP Termék",null,10285]
[{"$f":"IF(L3160=FALSE,0,COUNTIF(A$3:A3159,\">0\")+1)","v":0},6153992800,"DUST EXT KIT SAND CP3650","261 000,-Ft ","CP Termék",null,915,null,261000]
[{"$f":"IF(L3161=FALSE,0,COUNTIF(A$3:A3160,\">0\")+1)","v":0},6153992810,"DUST EXT KIT CUT CP3650","276 200,-Ft ","CP Termék",null,1165,null,276200]
[{"$f":"IF(L3162=FALSE,0,COUNTIF(A$3:A3161,\">0\")+1)","v":0},6151580310,"CP1114R05 REVERSIBLE DRILL 500RPM","193 400,-Ft ","CP Termék",null,2072,null,193400]
[{"$f":"IF(L3163=FALSE,0,COUNTIF(A$3:A3162,\">0\")+1)","v":0},6151580320,"CP1114R09 REVERSIBLE DRILL 900RPM","193 400,-Ft ","CP Termék",null,2080,null,193400]
[{"$f":"IF(L3164=FALSE,0,COUNTIF(A$3:A3163,\">0\")+1)","v":0},6151580330,"CP1114R26 REVERSIBLE DRILL 2600RPM","160 800,-Ft ","CP Termék",null,1592,null,160800]
[{"$f":"IF(L3165=FALSE,0,COUNTIF(A$3:A3164,\">0\")+1)","v":0},6151580340,"CP1114R40 REVERSIBLE DRILL 4000RPM","160 800,-Ft ","CP Termék",null,1600,null,160800]
[{"$f":"IF(L3166=FALSE,0,COUNTIF(A$3:A3165,\">0\")+1)","v":0},8940174141,"CHECK VALVE",{"$f":"IF(H3166=\"SP\",IF(J3166>0,\"SP: \"&TEXT(J3166*I$1,\"# ###,-Ft  \"),\"SP: \"&TEXT(I3166*I$1,\"# ###,-Ft\")),IF(J3166>0,\"STARS* \"&TEXT(J3166*J$1,\"# ###,-Ft\"),TEXT(I3166*I$1,\"# ###,-Ft  \")))","v":",-Ft "},"CP Termék",null,0]
[{"$f":"IF(L3167=FALSE,0,COUNTIF(A$3:A3166,\">0\")+1)","v":0},8940174261,"CHECK VALVE",",-Ft ","CP Termék",null,0]
[{"$f":"IF(L3168=FALSE,0,COUNTIF(A$3:A3167,\">0\")+1)","v":0},8941082120,"JACK STAND_CP82120 12T","STARS* 76 600,-Ft","CP Termék",null,20000,null,106900,76600]
[{"$f":"IF(L3169=FALSE,0,COUNTIF(A$3:A3168,\">0\")+1)","v":0},8941082200,"JACK STAND_CP82200 20T","STARS* 92 300,-Ft","CP Termék",null,35000,null,128000,92300]
[{"$f":"IF(L3170=FALSE,0,COUNTIF(A$3:A3169,\">0\")+1)","v":0},8941085030,"AIR HYDRAULIC JACK 30T_CP85030",{"$f":"IF(H3170=\"C\",IF(J3170>0,\"C #: \"&TEXT(J3170*I$1,\"# ###,-Ft  \"),\"C #: \"&TEXT(I3170*I$1,\"# ###,-Ft\")),IF(J3170>0,\"TOPS* \"&TEXT(J3170*J$1,\"# ###,-Ft\"),TEXT(I3170*I$1,\"# ###,-Ft  \")))","v":"C #: 432 000,-Ft "},"CP Termék",null,42000,"C",571000,432000]
[{"$f":"IF(L3171=FALSE,0,COUNTIF(A$3:A3170,\">0\")+1)","v":0},8941085050,"AIR HYDRAULIC JACK 50T_CP85050","C #: 575 000,-Ft ","CP Termék",null,65000,"C",747000,575000]
[{"$f":"IF(L3172=FALSE,0,COUNTIF(A$3:A3171,\">0\")+1)","v":0},8941085080,"AIR HYDRAULIC JACK 80T_CP85080","C #: 934 000,-Ft ","CP Termék",null,106500,"C",1257000,934000]
[{"$f":"IF(L3173=FALSE,0,COUNTIF(A$3:A3172,\">0\")+1)","v":0},8941085100,"AIR HYDRAULIC JACK 100T_CP85100","C #: 1 043 000,-Ft ","CP Termék",null,105000,"C",1526000,1043000]
[{"$f":"IF(L3174=FALSE,0,COUNTIF(A$3:A3173,\">0\")+1)","v":0},8941089175,"TORQUE WRENCH_CP8917 1/2\" FT","89 000,-Ft ","CP Termék",null,2828,null,89000]
[{"$f":"IF(L3175=FALSE,0,COUNTIF(A$3:A3174,\">0\")+1)","v":0},8940173207,"PROTECTION NET CP86151","62 400,-Ft ","CP Termék",null,1814,null,62400]
[{"$f":"IF(L3176=FALSE,0,COUNTIF(A$3:A3175,\">0\")+1)","v":0},8940173208,"PROTECTION NET CP86201","66 700,-Ft ","CP Termék",null,2974,null,66700]
[{"$f":"IF(L3177=FALSE,0,COUNTIF(A$3:A3176,\">0\")+1)","v":0},8940173209,"PROTECTION NET CP86301","69 100,-Ft ","CP Termék",null,3054,null,69100]
[{"$f":"IF(L3178=FALSE,0,COUNTIF(A$3:A3177,\">0\")+1)","v":0},8940173210,"PROTECTION NET CP86501","75 700,-Ft ","CP Termék",null,1814,null,75700]
[{"$f":"IF(L3179=FALSE,0,COUNTIF(A$3:A3178,\">0\")+1)","v":0},8940173459,"PROTECTIVE NET 100T","80 700,-Ft ","CP Termék",null,3400,null,80700]
[{"$f":"IF(L3180=FALSE,0,COUNTIF(A$3:A3179,\">0\")+1)","v":0},8940173458,"PROTECTIVE NET 75T","73 400,-Ft ","CP Termék",null,2900,null,73400]
[{"$f":"IF(L3181=FALSE,0,COUNTIF(A$3:A3180,\">0\")+1)","v":0},8940172285,"CHARGER 12V AUS","25 490,-Ft ","CP Termék",null,730,null,25490]
[{"$f":"IF(L3182=FALSE,0,COUNTIF(A$3:A3181,\">0\")+1)","v":0},8940174304,"CHARGER 12V KOREA","26 620,-Ft ","CP Termék",null,618,null,26620]
[{"$f":"IF(L3183=FALSE,0,COUNTIF(A$3:A3182,\">0\")+1)","v":0},8940172284,"CHARGER 12V UK","26 620,-Ft ","CP Termék",null,768,null,26620]
[{"$f":"IF(L3184=FALSE,0,COUNTIF(A$3:A3183,\">0\")+1)","v":0},8940172283,"CHARGER 12V USA","26 620,-Ft ","CP Termék",null,670,null,26620]
[{"$f":"IF(L3185=FALSE,0,COUNTIF(A$3:A3184,\">0\")+1)","v":0},8940172288,"CHARGER 20V AUS","25 490,-Ft ","CP Termék",null,898,null,25490]
[{"$f":"IF(L3186=FALSE,0,COUNTIF(A$3:A3185,\">0\")+1)","v":0},8940174305,"CHARGER 20V KOREA","25 490,-Ft ","CP Termék",null,618,null,25490]
[{"$f":"IF(L3187=FALSE,0,COUNTIF(A$3:A3186,\">0\")+1)","v":0},8940172287,"CHARGER 20V UK","25 490,-Ft ","CP Termék",null,1020,null,25490]
[{"$f":"IF(L3188=FALSE,0,COUNTIF(A$3:A3187,\">0\")+1)","v":0},8940172286,"CHARGER 20V USA","25 490,-Ft ","CP Termék",null,840,null,25490]
[{"$f":"IF(L3189=FALSE,0,COUNTIF(A$3:A3188,\">0\")+1)","v":0},8940174702,"CP12-20CH DUAL AUS","50 390,-Ft ","CP Termék",null,1546,null,50390]
[{"$f":"IF(L3190=FALSE,0,COUNTIF(A$3:A3189,\">0\")+1)","v":0},8940173638,"CP12-20CH DUAL EU",",-Ft ","CP Termék",null,1513]
[{"$f":"IF(L3191=FALSE,0,COUNTIF(A$3:A3190,\">0\")+1)","v":0},8940174701,"CP12-20CH DUAL UK",",-Ft ","CP Termék",null,1568]
[{"$f":"IF(L3192=FALSE,0,COUNTIF(A$3:A3191,\">0\")+1)","v":0},8940173636,"CP20XP60","67 800,-Ft ","CP Termék",null,1,null,67800]
[{"$f":"IF(L3193=FALSE,0,COUNTIF(A$3:A3192,\">0\")+1)","v":0},8940173538,"PROMO PACK_CP7748 + CP8528 PACK EU",",-Ft ","CP Termék",null,7234]
[{"$f":"IF(L3194=FALSE,0,COUNTIF(A$3:A3193,\">0\")+1)","v":0},8940173539,"PROMO PACK_CP7748 + CP8548 PACK EU",",-Ft ","CP Termék",null,10220]
[{"$f":"IF(L3195=FALSE,0,COUNTIF(A$3:A3194,\">0\")+1)","v":0},8940173536,"PROMO PACK_CP7748 + CP8818 PACK EU",",-Ft ","CP Termék",null,6621]
[{"$f":"IF(L3196=FALSE,0,COUNTIF(A$3:A3195,\">0\")+1)","v":0},8940173537,"PROMO PACK_CP7748 + CP8828 PACK EU",",-Ft ","CP Termék",null,8250]
[{"$f":"IF(L3197=FALSE,0,COUNTIF(A$3:A3196,\">0\")+1)","v":0},8940173540,"PROMO PACK_CP7748 CP8848 20V PACK EU",",-Ft ","CP Termék",null,10950]
[{"$f":"IF(L3198=FALSE,0,COUNTIF(A$3:A3197,\">0\")+1)","v":0},8940173529,"PROMO_CP8528   + CP8828",",-Ft ","CP Termék",null,0]
[{"$f":"IF(L3199=FALSE,0,COUNTIF(A$3:A3198,\">0\")+1)","v":0},8941085281,"CORDLESS DRILL_CP8528 PACK US",",-Ft ","CP Termék",null,3348]
[{"$f":"IF(L3200=FALSE,0,COUNTIF(A$3:A3199,\">0\")+1)","v":0},8940173528,"PROMO_CP8548   + CP8528",",-Ft ","CP Termék",null,7835]
[{"$f":"IF(L3201=FALSE,0,COUNTIF(A$3:A3200,\">0\")+1)","v":0},8941085481,"CORDLESS DRILL_CP8548 PACK US",",-Ft ","CP Termék",null,6212]
[{"$f":"IF(L3202=FALSE,0,COUNTIF(A$3:A3201,\">0\")+1)","v":0},8940173531,"PROMO_CP8818   + CP8528",",-Ft ","CP Termék",null,6412]
[{"$f":"IF(L3203=FALSE,0,COUNTIF(A$3:A3202,\">0\")+1)","v":0},8941088181,"CORDLESS IMPACT DRIVER_CP8818 PACK US",",-Ft ","CP Termék",null,3277]
[{"$f":"IF(L3204=FALSE,0,COUNTIF(A$3:A3203,\">0\")+1)","v":0},8941088281,"CORDLESS IMP WRENCH_CP8828 PACK US",",-Ft ","CP Termék",null,5333]
[{"$f":"IF(L3205=FALSE,0,COUNTIF(A$3:A3204,\">0\")+1)","v":0},8940173533,"PROMO_CP8848   + CP8528",",-Ft ","CP Termék","Akkus gépek",0]
[{"$f":"IF(L3206=FALSE,0,COUNTIF(A$3:A3205,\">0\")+1)","v":0},8940173532,"PROMO_CP8848   + CP8818",",-Ft ","CP Termék","Akkus gépek",0]
[{"$f":"IF(L3207=FALSE,0,COUNTIF(A$3:A3206,\">0\")+1)","v":0},8940173530,"PROMO_CP8848 + CP8548",",-Ft ","CP Termék","Akkus gépek",10163]
[{"$f":"IF(L3208=FALSE,0,COUNTIF(A$3:A3207,\">0\")+1)","v":0},8940173534,"PROMO_CP8848 + CP8828",",-Ft ","CP Termék","Akkus gépek",11000]
[{"$f":"IF(L3209=FALSE,0,COUNTIF(A$3:A3208,\">0\")+1)","v":0},6151659190,"CP8848 1/2\" IMPACT WRENCH EXTENDED",",-Ft ","CP Termék","Akkus gépek",2570]
[{"$f":"IF(L3210=FALSE,0,COUNTIF(A$3:A3209,\">0\")+1)","v":0},6151659180,"CP8848 1/2\" IMPACT WRENCH STANDARD",{"$f":"IF(H3210=\"SP\",IF(J3210>0,\"SP: \"&TEXT(J3210*I$1,\"# ###,-Ft  \"),\"SP: \"&TEXT(I3210*I$1,\"# ###,-Ft\")),IF(J3210>0,\"STARS* \"&TEXT(J3210*J$1,\"# ###,-Ft\"),TEXT(I3210*I$1,\"# ###,-Ft  \")))","v":",-Ft "},"CP Termék","Akkus gépek",2466]
[{"$f":"IF(L3211=FALSE,0,COUNTIF(A$3:A3210,\">0\")+1)","v":0},8941088481,"CORDLESS IMPACT_CP8848 20V 1/2\" PACK US",",-Ft ","CP Termék","Akkus gépek",6705]
[{"$f":"IF(L3212=FALSE,0,COUNTIF(A$3:A3211,\">0\")+1)","v":0},8940172342,"CP8848 EU PACK BAT",",-Ft ","CP Termék","Akkus gépek",3237]
[{"$f":"IF(L3213=FALSE,0,COUNTIF(A$3:A3212,\">0\")+1)","v":0},8940173535,"PROMO PACK_CP8848 PACK + CP8006",",-Ft ","CP Termék","Akkus gépek",0]
[{"$f":"IF(L3214=FALSE,0,COUNTIF(A$3:A3213,\">0\")+1)","v":0},8940173541,"PROMO PACK_CP8848 PACK + SOCKET SET",",-Ft ","CP Termék","Akkus gépek",8665]
[{"$f":"IF(L3215=FALSE,0,COUNTIF(A$3:A3214,\">0\")+1)","v":0},8940172672,"CP8848 SLEEVE",",-Ft ","CP Termék","Akkus gépek",210]
[{"$f":"IF(L3216=FALSE,0,COUNTIF(A$3:A3215,\">0\")+1)","v":0},8940173367,"CP8848 SLEEVE US",",-Ft ","CP Termék","Akkus gépek",225]
[{"$f":"IF(L3217=FALSE,0,COUNTIF(A$3:A3216,\">0\")+1)","v":0},8940172343,"CP8848 US NO TOOL",",-Ft ","CP Termék","Akkus gépek",3978]
[{"$f":"IF(L3218=FALSE,0,COUNTIF(A$3:A3217,\">0\")+1)","v":0},8941088488,"CP8848-2 1/2\" IMPACT WRENCH BARE",",-Ft ","CP Termék","Akkus gépek",3132]
[{"$f":"IF(L3219=FALSE,0,COUNTIF(A$3:A3218,\">0\")+1)","v":0},8941088483,"IMPACT WRENCH_CP8848-2 20V 1/2\" US PACK",",-Ft ","CP Termék","Akkus gépek",6742]
[{"$f":"IF(L3220=FALSE,0,COUNTIF(A$3:A3219,\">0\")+1)","v":0},8941088482,"IMPACT WRENCH_CP8848-2 EU PACK 20V 1/2\"",",-Ft ","CP Termék","Akkus gépek",6742]
[{"$f":"IF(L3221=FALSE,0,COUNTIF(A$3:A3220,\">0\")+1)","v":0},8940173542,"PROMO PACK_CP8848-2 PACK + SOCKET SET",",-Ft ","CP Termék","Akkus gépek",8865]
[{"$f":"IF(L3222=FALSE,0,COUNTIF(A$3:A3221,\">0\")+1)","v":0},8941077830,"CP7783","386 000,-Ft ","CP Termék",null,null,null,386000]
[{"$f":"IF(L3223=FALSE,0,COUNTIF(A$3:A3222,\">0\")+1)","v":0},8941077836,"CP7783-6","386 000,-Ft ","CP Termék",null,null,null,386000]
[{"$f":"IF(L3224=FALSE,0,COUNTIF(A$3:A3223,\">0\")+1)","v":0},8940172305,"Drive bit set","STARS* 6 270,-Ft","CP Termék",null,null,null,9040,6270]
[{"$f":"IF(L3225=FALSE,0,COUNTIF(A$3:A3224,\">0\")+1)","v":0},8940172302,"Concrete drill bit set","STARS* 5 130,-Ft","CP Termék",null,null,null,7560,5130]
[{"$f":"IF(L3226=FALSE,0,COUNTIF(A$3:A3225,\">0\")+1)","v":0},8940172301,"Wood drill bit set","STARS* 5 130,-Ft","CP Termék",null,null,null,7840,5130]
[{"$f":"IF(L3227=FALSE,0,COUNTIF(A$3:A3226,\">0\")+1)","v":0},8940172303,"Metal drill bit set",",-Ft ","CP Termék"]
[{"$f":"IF(L3228=FALSE,0,COUNTIF(A$3:A3227,\">0\")+1)","v":0},8941090250,"CP90250 SUPER CAPACITOR 250F",{"$f":"IF(H3228=\"C\",IF(J3228>0,\"C #: \"&TEXT(J3228*I$1,\"# ###,-Ft  \"),\"C #: \"&TEXT(I3228*I$1,\"# ###,-Ft\")),IF(J3228>0,\"TOPS* \"&TEXT(J3228*J$1,\"# ###,-Ft\"),TEXT(I3228*I$1,\"# ###,-Ft  \")))","v":"C #: 263 000,-Ft "},"CP Termék",null,null,"C",517000,263000]
[{"$f":"IF(L3229=FALSE,0,COUNTIF(A$3:A3228,\">0\")+1)","v":0},8941090500,"CP90500 SUPER CAPACITOR 500F","C #: 286 000,-Ft ","CP Termék",null,null,"C",579000,286000]
[{"$f":"IF(L3230=FALSE,0,COUNTIF(A$3:A3229,\">0\")+1)","v":0},8940169789,"Magnetic tray",",-Ft ","CP Termék"]
[{"$f":"IF(L3231=FALSE,0,COUNTIF(A$3:A3230,\">0\")+1)","v":0},8941077830,"CP7783","386 000,-Ft ",null,null,null,null,386000]
[{"$f":"IF(L3232=FALSE,0,COUNTIF(A$3:A3231,\">0\")+1)","v":0},8941077836,"CP7783-6","386 000,-Ft ",null,null,null,null,386000]
[{"$f":"IF(L3233=FALSE,0,COUNTIF(A$3:A3232,\">0\")+1)","v":0},8941083504,"CP8350 CORDLESS GRINDER PACK 4.0Ah EU","STARS* 167 800,-Ft",null,null,null,null,null,167800]
[{"$f":"IF(L3234=FALSE,0,COUNTIF(A$3:A3233,\">0\")+1)","v":0},8941083506,"CP8350 CORDLESS GRINDER PACK 6.0Ah EU","STARS* 188 700,-Ft",null,null,null,null,null,188700]
[{"$f":"IF(L3235=FALSE,0,COUNTIF(A$3:A3234,\">0\")+1)","v":0},8941073013,"8941073013 DRILL_CP7300C 1/4\"KEY","72 400,-Ft ",null,null,null,null,72400]
[{"$f":"IF(L3236=FALSE,0,COUNTIF(A$3:A3235,\">0\")+1)","v":0},8941073011,"8941073011 DRILL_CP7300RC RV 1/4\"KEY","STARS* 49 990,-Ft",null,null,null,null,82300,49990]
[{"$f":"IF(L3237=FALSE,0,COUNTIF(A$3:A3236,\">0\")+1)","v":0},8941073012,"8941073012 DRILL_CP7300RQCC RV 1/4\"K.LESS","STARS* 55 200,-Ft",null,null,null,null,82300,55200]
[{"$f":"IF(L3238=FALSE,0,COUNTIF(A$3:A3237,\">0\")+1)","v":0},8941085031,"CP85031 HIGH LIFTING AIR JACK 30T",{"$f":"IF(H3238=\"C\",IF(J3238>0,\"C #: \"&TEXT(J3238*I$1,\"# ###,-Ft  \"),\"C #: \"&TEXT(I3238*I$1,\"# ###,-Ft\")),IF(J3238>0,\"TOPS* \"&TEXT(J3238*J$1,\"# ###,-Ft\"),TEXT(I3238*I$1,\"# ###,-Ft  \")))","v":"C #: 824 000,-Ft "},null,null,null,"C",999000,824000]
[{"$f":"IF(L3239=FALSE,0,COUNTIF(A$3:A3238,\">0\")+1)","v":0},8941083100,"CP83100","STARS* 164 500,-Ft",null,null,null,null,237300,164500]
[{"$f":"IF(L3240=FALSE,0,COUNTIF(A$3:A3239,\">0\")+1)","v":0},8941082511,"CP825C 1/4\" COMPOSITE STUBBY AIR RATCHET","STARS* 60 200,-Ft",null,null,null,null,82300,60200]
[{"$f":"IF(L3241=FALSE,0,COUNTIF(A$3:A3240,\">0\")+1)","v":0},8941082512,"CP825CT 3/8\" COMPOSITE STUBBY AIR RATCHET","STARS* 60 200,-Ft",null,null,null,null,82300,60200]
[{"$f":"IF(L3242=FALSE,0,COUNTIF(A$3:A3241,\">0\")+1)","v":0},8941008790,"8941008790 DRILL_CP879C ANGLE RV 3/8\"KEY","STARS* 47 220,-Ft",null,null,null,null,68700,47220]
[{"$f":"IF(L3243=FALSE,0,COUNTIF(A$3:A3242,\">0\")+1)","v":0},8941008870,"8941008870 DRILL_CP887C INLINE RV 3/8\"KEY","STARS* 41 660,-Ft",null,null,null,null,57400,41660]
[{"$f":"IF(L3244=FALSE,0,COUNTIF(A$3:A3243,\">0\")+1)","v":0},8940174743,"Headlight Repair Kit","STARS* 106 500,-Ft",null,null,null,null,190700,106500]
[{"$f":"IF(L3245=FALSE,0,COUNTIF(A$3:A3244,\">0\")+1)","v":0},8940164650,"CP7600 PROTECTIVE COVER 4P BLACK","11 770,-Ft ",null,null,null,null,11770]
[{"$f":"IF(L3246=FALSE,0,COUNTIF(A$3:A3245,\">0\")+1)","v":0},8940164651,"CP7600 PROTECTIVE COVER 4P BLUE","11 770,-Ft ",null,null,null,null,11770]
[{"$f":"IF(L3247=FALSE,0,COUNTIF(A$3:A3246,\">0\")+1)","v":0},8940163789,"S311M 3/8\" DR. STD IMPACT SOCKET 11MM","950,-Ft ",null,null,null,null,950]
[{"$f":"IF(L3248=FALSE,0,COUNTIF(A$3:A3247,\">0\")+1)","v":0},8940163678,"S208M 1/4\" DR. STD IMPACT SOCKET 8MM","920,-Ft ",null,null,null,null,920]
[{"$f":"IF(L3249=FALSE,0,COUNTIF(A$3:A3248,\">0\")+1)","v":0},8940163680,"S210M 1/4\" DR. STD IMPACT SOCKET 10MM","980,-Ft ",null,null,null,null,980]
[{"$f":"IF(L3250=FALSE,0,COUNTIF(A$3:A3249,\">0\")+1)","v":0},8940163704,"S210MD 1/4\" DR. DEEP IMPACT SOCKET 10MM","1 410,-Ft ",null,null,null,null,1410]
[{"$f":"IF(L3251=FALSE,0,COUNTIF(A$3:A3250,\">0\")+1)","v":0},8940171991,"HOSE REEL 08 MM BSP HR8108","STARS* 52 130,-Ft",null,null,null,null,69000,52130]
[{"$f":"IF(L3252=FALSE,0,COUNTIF(A$3:A3251,\">0\")+1)","v":0},8940163819,"S313MD 3/8\" DR. DEEP IMPACT SOCKET 13MM","1 440,-Ft ",null,null,null,null,1440]
[{"$f":"IF(L3253=FALSE,0,COUNTIF(A$3:A3252,\">0\")+1)","v":0},8940171993,"HOSE REEL 10 MM BSP HR8110","STARS* 77 100,-Ft",null,null,null,null,106700,77100]
[{"$f":"IF(L3254=FALSE,0,COUNTIF(A$3:A3253,\">0\")+1)","v":0},8940172171,"PROTECTIVE COVER CP7748 E","7 870,-Ft ",null,null,null,null,7870]
[{"$f":"IF(L3255=FALSE,0,COUNTIF(A$3:A3254,\">0\")+1)","v":0},8940163791,"S313M 3/8\" DR. STD IMPACT SOCKET 13MM","950,-Ft ",null,null,null,null,950]
[{"$f":"IF(L3256=FALSE,0,COUNTIF(A$3:A3255,\">0\")+1)","v":0},8940171999,"HOSE REEL 13 MM BSP HR8113","STARS* 117 400,-Ft",null,null,null,null,154300,117400]
[{"$f":"IF(L3257=FALSE,0,COUNTIF(A$3:A3256,\">0\")+1)","v":0},8940172290,"PROTECTIVE COVER CP7732/CP7731","6 850,-Ft ",null,null,null,null,6850]
[{"$f":"IF(L3258=FALSE,0,COUNTIF(A$3:A3257,\">0\")+1)","v":0},8940171997,"HOSE REEL 10 MM BSP HR8210","STARS* 98 500,-Ft",null,null,null,null,130600,98500]
[{"$f":"IF(L3259=FALSE,0,COUNTIF(A$3:A3258,\">0\")+1)","v":0},8940171492,"UK CHARGER","5 810,-Ft ",null,null,null,null,5810]
[{"$f":"IF(L3260=FALSE,0,COUNTIF(A$3:A3259,\">0\")+1)","v":0},8940164649,"CP7600 PROTECTIVE COVER 1P BLUE","11 640,-Ft ",null,null,null,null,11640]
[{"$f":"IF(L3261=FALSE,0,COUNTIF(A$3:A3260,\">0\")+1)","v":0},8940163816,"S310MD 3/8\" DR. DEEP IMPACT SOCKET 10MM","1 320,-Ft ",null,null,null,null,1320]
[{"$f":"IF(L3262=FALSE,0,COUNTIF(A$3:A3261,\">0\")+1)","v":0},8940172003,"HOSE REEL 13 MM BSP HR9113","STARS* 158 300,-Ft",null,null,null,null,209200,158300]
[{"$f":"IF(L3263=FALSE,0,COUNTIF(A$3:A3262,\">0\")+1)","v":0},8940171995,"HOSE REEL 08 MM BSP HR8208","STARS* 69 200,-Ft",null,null,null,null,89400,69200]
[{"$f":"IF(L3264=FALSE,0,COUNTIF(A$3:A3263,\">0\")+1)","v":0},8940163765,"S208MDG 1/4\"DR. DEEP MAG IMPACT  8MM","4 030,-Ft ",null,null,null,null,4030]
[{"$f":"IF(L3265=FALSE,0,COUNTIF(A$3:A3264,\">0\")+1)","v":0},8940171956,"WALL ASSEMBLY KIT","6 210,-Ft ",null,null,null,null,6210]
[{"$f":"IF(L3266=FALSE,0,COUNTIF(A$3:A3265,\">0\")+1)","v":0},8940173269,"PROTECTIVE COVER CP7749 MODEL F","STARS* 4 800,-Ft",null,null,null,null,5300,4800]
[{"$f":"IF(L3267=FALSE,0,COUNTIF(A$3:A3266,\">0\")+1)","v":0},8940173325,"HOSE REEL 13 MM RUBBER NPT HR9213","216 000,-Ft ",null,null,null,null,216000]
[{"$f":"IF(L3268=FALSE,0,COUNTIF(A$3:A3267,\">0\")+1)","v":0},8940171491,"EU CHARGER",{"$f":"IF(H3268=\"SP\",IF(J3268>0,\"SP: \"&TEXT(J3268*I$1,\"# ###,-Ft  \"),\"SP: \"&TEXT(I3268*I$1,\"# ###,-Ft\")),IF(J3268>0,\"STARS* \"&TEXT(J3268*J$1,\"# ###,-Ft\"),TEXT(I3268*I$1,\"# ###,-Ft  \")))","v":"4 790,-Ft "},null,null,null,null,4790]
[{"$f":"IF(L3269=FALSE,0,COUNTIF(A$3:A3268,\">0\")+1)","v":0},8940173323,"SWIVELLING BRACKET","17 190,-Ft ",null,null,null,null,17190]
[{"$f":"IF(L3270=FALSE,0,COUNTIF(A$3:A3269,\">0\")+1)","v":0},8940173324,"HOSE REEL 13 MM RUBBER BSP HR9213","216 000,-Ft ",null,null,null,null,216000]
[{"$f":"IF(L3271=FALSE,0,COUNTIF(A$3:A3270,\">0\")+1)","v":0},8940171490,"AUS CHARGER","5 140,-Ft ",null,null,null,null,5140]
[{"$f":"IF(L3272=FALSE,0,COUNTIF(A$3:A3271,\">0\")+1)","v":0},8940172001,"HOSE REEL 10 MM BSP HR9110","STARS* 147 600,-Ft",null,null,null,null,196100,147600]
[{"$f":"IF(L3273=FALSE,0,COUNTIF(A$3:A3272,\">0\")+1)","v":0},6158120120,"PERFECT DEMO PACK 3/8 AND 1/2 AIR INLET","260 200,-Ft ",null,null,null,null,260200]
[{"$f":"IF(L3274=FALSE,0,COUNTIF(A$3:A3273,\">0\")+1)","v":0},8940167733,"S641X21MBW 3/4\" DR COMB BUDD 41x21MM","12 360,-Ft ",null,null,null,null,12360]
[{"$f":"IF(L3275=FALSE,0,COUNTIF(A$3:A3274,\">0\")+1)","v":0},6158110080,"PRESSURE CLAMP HD FOR RUBBER 34-38","3 110,-Ft ",null,null,null,null,3110]
[{"$f":"IF(L3276=FALSE,0,COUNTIF(A$3:A3275,\">0\")+1)","v":0},8940167728,"S422METW 1/2\"DR EX THIN WALL DEEP 22MM","2 400,-Ft ",null,null,null,null,2400]
[{"$f":"IF(L3277=FALSE,0,COUNTIF(A$3:A3276,\">0\")+1)","v":0},"C155586","RING-RETAINING 3/4\" DIA 57MM","6 850,-Ft ",null,null,null,null,6850]
[{"$f":"IF(L3278=FALSE,0,COUNTIF(A$3:A3277,\">0\")+1)","v":0},8940167727,"S414ETW 1/2\" DR EX THIN WALL DEEP 7/8\"","2 400,-Ft ",null,null,null,null,2400]
[{"$f":"IF(L3279=FALSE,0,COUNTIF(A$3:A3278,\">0\")+1)","v":0},8940167735,"S613SQ 3/4\" DR 13/16 SQUARE","9 250,-Ft ",null,null,null,null,9250]
[{"$f":"IF(L3280=FALSE,0,COUNTIF(A$3:A3279,\">0\")+1)","v":0},8940171493,"US CHARGER","4 860,-Ft ",null,null,null,null,4860]
[{"$f":"IF(L3281=FALSE,0,COUNTIF(A$3:A3280,\">0\")+1)","v":0},8940171494,"LIGHTERCORD","2 760,-Ft ",null,null,null,null,2760]
[{"$f":"IF(L3282=FALSE,0,COUNTIF(A$3:A3281,\">0\")+1)","v":0},8940172733,"PSI GAUGE","3 450,-Ft ",null,null,null,null,3450]
[{"$f":"IF(L3283=FALSE,0,COUNTIF(A$3:A3282,\">0\")+1)","v":0},8940173326,"HR9213 BSP W/ SWIVEL BRACKET","239 300,-Ft ",null,null,null,null,239300]
[{"$f":"IF(L3284=FALSE,0,COUNTIF(A$3:A3283,\">0\")+1)","v":0},8940173327,"HR9213 NPT W/ SWIVEL BRACKET","239 300,-Ft ",null,null,null,null,239300]
[{"$f":"IF(L3285=FALSE,0,COUNTIF(A$3:A3284,\">0\")+1)","v":0},8940173701,"3/8\" NPT AIR FLEX WITH COVER","52 200,-Ft ",null,null,null,null,52200]
[{"$f":"IF(L3286=FALSE,0,COUNTIF(A$3:A3285,\">0\")+1)","v":0},"CA046301","NIPPLE-1/4 FPT","2 260,-Ft ",null,null,null,null,2260]
[{"$f":"IF(L3287=FALSE,0,COUNTIF(A$3:A3286,\">0\")+1)","v":0},"CA049302","NIPPLE-3/8\"FPT","5 060,-Ft ",null,null,null,null,5060]
[{"$f":"IF(L3288=FALSE,0,COUNTIF(A$3:A3287,\">0\")+1)","v":0},"CA049304","NIPPLE-1/2\"FPT","2 790,-Ft ",null,null,null,null,2790]
[{"$f":"IF(L3289=FALSE,0,COUNTIF(A$3:A3288,\">0\")+1)","v":0},8940163675,"S2055M 1/4\" DR. STD IMPACT SOCKET 5.5MM","920,-Ft ",null,null,null,null,920]
[{"$f":"IF(L3290=FALSE,0,COUNTIF(A$3:A3289,\">0\")+1)","v":0},8940163683,"S213M 1/4\" DR. STD IMPACT SOCKET 13MM","980,-Ft ",null,null,null,null,980]
[{"$f":"IF(L3291=FALSE,0,COUNTIF(A$3:A3290,\">0\")+1)","v":0},8940163685,"S215M 1/4\" DR. STD IMPACT SOCKET 15MM","1 130,-Ft ",null,null,null,null,1130]
[{"$f":"IF(L3292=FALSE,0,COUNTIF(A$3:A3291,\">0\")+1)","v":0},8940163731,"S204G 1/4\"DR. MAGNETIC IMP SOCKET 1/4\"","1 530,-Ft ",null,null,null,null,1530]
[{"$f":"IF(L3293=FALSE,0,COUNTIF(A$3:A3292,\">0\")+1)","v":0},8940163733,"S205G 1/4\"DR. MAGNETIC IMP SOCKET 5/16\"","1 530,-Ft ",null,null,null,null,1530]
[{"$f":"IF(L3294=FALSE,0,COUNTIF(A$3:A3293,\">0\")+1)","v":0},8940163735,"S206G 1/4\"DR. MAGNETIC IMP SOCKET 3/8\"","1 530,-Ft ",null,null,null,null,1530]
[{"$f":"IF(L3295=FALSE,0,COUNTIF(A$3:A3294,\">0\")+1)","v":0},8940163743,"S208MG 1/4\"DR. MAGNETIC IMP SOCKET 8MM","2 120,-Ft ",null,null,null,null,2120]
[{"$f":"IF(L3296=FALSE,0,COUNTIF(A$3:A3295,\">0\")+1)","v":0},8940163767,"S210MDG 1/4\"DR. DEEP MAG IMPACT  10MM","4 290,-Ft ",null,null,null,null,4290]
[{"$f":"IF(L3297=FALSE,0,COUNTIF(A$3:A3296,\">0\")+1)","v":0},8940163788,"S310M 3/8\" DR. STD IMPACT SOCKET 10MM","950,-Ft ",null,null,null,null,950]
[{"$f":"IF(L3298=FALSE,0,COUNTIF(A$3:A3297,\">0\")+1)","v":0},8940163792,"S314M 3/8\" DR. STD IMPACT SOCKET 14MM","950,-Ft ",null,null,null,null,950]
[{"$f":"IF(L3299=FALSE,0,COUNTIF(A$3:A3298,\">0\")+1)","v":0},8940163794,"S316M 3/8\" DR. STD IMPACT SOCKET 16MM","1 080,-Ft ",null,null,null,null,1080]
[{"$f":"IF(L3300=FALSE,0,COUNTIF(A$3:A3299,\">0\")+1)","v":0},8940163795,"S317M 3/8\" DR. STD IMPACT SOCKET 17MM","1 080,-Ft ",null,null,null,null,1080]
[{"$f":"IF(L3301=FALSE,0,COUNTIF(A$3:A3300,\">0\")+1)","v":0},8940163796,"S318M 3/8\" DR. STD IMPACT SOCKET 18MM","1 080,-Ft ",null,null,null,null,1080]
[{"$f":"IF(L3302=FALSE,0,COUNTIF(A$3:A3301,\">0\")+1)","v":0},8940163797,"S319M 3/8\" DR. STD IMPACT SOCKET 19MM","1 110,-Ft ",null,null,null,null,1110]
[{"$f":"IF(L3303=FALSE,0,COUNTIF(A$3:A3302,\">0\")+1)","v":0},8940163800,"S322M 3/8\" DR. STD IMPACT SOCKET 22MM","1 320,-Ft ",null,null,null,null,1320]
[{"$f":"IF(L3304=FALSE,0,COUNTIF(A$3:A3303,\">0\")+1)","v":0},8940163817,"S311MD 3/8\" DR. DEEP IMPACT SOCKET 11MM","1 320,-Ft ",null,null,null,null,1320]
[{"$f":"IF(L3305=FALSE,0,COUNTIF(A$3:A3304,\">0\")+1)","v":0},8940163895,"S310MG 3/8\"DR. MAGNETIC IMPACT  10MM",{"$f":"IF(H3305=\"SP\",IF(J3305>0,\"SP: \"&TEXT(J3305*I$1,\"# ###,-Ft  \"),\"SP: \"&TEXT(I3305*I$1,\"# ###,-Ft\")),IF(J3305>0,\"STARS* \"&TEXT(J3305*J$1,\"# ###,-Ft\"),TEXT(I3305*I$1,\"# ###,-Ft  \")))","v":"2 480,-Ft "},null,null,null,null,2480]
[{"$f":"IF(L3306=FALSE,0,COUNTIF(A$3:A3305,\">0\")+1)","v":0},8940163899,"S314MG 3/8\"DR. MAGNETIC IMPACT  14MM","2 840,-Ft ",null,null,null,null,2840]
[{"$f":"IF(L3307=FALSE,0,COUNTIF(A$3:A3306,\">0\")+1)","v":0},8940163924,"S317MDG 3/8\"DR. DEEP MAG IMPACT  17MM","6 390,-Ft ",null,null,null,null,6390]
[{"$f":"IF(L3308=FALSE,0,COUNTIF(A$3:A3307,\">0\")+1)","v":0},8940163925,"S318MDG 3/8\"DR. DEEP MAG IMPACT  18MM","6 210,-Ft ",null,null,null,null,6210]
[{"$f":"IF(L3309=FALSE,0,COUNTIF(A$3:A3308,\">0\")+1)","v":0},8940164097,"S414MG 1/2\"DR MAGN IMPACT SOCKET 14MM","3 380,-Ft ",null,null,null,null,3380]
[{"$f":"IF(L3310=FALSE,0,COUNTIF(A$3:A3309,\">0\")+1)","v":0},8940164102,"S419MG 1/2\"DR MAGN IMPACT SOCKET 19MM","3 560,-Ft ",null,null,null,null,3560]
[{"$f":"IF(L3311=FALSE,0,COUNTIF(A$3:A3310,\">0\")+1)","v":0},8940164104,"S421MG 1/2\"DR MAGN IMPACT SOCKET 21MM","3 560,-Ft ",null,null,null,null,3560]
[{"$f":"IF(L3312=FALSE,0,COUNTIF(A$3:A3311,\">0\")+1)","v":0},8940164120,"S414MDG 1/2\"DR DEEP MAGN IMPACT  14MM","6 980,-Ft ",null,null,null,null,6980]
[{"$f":"IF(L3313=FALSE,0,COUNTIF(A$3:A3312,\">0\")+1)","v":0},8940164123,"S417MDG 1/2\"DR DEEP MAGN IMPACT  17MM","7 870,-Ft ",null,null,null,null,7870]
[{"$f":"IF(L3314=FALSE,0,COUNTIF(A$3:A3313,\">0\")+1)","v":0},8940164124,"S418MDG 1/2\"DR DEEP MAGN IMPACT  18MM","7 490,-Ft ",null,null,null,null,7490]
[{"$f":"IF(L3315=FALSE,0,COUNTIF(A$3:A3314,\">0\")+1)","v":0},8940164648,"CP7600 PROTECTIVE COVER 1P BLACK","11 750,-Ft ",null,null,null,null,11750]
[{"$f":"IF(L3316=FALSE,0,COUNTIF(A$3:A3315,\">0\")+1)","v":0},6158132080,"HOSE 3 METERS ASSEMBLY","35 940,-Ft ",null,null,null,null,35940]
[{"$f":"IF(L3317=FALSE,0,COUNTIF(A$3:A3316,\">0\")+1)","v":0},6158132090,"CP FRL STAND","232 200,-Ft ",null,null,null,null,232200]
[{"$f":"IF(L3318=FALSE,0,COUNTIF(A$3:A3317,\">0\")+1)","v":0},110422,"FUSE - AIR LF 3/8\" BSPP","18 520,-Ft ",null,null,null,null,18520]
[{"$f":"IF(L3319=FALSE,0,COUNTIF(A$3:A3318,\">0\")+1)","v":0},110432,"FUSE - AIR HF 3/8\"  BSPP","19 630,-Ft ",null,null,null,null,19630]
[{"$f":"IF(L3320=FALSE,0,COUNTIF(A$3:A3319,\">0\")+1)","v":0},110442,"FUSE - AIR  1/2\" BSPP.","23 550,-Ft ",null,null,null,null,23550]
[{"$f":"IF(L3321=FALSE,0,COUNTIF(A$3:A3320,\">0\")+1)","v":0},6158112420,"FUSE - AIR LF 1/4 BSP","15 520,-Ft ",null,null,null,null,15520]
[{"$f":"IF(L3322=FALSE,0,COUNTIF(A$3:A3321,\">0\")+1)","v":0},6158112430,"FUSE - AIR HF 3/4 BSP","28 310,-Ft ",null,null,null,null,28310]
[{"$f":"IF(L3323=FALSE,0,COUNTIF(A$3:A3322,\">0\")+1)","v":0},6158112450,"FUSE - AIR LF 1/4 NPT","15 650,-Ft ",null,null,null,null,15650]
[{"$f":"IF(L3324=FALSE,0,COUNTIF(A$3:A3323,\">0\")+1)","v":0},6158112460,"FUSE - AIR HF 1/4 NPT","15 650,-Ft ",null,null,null,null,15650]
[{"$f":"IF(L3325=FALSE,0,COUNTIF(A$3:A3324,\">0\")+1)","v":0},6158112470,"FUSE - AIR LF 3/8 NPT","20 580,-Ft ",null,null,null,null,20580]
[{"$f":"IF(L3326=FALSE,0,COUNTIF(A$3:A3325,\">0\")+1)","v":0},6158112480,"FUSE - AIR HF 3/8 NPT","20 580,-Ft ",null,null,null,null,20580]
[{"$f":"IF(L3327=FALSE,0,COUNTIF(A$3:A3326,\">0\")+1)","v":0},"A008542","FLAT CHISEL SHANK ROUND .401\"","11 700,-Ft ",null,null,null,null,11700]
[{"$f":"IF(L3328=FALSE,0,COUNTIF(A$3:A3327,\">0\")+1)","v":0},6150531300,"CHISEL 14,7MM HEX SHANK 300X20MM","17 920,-Ft ",null,null,null,null,17920]
[{"$f":"IF(L3329=FALSE,0,COUNTIF(A$3:A3328,\">0\")+1)","v":0},8940174745,"Headlight Repair Cream","STARS* 10 310,-Ft",null,null,null,null,16010,10310]
[{"$f":"IF(L3330=FALSE,0,COUNTIF(A$3:A3329,\">0\")+1)","v":0},6150531500,"CHISEL 14,7MM HEX SHANK 500X20MM","36 230,-Ft ",null,null,null,null,36230]
[{"$f":"IF(L3331=FALSE,0,COUNTIF(A$3:A3330,\">0\")+1)","v":0},5412054163,"G-185342-00 COLLET","33 010,-Ft ",null,null,null,null,33010]
[{"$f":"IF(L3332=FALSE,0,COUNTIF(A$3:A3331,\">0\")+1)","v":0},6150531250,"CHISEL 14,7MM HEX SHANK 250X20MM","16 660,-Ft ",null,null,null,null,16660]
[{"$f":"IF(L3333=FALSE,0,COUNTIF(A$3:A3332,\">0\")+1)","v":0},6150531990,"CHISEL 14,7MM HEX SHANK 1000X20MM","42 790,-Ft ",null,null,null,null,42790]
[{"$f":"IF(L3334=FALSE,0,COUNTIF(A$3:A3333,\">0\")+1)","v":0},8940174848,"COLLET 8MM","7 630,-Ft ",null,null,null,null,7630]
[{"$f":"IF(L3335=FALSE,0,COUNTIF(A$3:A3334,\">0\")+1)","v":0},5412054164,"G-185342-01 COLLET","38 600,-Ft ",null,null,null,null,38600]
[{"$f":"IF(L3336=FALSE,0,COUNTIF(A$3:A3335,\">0\")+1)","v":0},"A133907","SCRAPER SHANK ROUND .401\"","24 180,-Ft ",null,null,null,null,24180]
[{"$f":"IF(L3337=FALSE,0,COUNTIF(A$3:A3336,\">0\")+1)","v":0},8940158547,"POLISHING SPONGE LIG","13 500,-Ft ",null,null,null,null,13500]
[{"$f":"IF(L3338=FALSE,0,COUNTIF(A$3:A3337,\">0\")+1)","v":0},8940172663,"KEYLESS CHUCK 13MM","12 000,-Ft ",null,null,null,null,12000]
[{"$f":"IF(L3339=FALSE,0,COUNTIF(A$3:A3338,\">0\")+1)","v":0},"C142411","KEY CHUCK KK","2 140,-Ft ",null,null,null,null,2140]
[{"$f":"IF(L3340=FALSE,0,COUNTIF(A$3:A3339,\">0\")+1)","v":0},8940158430,"DUST EXTRACTION KIT","32 420,-Ft ",null,null,null,null,32420]
[{"$f":"IF(L3341=FALSE,0,COUNTIF(A$3:A3340,\">0\")+1)","v":0},8940158548,"POLISHING SPONGE DAR","13 500,-Ft ",null,null,null,null,13500]
[{"$f":"IF(L3342=FALSE,0,COUNTIF(A$3:A3341,\">0\")+1)","v":0},"CA146632","OVERHOSE-EXHAUST 18\"","3 450,-Ft ",null,null,null,null,3450]
[{"$f":"IF(L3343=FALSE,0,COUNTIF(A$3:A3342,\">0\")+1)","v":0},"G23885","CHISEL 10,2MM HEX SHANK 280X19MM","8 640,-Ft ",null,null,null,null,8640]
[{"$f":"IF(L3344=FALSE,0,COUNTIF(A$3:A3343,\">0\")+1)","v":0},6150532300,"CHISEL 14,7MM HEX SHANK 300X20MM PIC","16 840,-Ft ",null,null,null,null,16840]
[{"$f":"IF(L3345=FALSE,0,COUNTIF(A$3:A3344,\">0\")+1)","v":0},40802,"CHISEL 10,2MM RND SHANK 156X33MM SCRAPER","8 010,-Ft ",null,null,null,null,8010]
[{"$f":"IF(L3346=FALSE,0,COUNTIF(A$3:A3345,\">0\")+1)","v":0},6152505330,"PANIER PORTE-AIGUIL","41 930,-Ft ",null,null,null,null,41930]
[{"$f":"IF(L3347=FALSE,0,COUNTIF(A$3:A3346,\">0\")+1)","v":0},8940158549,"POLISHING SPONGE","10 800,-Ft ",null,null,null,null,10800]
[{"$f":"IF(L3348=FALSE,0,COUNTIF(A$3:A3347,\">0\")+1)","v":0},"P092883","CHISEL 17,3MM RND SHANK 305MM POINTED","9 790,-Ft ",null,null,null,null,9790]
[{"$f":"IF(L3349=FALSE,0,COUNTIF(A$3:A3348,\">0\")+1)","v":0},5412052004,"DCK-16 DRILL CHUCK","114 300,-Ft ",null,null,null,null,114300]
[{"$f":"IF(L3350=FALSE,0,COUNTIF(A$3:A3349,\">0\")+1)","v":0},6150532250,"CHISEL 14,7MM HEX SHANK 250X20MM PIC","15 490,-Ft ",null,null,null,null,15490]
[{"$f":"IF(L3351=FALSE,0,COUNTIF(A$3:A3350,\">0\")+1)","v":0},6152505240,"1/2\" Square Tool Retainer","68 200,-Ft ",null,null,null,null,68200]
[{"$f":"IF(L3352=FALSE,0,COUNTIF(A$3:A3351,\">0\")+1)","v":0},6152505380,"MANCHON RETENUE CAR","71 800,-Ft ",null,null,null,null,71800]
[{"$f":"IF(L3353=FALSE,0,COUNTIF(A$3:A3352,\">0\")+1)","v":0},8940171703,"STUD CLEANER DISPLAY","97 700,-Ft ",null,null,null,null,97700]
[{"$f":"IF(L3354=FALSE,0,COUNTIF(A$3:A3353,\">0\")+1)","v":0},8940174699,"FLAT CHISEL SHANK ISO SQUARE 1/2\" (1/2\"L","8 590,-Ft ",null,null,null,null,8590]
[{"$f":"IF(L3355=FALSE,0,COUNTIF(A$3:A3354,\">0\")+1)","v":0},"G23877","CHISEL 10,2MM HEX SHANK 165X35MM","7 200,-Ft ",null,null,null,null,7200]
[{"$f":"IF(L3356=FALSE,0,COUNTIF(A$3:A3355,\">0\")+1)","v":0},"P089209","RIVET SET 10,2MM ROUND 3/16\" (A046088)","8 290,-Ft ",null,null,null,null,8290]
[{"$f":"IF(L3357=FALSE,0,COUNTIF(A$3:A3356,\">0\")+1)","v":0},38232,"BURR 6MM PIC 8 Dia 10 L10","16 980,-Ft ",null,null,null,null,16980]
[{"$f":"IF(L3358=FALSE,0,COUNTIF(A$3:A3357,\">0\")+1)","v":0},8940172434,"SOCKET SET ATEX",{"$f":"IF(H3358=\"SP\",IF(J3358>0,\"SP: \"&TEXT(J3358*I$1,\"# ###,-Ft  \"),\"SP: \"&TEXT(I3358*I$1,\"# ###,-Ft\")),IF(J3358>0,\"STARS* \"&TEXT(J3358*J$1,\"# ###,-Ft\"),TEXT(I3358*I$1,\"# ###,-Ft  \")))","v":"165 400,-Ft "},null,null,null,null,165400]
[{"$f":"IF(L3359=FALSE,0,COUNTIF(A$3:A3358,\">0\")+1)","v":0},"A089064","BLANK CHISEL SHANK ROUND .498\"","17 500,-Ft ",null,null,null,null,17500]
[{"$f":"IF(L3360=FALSE,0,COUNTIF(A$3:A3359,\">0\")+1)","v":0},8940174744,"HEADLIGHT FULL RECHARGE PACK","STARS* 35 060,-Ft",null,null,null,null,47160,35060]
[{"$f":"IF(L3361=FALSE,0,COUNTIF(A$3:A3360,\">0\")+1)","v":0},8940174746,"HEADLIGHT ACCESSORIES W/O CREAM","STARS* 28 580,-Ft",null,null,null,null,35370,28580]
[{"$f":"IF(L3362=FALSE,0,COUNTIF(A$3:A3361,\">0\")+1)","v":0},8940172787,"CP9116 W/O CUTTING WHEEL",{"$f":"IF(H3362=\"SP\",IF(J3362>0,\"SP: \"&TEXT(J3362*I$1,\"# ###,-Ft  \"),\"SP: \"&TEXT(I3362*I$1,\"# ###,-Ft\")),IF(J3362>0,\"STARS* \"&TEXT(J3362*J$1,\"# ###,-Ft\"),TEXT(I3362*I$1,\"# ###,-Ft  \")))","v":"92 000,-Ft "},null,null,null,null,92000]
[{"$f":"IF(L3363=FALSE,0,COUNTIF(A$3:A3362,\">0\")+1)","v":0},"T024293","CP872K  w/ HOSES","47 440,-Ft ",null,null,null,null,47440]
[{"$f":"IF(L3364=FALSE,0,COUNTIF(A$3:A3363,\">0\")+1)","v":0},6158131800,"REACTION BAR S-TYPE WAVE 40","167 700,-Ft ",null,null,null,null,167700]
[{"$f":"IF(L3365=FALSE,0,COUNTIF(A$3:A3364,\">0\")+1)","v":0},6158131810,"REACTION BAR S-TYPE WAVE 47","178 700,-Ft ",null,null,null,null,178700]
[{"$f":"IF(L3366=FALSE,0,COUNTIF(A$3:A3365,\">0\")+1)","v":0},6158131820,"REACTION BAR S-TYPE WAVE 70","184 200,-Ft ",null,null,null,null,184200]
[{"$f":"IF(L3367=FALSE,0,COUNTIF(A$3:A3366,\">0\")+1)","v":0},6158131830,"REACTION BAR STEEL BAR WAVE 40",{"$f":"IF(H3367=\"SP\",IF(J3367>0,\"SP: \"&TEXT(J3367*I$1,\"# ###,-Ft  \"),\"SP: \"&TEXT(I3367*I$1,\"# ###,-Ft\")),IF(J3367>0,\"STARS* \"&TEXT(J3367*J$1,\"# ###,-Ft\"),TEXT(I3367*I$1,\"# ###,-Ft  \")))","v":"152 600,-Ft "},null,null,null,null,152600]
[{"$f":"IF(L3368=FALSE,0,COUNTIF(A$3:A3367,\">0\")+1)","v":0},6158131840,"REACTION BAR STEEL BAR WAVE 47","170 400,-Ft ",null,null,null,null,170400]
[{"$f":"IF(L3369=FALSE,0,COUNTIF(A$3:A3368,\">0\")+1)","v":0},6158131850,"REACTION BAR STEEL BAR WAVE 70","178 700,-Ft ",null,null,null,null,178700]
[{"$f":"IF(L3370=FALSE,0,COUNTIF(A$3:A3369,\">0\")+1)","v":0},6158131860,"REACTION BAR SLIDING DRIVE WAVE 40","269 100,-Ft ",null,null,null,null,269100]
[{"$f":"IF(L3371=FALSE,0,COUNTIF(A$3:A3370,\">0\")+1)","v":0},6158131870,"REACTION BAR SLIDING DRIVE WAVE 47","300 500,-Ft ",null,null,null,null,300500]
[{"$f":"IF(L3372=FALSE,0,COUNTIF(A$3:A3371,\">0\")+1)","v":0},6158131880,"REACTION BAR SLIDING DRIVE WAVE 70","334 000,-Ft ",null,null,null,null,334000]
[{"$f":"IF(L3373=FALSE,0,COUNTIF(A$3:A3372,\">0\")+1)","v":0},6158131890,"REACTION BAR SQUARE WAVE 40","152 600,-Ft ",null,null,null,null,152600]
[{"$f":"IF(L3374=FALSE,0,COUNTIF(A$3:A3373,\">0\")+1)","v":0},6158131900,"REACTION BAR SQUARE WAVE 47","170 400,-Ft ",null,null,null,null,170400]
[{"$f":"IF(L3375=FALSE,0,COUNTIF(A$3:A3374,\">0\")+1)","v":0},6158131910,"REACTION BAR SQUARE WAVE 70","175 900,-Ft ",null,null,null,null,175900]
[{"$f":"IF(L3376=FALSE,0,COUNTIF(A$3:A3375,\">0\")+1)","v":0},8941087029,"ERGOSEAT CP87029",{"$f":"IF(H3376=\"C\",IF(J3376>0,\"C #: \"&TEXT(J3376*I$1,\"# ###,-Ft  \"),\"C #: \"&TEXT(I3376*I$1,\"# ###,-Ft\")),IF(J3376>0,\"TOPS* \"&TEXT(J3376*J$1,\"# ###,-Ft\"),TEXT(I3376*I$1,\"# ###,-Ft  \")))","v":"C #: 516 000,-Ft"},null,null,null,"C",516000]
[{"$f":"IF(L3377=FALSE,0,COUNTIF(A$3:A3376,\">0\")+1)","v":0},6151580380," CP1114R05 ATEX","311 400,-Ft ",null,null,null,null,311400]
[{"$f":"IF(L3378=FALSE,0,COUNTIF(A$3:A3377,\">0\")+1)","v":0},6151580390," CP1114R26 ATEX","295 000,-Ft ",null,null,null,null,295000]
[{"$f":"IF(L3379=FALSE,0,COUNTIF(A$3:A3378,\">0\")+1)","v":0},6151580350," CP1117P05 ATEX","318 000,-Ft ",null,null,null,null,318000]
[{"$f":"IF(L3380=FALSE,0,COUNTIF(A$3:A3379,\">0\")+1)","v":0},6151580370," CP1117P26 ATEX","303 200,-Ft ",null,null,null,null,303200]
[{"$f":"IF(L3381=FALSE,0,COUNTIF(A$3:A3380,\">0\")+1)","v":0},6151580360," CP1117P32 ATEX","303 200,-Ft ",null,null,null,null,303200]
[{"$f":"IF(L3382=FALSE,0,COUNTIF(A$3:A3381,\">0\")+1)","v":0},6151609220,"CP3330 SALAVAD 7\" VERTICAL GRINDER ","375 000,-Ft ",null,null,null,null,375000]
[{"$f":"IF(L3383=FALSE,0,COUNTIF(A$3:A3382,\">0\")+1)","v":0},6151609230,"CP3330 SALAVEL 9\" VERTICAL GRINDER ","375 000,-Ft ",null,null,null,null,375000]
[{"$f":"IF(L3384=FALSE,0,COUNTIF(A$3:A3383,\">0\")+1)","v":0},6151609210,"CP3330 SALAVET 6\" VERTICAL GRINDER ","375 000,-Ft ",null,null,null,null,375000]
[{"$f":"IF(L3385=FALSE,0,COUNTIF(A$3:A3384,\">0\")+1)","v":0},6151609280," CP3340 SALAVAD 7\" VERTICAL GRINDER","440 000,-Ft ",null,null,null,null,440000]
[{"$f":"IF(L3386=FALSE,0,COUNTIF(A$3:A3385,\">0\")+1)","v":0},6151609290,"CP3340 SALAVEL 9\" VERTICAL GRINDER ","440 000,-Ft ",null,null,null,null,440000]
[{"$f":"IF(L3387=FALSE,0,COUNTIF(A$3:A3386,\">0\")+1)","v":0},6151609270,"CP3340 SALAVET 6\" VERTICAL GRINDER ","440 000,-Ft ",null,null,null,null,440000]
[{"$f":"IF(L3388=FALSE,0,COUNTIF(A$3:A3387,\">0\")+1)","v":0},8941077551,"IMPACT WRENCH CP7755 AIR FLEX ","STARS* 118 900,-Ft",null,null,null,null,null,118900]
[{"$f":"IF(L3389=FALSE,0,COUNTIF(A$3:A3388,\">0\")+1)","v":0},8941077550,"IMPACT WRENCH CP7755","STARS* 105 900,-Ft",null,null,null,null,null,105900]
[{"$f":"IF(L3390=FALSE,0,COUNTIF(A$3:A3389,\">0\")+1)","v":0},8941077481,"IMPACT WRENCH CP7748","STARS* 70 700,-Ft",null,null,null,null,null,70700]
[{"$f":"IF(L3391=FALSE,0,COUNTIF(A$3:A3390,\">0\")+1)","v":0},8941077487,"IMPACT WRENCH CP7748TL","STARS* 72 800,-Ft",null,null,null,null,null,72800]
[{"$f":"IF(L3392=FALSE,0,COUNTIF(A$3:A3391,\">0\")+1)","v":0},8940175618,"PROTECTIVE COVER CP7748","STARS* 5 270,-Ft",null,null,null,null,null,5270]
[{"$f":"IF(L3393=FALSE,0,COUNTIF(A$3:A3392,\">0\")+1)","v":0},8940174064,"PROTECTIVE COVER CP7732C","STARS* 3 690,-Ft",null,null,null,null,null,3690]
[{"$f":"IF(L3394=FALSE,0,COUNTIF(A$3:A3393,\">0\")+1)","v":0},8941077691,"IMPACT WRENCH CP7769 D 3/4\"","STARS* 161 600,-Ft",null,null,null,null,null,161600]
[{"$f":"IF(L3395=FALSE,0,COUNTIF(A$3:A3394,\">0\")+1)","v":0},8940164476,"SS818 1\"DR 8PCS MET IMP  SET","STARS* 53 600,-Ft",null,null,null,null,null,53600]
[{"$f":"IF(L3396=FALSE,0,COUNTIF(A$3:A3395,\">0\")+1)","v":0},8941077827,"IMPACT WRENCH CP7782TL-6  1\"","STARS* 238 000,-Ft",null,null,null,null,null,238000]
[{"$f":"IF(L3397=FALSE,0,COUNTIF(A$3:A3396,\">0\")+1)","v":0},8941077791,"IMPACT WRENCH CP7779 D  1\"","STARS* 172 200,-Ft",null,null,null,null,null,172200]
[{"$f":"IF(L3398=FALSE,0,COUNTIF(A$3:A3397,\">0\")+1)","v":0},8941097900,"CP9790C RV 3/8\"KEY DRILL","STARS* 42 610,-Ft",null,null,null,null,null,42610]
[{"$f":"IF(L3399=FALSE,0,COUNTIF(A$3:A3398,\">0\")+1)","v":0},8941097920,"CP9792C RV 3/8\"K.LESS DRILL","STARS* 42 610,-Ft",null,null,null,null,null,42610]
[{"$f":"IF(L3400=FALSE,0,COUNTIF(A$3:A3399,\">0\")+1)","v":0},8941097890,"CP9789C RV 1/2\"KEY DRILL","STARS* 62 400,-Ft",null,null,null,null,null,62400]
[{"$f":"IF(L3401=FALSE,0,COUNTIF(A$3:A3400,\">0\")+1)","v":0},8941097910,"CP9791C RV 1/2\"K.LESS DRILL","STARS* 62 400,-Ft",null,null,null,null,null,62400]
[{"$f":"IF(L3402=FALSE,0,COUNTIF(A$3:A3401,\">0\")+1)","v":0},8941071601,"LOW VIBRATION SHORT HAMMER CP7160K","STARS* 63 500,-Ft",null,null,null,null,null,63500]
[{"$f":"IF(L3403=FALSE,0,COUNTIF(A$3:A3402,\">0\")+1)","v":0},8941071651,"LOW VIBRATION LONG HAMMER  CP7165K","STARS* 68 700,-Ft",null,null,null,null,null,68700]
[{"$f":"IF(L3404=FALSE,0,COUNTIF(A$3:A3403,\">0\")+1)","v":0},8940175873,"TIRE BUFFING WHEEL 3/8\" HEXA","STARS* 4 720,-Ft",null,null,null,null,null,4720]
[{"$f":"IF(L3405=FALSE,0,COUNTIF(A$3:A3404,\">0\")+1)","v":0},8941088490,"CORDLESS IMPACT 1/2\" CP8849 Pack 4.0Ah","STARS* 235 000,-Ft",null,null,null,null,null,235000]
[{"$f":"IF(L3406=FALSE,0,COUNTIF(A$3:A3405,\">0\")+1)","v":0},8941088492,"CORDLESS IMPACT 1/2\" CP8849 Pack 6.0Ah","STARS* 254 000,-Ft",null,null,null,null,null,254000]
[{"$f":"IF(L3407=FALSE,0,COUNTIF(A$3:A3406,\">0\")+1)","v":0},8941090600,"BOOSTER CP90600 BATTERYLESS CA",{"$f":"IF(H3407=\"C\",IF(J3407>0,\"C #: \"&TEXT(J3407*I$1,\"# ###,-Ft  \"),\"C #: \"&TEXT(I3407*I$1,\"# ###,-Ft\")),IF(J3407>0,\"TOPS* \"&TEXT(J3407*J$1,\"# ###,-Ft\"),TEXT(I3407*I$1,\"# ###,-Ft  \")))","v":"C #: 523 000,-Ft "},null,null,null,"C",null,523000]
[{"$f":"IF(L3408=FALSE,0,COUNTIF(A$3:A3407,\">0\")+1)","v":0},8940176036,"CP7748TL + SOCKET SET","112 500,-Ft ","PRODUCT",null,null,null,112500]
[{"$f":"IF(L3409=FALSE,0,COUNTIF(A$3:A3408,\">0\")+1)","v":0},8940176037,"CP7748-2 + SOCKET SET","112 800,-Ft ","PRODUCT",null,null,null,112800]
[{"$f":"IF(L3410=FALSE,0,COUNTIF(A$3:A3409,\">0\")+1)","v":0},8940176038,"CP7748TL-2 + SOCKET SET","121 400,-Ft ","PRODUCT",null,null,null,121400]
[{"$f":"IF(L3411=FALSE,0,COUNTIF(A$3:A3410,\">0\")+1)","v":0},8940176119,"STAND DISPLAY + 4 CP7748 G","419 000,-Ft ","PRODUCT",null,null,null,419000]
[{"$f":"IF(L3412=FALSE,0,COUNTIF(A$3:A3411,\">0\")+1)","v":0},8940176120,"PROMO DISPLAY + WINTER JACKET L",{"$f":"IF(H3412=\"C\",IF(J3412>0,\"C #: \"&TEXT(J3412*I$1,\"# ###,-Ft  \"),\"C #: \"&TEXT(I3412*I$1,\"# ###,-Ft\")),IF(J3412>0,\"TOPS* \"&TEXT(J3412*J$1,\"# ###,-Ft\"),TEXT(I3412*I$1,\"# ###,-Ft  \")))","v":"C #: 801 000,-Ft"},"PRODUCT",null,null,"C",801000]
[{"$f":"IF(L3413=FALSE,0,COUNTIF(A$3:A3412,\">0\")+1)","v":0},8940176121,"PROMO DISPLAY + WINTER JACKET XL","C #: 801 000,-Ft","PRODUCT",null,null,"C",801000]
[{"$f":"IF(L3414=FALSE,0,COUNTIF(A$3:A3413,\">0\")+1)","v":0},8940176122,"PROMO DISPLAY + WINTER JACKET XXL","C #: 801 000,-Ft","PRODUCT",null,null,"C",801000]
[{"$f":"IF(L3415=FALSE,0,COUNTIF(A$3:A3414,\">0\")+1)","v":0},8940176137,"PROMO IMPACT CP7748 G + CP SOFT BAG","106 900,-Ft ","PRODUCT",null,null,null,106900]
[{"$f":"IF(L3416=FALSE,0,COUNTIF(A$3:A3415,\">0\")+1)","v":0},8940176138,"PROMO IMPACT CP7748 G + WP (17-19-21 MM)","117 800,-Ft ","PRODUCT",null,null,null,117800]
[{"$f":"IF(L3417=FALSE,0,COUNTIF(A$3:A3416,\">0\")+1)","v":0},8940176139,"PROMO IMPACT CP7748 G + CP8915 1/2\"- Nm","166 300,-Ft ","PRODUCT",null,null,null,166300]
[{"$f":"IF(L3418=FALSE,0,COUNTIF(A$3:A3417,\">0\")+1)","v":0},8940176140,"PROMO IMPACT CP7748 G + CP8917 1/2\" - Ft","169 600,-Ft ","PRODUCT",null,null,null,169600]
[{"$f":"IF(L3419=FALSE,0,COUNTIF(A$3:A3418,\">0\")+1)","v":0},8940176239,"PROMO CP7755 AIR FLEX MINI + SPEAKER","164 300,-Ft ","PRODUCT",null,null,null,164300]
[{"$f":"IF(L3420=FALSE,0,COUNTIF(A$3:A3419,\">0\")+1)","v":0},8940176241,"PROMO CP7748TL-2 + CP8917","174 200,-Ft ","PRODUCT",null,null,null,174200]
[{"$f":"IF(L3421=FALSE,0,COUNTIF(A$3:A3420,\">0\")+1)","v":0},8940176242,"PROMO CP7755-2 AIR FLEX MINI + CP8917","234 400,-Ft ","PRODUCT",null,null,null,234400]
[{"$f":"IF(L3422=FALSE,0,COUNTIF(A$3:A3421,\">0\")+1)","v":0},8940176243,"PROMO CP7755 AIR FLEX MINI + CP8915","222 900,-Ft ","PRODUCT",null,null,null,222900]
[{"$f":"IF(L3423=FALSE,0,COUNTIF(A$3:A3422,\">0\")+1)","v":0},8940176244,"PROMO CP7755 AIRFLEX MINI CPBAG + SCKT","175 800,-Ft ","PRODUCT",null,null,null,175800]
[{"$f":"IF(L3424=FALSE,0,COUNTIF(A$3:A3423,\">0\")+1)","v":0},8940176245,"PROMO CP7755-2 AIRFLEX MINI CPBAG + SCKT","184 100,-Ft ","PRODUCT",null,null,null,184100]
[{"$f":"IF(L3425=FALSE,0,COUNTIF(A$3:A3424,\">0\")+1)","v":0},8940176252,"STARTER PACK - CP7748TL","161 300,-Ft ","PRODUCT",null,null,null,161300]
[{"$f":"IF(L3426=FALSE,0,COUNTIF(A$3:A3425,\">0\")+1)","v":0},8940176253,"ERGO PACK - CP7748TL","184 700,-Ft ","PRODUCT",null,null,null,184700]
[{"$f":"IF(L3427=FALSE,0,COUNTIF(A$3:A3426,\">0\")+1)","v":0},8940176254,"COMPLETE PACK","399 000,-Ft ","PRODUCT",null,null,null,399000]
[{"$f":"IF(L3428=FALSE,0,COUNTIF(A$3:A3427,\">0\")+1)","v":0},8941077328,"CP7732CBC","90 600,-Ft ","PRODUCT",null,null,null,90600]
[{"$f":"IF(L3429=FALSE,0,COUNTIF(A$3:A3428,\">0\")+1)","v":0},8941077486,"CP7748-2 G","109 500,-Ft ","PRODUCT",null,null,null,109500]
[{"$f":"IF(L3430=FALSE,0,COUNTIF(A$3:A3429,\">0\")+1)","v":0},8941077488,"CP7748TL-2 E","113 500,-Ft ","PRODUCT",null,null,null,113500]
[{"$f":"IF(L3431=FALSE,0,COUNTIF(A$3:A3430,\">0\")+1)","v":0},8941077498,"CP7749QKR",{"$f":"IF(H3431=\"SP\",IF(J3431>0,\"SP: \"&TEXT(J3431*I$1,\"# ###,-Ft  \"),\"SP: \"&TEXT(I3431*I$1,\"# ###,-Ft\")),IF(J3431>0,\"STARS* \"&TEXT(J3431*J$1,\"# ###,-Ft\"),TEXT(I3431*I$1,\"# ###,-Ft  \")))","v":"127 700,-Ft "},"PRODUCT",null,null,null,127700]
[{"$f":"IF(L3432=FALSE,0,COUNTIF(A$3:A3431,\">0\")+1)","v":0},8941077552,"CP7755-2","152 700,-Ft ","PRODUCT",null,null,null,152700]
[{"$f":"IF(L3433=FALSE,0,COUNTIF(A$3:A3432,\">0\")+1)","v":0},8941077553,"CP7755-2 AIR FLEX MINI","172 500,-Ft ","PRODUCT",null,null,null,172500]
[{"$f":"IF(L3434=FALSE,0,COUNTIF(A$3:A3433,\">0\")+1)","v":0},8941077621,"PROMO PACK CP7762 + PROTECTIVE COVER","187 400,-Ft ","PRODUCT",null,null,null,187400]
[{"$f":"IF(L3435=FALSE,0,COUNTIF(A$3:A3434,\">0\")+1)","v":0},8941077622,"PROMO PACK CP7762 + CP7732","246 500,-Ft ","PRODUCT",null,null,null,246500]
[{"$f":"IF(L3436=FALSE,0,COUNTIF(A$3:A3435,\">0\")+1)","v":0},8941077623,"PROMO PACK CP7762 + SS618","213 700,-Ft ","PRODUCT",null,null,null,213700]
[{"$f":"IF(L3437=FALSE,0,COUNTIF(A$3:A3436,\">0\")+1)","v":0},8941077624,"PROMO PACK CP7762 + CP7732C","250 400,-Ft ","PRODUCT",null,null,null,250400]
[{"$f":"IF(L3438=FALSE,0,COUNTIF(A$3:A3437,\">0\")+1)","v":0},8951000332,"CP7748 + GLOVES","124 700,-Ft ","PRODUCT",null,null,null,124700]
[{"$f":"IF(L3439=FALSE,0,COUNTIF(A$3:A3438,\">0\")+1)","v":0},8940172052,"BMC CP7200 W/O TOOL","5 040,-Ft ","PRODUCT",null,null,null,5040]
[{"$f":"IF(L3440=FALSE,0,COUNTIF(A$3:A3439,\">0\")+1)","v":0},8940172053,"BMC CP7201 W/O TOOL","5 040,-Ft ","PRODUCT",null,null,null,5040]
[{"$f":"IF(L3441=FALSE,0,COUNTIF(A$3:A3440,\">0\")+1)","v":0},8941050003,"CP5000KR",{"$f":"IF(H3441=\"C\",IF(J3441>0,\"C #: \"&TEXT(J3441*I$1,\"# ###,-Ft  \"),\"C #: \"&TEXT(I3441*I$1,\"# ###,-Ft\")),IF(J3441>0,\"TOPS* \"&TEXT(J3441*J$1,\"# ###,-Ft\"),TEXT(I3441*I$1,\"# ###,-Ft  \")))","v":"C #: 693 000,-Ft"},"PRODUCT",null,null,"C",693000]
[{"$f":"IF(L3442=FALSE,0,COUNTIF(A$3:A3441,\">0\")+1)","v":0},8941077697,"CP7769-6 D","268 100,-Ft ","PRODUCT",null,null,null,268100]
[{"$f":"IF(L3443=FALSE,0,COUNTIF(A$3:A3442,\">0\")+1)","v":0},8941077831,"PROMO PACK CP7783 + SS814D","386 000,-Ft ","PRODUCT",null,null,null,386000]
[{"$f":"IF(L3444=FALSE,0,COUNTIF(A$3:A3443,\">0\")+1)","v":0},8941077832,"PROMO PACK CP7783-6 + CP8925 Nm",{"$f":"IF(H3444=\"C\",IF(J3444>0,\"C #: \"&TEXT(J3444*I$1,\"# ###,-Ft  \"),\"C #: \"&TEXT(I3444*I$1,\"# ###,-Ft\")),IF(J3444>0,\"TOPS* \"&TEXT(J3444*J$1,\"# ###,-Ft\"),TEXT(I3444*I$1,\"# ###,-Ft  \")))","v":"C #: 650 000,-Ft"},"PRODUCT",null,null,"C",650000]
[{"$f":"IF(L3445=FALSE,0,COUNTIF(A$3:A3444,\">0\")+1)","v":0},8941077833,"PROMO PACK CP7783 + CP8925 Nm","C #: 650 000,-Ft","PRODUCT",null,null,"C",650000]
[{"$f":"IF(L3446=FALSE,0,COUNTIF(A$3:A3445,\">0\")+1)","v":0},8941077837,"PROMO PACK CP7783-6 + SS814D","386 000,-Ft ","PRODUCT",null,null,null,386000]
[{"$f":"IF(L3447=FALSE,0,COUNTIF(A$3:A3446,\">0\")+1)","v":0},33213,"MOUNTING FLANGE 2.75\"CRS ","38 780,-Ft ","ACCESSORY",null,null,null,38780]
[{"$f":"IF(L3448=FALSE,0,COUNTIF(A$3:A3447,\">0\")+1)","v":0},286423,"MOUNTING FLANGE ","29 190,-Ft ","ACCESSORY",null,null,null,29190]
[{"$f":"IF(L3449=FALSE,0,COUNTIF(A$3:A3448,\">0\")+1)","v":0},317743,"MOUNTING FLANGE ","80 100,-Ft ","ACCESSORY",null,null,null,80100]
[{"$f":"IF(L3450=FALSE,0,COUNTIF(A$3:A3449,\">0\")+1)","v":0},2050025893,"MOUNTING FLANGE ","17 620,-Ft ","ACCESSORY",null,null,null,17620]
[{"$f":"IF(L3451=FALSE,0,COUNTIF(A$3:A3450,\">0\")+1)","v":0},2050536383,"MOUNTING FLANGE NO HOLE M39/MR39 KL/TL","24 220,-Ft ","ACCESSORY",null,null,null,24220]
[{"$f":"IF(L3452=FALSE,0,COUNTIF(A$3:A3451,\">0\")+1)","v":0},2050536393,"MOUNTING FLANGE NO HOLE M25/MR25 KL/TL","28 020,-Ft ","ACCESSORY",null,null,null,28020]
[{"$f":"IF(L3453=FALSE,0,COUNTIF(A$3:A3452,\">0\")+1)","v":0},2050536403,"MOUNTING FLANGE M16 / MR16 KL","38 920,-Ft ","ACCESSORY",null,null,null,38920]
[{"$f":"IF(L3454=FALSE,0,COUNTIF(A$3:A3453,\">0\")+1)","v":0},2050536413,"MOUNTING FLANGE HOLES M/MR84 H.SPEED","51 670,-Ft ","ACCESSORY",null,null,null,51670]
[{"$f":"IF(L3455=FALSE,0,COUNTIF(A$3:A3454,\">0\")+1)","v":0},2050536433,"MOUNTING FLANGE HOLES M39/MR39 KSL","76 000,-Ft ","ACCESSORY",null,null,null,76000]
[{"$f":"IF(L3456=FALSE,0,COUNTIF(A$3:A3455,\">0\")+1)","v":0},2050536443,"MOUNTING FLANGE M25 / MR25 KSL","60 300,-Ft ","ACCESSORY",null,null,null,60300]
[{"$f":"IF(L3457=FALSE,0,COUNTIF(A$3:A3456,\">0\")+1)","v":0},2050536453,"MOUNTING FLANGE M16 / MR16 KSL","78 000,-Ft ","ACCESSORY",null,null,null,78000]
[{"$f":"IF(L3458=FALSE,0,COUNTIF(A$3:A3457,\">0\")+1)","v":0},2050536463,"MOUNTING FOOT M25 / MR25 KL/TL","47 890,-Ft ","ACCESSORY",null,null,null,47890]
[{"$f":"IF(L3459=FALSE,0,COUNTIF(A$3:A3458,\">0\")+1)","v":0},2050536473,"MOUNTING FOOT M39 / MR39 KL/TL","45 210,-Ft ","ACCESSORY",null,null,null,45210]
[{"$f":"IF(L3460=FALSE,0,COUNTIF(A$3:A3459,\">0\")+1)","v":0},2050536483,"MOUNTING FOOT M/MR84 LOW SPEED / M180","30 650,-Ft ","ACCESSORY",null,null,null,30650]
[{"$f":"IF(L3461=FALSE,0,COUNTIF(A$3:A3460,\">0\")+1)","v":0},2050536493,"MOUNTING FOOT M16 / MR16 KL","28 910,-Ft ","ACCESSORY",null,null,null,28910]
[{"$f":"IF(L3462=FALSE,0,COUNTIF(A$3:A3461,\">0\")+1)","v":0},2050536503,"MOUNTING FOOT M84 / MR84 K","47 890,-Ft ","ACCESSORY",null,null,null,47890]
[{"$f":"IF(L3463=FALSE,0,COUNTIF(A$3:A3462,\">0\")+1)","v":0},2050536513,"MOUNTING FOOT M39 / MR39 KSL","53 720,-Ft ","ACCESSORY",null,null,null,53720]
[{"$f":"IF(L3464=FALSE,0,COUNTIF(A$3:A3463,\">0\")+1)","v":0},2050536523,"MOUNTING FOOT M25 / MR25 KSL","56 300,-Ft ","ACCESSORY",null,null,null,56300]
[{"$f":"IF(L3465=FALSE,0,COUNTIF(A$3:A3464,\">0\")+1)","v":0},2050536533,"MOUNTING FOOT M16 / MR16 KSL","61 700,-Ft ","ACCESSORY",null,null,null,61700]
[{"$f":"IF(L3466=FALSE,0,COUNTIF(A$3:A3465,\">0\")+1)","v":0},2050540623,"MOUNTING FLANGE WITH HOLES M25","27 140,-Ft ","ACCESSORY",null,null,null,27140]
[{"$f":"IF(L3467=FALSE,0,COUNTIF(A$3:A3466,\">0\")+1)","v":0},2050540673,"MOUNTING FLANGE WITH HOLES M39","25 610,-Ft ","ACCESSORY",null,null,null,25610]
[{"$f":"IF(L3468=FALSE,0,COUNTIF(A$3:A3467,\">0\")+1)","v":0},2050541743,"BRONZE SILENCER G1/8","2 050,-Ft ","ACCESSORY",null,null,null,2050]
[{"$f":"IF(L3469=FALSE,0,COUNTIF(A$3:A3468,\">0\")+1)","v":0},2050541753,"BRONZE SILENCER G1/4","2 650,-Ft ","ACCESSORY",null,null,null,2650]
[{"$f":"IF(L3470=FALSE,0,COUNTIF(A$3:A3469,\">0\")+1)","v":0},2050541763,"BRONZE SILENCER G1/2","5 150,-Ft ","ACCESSORY",null,null,null,5150]
[{"$f":"IF(L3471=FALSE,0,COUNTIF(A$3:A3470,\">0\")+1)","v":0},2050541773,"SILENCER B TYPE FOR AIR MOTORS","20 420,-Ft ","ACCESSORY",null,null,null,20420]
[{"$f":"IF(L3472=FALSE,0,COUNTIF(A$3:A3471,\">0\")+1)","v":0},2050541783,"SILENCER C TYPE FOR AIR MOTORS","46 080,-Ft ","ACCESSORY",null,null,null,46080]
[{"$f":"IF(L3473=FALSE,0,COUNTIF(A$3:A3472,\">0\")+1)","v":0},2050553143,"MOUNTING FLANGE NO HOLE M39/MR39 KSL","58 900,-Ft ","ACCESSORY",null,null,null,58900]
[{"$f":"IF(L3474=FALSE,0,COUNTIF(A$3:A3473,\">0\")+1)","v":0},2050557843,"SPRING LOADED SHAFT 1/2\" SQUARE  Ø16","137 900,-Ft ","ACCESSORY",null,null,null,137900]
[{"$f":"IF(L3475=FALSE,0,COUNTIF(A$3:A3474,\">0\")+1)","v":0},2050557863,"SPRING LOADED SHAFT 1/2\" SQUARE  Ø19","137 900,-Ft ","ACCESSORY",null,null,null,137900]
[{"$f":"IF(L3476=FALSE,0,COUNTIF(A$3:A3475,\">0\")+1)","v":0},2050558683,"SPRING LOADED SHAFT 3/8\" SQUARE  Ø12","137 900,-Ft ","ACCESSORY",null,null,null,137900]
[{"$f":"IF(L3477=FALSE,0,COUNTIF(A$3:A3476,\">0\")+1)","v":0},6155261500,"KIT COLLET HOLDER CNOMO","24 980,-Ft ","ACCESSORY",null,null,null,24980]
[{"$f":"IF(L3478=FALSE,0,COUNTIF(A$3:A3477,\">0\")+1)","v":0},8951000335,"CP7255CVE + PAD","112 800,-Ft ","PRODUCT",null,null,null,112800]
[{"$f":"IF(L3479=FALSE,0,COUNTIF(A$3:A3478,\">0\")+1)","v":0},8951000384,"RC7915 + CP7255CVE",{"$f":"IF(H3479=\"C\",IF(J3479>0,\"C #: \"&TEXT(J3479*I$1,\"# ###,-Ft  \"),\"C #: \"&TEXT(I3479*I$1,\"# ###,-Ft\")),IF(J3479>0,\"TOPS* \"&TEXT(J3479*J$1,\"# ###,-Ft\"),TEXT(I3479*I$1,\"# ###,-Ft  \")))","v":"C #: 730 000,-Ft"},"PRODUCT",null,null,"C",730000]
[{"$f":"IF(L3480=FALSE,0,COUNTIF(A$3:A3479,\">0\")+1)","v":0},8941071600,"CP7160","70 400,-Ft ","PRODUCT",null,null,null,70400]
[{"$f":"IF(L3481=FALSE,0,COUNTIF(A$3:A3480,\">0\")+1)","v":0},8941071650,"CP7165","78 000,-Ft ","PRODUCT",null,null,null,78000]
[{"$f":"IF(L3482=FALSE,0,COUNTIF(A$3:A3481,\">0\")+1)","v":0},8941092850,"CP9285C 3/8\"KEY DRILL","59 400,-Ft ","PRODUCT",null,null,null,59400]
[{"$f":"IF(L3483=FALSE,0,COUNTIF(A$3:A3482,\">0\")+1)","v":0},8941092860,"CP9286C 1/2\"KEY DRILL","94 900,-Ft ","PRODUCT",null,null,null,94900]
[{"$f":"IF(L3484=FALSE,0,COUNTIF(A$3:A3483,\">0\")+1)","v":0},8941092870,"CP9287C 3/8\"K.LESS DRILL","59 400,-Ft ","PRODUCT",null,null,null,59400]
[{"$f":"IF(L3485=FALSE,0,COUNTIF(A$3:A3484,\">0\")+1)","v":0},8941092880,"CP9288C 1/2\"K.LESS DRILL","94 900,-Ft ","PRODUCT",null,null,null,94900]
[{"$f":"IF(L3486=FALSE,0,COUNTIF(A$3:A3485,\">0\")+1)","v":0},6151710180,"CP4210CS",{"$f":"IF(H3486=\"C\",IF(J3486>0,\"C #: \"&TEXT(J3486*I$1,\"# ###,-Ft  \"),\"C #: \"&TEXT(I3486*I$1,\"# ###,-Ft\")),IF(J3486>0,\"TOPS* \"&TEXT(J3486*J$1,\"# ###,-Ft\"),TEXT(I3486*I$1,\"# ###,-Ft  \")))","v":"C #: 544 000,-Ft"},"PRODUCT",null,null,"C",544000]
[{"$f":"IF(L3487=FALSE,0,COUNTIF(A$3:A3486,\">0\")+1)","v":0},6151710190,"CP4220CS","C #: 641 000,-Ft","PRODUCT",null,null,"C",641000]
[{"$f":"IF(L3488=FALSE,0,COUNTIF(A$3:A3487,\">0\")+1)","v":0},6151710200,"CP4210AS","C #: 544 000,-Ft","PRODUCT",null,null,"C",544000]
[{"$f":"IF(L3489=FALSE,0,COUNTIF(A$3:A3488,\">0\")+1)","v":0},6151710210,"CP4220AS","C #: 641 000,-Ft","PRODUCT",null,null,"C",641000]
[{"$f":"IF(L3490=FALSE,0,COUNTIF(A$3:A3489,\">0\")+1)","v":0},6151710220,"CP4210AL","C #: 622 000,-Ft","PRODUCT",null,null,"C",622000]
[{"$f":"IF(L3491=FALSE,0,COUNTIF(A$3:A3490,\">0\")+1)","v":0},6151710230,"CP4220AL","C #: 719 000,-Ft","PRODUCT",null,null,"C",719000]
[{"$f":"IF(L3492=FALSE,0,COUNTIF(A$3:A3491,\">0\")+1)","v":0},6151740590,"CP4281","202 100,-Ft ","PRODUCT",null,null,null,202100]
[{"$f":"IF(L3493=FALSE,0,COUNTIF(A$3:A3492,\">0\")+1)","v":0},6151740600,"CP4282","213 100,-Ft ","PRODUCT",null,null,null,213100]
[{"$f":"IF(L3494=FALSE,0,COUNTIF(A$3:A3493,\">0\")+1)","v":0},6151740610,"CP4283","221 300,-Ft ","PRODUCT",null,null,null,221300]
[{"$f":"IF(L3495=FALSE,0,COUNTIF(A$3:A3494,\">0\")+1)","v":0},6151740620,"CP4284",{"$f":"IF(H3495=\"SP\",IF(J3495>0,\"SP: \"&TEXT(J3495*I$1,\"# ###,-Ft  \"),\"SP: \"&TEXT(I3495*I$1,\"# ###,-Ft\")),IF(J3495>0,\"STARS* \"&TEXT(J3495*J$1,\"# ###,-Ft\"),TEXT(I3495*I$1,\"# ###,-Ft  \")))","v":"229 500,-Ft "},"PRODUCT",null,null,null,229500]
[{"$f":"IF(L3496=FALSE,0,COUNTIF(A$3:A3495,\">0\")+1)","v":0},6151740630,"CP4285","290 900,-Ft ","PRODUCT",null,null,null,290900]
[{"$f":"IF(L3497=FALSE,0,COUNTIF(A$3:A3496,\">0\")+1)","v":0},6151740640,"CP4287","317 500,-Ft ","PRODUCT",null,null,null,317500]
[{"$f":"IF(L3498=FALSE,0,COUNTIF(A$3:A3497,\">0\")+1)","v":0},6151740650,"CP4289","326 000,-Ft ","PRODUCT",null,null,null,326000]
[{"$f":"IF(L3499=FALSE,0,COUNTIF(A$3:A3498,\">0\")+1)","v":0},6153609390,"CHISEL KIT RIVET HAMMER CP4281","23 110,-Ft ","ACCESSORY",null,null,null,23110]
[{"$f":"IF(L3500=FALSE,0,COUNTIF(A$3:A3499,\">0\")+1)","v":0},6153609400,"CHISEL KIT RIVET HAMMER CP4282-3-4","27 140,-Ft ","ACCESSORY",null,null,null,27140]
[{"$f":"IF(L3501=FALSE,0,COUNTIF(A$3:A3500,\">0\")+1)","v":0},6153609410,"CHISEL KIT RIVET HAMMER CP4285-7-9","45 940,-Ft ","ACCESSORY",null,null,null,45940]
[{"$f":"IF(L3502=FALSE,0,COUNTIF(A$3:A3501,\">0\")+1)","v":0},6153609420,"BUCKING BAR SHORT","74 700,-Ft ","ACCESSORY",null,null,null,74700]
[{"$f":"IF(L3503=FALSE,0,COUNTIF(A$3:A3502,\">0\")+1)","v":0},6153609430,"BUCKING BAR LONG","78 800,-Ft ","ACCESSORY",null,null,null,78800]
[{"$f":"IF(L3504=FALSE,0,COUNTIF(A$3:A3503,\">0\")+1)","v":0},6158131770,"SUSPENSION YOKE CP6613","218 500,-Ft ","ACCESSORY",null,null,null,218500]
[{"$f":"IF(L3505=FALSE,0,COUNTIF(A$3:A3504,\">0\")+1)","v":0},6158131780,"SUSPENSION YOKE CP6626","226 700,-Ft ","ACCESSORY",null,null,null,226700]
[{"$f":"IF(L3506=FALSE,0,COUNTIF(A$3:A3505,\">0\")+1)","v":0},6158131790,"SUSPENSION YOKE CP6641","248 600,-Ft ","ACCESSORY",null,null,null,248600]
[{"$f":"IF(L3507=FALSE,0,COUNTIF(A$3:A3506,\">0\")+1)","v":0},6151600620,"CP3550-120","322 000,-Ft ","PRODUCT",null,null,null,322000]
[{"$f":"IF(L3508=FALSE,0,COUNTIF(A$3:A3507,\">0\")+1)","v":0},6151600630,"CP3550-180","322 000,-Ft ","PRODUCT",null,null,null,322000]
[{"$f":"IF(L3509=FALSE,0,COUNTIF(A$3:A3508,\">0\")+1)","v":0},6151602350,"CP3550-120ES","362 000,-Ft ","PRODUCT",null,null,null,362000]
[{"$f":"IF(L3510=FALSE,0,COUNTIF(A$3:A3509,\">0\")+1)","v":0},6151602360,"CP3550-180ES","362 000,-Ft ","PRODUCT",null,null,null,362000]
[{"$f":"IF(L3511=FALSE,0,COUNTIF(A$3:A3510,\">0\")+1)","v":0},6151607750,"CP3550-120AC4","307 300,-Ft ","PRODUCT",null,null,null,307300]
[{"$f":"IF(L3512=FALSE,0,COUNTIF(A$3:A3511,\">0\")+1)","v":0},6151607760,"CP3550-120AA45","307 300,-Ft ","PRODUCT",null,null,null,307300]
[{"$f":"IF(L3513=FALSE,0,COUNTIF(A$3:A3512,\">0\")+1)","v":0},6151607770,"CP3550-120AB45","307 300,-Ft ","PRODUCT",null,null,null,307300]
[{"$f":"IF(L3514=FALSE,0,COUNTIF(A$3:A3513,\">0\")+1)","v":0},6151607780,"CP3550-120AA5","307 300,-Ft ","PRODUCT",null,null,null,307300]
[{"$f":"IF(L3515=FALSE,0,COUNTIF(A$3:A3514,\">0\")+1)","v":0},6151607790,"CP3550-120AB5","307 300,-Ft ","PRODUCT",null,null,null,307300]
[{"$f":"IF(L3516=FALSE,0,COUNTIF(A$3:A3515,\">0\")+1)","v":0},6151607800,"CP3550-100AB6","307 300,-Ft ","PRODUCT",null,null,null,307300]
[{"$f":"IF(L3517=FALSE,0,COUNTIF(A$3:A3516,\">0\")+1)","v":0},6151604420,"CP3550-120ACC","307 300,-Ft ","PRODUCT",null,null,null,307300]
[{"$f":"IF(L3518=FALSE,0,COUNTIF(A$3:A3517,\">0\")+1)","v":0},6151609250,"CP3330 SALAVADE 7\"","375 000,-Ft ","PRODUCT",null,null,null,375000]
[{"$f":"IF(L3519=FALSE,0,COUNTIF(A$3:A3518,\">0\")+1)","v":0},6151609260,"CP3330 SALAVELE 9\"","375 000,-Ft ","PRODUCT",null,null,null,375000]
[{"$f":"IF(L3520=FALSE,0,COUNTIF(A$3:A3519,\">0\")+1)","v":0},6151609310,"CP3340 SALAVADE 7\"","440 000,-Ft ","PRODUCT",null,null,null,440000]
[{"$f":"IF(L3521=FALSE,0,COUNTIF(A$3:A3520,\">0\")+1)","v":0},6151609320,"CP3340 SALAVELE 9\"","440 000,-Ft ","PRODUCT",null,null,null,440000]
[{"$f":"IF(L3522=FALSE,0,COUNTIF(A$3:A3521,\">0\")+1)","v":0},6151620300,"CP3550-030AA","484 000,-Ft ","PRODUCT",null,null,null,484000]
[{"$f":"IF(L3523=FALSE,0,COUNTIF(A$3:A3522,\">0\")+1)","v":0},6151620310,"CP3550-030AB","484 000,-Ft ","PRODUCT",null,null,null,484000]
[{"$f":"IF(L3524=FALSE,0,COUNTIF(A$3:A3523,\">0\")+1)","v":0},6151620340,"CP3550-085AA","307 300,-Ft ","PRODUCT",null,null,null,307300]
[{"$f":"IF(L3525=FALSE,0,COUNTIF(A$3:A3524,\">0\")+1)","v":0},6151620350,"CP3550-085AB","307 300,-Ft ","PRODUCT",null,null,null,307300]
[{"$f":"IF(L3526=FALSE,0,COUNTIF(A$3:A3525,\">0\")+1)","v":0},6151620360,"CP3550-120AA","307 300,-Ft ","PRODUCT",null,null,null,307300]
[{"$f":"IF(L3527=FALSE,0,COUNTIF(A$3:A3526,\">0\")+1)","v":0},6151620370,"CP3550-120AB","307 300,-Ft ","PRODUCT",null,null,null,307300]
[{"$f":"IF(L3528=FALSE,0,COUNTIF(A$3:A3527,\">0\")+1)","v":0},8940176085,"SA001 ADAPTOR TYPE A","17 820,-Ft ","PRODUCT",null,null,null,17820]
[{"$f":"IF(L3529=FALSE,0,COUNTIF(A$3:A3528,\">0\")+1)","v":0},8940176086,"SA001 ADAPTOR TYPE B","17 820,-Ft ","PRODUCT",null,null,null,17820]
[{"$f":"IF(L3530=FALSE,0,COUNTIF(A$3:A3529,\">0\")+1)","v":0},110402,"AIR FUSE HF 1/4\" BSP ","16 800,-Ft ","ACCESSORY",null,null,null,16800]
[{"$f":"IF(L3531=FALSE,0,COUNTIF(A$3:A3530,\">0\")+1)","v":0},110542,"AIR FUSE LF 1\" NPT ","79 800,-Ft ","ACCESSORY",null,null,null,79800]
[{"$f":"IF(L3532=FALSE,0,COUNTIF(A$3:A3531,\">0\")+1)","v":0},6158105300,"COUPLING EF-H06S 06MM ","8 330,-Ft ","ACCESSORY",null,null,null,8330]
[{"$f":"IF(L3533=FALSE,0,COUNTIF(A$3:A3532,\">0\")+1)","v":0},6158105310,"COUPLING EF-H06S 08MM ","8 330,-Ft ","ACCESSORY",null,null,null,8330]
[{"$f":"IF(L3534=FALSE,0,COUNTIF(A$3:A3533,\">0\")+1)","v":0},6158112440,"AIR FUSE LF 1\" BSP ","58 700,-Ft ","ACCESSORY",null,null,null,58700]
[{"$f":"IF(L3535=FALSE,0,COUNTIF(A$3:A3534,\">0\")+1)","v":0},6158112490,"AIR FUSE HF 1/2 NPT ","26 320,-Ft ","ACCESSORY",null,null,null,26320]
[{"$f":"IF(L3536=FALSE,0,COUNTIF(A$3:A3535,\">0\")+1)","v":0},6158112500,"AIR FUSE HF 3/4 NPT ","29 400,-Ft ","ACCESSORY",null,null,null,29400]
[{"$f":"IF(L3537=FALSE,0,COUNTIF(A$3:A3536,\">0\")+1)","v":0},8940163043,"OVER HOSE ","7 940,-Ft ","ACCESSORY",null,null,null,7940]
[{"$f":"IF(L3538=FALSE,0,COUNTIF(A$3:A3537,\">0\")+1)","v":0},8940175305,"CP AIR FLEX 1/2\" NPT HIGH FLOW ","60 700,-Ft ","ACCESSORY",null,null,null,60700]
[{"$f":"IF(L3539=FALSE,0,COUNTIF(A$3:A3538,\">0\")+1)","v":0},8940175885,"CP AIR FLEX 1/4\" PT ","24 880,-Ft ","ACCESSORY",null,null,null,24880]
[{"$f":"IF(L3540=FALSE,0,COUNTIF(A$3:A3539,\">0\")+1)","v":0},8940175886,"CP AIR FLEX 3/8\" PT ","31 350,-Ft ","ACCESSORY",null,null,null,31350]
[{"$f":"IF(L3541=FALSE,0,COUNTIF(A$3:A3540,\">0\")+1)","v":0},8940175887,"CP AIR FLEX 1/2\" PT ","31 350,-Ft ","ACCESSORY",null,null,null,31350]
[{"$f":"IF(L3542=FALSE,0,COUNTIF(A$3:A3541,\">0\")+1)","v":0},8940175919,"SLOW RETRACTING SPEED FOR HR8113 ","16 320,-Ft ","ACCESSORY",null,null,null,16320]
[{"$f":"IF(L3543=FALSE,0,COUNTIF(A$3:A3542,\">0\")+1)","v":0},8940175922,"HOSE CONNECTOR 8MM SCREW M 1/4\" BSP ","1 150,-Ft ","ACCESSORY",null,null,null,1150]
[{"$f":"IF(L3544=FALSE,0,COUNTIF(A$3:A3543,\">0\")+1)","v":0},8940175923,"HOSE CONNECTOR 10MM SCREW M 1/4\" BSP ","1 150,-Ft ","ACCESSORY",null,null,null,1150]
[{"$f":"IF(L3545=FALSE,0,COUNTIF(A$3:A3544,\">0\")+1)","v":0},8940175924,"HOSE CONNECTOR 8MM SCREW M 3/8\" BSP ","1 200,-Ft ","ACCESSORY",null,null,null,1200]
[{"$f":"IF(L3546=FALSE,0,COUNTIF(A$3:A3545,\">0\")+1)","v":0},8940175925,"HOSE CONNECTOR 10MM SCREW M 3/8\" BSP ","1 330,-Ft ","ACCESSORY",null,null,null,1330]
[{"$f":"IF(L3547=FALSE,0,COUNTIF(A$3:A3546,\">0\")+1)","v":0},8940175926,"HOSE CONNECTOR 10MM SCREW M 1/2\" BSP ","2 450,-Ft ","ACCESSORY",null,null,null,2450]
[{"$f":"IF(L3548=FALSE,0,COUNTIF(A$3:A3547,\">0\")+1)","v":0},8940175927,"HOSE CONNECTOR 16MM SCREW M 1/2\" BSP ","1 880,-Ft ","ACCESSORY",null,null,null,1880]
[{"$f":"IF(L3549=FALSE,0,COUNTIF(A$3:A3548,\">0\")+1)","v":0},8940175928,"HOSE CONNECTOR 16MM SCREW M 3/4\" BSP ","2 890,-Ft ","ACCESSORY",null,null,null,2890]
[{"$f":"IF(L3550=FALSE,0,COUNTIF(A$3:A3549,\">0\")+1)","v":0},8940175929,"HOSE CONNECTOR 25MM SCREW M 1\" BSP ","4 610,-Ft ","ACCESSORY",null,null,null,4610]
[{"$f":"IF(L3551=FALSE,0,COUNTIF(A$3:A3550,\">0\")+1)","v":0},8940175940,"HOSE CONNECTOR 6MM SCREW M 1/4\" NPT ","1 580,-Ft ","ACCESSORY",null,null,null,1580]
[{"$f":"IF(L3552=FALSE,0,COUNTIF(A$3:A3551,\">0\")+1)","v":0},8940175942,"HOSE CONNECTOR 10MM SCREW M 1/4\" NPT ","1 580,-Ft ","ACCESSORY",null,null,null,1580]
[{"$f":"IF(L3553=FALSE,0,COUNTIF(A$3:A3552,\">0\")+1)","v":0},8940175944,"HOSE CONNECTOR 10MM SCREW M 3/8\" NPT ","2 590,-Ft ","ACCESSORY",null,null,null,2590]
[{"$f":"IF(L3554=FALSE,0,COUNTIF(A$3:A3553,\">0\")+1)","v":0},8940175945,"HOSE CONNECTOR 13MM SCREW M 3/8\" NPT ","2 590,-Ft ","ACCESSORY",null,null,null,2590]
[{"$f":"IF(L3555=FALSE,0,COUNTIF(A$3:A3554,\">0\")+1)","v":0},8940175946,"HOSE CONNECTOR 10MM SCREW M 1/2\" NPT ","5 480,-Ft ","ACCESSORY",null,null,null,5480]
[{"$f":"IF(L3556=FALSE,0,COUNTIF(A$3:A3555,\">0\")+1)","v":0},8940175947,"HOSE CONNECTOR 13MM SCREW M 1/2\" NPT ","5 730,-Ft ","ACCESSORY",null,null,null,5730]
[{"$f":"IF(L3557=FALSE,0,COUNTIF(A$3:A3556,\">0\")+1)","v":0},8940176064,"CP AIR FLEX 1/4\" PT HOOKABLE ","24 530,-Ft ","ACCESSORY",null,null,null,24530]
[{"$f":"IF(L3558=FALSE,0,COUNTIF(A$3:A3557,\">0\")+1)","v":0},8940176065,"CP AIR FLEX 3/8\" PT HOOKABLE ","31 540,-Ft ","ACCESSORY",null,null,null,31540]
[{"$f":"IF(L3559=FALSE,0,COUNTIF(A$3:A3558,\">0\")+1)","v":0},8940176066,"CP AIR FLEX 1/2\" PT HOOKABLE ",{"$f":"IF(H3559=\"SP\",IF(J3559>0,\"SP: \"&TEXT(J3559*I$1,\"# ###,-Ft  \"),\"SP: \"&TEXT(I3559*I$1,\"# ###,-Ft\")),IF(J3559>0,\"STARS* \"&TEXT(J3559*J$1,\"# ###,-Ft\"),TEXT(I3559*I$1,\"# ###,-Ft  \")))","v":"31 540,-Ft "},"ACCESSORY",null,null,null,31540]
[{"$f":"IF(L3560=FALSE,0,COUNTIF(A$3:A3559,\">0\")+1)","v":0},61413,"SUSPENSION RING FOR 33.5MMDIA","3 890,-Ft ","ACCESSORY",null,null,null,3890]
[{"$f":"IF(L3561=FALSE,0,COUNTIF(A$3:A3560,\">0\")+1)","v":0},2050481873,"BAIL - SUSPENSION","1 500,-Ft ","ACCESSORY",null,null,null,1500]
[{"$f":"IF(L3562=FALSE,0,COUNTIF(A$3:A3561,\">0\")+1)","v":0},2050482253,"BAIL - SUSPENSION","1 500,-Ft ","ACCESSORY",null,null,null,1500]
[{"$f":"IF(L3563=FALSE,0,COUNTIF(A$3:A3562,\">0\")+1)","v":0},2050532423,"SUSPENSION HOOK","3 210,-Ft ","ACCESSORY",null,null,null,3210]
[{"$f":"IF(L3564=FALSE,0,COUNTIF(A$3:A3563,\">0\")+1)","v":0},2050556993,"SUSPENSION BAIL","1 150,-Ft ","ACCESSORY",null,null,null,1150]
[{"$f":"IF(L3565=FALSE,0,COUNTIF(A$3:A3564,\">0\")+1)","v":0},2050557153,"SUSPENSION BAIL","1 160,-Ft ","ACCESSORY",null,null,null,1160]
[{"$f":"IF(L3566=FALSE,0,COUNTIF(A$3:A3565,\">0\")+1)","v":0},2050560443,"SUSPENSION PLATE WITH WASHER-CP6135","58 200,-Ft ","ACCESSORY",null,null,null,58200]
[{"$f":"IF(L3567=FALSE,0,COUNTIF(A$3:A3566,\">0\")+1)","v":0},2050562573,"SUSPENSION KIT","6 140,-Ft ","ACCESSORY",null,null,null,6140]
[{"$f":"IF(L3568=FALSE,0,COUNTIF(A$3:A3567,\">0\")+1)","v":0},6153989100,"SUSPENSION BAIL KIT","4 860,-Ft ","ACCESSORY",null,null,null,4860]
[{"$f":"IF(L3569=FALSE,0,COUNTIF(A$3:A3568,\">0\")+1)","v":0},6153989380,"SUSPENSION BAIL KIT","5 300,-Ft ","ACCESSORY",null,null,null,5300]
[{"$f":"IF(L3570=FALSE,0,COUNTIF(A$3:A3569,\">0\")+1)","v":0},8940166654,"SUSPENSION YOKE CP7600 NON DISMOUNTABLE","169 500,-Ft ","ACCESSORY",null,null,null,169500]
[{"$f":"IF(L3571=FALSE,0,COUNTIF(A$3:A3570,\">0\")+1)","v":0},8940166659,"SUSPENSION YOKE CP7600-NOR","208 400,-Ft ","ACCESSORY",null,null,null,208400]
[{"$f":"IF(L3572=FALSE,0,COUNTIF(A$3:A3571,\">0\")+1)","v":0},8940166788,"SUSPENSION RING CP7775/74/78","3 560,-Ft ","ACCESSORY",null,null,null,3560]
[{"$f":"IF(L3573=FALSE,0,COUNTIF(A$3:A3572,\">0\")+1)","v":0},8940168159,"SUSPENSION RING","780,-Ft ","ACCESSORY",null,null,null,780]
[{"$f":"IF(L3574=FALSE,0,COUNTIF(A$3:A3573,\">0\")+1)","v":0},8940168729,"SUSPENSION RING KIT","2 760,-Ft ","ACCESSORY",null,null,null,2760]
[{"$f":"IF(L3575=FALSE,0,COUNTIF(A$3:A3574,\">0\")+1)","v":0},8940174655,"SUSPENSION RING","600,-Ft ","ACCESSORY",null,null,null,600]
[{"$f":"IF(L3576=FALSE,0,COUNTIF(A$3:A3575,\">0\")+1)","v":0},8940202285,"SUSPENSION BALL","630,-Ft ","ACCESSORY",null,null,null,630]
[{"$f":"IF(L3577=FALSE,0,COUNTIF(A$3:A3576,\">0\")+1)","v":0},"C053667","SUSPENSION BAIL","40 100,-Ft ","ACCESSORY",null,null,null,40100]
[{"$f":"IF(L3578=FALSE,0,COUNTIF(A$3:A3577,\">0\")+1)","v":0},8940164011,"S426MD 1/2\" DR. DEEP IMPACT SOCKET 26MM ","1 850,-Ft ","ACCESSORY",null,null,null,1850]
[{"$f":"IF(L3579=FALSE,0,COUNTIF(A$3:A3578,\">0\")+1)","v":0},8940164013,"S428MD 1/2\" DR. DEEP IMPACT SOCKET 28MM ","3 530,-Ft ","ACCESSORY",null,null,null,3530]
[{"$f":"IF(L3580=FALSE,0,COUNTIF(A$3:A3579,\">0\")+1)","v":0},8940164014,"S429MD 1/2\" DR. DEEP IMPACT SOCKET 29MM ","2 210,-Ft ","ACCESSORY",null,null,null,2210]
[{"$f":"IF(L3581=FALSE,0,COUNTIF(A$3:A3580,\">0\")+1)","v":0},8940164219,"S620D 3/4\" DR. DEEP IMPACT SOCKET 1-1/4' ","4 640,-Ft ","ACCESSORY",null,null,null,4640]
[{"$f":"IF(L3582=FALSE,0,COUNTIF(A$3:A3581,\">0\")+1)","v":0},8940164255,"S626MD 3/4\" DR. DEEP IMPACT SOCKET 26MM ","4 640,-Ft ","ACCESSORY",null,null,null,4640]
[{"$f":"IF(L3583=FALSE,0,COUNTIF(A$3:A3582,\">0\")+1)","v":0},8940164258,"S629MD 3/4\" DR. DEEP IMPACT SOCKET 29MM ","6 790,-Ft ","ACCESSORY",null,null,null,6790]
[{"$f":"IF(L3584=FALSE,0,COUNTIF(A$3:A3583,\">0\")+1)","v":0},8940164362,"S819D 1\" DR. DEEP IMPACT SOCKET 1-3/16\" ","7 400,-Ft ","ACCESSORY",null,null,null,7400]
[{"$f":"IF(L3585=FALSE,0,COUNTIF(A$3:A3584,\">0\")+1)","v":0},8940164364,"S821D 1\" DR. DEEP IMPACT SOCKET 1-5/16\" ","7 790,-Ft ","ACCESSORY",null,null,null,7790]
[{"$f":"IF(L3586=FALSE,0,COUNTIF(A$3:A3585,\">0\")+1)","v":0},8940164373,"S830D 1\" DR. DEEP IMPACT SOCKET 1-7/8\" ","17 800,-Ft ","ACCESSORY",null,null,null,17800]
[{"$f":"IF(L3587=FALSE,0,COUNTIF(A$3:A3586,\">0\")+1)","v":0},8940164377,"S834D 1\" DR. DEEP IMPACT SOCKET 2-1/8\" ","15 440,-Ft ","ACCESSORY",null,null,null,15440]
[{"$f":"IF(L3588=FALSE,0,COUNTIF(A$3:A3587,\">0\")+1)","v":0},8940164381,"S838D 1\" DR. DEEP IMPACT SOCKET 2-3/8\" ","19 750,-Ft ","ACCESSORY",null,null,null,19750]
[{"$f":"IF(L3589=FALSE,0,COUNTIF(A$3:A3588,\">0\")+1)","v":0},8940164387,"S844D 1\" DR. DEEP IMPACT SOCKET 2-3/4\" ","25 090,-Ft ","ACCESSORY",null,null,null,25090]
[{"$f":"IF(L3590=FALSE,0,COUNTIF(A$3:A3589,\">0\")+1)","v":0},8940164389,"S846D 1\" DR. DEEP IMPACT SOCKET 2-7/8\" ","32 500,-Ft ","ACCESSORY",null,null,null,32500]
[{"$f":"IF(L3591=FALSE,0,COUNTIF(A$3:A3590,\">0\")+1)","v":0},8940164403,"S819MD 1\" DR. DEEP IMPACT SOCKET 19MM ","7 090,-Ft ","ACCESSORY",null,null,null,7090]
[{"$f":"IF(L3592=FALSE,0,COUNTIF(A$3:A3591,\">0\")+1)","v":0},8940164405,"S822MD 1\" DR. DEEP IMPACT SOCKET 22MM ","7 400,-Ft ","ACCESSORY",null,null,null,7400]
[{"$f":"IF(L3593=FALSE,0,COUNTIF(A$3:A3592,\">0\")+1)","v":0},8940164406,"S823MD 1\" DR. DEEP IMPACT SOCKET 23MM ","7 720,-Ft ","ACCESSORY",null,null,null,7720]
[{"$f":"IF(L3594=FALSE,0,COUNTIF(A$3:A3593,\">0\")+1)","v":0},8940164408,"S825MD 1\" DR. DEEP IMPACT SOCKET 25MM ","7 720,-Ft ","ACCESSORY",null,null,null,7720]
[{"$f":"IF(L3595=FALSE,0,COUNTIF(A$3:A3594,\">0\")+1)","v":0},8940164411,"S828MD 1\" DR. DEEP IMPACT SOCKET 28MM ","7 720,-Ft ","ACCESSORY",null,null,null,7720]
[{"$f":"IF(L3596=FALSE,0,COUNTIF(A$3:A3595,\">0\")+1)","v":0},"C155473","RING-RETAINING 1\" DIA 64MM ","3 870,-Ft ","ACCESSORY",null,null,null,3870]
[{"$f":"IF(L3597=FALSE,0,COUNTIF(A$3:A3596,\">0\")+1)","v":0},"C155585","RING-RETAINING 3/4\" DIA 51MM ","2 940,-Ft ","ACCESSORY",null,null,null,2940]
[{"$f":"IF(L3598=FALSE,0,COUNTIF(A$3:A3597,\">0\")+1)","v":0},40002,"KEYED CHUCK 10MM-3/8Inchx24 MULTICRAFT ","6 560,-Ft ","ACCESSORY",null,null,null,6560]
[{"$f":"IF(L3599=FALSE,0,COUNTIF(A$3:A3598,\">0\")+1)","v":0},2050553563,"DUST EXTRACT KIT CP3850 180 (7\") ","172 900,-Ft ","ACCESSORY",null,null,null,172900]
[{"$f":"IF(L3600=FALSE,0,COUNTIF(A$3:A3599,\">0\")+1)","v":0},2050553573,"DUST EXTRACT KIT CP3850 CUTTING ","213 000,-Ft ","ACCESSORY",null,null,null,213000]
[{"$f":"IF(L3601=FALSE,0,COUNTIF(A$3:A3600,\">0\")+1)","v":0},6159901370,"BACKING PAD 6\" H&L M14x2 RIGID ","15 580,-Ft ","ACCESSORY",null,null,null,15580]
[{"$f":"IF(L3602=FALSE,0,COUNTIF(A$3:A3601,\">0\")+1)","v":0},8940172241,"BURR KIT POWER CUT 1/4\" SHANK 5PC IMP ","96 700,-Ft ","ACCESSORY",null,null,null,96700]
[{"$f":"IF(L3603=FALSE,0,COUNTIF(A$3:A3602,\">0\")+1)","v":0},8940172242,"BURR KIT  DOUBLE CUT 1/4\" SHANK 5PC IMP ","77 600,-Ft ","ACCESSORY",null,null,null,77600]
[{"$f":"IF(L3604=FALSE,0,COUNTIF(A$3:A3603,\">0\")+1)","v":0},8940172243,"BURR KIT ALUMINIUM 1/4\" SHANK 5PC IMP ","96 700,-Ft ","ACCESSORY",null,null,null,96700]
[{"$f":"IF(L3605=FALSE,0,COUNTIF(A$3:A3604,\">0\")+1)","v":0},8940172304,"DRILL BIT SET 21PC SET GENERAL USE / IMP ","16 320,-Ft ","ACCESSORY",null,null,null,16320]
[{"$f":"IF(L3606=FALSE,0,COUNTIF(A$3:A3605,\">0\")+1)","v":0},6158132170,"PICK CHISEL HEX SHANK 14.7MM (0.58) ","5 940,-Ft ","ACCESSORY",null,null,null,5940]
[{"$f":"IF(L3607=FALSE,0,COUNTIF(A$3:A3606,\">0\")+1)","v":0},6158132180,"PICK CHISEL HEX SHANK 14.7MM (0.58) ","6 530,-Ft ","ACCESSORY",null,null,null,6530]
[{"$f":"IF(L3608=FALSE,0,COUNTIF(A$3:A3607,\">0\")+1)","v":0},6158132190,"PICK CHISEL HEX SHANK 14.7MM (0.58) ","8 040,-Ft ","ACCESSORY",null,null,null,8040]
[{"$f":"IF(L3609=FALSE,0,COUNTIF(A$3:A3608,\">0\")+1)","v":0},6158132200,"PICK CHISEL HEX SHANK 14.7MM (0.58) ","12 090,-Ft ","ACCESSORY",null,null,null,12090]
[{"$f":"IF(L3610=FALSE,0,COUNTIF(A$3:A3609,\">0\")+1)","v":0},6158132210,"FLAT CHISEL HEX SHANK 14.7MM(0.58) ","5 940,-Ft ","ACCESSORY",null,null,null,5940]
[{"$f":"IF(L3611=FALSE,0,COUNTIF(A$3:A3610,\">0\")+1)","v":0},6158132220,"FLAT CHISEL HEX SHANK 14.7MM(0.58) ","6 530,-Ft ","ACCESSORY",null,null,null,6530]
[{"$f":"IF(L3612=FALSE,0,COUNTIF(A$3:A3611,\">0\")+1)","v":0},6158132230,"FLAT CHISEL HEX SHANK 14.7MM(0.58) ","8 040,-Ft ","ACCESSORY",null,null,null,8040]
[{"$f":"IF(L3613=FALSE,0,COUNTIF(A$3:A3612,\">0\")+1)","v":0},6158132240,"FLAT CHISEL HEX SHANK 14.7MM(0.58) ","12 090,-Ft ","ACCESSORY",null,null,null,12090]
[{"$f":"IF(L3614=FALSE,0,COUNTIF(A$3:A3613,\">0\")+1)","v":0},6158132250,"WIDE SCALING CHISEL HEX 14.7MM(0.58) ","6 720,-Ft ","ACCESSORY",null,null,null,6720]
[{"$f":"IF(L3615=FALSE,0,COUNTIF(A$3:A3614,\">0\")+1)","v":0},6158132260,"WIDE SCALING CHISEL HEX SHANK 14.7(0.58) ","8 040,-Ft ","ACCESSORY",null,null,null,8040]
[{"$f":"IF(L3616=FALSE,0,COUNTIF(A$3:A3615,\">0\")+1)","v":0},6158132270,"WIDE SCALING CHISEL HEX 14.7MM(0.58) ","10 060,-Ft ","ACCESSORY",null,null,null,10060]
[{"$f":"IF(L3617=FALSE,0,COUNTIF(A$3:A3616,\">0\")+1)","v":0},6158132280,"WIDE SCALING CHISEL HEX SHANK 14.7(0.58) ","9 050,-Ft ","ACCESSORY",null,null,null,9050]
[{"$f":"IF(L3618=FALSE,0,COUNTIF(A$3:A3617,\">0\")+1)","v":0},6158132290,"WIDE SCALING CHISEL HEX 14.7MM(0.58) ","9 750,-Ft ","ACCESSORY",null,null,null,9750]
[{"$f":"IF(L3619=FALSE,0,COUNTIF(A$3:A3618,\">0\")+1)","v":0},6158132300,"WIDE SCALING CHISEL HEX 14.7MM(0.58) ","10 870,-Ft ","ACCESSORY",null,null,null,10870]
[{"$f":"IF(L3620=FALSE,0,COUNTIF(A$3:A3619,\">0\")+1)","v":0},6158132310,"BUSHING CHISEL  HEX SHANK 14.7MM(0.58) ","33 100,-Ft ","ACCESSORY",null,null,null,33100]
[{"$f":"IF(L3621=FALSE,0,COUNTIF(A$3:A3620,\">0\")+1)","v":0},6158132320,"PICK CHISEL SHANK ROUND 17.3MM (0.68) ","5 940,-Ft ","ACCESSORY",null,null,null,5940]
[{"$f":"IF(L3622=FALSE,0,COUNTIF(A$3:A3621,\">0\")+1)","v":0},6158132330,"PICK CHISEL SHANK ROUND 17.3MM (0.68) ","6 530,-Ft ","ACCESSORY",null,null,null,6530]
[{"$f":"IF(L3623=FALSE,0,COUNTIF(A$3:A3622,\">0\")+1)","v":0},6158132340,"PICK CHISEL SHANK ROUND 17.3MM (0.68) ",{"$f":"IF(H3623=\"SP\",IF(J3623>0,\"SP: \"&TEXT(J3623*I$1,\"# ###,-Ft  \"),\"SP: \"&TEXT(I3623*I$1,\"# ###,-Ft\")),IF(J3623>0,\"STARS* \"&TEXT(J3623*J$1,\"# ###,-Ft\"),TEXT(I3623*I$1,\"# ###,-Ft  \")))","v":"8 040,-Ft "},"ACCESSORY",null,null,null,8040]
[{"$f":"IF(L3624=FALSE,0,COUNTIF(A$3:A3623,\">0\")+1)","v":0},6158132350,"PICK CHISEL SHANK ROUND 17.3MM (0.68) ","12 090,-Ft ","ACCESSORY",null,null,null,12090]
[{"$f":"IF(L3625=FALSE,0,COUNTIF(A$3:A3624,\">0\")+1)","v":0},6158132360,"FLAT CHISEL SHANK ROUND 17.3MM (0.68) ","5 940,-Ft ","ACCESSORY",null,null,null,5940]
[{"$f":"IF(L3626=FALSE,0,COUNTIF(A$3:A3625,\">0\")+1)","v":0},6158132370,"FLAT CHISEL SHANK ROUND 17.3MM (0.68) ","6 530,-Ft ","ACCESSORY",null,null,null,6530]
[{"$f":"IF(L3627=FALSE,0,COUNTIF(A$3:A3626,\">0\")+1)","v":0},6158132380,"FLAT CHISEL SHANK ROUND 17.3MM (0.68) ","8 040,-Ft ","ACCESSORY",null,null,null,8040]
[{"$f":"IF(L3628=FALSE,0,COUNTIF(A$3:A3627,\">0\")+1)","v":0},6158132390,"FLAT CHISEL SHANK ROUND 17.3MM (0.68) ","12 090,-Ft ","ACCESSORY",null,null,null,12090]
[{"$f":"IF(L3629=FALSE,0,COUNTIF(A$3:A3628,\">0\")+1)","v":0},6158132400,"WIDE SCALING CHISEL SHANK 17.3MM (0.68) ","6 720,-Ft ","ACCESSORY",null,null,null,6720]
[{"$f":"IF(L3630=FALSE,0,COUNTIF(A$3:A3629,\">0\")+1)","v":0},6158132410,"WIDE SCALING CHISEL SHANK 17.3MM (0.68) ","8 040,-Ft ","ACCESSORY",null,null,null,8040]
[{"$f":"IF(L3631=FALSE,0,COUNTIF(A$3:A3630,\">0\")+1)","v":0},6158132420,"WIDE SCALING CHISEL SHANK 17.3MM (0.68) ","10 060,-Ft ","ACCESSORY",null,null,null,10060]
[{"$f":"IF(L3632=FALSE,0,COUNTIF(A$3:A3631,\">0\")+1)","v":0},6158132430,"WIDE SCALING CHISEL SHANK 17.3MM (0.68) ","9 050,-Ft ","ACCESSORY",null,null,null,9050]
[{"$f":"IF(L3633=FALSE,0,COUNTIF(A$3:A3632,\">0\")+1)","v":0},6158132440,"WIDE SCALING CHISEL SHANK 17.3MM (0.68) ","9 750,-Ft ","ACCESSORY",null,null,null,9750]
[{"$f":"IF(L3634=FALSE,0,COUNTIF(A$3:A3633,\">0\")+1)","v":0},6158132450,"WIDE SCALING CHISEL SHANK 17.3MM (0.68) ","10 870,-Ft ","ACCESSORY",null,null,null,10870]
[{"$f":"IF(L3635=FALSE,0,COUNTIF(A$3:A3634,\">0\")+1)","v":0},6158132460,"BUSHING CHISEL SHANK ROUND 17.3MM (0.68) ","33 100,-Ft ","ACCESSORY",null,null,null,33100]
[{"$f":"IF(L3636=FALSE,0,COUNTIF(A$3:A3635,\">0\")+1)","v":0},6158132470,"FLAT CHISEL SHANK ","18 950,-Ft ","ACCESSORY",null,null,null,18950]
[{"$f":"IF(L3637=FALSE,0,COUNTIF(A$3:A3636,\">0\")+1)","v":0},6158132480,"PUSH CHISEL ","16 320,-Ft ","ACCESSORY",null,null,null,16320]
[{"$f":"IF(L3638=FALSE,0,COUNTIF(A$3:A3637,\">0\")+1)","v":0},8940176057,"SINGLE BLADE PANEL CUTTER ROUND 0.401# ","3 170,-Ft ","ACCESSORY",null,null,null,3170]
[{"$f":"IF(L3639=FALSE,0,COUNTIF(A$3:A3638,\">0\")+1)","v":0},8940176143,"dhrING CHISEL SHANK ROUND .401\" ","3 740,-Ft ","ACCESSORY",null,null,null,3740]
[{"$f":"IF(L3640=FALSE,0,COUNTIF(A$3:A3639,\">0\")+1)","v":0},8940176144,"TAPERED PUNCHED CHISEL SHANK ROUND .401\" ","3 740,-Ft ","ACCESSORY",null,null,null,3740]
[{"$f":"IF(L3641=FALSE,0,COUNTIF(A$3:A3640,\">0\")+1)","v":0},8940176145,"SPOT WELD SPLITTER SHANK ROUND .401\" ","3 740,-Ft ","ACCESSORY",null,null,null,3740]
[{"$f":"IF(L3642=FALSE,0,COUNTIF(A$3:A3641,\">0\")+1)","v":0},8940176146,"FLAT CHISEL SHANK ROUND .401\" ","2 200,-Ft ","ACCESSORY",null,null,null,2200]
[{"$f":"IF(L3643=FALSE,0,COUNTIF(A$3:A3642,\">0\")+1)","v":0},8940176147,"SINGLE BLADE PANEL CUTTER SHANK 401\" ","2 200,-Ft ","ACCESSORY",null,null,null,2200]
[{"$f":"IF(L3644=FALSE,0,COUNTIF(A$3:A3643,\">0\")+1)","v":0},8951000308,"RC2205 + RS4114-PROMO PACK","61 100,-Ft ","PRODUCT",null,null,null,61100]
[{"$f":"IF(L3645=FALSE,0,COUNTIF(A$3:A3644,\">0\")+1)","v":0},8951000378," RC2268 + SOCKETS WP-PROMO PACK","41 480,-Ft ","PRODUCT",null,null,null,41480]
[{"$f":"IF(L3646=FALSE,0,COUNTIF(A$3:A3645,\">0\")+1)","v":0},8951000356,"RC2471+SOCKET-PROMO PACK","245 300,-Ft ","PRODUCT",null,null,null,245300]
[{"$f":"IF(L3647=FALSE,0,COUNTIF(A$3:A3646,\">0\")+1)","v":0},8951000385,"Promo RC2471 + multitool-","238 200,-Ft ","PRODUCT",null,null,null,238200]
[{"$f":"IF(L3648=FALSE,0,COUNTIF(A$3:A3647,\">0\")+1)","v":0},8951000350,"ATJ30-1H-HIGH LIFTING AIR JACK 30T",{"$f":"IF(H3648=\"C\",IF(J3648>0,\"C #: \"&TEXT(J3648*I$1,\"# ###,-Ft  \"),\"C #: \"&TEXT(I3648*I$1,\"# ###,-Ft\")),IF(J3648>0,\"TOPS* \"&TEXT(J3648*J$1,\"# ###,-Ft\"),TEXT(I3648*I$1,\"# ###,-Ft  \")))","v":"C #: 817 000,-Ft"},"PRODUCT",null,null,"C",817000]
[{"$f":"IF(L3649=FALSE,0,COUNTIF(A$3:A3648,\">0\")+1)","v":0},8951000362,"RC600 BATTERYLESS BOOSTER 12/24V-BOOSTER","C #: 582 000,-Ft","PRODUCT",null,null,"C",582000]
[{"$f":"IF(L3650=FALSE,0,COUNTIF(A$3:A3649,\">0\")+1)","v":0},8951000379,"RC7915 + RC7705V6-DUST EXTRACTION UNIT","C #: 608 000,-Ft","PRODUCT",null,null,"C",608000]
[{"$f":"IF(L3651=FALSE,0,COUNTIF(A$3:A3650,\">0\")+1)","v":0},8951000331,"RC CLUTCH OIL 591ml ","3 920,-Ft ","ACCESSORY",null,null,null,3920]
[{"$f":"IF(L3652=FALSE,0,COUNTIF(A$3:A3651,\">0\")+1)","v":0},8951011447,"7802SA27 SUCTION PORT (27 MM) ","1 400,-Ft ","ACCESSORY",null,null,null,1400]
[{"$f":"IF(L3653=FALSE,0,COUNTIF(A$3:A3652,\">0\")+1)","v":0},8955000101,"SOFT BAG RODCRAFT ","8 970,-Ft ","ACCESSORY",null,null,null,8970]
[{"$f":"IF(L3654=FALSE,0,COUNTIF(A$3:A3653,\">0\")+1)","v":0},8955000102,"MULTITOOL RODCRAFT ","22 970,-Ft ","ACCESSORY",null,null,null,22970]
[{"$f":"IF(L3655=FALSE,0,COUNTIF(A$3:A3654,\">0\")+1)","v":0},8958000153,"BODY DISASSEMBLY FIXTURE","65 600,-Ft ","ACCESSORY",null,null,null,65600]
[{"$f":"IF(L3656=FALSE,0,COUNTIF(A$3:A3655,\">0\")+1)","v":0},8973005547,"Szóró, fújató KIT 5db Felsőtartályos Fetékszóró",{"$f":"IF(H3656=\"SP\",IF(J3656>0,\"SP: \"&TEXT(J3656*I$1,\"# ###,-Ft  \"),\"SP: \"&TEXT(I3656*I$1,\"# ###,-Ft\")),IF(J3656>0,\"*(\"&TEXT(I3656*I$1,\"# ###,-\")&\") \n\"&TEXT(J3656*J$1,\"# ###,-Ft\"),TEXT(I3656*I$1,\"# ###,-Ft  \")))","v":"7 620,-Ft "},"ABAC Termék",null,null,null,7620]
[{"$f":"IF(L3657=FALSE,0,COUNTIF(A$3:A3656,\">0\")+1)","v":0},8973005546,"Szóró, fújató KIT 5db Alsótartályos Fetékszóró","6 500,-Ft ","ABAC Termék",null,null,null,6500]
[{"$f":"IF(L3658=FALSE,0,COUNTIF(A$3:A3657,\">0\")+1)","v":0},8973005189,"Szóró, fújató KIT 5db MÜA","7 000,-Ft ","ABAC Termék",null,null,null,7000]
[{"$f":"IF(L3659=FALSE,0,COUNTIF(A$3:A3658,\">0\")+1)","v":0},8973005156,"Csavarozó és gravirozó KIT 34 db","26 690,-Ft ","ABAC Termék",null,null,null,26690]
[{"$f":"IF(L3660=FALSE,0,COUNTIF(A$3:A3659,\">0\")+1)","v":0},8973005055,"Csavarozó és gravirozó KIT 63 db","34 510,-Ft ","ABAC Termék",null,null,null,34510]
[{"$f":"IF(L3661=FALSE,0,COUNTIF(A$3:A3660,\">0\")+1)","v":0},8973005871,"1/2\" Ütvescsavarozó 345Nm + 4db dugó","9 650,-Ft ","ABAC Termék",null,null,null,9650]
[{"$f":"IF(L3662=FALSE,0,COUNTIF(A$3:A3661,\">0\")+1)","v":0},8973005919,"1/2\" Racsniskulcs 40Nm","6 260,-Ft ","ABAC Termék",null,null,null,6260]
[{"$f":"IF(L3663=FALSE,0,COUNTIF(A$3:A3662,\">0\")+1)","v":0},8973005901,"Fúró 1400 1/min","7 910,-Ft ","ABAC Termék",null,null,null,7910]
[{"$f":"IF(L3664=FALSE,0,COUNTIF(A$3:A3663,\">0\")+1)","v":0},8973005872,"Levegős véső 4db vésőszárral","3 960,-Ft ","ABAC Termék",null,null,null,3960]
[{"$f":"IF(L3665=FALSE,0,COUNTIF(A$3:A3664,\">0\")+1)","v":0},8973005902,"Excenter csiszoló","9 020,-Ft ","ABAC Termék",null,null,null,9020]
[{"$f":"IF(L3666=FALSE,0,COUNTIF(A$3:A3665,\">0\")+1)","v":0},8973005578,"Rezgőcsiszoló","8 890,-Ft ","ABAC Termék",null,null,null,8890]
[{"$f":"IF(L3667=FALSE,0,COUNTIF(A$3:A3666,\">0\")+1)","v":0},8973005911,"Egyenes csiszoló + 5db csiszolófej","3 580,-Ft ","ABAC Termék",null,null,null,3580]
[{"$f":"IF(L3668=FALSE,0,COUNTIF(A$3:A3667,\">0\")+1)","v":0},8973005850,"Véső szerszám KIT 4db HEX","810,-Ft ","ABAC Termék",null,null,null,810]
[{"$f":"IF(L3669=FALSE,0,COUNTIF(A$3:A3668,\">0\")+1)","v":0},8973005917,"Tűző és szegbelövő 10-32mm","11 900,-Ft ","ABAC Termék",null,null,null,11900]
[{"$f":"IF(L3670=FALSE,0,COUNTIF(A$3:A3669,\">0\")+1)","v":0},8973005884,"Hobby Air brush KIT","3 580,-Ft ","ABAC Termék",null,null,null,3580]
[{"$f":"IF(L3671=FALSE,0,COUNTIF(A$3:A3670,\">0\")+1)","v":0},8973005904,"Felsőtartályos festékszóró 0,25l preciziós","5 370,-Ft ","ABAC Termék",null,null,null,5370]
[{"$f":"IF(L3672=FALSE,0,COUNTIF(A$3:A3671,\">0\")+1)","v":0},8973005903,"Alsótartályos festékszóró 1l-D1,4","3 580,-Ft ","ABAC Termék",null,null,null,3580]
[{"$f":"IF(L3673=FALSE,0,COUNTIF(A$3:A3672,\">0\")+1)","v":0},8973005877,"Felsőtartályos festékszóró 0,5l-D1,5","3 430,-Ft ","ABAC Termék",null,null,null,3430]
[{"$f":"IF(L3674=FALSE,0,COUNTIF(A$3:A3673,\">0\")+1)","v":0},8973005874,"Felsőtartályos festékszóró 0,5l-D2,5","3 180,-Ft ","ABAC Termék",null,null,null,3180]
[{"$f":"IF(L3675=FALSE,0,COUNTIF(A$3:A3674,\">0\")+1)","v":0},8973005906,"Alsótartályos festékszóró 1l-D1,4 kisnyomású","4 570,-Ft ","ABAC Termék",null,null,null,4570]
[{"$f":"IF(L3676=FALSE,0,COUNTIF(A$3:A3675,\">0\")+1)","v":0},8973005905,"Alsótartályos festékszóró 1l-D1,8 professional","7 260,-Ft ","ABAC Termék",null,null,null,7260]
[{"$f":"IF(L3677=FALSE,0,COUNTIF(A$3:A3676,\">0\")+1)","v":0},8973005863,"Száj maszk 4db","1 010,-Ft ","ABAC Termék",null,null,null,1010]
[{"$f":"IF(L3678=FALSE,0,COUNTIF(A$3:A3677,\">0\")+1)","v":0},8973005885,"Festő maszk 1db","2 150,-Ft ","ABAC Termék",null,null,null,2150]
[{"$f":"IF(L3679=FALSE,0,COUNTIF(A$3:A3678,\">0\")+1)","v":0},8973005442,"Vákuum elszívó","2 800,-Ft ","ABAC Termék",null,null,null,2800]
[{"$f":"IF(L3680=FALSE,0,COUNTIF(A$3:A3679,\">0\")+1)","v":0},8973005909,"Lefúvató pisztoly hosszú MÜA","910,-Ft ","ABAC Termék",null,null,null,910]
[{"$f":"IF(L3681=FALSE,0,COUNTIF(A$3:A3680,\">0\")+1)","v":0},8973005865,"Lefúvató pisztoly rövid","890,-Ft ","ABAC Termék",null,null,null,890]
[{"$f":"IF(L3682=FALSE,0,COUNTIF(A$3:A3681,\">0\")+1)","v":0},8973005867,"Lefúvató pisztoly hosszú","1 120,-Ft ","ABAC Termék",null,null,null,1120]
[{"$f":"IF(L3683=FALSE,0,COUNTIF(A$3:A3682,\">0\")+1)","v":0},8973005525,"Kifúvató pisztoly","1 400,-Ft ","ABAC Termék",null,null,null,1400]
[{"$f":"IF(L3684=FALSE,0,COUNTIF(A$3:A3683,\">0\")+1)","v":0},8973005918,"Levegős mosópisztoly","1 910,-Ft ","ABAC Termék",null,null,null,1910]
[{"$f":"IF(L3685=FALSE,0,COUNTIF(A$3:A3684,\">0\")+1)","v":0},8973005880,"Levegős tisztító pisztoly 1l","2 030,-Ft ","ABAC Termék",null,null,null,2030]
[{"$f":"IF(L3686=FALSE,0,COUNTIF(A$3:A3685,\">0\")+1)","v":0},8973005914,"Homokszóró pisztoly tartályos","3 060,-Ft ","ABAC Termék",null,null,null,3060]
[{"$f":"IF(L3687=FALSE,0,COUNTIF(A$3:A3686,\">0\")+1)","v":0},8973005878,"Homokszóró pisztoly","2 940,-Ft ","ABAC Termék",null,null,null,2940]
[{"$f":"IF(L3688=FALSE,0,COUNTIF(A$3:A3687,\">0\")+1)","v":0},8973005907,"Alvázvédő pisztoly","8 380,-Ft ","ABAC Termék",null,null,null,8380]
[{"$f":"IF(L3689=FALSE,0,COUNTIF(A$3:A3688,\">0\")+1)","v":0},8973005459,"Pneumatikus zsírzó","5 360,-Ft ","ABAC Termék",null,null,null,5360]
[{"$f":"IF(L3690=FALSE,0,COUNTIF(A$3:A3689,\">0\")+1)","v":0},8973005910,"Tömlőfújató","2 800,-Ft ","ABAC Termék",null,null,null,2800]
[{"$f":"IF(L3691=FALSE,0,COUNTIF(A$3:A3690,\">0\")+1)","v":0},8973005883,"Tömlőfújató hitelesíthető","5 830,-Ft ","ABAC Termék",null,null,null,5830]
[{"$f":"IF(L3692=FALSE,0,COUNTIF(A$3:A3691,\">0\")+1)","v":0},8973005854,"Szelep KIT 3db","540,-Ft ","ABAC Termék",null,null,null,540]
[{"$f":"IF(L3693=FALSE,0,COUNTIF(A$3:A3692,\">0\")+1)","v":0},8973005473,"Spirál tömlő (6x8) 5m",{"$f":"IF(H3693=\"SP\",IF(J3693>0,\"SP: \"&TEXT(J3693*I$1,\"# ###,-Ft  \"),\"SP: \"&TEXT(I3693*I$1,\"# ###,-Ft\")),IF(J3693>0,\"*(\"&TEXT(I3693*I$1,\"# ###,-\")&\") \n\"&TEXT(J3693*J$1,\"# ###,-Ft\"),TEXT(I3693*I$1,\"# ###,-Ft  \")))","v":"1 950,-Ft "},"ABAC Termék",null,null,null,1950]
[{"$f":"IF(L3694=FALSE,0,COUNTIF(A$3:A3693,\">0\")+1)","v":0},8973005519,"Spirál tömlő (6x8) 10m","2 550,-Ft ","ABAC Termék",null,null,null,2550]
[{"$f":"IF(L3695=FALSE,0,COUNTIF(A$3:A3694,\">0\")+1)","v":0},8973005520,"Spirál tömlő (6x8) 15m","3 180,-Ft ","ABAC Termék",null,null,null,3180]
[{"$f":"IF(L3696=FALSE,0,COUNTIF(A$3:A3695,\">0\")+1)","v":0},8973005521,"Szerelt PVC tömlő (6x11) 10m","3 300,-Ft ","ABAC Termék",null,null,null,3300]
[{"$f":"IF(L3697=FALSE,0,COUNTIF(A$3:A3696,\">0\")+1)","v":0},8973005479,"PVC tömlő (6x11) 15m","2 820,-Ft ","ABAC Termék",null,null,null,2820]
[{"$f":"IF(L3698=FALSE,0,COUNTIF(A$3:A3697,\">0\")+1)","v":0},8973005522,"Szerelt PVC tömlő (6x11) 20m","4 980,-Ft ","ABAC Termék",null,null,null,4980]
[{"$f":"IF(L3699=FALSE,0,COUNTIF(A$3:A3698,\">0\")+1)","v":0},8973005026,"Szerelt PVC tömlő (8x13) 7,5m","2 550,-Ft ","ABAC Termék",null,null,null,2550]
[{"$f":"IF(L3700=FALSE,0,COUNTIF(A$3:A3699,\">0\")+1)","v":0},8973005908,"Szerelt PVC tömlő (8x13) 10m","3 960,-Ft ","ABAC Termék",null,null,null,3960]
[{"$f":"IF(L3701=FALSE,0,COUNTIF(A$3:A3700,\">0\")+1)","v":0},8973005482,"PVC tömlődob (6x11) 20m","13 400,-Ft ","ABAC Termék",null,null,null,13400]
[{"$f":"IF(L3702=FALSE,0,COUNTIF(A$3:A3701,\">0\")+1)","v":0},8973005842,"Csiptetős tömlőfúvató csatlakozó","360,-Ft ","ABAC Termék",null,null,null,360]
[{"$f":"IF(L3703=FALSE,0,COUNTIF(A$3:A3702,\">0\")+1)","v":0},8973005852,"Mini olajozó 1/4\"","720,-Ft ","ABAC Termék",null,null,null,720]
[{"$f":"IF(L3704=FALSE,0,COUNTIF(A$3:A3703,\">0\")+1)","v":0},8973005414,"1/4\" Racsniskulcs 27Nm","9 650,-Ft ","ABAC Termék",null,null,null,9650]
[{"$f":"IF(L3705=FALSE,0,COUNTIF(A$3:A3704,\">0\")+1)","v":0},8973005415,"1/2\" Racsniskulcs 60Nm + dugókulcs készlet","12 390,-Ft ","ABAC Termék",null,null,null,12390]
[{"$f":"IF(L3706=FALSE,0,COUNTIF(A$3:A3705,\">0\")+1)","v":0},8973005416,"1/2\" Racsniskulcs 80Nm","11 540,-Ft ","ABAC Termék",null,null,null,11540]
[{"$f":"IF(L3707=FALSE,0,COUNTIF(A$3:A3706,\">0\")+1)","v":0},8973005411,"1/2\" Ütvescsavarozó 310Nm + 10db dugókulcs","14 720,-Ft ","ABAC Termék",null,null,null,14720]
[{"$f":"IF(L3708=FALSE,0,COUNTIF(A$3:A3707,\">0\")+1)","v":0},8973005412,"1/2\" Ütvescsavarozó 515Nm","24 650,-Ft ","ABAC Termék",null,null,null,24650]
[{"$f":"IF(L3709=FALSE,0,COUNTIF(A$3:A3708,\">0\")+1)","v":0},8973005417,"3/4\" Ütvescsavarozó 680Nm + 8db dugókulcs","40 810,-Ft ","ABAC Termék",null,null,null,40810]
[{"$f":"IF(L3710=FALSE,0,COUNTIF(A$3:A3709,\">0\")+1)","v":0},8973005413,"3/4\" Ütvescsavarozó 1015Nm","67 370,-Ft ","ABAC Termék",null,null,null,67370]
[{"$f":"IF(L3711=FALSE,0,COUNTIF(A$3:A3710,\">0\")+1)","v":0},8973005418,"Csavarbehajtó 5-13Nm pisztoly","18 310,-Ft ","ABAC Termék",null,null,null,18310]
[{"$f":"IF(L3712=FALSE,0,COUNTIF(A$3:A3711,\">0\")+1)","v":0},8973005419,"Csavarbehajtó 5-13Nm egyenes","19 980,-Ft ","ABAC Termék",null,null,null,19980]
[{"$f":"IF(L3713=FALSE,0,COUNTIF(A$3:A3712,\">0\")+1)","v":0},8973005420,"Fúró 1800 1/min irányváltós D10","13 760,-Ft ","ABAC Termék",null,null,null,13760]
[{"$f":"IF(L3714=FALSE,0,COUNTIF(A$3:A3713,\">0\")+1)","v":0},8973005421,"Véső 2,7kg szerszám hosszú löketű KIT 5db 175mm szerszám","11 280,-Ft ","ABAC Termék",null,null,null,11280]
[{"$f":"IF(L3715=FALSE,0,COUNTIF(A$3:A3714,\">0\")+1)","v":0},8973005433,"Tűs leverő adapter","6 000,-Ft ","ABAC Termék",null,null,null,6000]
[{"$f":"IF(L3716=FALSE,0,COUNTIF(A$3:A3715,\">0\")+1)","v":0},8973005423,"Bontókalapács 3kg 2dbszerszám 200mm","46 550,-Ft ","ABAC Termék",null,null,null,46550]
[{"$f":"IF(L3717=FALSE,0,COUNTIF(A$3:A3716,\">0\")+1)","v":0},8973005424,"Bontókalapács 6kg 3dbszerszám","65 700,-Ft ","ABAC Termék",null,null,null,65700]
[{"$f":"IF(L3718=FALSE,0,COUNTIF(A$3:A3717,\">0\")+1)","v":0},8973005425,"Levegős kivágó 1,6/2 mm","19 870,-Ft ","ABAC Termék",null,null,null,19870]
[{"$f":"IF(L3719=FALSE,0,COUNTIF(A$3:A3718,\">0\")+1)","v":0},8973005434,"Popszegecs húzó (2,4 3,2 4,0 4,8)","22 620,-Ft ","ABAC Termék",null,null,null,22620]
[{"$f":"IF(L3720=FALSE,0,COUNTIF(A$3:A3719,\">0\")+1)","v":0},8973005427,"Rezgőcsiszoló 74x145mm","33 150,-Ft ","ABAC Termék",null,null,null,33150]
[{"$f":"IF(L3721=FALSE,0,COUNTIF(A$3:A3720,\">0\")+1)","v":0},8973005428,"Rezgőcsiszoló 93x176mm","53 490,-Ft ","ABAC Termék",null,null,null,53490]
[{"$f":"IF(L3722=FALSE,0,COUNTIF(A$3:A3721,\">0\")+1)","v":0},8973005969,"Excenter csiszoló D150 Verco","33 750,-Ft ","ABAC Termék",null,null,null,33750]
[{"$f":"IF(L3723=FALSE,0,COUNTIF(A$3:A3722,\">0\")+1)","v":0},8973005429,"Egyenes csiszoló D3; D6+ 10db csiszolófej","9 380,-Ft ","ABAC Termék",null,null,null,9380]
[{"$f":"IF(L3724=FALSE,0,COUNTIF(A$3:A3723,\">0\")+1)","v":0},8973005430,"Egyenes csiszoló D6mm","25 370,-Ft ","ABAC Termék",null,null,null,25370]
[{"$f":"IF(L3725=FALSE,0,COUNTIF(A$3:A3724,\">0\")+1)","v":0},8973005431,"Sarokcsiszoló D125","29 200,-Ft ","ABAC Termék",null,null,null,29200]
[{"$f":"IF(L3726=FALSE,0,COUNTIF(A$3:A3725,\">0\")+1)","v":0},8973005956,"Tűzőgép 10-26mm","18 670,-Ft ","ABAC Termék",null,null,null,18670]
[{"$f":"IF(L3727=FALSE,0,COUNTIF(A$3:A3726,\">0\")+1)","v":0},8973005957,"Kapocs 18mm (5000db)","2 310,-Ft ","ABAC Termék",null,null,null,2310]
[{"$f":"IF(L3728=FALSE,0,COUNTIF(A$3:A3727,\">0\")+1)","v":0},8973005958,"Kapocs 23mm (5000db)","2 680,-Ft ","ABAC Termék",null,null,null,2680]
[{"$f":"IF(L3729=FALSE,0,COUNTIF(A$3:A3728,\">0\")+1)","v":0},8973005959,"Kapocs 26mm (5000db)","3 200,-Ft ","ABAC Termék",null,null,null,3200]
[{"$f":"IF(L3730=FALSE,0,COUNTIF(A$3:A3729,\">0\")+1)","v":0},8973005960,"Tűzőgép 15-50mm","11 790,-Ft ","ABAC Termék",null,null,null,11790]
[{"$f":"IF(L3731=FALSE,0,COUNTIF(A$3:A3730,\">0\")+1)","v":0},8973005961,"Szeg 19mm (5000db)","1 400,-Ft ","ABAC Termék",null,null,null,1400]
[{"$f":"IF(L3732=FALSE,0,COUNTIF(A$3:A3731,\">0\")+1)","v":0},8973005962,"Szeg 25mm (5000db)","1 910,-Ft ","ABAC Termék",null,null,null,1910]
[{"$f":"IF(L3733=FALSE,0,COUNTIF(A$3:A3732,\">0\")+1)","v":0},8973005963,"Szeg 32mm (5000db)","2 430,-Ft ","ABAC Termék",null,null,null,2430]
[{"$f":"IF(L3734=FALSE,0,COUNTIF(A$3:A3733,\">0\")+1)","v":0},8973005964,"Tűző és szegbelövő 10-40, 20-50mm","25 130,-Ft ","ABAC Termék",null,null,null,25130]
[{"$f":"IF(L3735=FALSE,0,COUNTIF(A$3:A3734,\">0\")+1)","v":0},8973005965,"Kapocs 30mm (5000db)","4 090,-Ft ","ABAC Termék",null,null,null,4090]
[{"$f":"IF(L3736=FALSE,0,COUNTIF(A$3:A3735,\">0\")+1)","v":0},8973005966,"Kapocs 32mm (5000db)","4 340,-Ft ","ABAC Termék",null,null,null,4340]
[{"$f":"IF(L3737=FALSE,0,COUNTIF(A$3:A3736,\">0\")+1)","v":0},8973005422,"MARTELLO SCALPELLATORE C/SET","18 670,-Ft ","ABAC Termék",null,null,null,18670]
[{"$f":"IF(L3738=FALSE,0,COUNTIF(A$3:A3737,\">0\")+1)","v":0},8973005435,"PISTOLA PER SILICONE","7 000,-Ft ","ABAC Termék",null,null,null,7000]
[{"$f":"IF(L3739=FALSE,0,COUNTIF(A$3:A3738,\">0\")+1)","v":0},8973005436,"PISTOLA PER GRASSO","8 260,-Ft ","ABAC Termék",null,null,null,8260]
[{"$f":"IF(L3740=FALSE,0,COUNTIF(A$3:A3739,\">0\")+1)","v":0},8973005477,"TUBO IN PVC 6MM 7 5MT ATT.D","2 170,-Ft ","ABAC Termék",null,null,null,2170]
[{"$f":"IF(L3741=FALSE,0,COUNTIF(A$3:A3740,\">0\")+1)","v":0},8973005570,"Nyomáskapcsoló ABAC 230V 1X1/4 China",{"$f":"IF(H3741=\"SP\",IF(J3741>0,\"SP: \"&TEXT(J3741*I$1,\"# ###,-Ft  \"),\"SP: \"&TEXT(I3741*I$1,\"# ###,-Ft\")),IF(J3741>0,\"*(\"&TEXT(I3741*I$1,\"# ###,-\")&\") \n\"&TEXT(J3741*J$1,\"# ###,-Ft\"),TEXT(I3741*I$1,\"# ###,-Ft  \")))","v":"2 030,-Ft "},"ABAC Termék",null,null,null,2030]
[{"$f":"IF(L3742=FALSE,0,COUNTIF(A$3:A3741,\">0\")+1)","v":0},8973005804,"SET 19 AGHI","3 790,-Ft ","ABAC Termék",null,null,null,3790]
[{"$f":"IF(L3743=FALSE,0,COUNTIF(A$3:A3742,\">0\")+1)","v":0},8973005845,"GRAFFE 22MM (800 PCS)  BLS*","680,-Ft ","ABAC Termék",null,null,null,680]
[{"$f":"IF(L3744=FALSE,0,COUNTIF(A$3:A3743,\">0\")+1)","v":0},8973005846,"CHIODI 25MM (800 PCS)  BLS*","610,-Ft ","ABAC Termék",null,null,null,610]
[{"$f":"IF(L3745=FALSE,0,COUNTIF(A$3:A3744,\">0\")+1)","v":0},8973005847,"GRAFFE 10MM (2400 PCS) BLS*","950,-Ft ","ABAC Termék",null,null,null,950]
[{"$f":"IF(L3746=FALSE,0,COUNTIF(A$3:A3745,\">0\")+1)","v":0},8973005848,"GRAFFE 13MM (1600 PCS) BLS","730,-Ft ","ABAC Termék",null,null,null,730]
[{"$f":"IF(L3747=FALSE,0,COUNTIF(A$3:A3746,\">0\")+1)","v":0},8973005849,"CHIODI 15MM (1200 PCS) BLS*","490,-Ft ","ABAC Termék",null,null,null,490]
[{"$f":"IF(L3748=FALSE,0,COUNTIF(A$3:A3747,\">0\")+1)","v":0},8973005930,"SCALPELLO A PUNTA","1 150,-Ft ","ABAC Termék",null,null,null,1150]
[{"$f":"IF(L3749=FALSE,0,COUNTIF(A$3:A3748,\">0\")+1)","v":0},8973005935,"MANDRINO CON CHIAVE","2 800,-Ft ","ABAC Termék",null,null,null,2800]
[{"$f":"IF(L3750=FALSE,0,COUNTIF(A$3:A3749,\">0\")+1)","v":0},8973005936,"SCALPELLO PIATTO","2 430,-Ft ","ABAC Termék",null,null,null,2430]
[{"$f":"IF(L3751=FALSE,0,COUNTIF(A$3:A3750,\">0\")+1)","v":0},8973005937,"SCALPELLO A PUNTA","2 430,-Ft ","ABAC Termék",null,null,null,2430]
[{"$f":"IF(L3752=FALSE,0,COUNTIF(A$3:A3751,\">0\")+1)","v":0},8973005938,"MOLLA","1 780,-Ft ","ABAC Termék",null,null,null,1780]
[{"$f":"IF(L3753=FALSE,0,COUNTIF(A$3:A3752,\">0\")+1)","v":0},8973005940,"SCALPELLO PIATTO","4 460,-Ft ","ABAC Termék",null,null,null,4460]
[{"$f":"IF(L3754=FALSE,0,COUNTIF(A$3:A3753,\">0\")+1)","v":0},8973005950,"DISCO 150 MM PREFORATO","3 450,-Ft ","ABAC Termék",null,null,null,3450]
[{"$f":"IF(L3755=FALSE,0,COUNTIF(A$3:A3754,\">0\")+1)","v":0},8973005951,"SET PUNTE SMERIGLIATRICI","1 400,-Ft ","ABAC Termék",null,null,null,1400]
[{"$f":"IF(L3756=FALSE,0,COUNTIF(A$3:A3755,\">0\")+1)","v":0},8973005955,"MARTELLO SCROSTATORE","39 250,-Ft ","ABAC Termék",null,null,null,39250]
[{"$f":"IF(L3757=FALSE,0,COUNTIF(A$3:A3756,\">0\")+1)","v":0},8973005437,"1/2\"-os dugókulcs lészlet ütvecsavarozókhoz","5 100,-Ft ","ABAC Termék",null,null,null,5100]
[{"$f":"IF(L3758=FALSE,0,COUNTIF(A$3:A3757,\">0\")+1)","v":0},8973005927,"Szerszám rögzítő rugó","570,-Ft ","ABAC Termék",null,null,null,570]
[{"$f":"IF(L3759=FALSE,0,COUNTIF(A$3:A3758,\">0\")+1)","v":0},8973005928,"Véső szett 9 db-os","6 130,-Ft ","ABAC Termék",null,null,null,6130]
[{"$f":"IF(L3760=FALSE,0,COUNTIF(A$3:A3759,\">0\")+1)","v":0},8973005929,"Karbantartási KIT","1 150,-Ft ","ABAC Termék",null,null,null,1150]
[{"$f":"IF(L3761=FALSE,0,COUNTIF(A$3:A3760,\">0\")+1)","v":0},8973005927,"Szerszám rögzítő rugó","570,-Ft ","ABAC Termék",null,null,null,570]
[{"$f":"IF(L3762=FALSE,0,COUNTIF(A$3:A3761,\">0\")+1)","v":0},8973005931,"Lapos véső 250mm","2 030,-Ft ","ABAC Termék",null,null,null,2030]
[{"$f":"IF(L3763=FALSE,0,COUNTIF(A$3:A3762,\">0\")+1)","v":0},8973005932,"Rivet Chisel 250mm","2 030,-Ft ","ABAC Termék",null,null,null,2030]
[{"$f":"IF(L3764=FALSE,0,COUNTIF(A$3:A3763,\">0\")+1)","v":0},8973005933,"Separating Chisel 250mm","2 030,-Ft ","ABAC Termék",null,null,null,2030]
[{"$f":"IF(L3765=FALSE,0,COUNTIF(A$3:A3764,\">0\")+1)","v":0},8973005934,"Hollow Chisel 250mm","2 030,-Ft ","ABAC Termék",null,null,null,2030]
[{"$f":"IF(L3766=FALSE,0,COUNTIF(A$3:A3765,\">0\")+1)","v":0},8973005939,"Hegyes véső 170 mm","4 080,-Ft ","ABAC Termék",null,null,null,4080]
[{"$f":"IF(L3767=FALSE,0,COUNTIF(A$3:A3766,\">0\")+1)","v":0},8973005941,"Hegyes véső 305 mm","5 490,-Ft ","ABAC Termék",null,null,null,5490]
[{"$f":"IF(L3768=FALSE,0,COUNTIF(A$3:A3767,\">0\")+1)","v":0},8973005943,"Szerszám befogó","15 320,-Ft ","ABAC Termék",null,null,null,15320]
[{"$f":"IF(L3769=FALSE,0,COUNTIF(A$3:A3768,\">0\")+1)","v":0},8973005944,"Punch + Die Set","4 860,-Ft ","ABAC Termék",null,null,null,4860]
[{"$f":"IF(L3770=FALSE,0,COUNTIF(A$3:A3769,\">0\")+1)","v":0},8973005426,"Levegős karosszéria fürész és reszelő","35 780,-Ft ","ABAC Termék",null,null,null,35780]
[{"$f":"IF(L3771=FALSE,0,COUNTIF(A$3:A3770,\">0\")+1)","v":0},8973005945,"5db fűrészlap 24 fog","2 550,-Ft ","ABAC Termék",null,null,null,2550]
[{"$f":"IF(L3772=FALSE,0,COUNTIF(A$3:A3771,\">0\")+1)","v":0},8973005946,"5db fűrészlap 32 fog","2 550,-Ft ","ABAC Termék",null,null,null,2550]
[{"$f":"IF(L3773=FALSE,0,COUNTIF(A$3:A3772,\">0\")+1)","v":0},8973005947,"5db-os reszelő készlet","7 000,-Ft ","ABAC Termék",null,null,null,7000]
[{"$f":"IF(L3774=FALSE,0,COUNTIF(A$3:A3773,\">0\")+1)","v":0},8973005948,"7 Holes velcro Pad, Size: 74X145 mm","5 860,-Ft ","ABAC Termék",null,null,null,5860]
[{"$f":"IF(L3775=FALSE,0,COUNTIF(A$3:A3774,\">0\")+1)","v":0},8973005949,"8 holes velcro pad size: 93x176mm","7 380,-Ft ","ABAC Termék",null,null,null,7380]
[{"$f":"IF(L3776=FALSE,0,COUNTIF(A$3:A3775,\">0\")+1)","v":0},8973005432,"Szalagcsiszoló 12 mm-es","29 320,-Ft ","ABAC Termék",null,null,null,29320]
[{"$f":"IF(L3777=FALSE,0,COUNTIF(A$3:A3776,\">0\")+1)","v":0},8973005952,"Csiszoló szalag 12,7X610mm P80 (5pcs)","3 310,-Ft ","ABAC Termék",null,null,null,3310]
[{"$f":"IF(L3778=FALSE,0,COUNTIF(A$3:A3777,\">0\")+1)","v":0},8973005953,"Csiszoló szalag 12,7X610mm P100 (5pcs)","3 310,-Ft ","ABAC Termék",null,null,null,3310]
[{"$f":"IF(L3779=FALSE,0,COUNTIF(A$3:A3778,\">0\")+1)","v":0},8973005954,"Csiszoló szalag 12,7X610mm P120 (5pcs)","3 310,-Ft ","ABAC Termék",null,null,null,3310]
[{"$f":"IF(L3780=FALSE,0,COUNTIF(A$3:A3779,\">0\")+1)","v":0},8973005978,"Szeg 30mm (5000db)","3 060,-Ft ","ABAC Termék",null,null,null,3060]
[{"$f":"IF(L3781=FALSE,0,COUNTIF(A$3:A3780,\">0\")+1)","v":0},8973005894,"Fúvóka szett 1,5 mm","3 830,-Ft ","ABAC Termék",null,null,null,3830]
[{"$f":"IF(L3782=FALSE,0,COUNTIF(A$3:A3781,\">0\")+1)","v":0},8973005896,"Fúvóka szett 2,5 mm","3 830,-Ft ","ABAC Termék",null,null,null,3830]
[{"$f":"IF(L3783=FALSE,0,COUNTIF(A$3:A3782,\">0\")+1)","v":0},8973005858,"Szűrő betét A osztály","1 440,-Ft ","ABAC Termék",null,null,null,1440]
[{"$f":"IF(L3784=FALSE,0,COUNTIF(A$3:A3783,\">0\")+1)","v":0},8973005859,"Szűrő betét B osztály","1 260,-Ft ","ABAC Termék",null,null,null,1260]
[{"$f":"IF(L3785=FALSE,0,COUNTIF(A$3:A3784,\">0\")+1)","v":0},8973005916,"3/8\" szűrő szabályozó 2db gyorskuplunggal","6 880,-Ft ","ABAC Termék",null,null,null,6880]
[{"$f":"IF(L3786=FALSE,0,COUNTIF(A$3:A3785,\">0\")+1)","v":0},8973005861,"1/4\" micro szűrő szabályozó 1db gyorskuplunggal","3 830,-Ft ","ABAC Termék",null,null,null,3830]
[{"$f":"IF(L3787=FALSE,0,COUNTIF(A$3:A3786,\">0\")+1)","v":0},800200052,"Airfix Netz","148 700,-Ft ","Egyéb",null,null,null,148700]
[{"$f":"IF(L3788=FALSE,0,COUNTIF(A$3:A3787,\">0\")+1)","v":0},800200053,"Airfix Wand","160 800,-Ft ","Egyéb",null,null,null,160800]
[{"$f":"IF(L3789=FALSE,0,COUNTIF(A$3:A3788,\">0\")+1)","v":0},800200037,"Airfix Flex","185 700,-Ft ","Egyéb",null,null,null,185700]
[{"$f":"IF(L3790=FALSE,0,COUNTIF(A$3:A3789,\">0\")+1)","v":0},800200081,"Airfix Säulenfüller","270 100,-Ft ","Egyéb",null,null,null,270100]
[{"$f":"IF(L3791=FALSE,0,COUNTIF(A$3:A3790,\">0\")+1)","v":0},800200100,"Airfix Klassik","186 300,-Ft ","Egyéb",null,null,null,186300]
[{"$f":"IF(L3792=FALSE,0,COUNTIF(A$3:A3791,\">0\")+1)","v":0},800200073,"ALF kézi analóg abroncstöltő","41 100,-Ft ","Egyéb",null,null,null,41100]
[{"$f":"IF(L3793=FALSE,0,COUNTIF(A$3:A3792,\">0\")+1)","v":0},"KO-PA130001D","Lefuvató pisztoly 1/4\"  gyorcsatlakozó dugóval","1 339,-Ft ",null,null,null,null,1338.5826771653544]
[{"$f":"IF(L3794=FALSE,0,COUNTIF(A$3:A3793,\">0\")+1)","v":0},"KO-SU30106510","Spiráltömlő elforgós 10X6,5 1/4\" 10m KÉK","9 213,-Ft ",null,null,null,null,9212.5984251968512]
[{"$f":"IF(L3795=FALSE,0,COUNTIF(A$3:A3794,\">0\")+1)","v":0},"KO-SU30120810","Spiráltömlő elforgós 12X8 3/8\" 10m KÉK","11 260,-Ft ",null,null,null,null,11259.842519685038]
[{"$f":"IF(L3796=FALSE,0,COUNTIF(A$3:A3795,\">0\")+1)","v":0},"KO-SU30128050","Spiráltömlő elforgós 12X8 3/8\" 5m KÉK","8 189,-Ft ",null,null,null,null,8188.9763779527557]
[{"$f":"IF(L3797=FALSE,0,COUNTIF(A$3:A3796,\">0\")+1)","v":0},"KO-SU30161110","Spiráltömlő elforgós 16X11 3/8\" 10m KÉK","18 110,-Ft ",null,null,null,null,18110.236220472441]
[{"$f":"IF(L3798=FALSE,0,COUNTIF(A$3:A3797,\">0\")+1)","v":0},"KO-SU30805010","Spiráltömlő elforgós 8x5 1/4\" 10m KÉK","4 858,-Ft ",null,null,null,null,4858.2677165354326]
[{"$f":"IF(L3799=FALSE,0,COUNTIF(A$3:A3798,\">0\")+1)","v":0},"KO-SU30805015","Spiráltömlő elforgós 8x5 1/4\" 15 m","7 795,-Ft ",null,null,null,null,7795.2755905511813]
[{"$f":"IF(L3800=FALSE,0,COUNTIF(A$3:A3799,\">0\")+1)","v":0},"KO-AR301212","Tömlődob 10m 12X8","29 200,-Ft ",null,null,null,null,29200]

{"sheet":"Fúrók","index":4,"n_rows":155,"n_cols":47,"rows_kept":155,"cut":false,"hidden":false,"merged":[[109,12,110,12],[109,13,110,13],[109,14,110,14],[109,15,110,15],[109,3,110,3],[109,4,110,4],[109,5,110,5],[109,6,110,6],[109,7,110,7],[109,8,110,8],[109,9,110,9],[109,10,110,10],[109,11,110,11],[88,27,88,30],[89,27,92,30],[108,27,108,30],[109,27,110,30],[127,27,127,30],[128,27,131,30],[145,27,145,30],[146,27,149,30],[56,5,60,7],[56,9,60,11],[56,13,60,15],[109,20,110,20],[109,21,110,24],[89,20,92,20],[89,21,92,24],[88,21,88,24],[108,21,108,24],[97,22,98,22],[97,23,98,23],[97,24,98,24],[83,8,83,11],[83,12,83,15],[61,4,61,7],[61,8,61,11],[83,4,83,7],[77,4,77,7],[77,8,77,11],[77,12,77,15],[78,5,82,7],[78,9,82,11],[78,13,82,15],[13,21,13,24],[15,4,15,7],[15,12,15,15],[55,4,55,7],[55,8,55,11],[38,5,42,7],[16,5,20,7],[21,4,21,7],[55,12,55,15],[21,12,21,15],[37,4,37,7],[43,4,43,7],[43,8,43,11],[43,12,43,15],[22,8,23,8],[22,9,23,9],[62,12,63,12],[13,27,13,30],[64,21,64,24],[64,27,64,30],[38,9,42,11],[38,13,42,15],[16,9,20,11],[16,13,20,15],[21,8,21,11],[37,8,37,11],[37,12,37,15],[14,20,17,20],[14,21,17,24],[14,25,17,25],[14,26,17,26],[14,27,17,30],[20,24,21,24],[18,26,19,26],[22,26,23,26],[18,22,19,22],[18,23,19,23],[18,24,19,24],[15,8,15,11],[22,10,23,10],[22,12,23,12],[146,20,149,20],[145,21,145,24],[146,21,149,24],[146,26,149,26],[65,25,68,25],[65,26,68,26],[65,27,68,30],[128,20,131,20],[128,21,131,24],[128,26,131,26],[127,21,127,24],[109,25,110,25],[109,26,110,26],[89,25,92,25],[89,26,92,26],[93,22,94,22],[93,23,94,23],[93,24,94,24],[93,26,94,26],[71,28,72,28],[71,29,72,29],[71,30,72,30],[73,22,74,22],[73,23,74,23],[22,13,23,13],[22,14,23,14],[22,11,23,11],[22,3,23,3],[22,4,23,4],[22,5,23,5],[22,6,23,6],[22,7,23,7],[44,8,45,8],[44,9,45,9],[44,10,45,10],[44,11,45,11],[44,12,45,12],[61,12,61,15],[44,3,45,3],[44,4,45,4],[44,5,45,5],[44,6,45,6],[44,7,45,7],[62,3,63,3],[62,4,63,4],[62,5,63,5],[62,6,63,6],[62,7,63,7],[62,8,63,8],[62,9,63,9],[62,10,63,10],[62,11,63,11],[84,8,85,8],[84,9,85,9],[84,10,85,10],[84,11,85,11],[84,12,85,12],[84,3,85,3],[84,4,85,4],[84,5,85,5],[84,6,85,6],[84,7,85,7],[84,13,85,13],[84,14,85,14],[84,15,85,15],[18,20,19,20],[18,21,19,21],[22,20,23,20],[22,21,23,21],[71,20,72,20],[71,21,72,21],[44,13,45,13],[44,14,45,14],[44,15,45,15],[22,15,23,15],[20,20,21,20],[20,21,21,21],[73,20,74,20],[73,21,74,21],[62,13,63,13],[62,14,63,14],[62,15,63,15],[65,20,68,20],[65,21,68,24],[20,22,21,22],[20,23,21,23],[18,27,19,27],[18,28,19,28],[18,29,19,29],[18,30,19,30],[20,26,21,26],[20,27,21,27],[20,28,21,28],[20,29,21,29],[20,30,21,30],[22,27,23,27],[22,28,23,28],[22,29,23,29],[22,30,23,30],[69,20,70,20],[69,21,70,21],[69,22,70,22],[69,23,70,23],[69,24,70,24],[69,26,70,26],[69,27,70,27],[69,28,70,28],[69,29,70,29],[69,30,70,30],[22,22,23,22],[22,23,23,23],[22,24,23,24],[38,21,38,24],[38,27,38,30],[39,20,42,20],[39,21,42,24],[39,25,42,25],[39,26,42,26],[39,27,42,30],[73,24,74,24],[73,26,74,26],[73,27,74,27],[73,28,74,28],[73,29,74,29],[73,30,74,30],[71,22,72,22],[71,23,72,23],[71,24,72,24],[71,26,72,26],[71,27,72,27],[97,26,98,26],[97,27,98,27],[97,28,98,28],[97,29,98,29],[97,30,98,30],[93,28,94,28],[93,29,94,29],[93,30,94,30],[95,20,96,20],[95,21,96,21],[95,22,96,22],[95,23,96,23],[95,24,96,24],[95,26,96,26],[95,27,96,27],[95,28,96,28],[95,29,96,29],[95,30,96,30],[93,27,94,27],[93,20,94,20],[93,21,94,21],[97,20,98,20],[97,21,98,21],[111,26,112,26],[111,27,112,27],[111,28,112,28],[111,29,112,29],[111,30,112,30],[111,20,112,20],[111,21,112,21],[111,22,112,22],[111,23,112,23],[111,24,112,24],[113,26,114,26],[113,27,114,27],[113,28,114,28],[113,29,114,29],[113,30,114,30],[113,20,114,20],[113,21,114,21],[113,22,114,22],[113,23,114,23],[113,24,114,24],[115,26,116,26],[115,27,116,27],[115,28,116,28],[115,29,116,29],[115,30,116,30],[115,20,116,20],[115,21,116,21],[115,22,116,22],[115,23,116,23],[115,24,116,24],[132,26,133,26],[132,27,133,27],[132,28,133,28],[132,29,133,29],[132,30,133,30],[132,20,133,20],[132,21,133,21],[132,22,133,22],[132,23,133,23],[132,24,133,24],[134,26,135,26],[134,27,135,27],[134,28,135,28],[134,29,135,29],[134,30,135,30],[134,20,135,20],[134,21,135,21],[134,22,135,22],[134,23,135,23],[134,24,135,24],[150,26,151,26],[150,27,151,27],[150,28,151,28],[150,29,151,29],[150,30,151,30],[150,20,151,20],[150,21,151,21],[150,22,151,22],[150,23,151,23],[150,24,151,24],[152,26,153,26],[152,27,153,27],[152,28,153,28],[152,29,153,29],[152,30,153,30],[152,20,153,20],[152,21,153,21],[152,22,153,22],[152,23,153,23],[152,24,153,24],[154,26,155,26],[154,27,155,27],[154,28,155,28],[154,29,155,29],[154,30,155,30],[154,20,155,20],[154,21,155,21],[154,22,155,22],[154,23,155,23],[154,24,155,24],[43,30,44,30],[45,20,46,20],[45,21,46,21],[45,22,46,22],[45,23,46,23],[45,24,46,24],[45,26,46,26],[45,27,46,27],[45,28,46,28],[45,29,46,29],[45,30,46,30],[43,20,44,20],[43,21,44,21],[43,22,44,22],[43,23,44,23],[43,24,44,24],[43,26,44,26],[43,27,44,27],[43,28,44,28],[43,29,44,29],[47,30,48,30],[47,20,48,20],[47,21,48,21],[47,22,48,22],[47,23,48,23],[47,24,48,24],[47,26,48,26],[47,27,48,27],[47,28,48,28],[47,29,48,29]]}
["RODCRAFT",null,null,null,"Általános karbantartáshoz",null,null,null,null,null,"Ipari karbantartáshoz és gyártáshoz",null,null,null,null,null,null,"CHICAGO PNEUMATIC",null,null,"Általános karbantartáshoz",null,null,"Ipari karbantartáshoz és gyártáshoz",null,null,null,null,"Ipari körülményekhez -sorozatgyártás",null,null,null,null,null,"RODCRAFT"]
["Árlista",null,null,null,null,null,null,null,null,null,null,null,null,null,null,null,null,"Árlista",null,null,null,null,null,null,null,null,null,null,null,null,null,null,null,null,"Árlista"]
["Megrendelő",null,null,null,null,null,null,null,null,null,null,null,null,null,null,null,null,"Megrendelő",null,null,null,null,null,null,null,null,null,null,null,null,null,null,null,null,"Megrendelő"]
["Fúrók",null,null,null,null,null,null,null,null,null,null,null,null,null,null,null,null,"Fúrók",null,null,null,null,null,null,null,null,null,null,null,null,null,null,null,null,"Fúrók"]
["Racsnis kulcsok",null,null,null,null,null,null,null,null,null,null,null,null,null,null,null,null,"Racsnis kulcsok",null,null,null,null,null,null,null,null,null,null,null,null,null,null,null,null,"Racsnis kulcsok"]
["Csavarbehajtók",null,null,null,null,null,null,null,null,null,null,null,null,null,null,null,null,"Csavarbehajtók",null,null,null,null,null,null,null,null,null,null,null,null,null,null,null,null,"Csavarbehajtók"]
["Sarokcsiszolók",null,null,null,null,null,null,null,null,null,null,null,null,null,null,null,null,"Sarokcsiszolók",null,null,null,null,null,null,null,null,null,null,null,null,null,null,null,null,"Sarokcsiszolók"]
["Légkulcsok",null,null,null,null,null,null,null,null,null,null,null,null,null,null,null,null,"Légkulcsok",null,null,null,null,null,null,null,null,null,null,null,null,null,null,null,null,"Légkulcsok"]
["Egyenes csiszolók",null,null,null,null,null,null,null,null,null,null,null,null,null,null,null,null,"Egyenes csiszolók",null,null,null,null,null,null,null,null,null,null,null,null,null,null,null,null,"Egyenes csiszolók"]
["Szalag és excenter csiszolók",null,null,null,null,null,null,null,null,null,null,null,null,null,null,null,null,"Szalag és excenter csiszolók",null,null,null,null,null,null,null,null,null,null,null,null,null,null,null,null,"Szalag és excenter csiszolók"]
["Polír- és fiber csiszolók",null,null,null,null,null,null,null,null,null,null,null,null,null,null,null,null,"Polír- és fiber csiszolók",null,null,null,null,null,null,null,null,null,null,null,null,null,null,null,null,"Polír- és fiber csiszolók"]
["Vésők, leverők …",null,null,null,null,null,null,null,null,null,null,null,null,null,null,null,null,"Vésők, leverők …",null,null,null,null,null,null,null,null,null,null,null,null,null,null,null,null,"Vésők, leverők …"]
["Szóró- és lefúvató pisztolyok",null,null,null,null,null,null,null,null,null,null,null,null,null,null,null,null,"Vágók, fűrészek, szegecshúzók",null,null,null,null,null,null,null,null,null,null,null,null,null,null,null,null,"Szóró- és lefúvató pisztolyok"]
["Vágók, fűrészek, szegecshúzók",null,null,null,null,null,null,null,null,null,null,null,null,null,null,null,null,"Szóró- és lefúvató pisztolyok",null,null,"Chicago Pneumatic","CP1014 sorozat     1/8\"",null,null,null,null,"Chicago Pneumatic","CP7300 sorozat     1/8\"",null,null,null,null,null,null,"Vágók, fűrészek, szegecshúzók"]
["Dugókulcsok",null,null,null,null,null,null,null,null,null,null,null,null,null,null,null,null,"Dugókulcsok",null,null,"Típus CP1014\nTeljesítmény:   375W\nMax nyomaték: 3,2-4,6 Nm, \nTokmány méret: 6 mm","Strapabíró ipari levegős fúró, kulcsos tokmánnyal. Alacsony vibráció, ergonómikus kialakítás. Különböző fordulatszámú típusai: CP1014 P24 (2400 rpm); CP1014 P33 (3300 rpm);  CP1014 P45 (4500 rpm)",null,null,null,null,"Típus CP7300\nTeljesítmény:   200/230W\nMax nyomaték: 3/3,3 Nm, \nTokmány méret: 6 mm","Ergonómikus kialakítású, könnyű levegős fúró karbantartáshoz. Precíz, jól szabályozható fordulatszámú. Különböző típusai: CP7300; CP7300R (irányváltós); CP7300RQC (irányváltós, gyorstokmánnyal)\n",null,null,null,null,null,null,"Dugókulcsok"]
["Csatlakozók",null,null,"Típus","Rodcraft RC4105",null,null,null,"Rodcraft RC4100",null,null,null,"Rodcraft RC4500",null,null,null,null,"Csatlakozók",null,null,null,null,null,null,null,null,null,null,null,null,null,null,null,null,"Csatlakozók"]
["Abroncstöltők",null,null,"Fúró átmérő  [mm]","1 - 6,5","Nagyfordulatú, könnyű, kompozitházas fúró. Könnyen vezérelhető indítókapcsoló a lágy indításhoz, ergonómikus irányváltó és hangtompító. Hőszigetelt markolat gumibetétekkel, a biztos fogás érdekében. ",null,null,"1 - 10","Kézreálló fúró kedvező ár/ érték aránnyal. RÖHM 10 mm-es gyorstokmánnyal. Rövid kivitel",null,null,"1 - 10","Kézreálló fúró kedvező ár/ érték aránnyal. RÖHM 10 mm-es gyorstokmánnyal. Irányváltó kapcsolóval",null,null,null,"Abroncstöltők",null,null,null,null,null,null,null,null,null,null,null,null,null,null,null,null,"Abroncstöltők"]
["ABAC Levegős szerszámok",null,null,"Motorteljesítmény [W]","180",null,null,null,"500",null,null,null,"500",null,null,null,null,"ABAC Levegős szerszámok",null,null,null,null,null,null,null,null,null,null,null,null,null,null,null,null,"ABAC Levegős szerszámok",null,null,null,"Kulcsos tokmány",null,null,null,null,null,"Kulcs nélküli tokmány"]
["Garázsipari eszközök",null,null,"Forgásirány","jobb-bal",null,null,null,"jobb",null,null,null,"jobb-bal",null,null,null,null,"Garázsipari eszközök",null,null,"Cikkszám / Típus / (Listaár) \nNettó ár",6151580050,"CP1014 P24",{"$f":"VLOOKUP(V19,Árlista!$B:$D,3,0)","v":"170 700,-Ft "},null,null,"Cikkszám / Típus / (Listaár) Nettó ár",8941073013,"CP7300",{"$f":"VLOOKUP(AB19,Árlista!$B:$D,3,0)","v":"72 400,-Ft "},null,null,null,null,"Garázsipari eszközök",null,null,"Cikkszám / Típus / (Listaár) Nettó ár",8951011473,"6,5 mm",{"$f":"VLOOKUP(AM19,Árlista!$B:$D,3,0)","v":"12 000,-Ft "},null,null,"Cikkszám / Típus / (Listaár) Nettó ár",8951011458,"10 mm",{"$f":"VLOOKUP(AS19,Árlista!$B:$D,3,0)","v":"8 400,-Ft "}]
["AKKUMULÁTOROS GÉPEK",null,null,"Üresjárati fordulat [rpm]","3000",null,null,null,"2000",null,null,null,"2200",null,null,null,null,"AKKUMULÁTOROS GÉPEK",null,null,null,null,null,null,null,null,null,null,null,null,null,null,null,null,"AKKUMULÁTOROS GÉPEK",null,null,"Cikkszám / Típus / (Listaár) Nettó ár",8951011451,"10 mm",{"$f":"VLOOKUP(AM20,Árlista!$B:$D,3,0)","v":"5 320,-Ft "},null,null,"Cikkszám / Típus / (Listaár) Nettó ár",8951011459,"13 mm",{"$f":"VLOOKUP(AS20,Árlista!$B:$D,3,0)","v":"11 210,-Ft "}]
["Tömlők, tömlődobok",null,null,"Tömeg [kg]","0,58",null,null,null,"0,95",null,null,null,"1,15",null,null,null,null,"Tömlők, tömlődobok",null,null,"Cikkszám / Típus / (Listaár) \nNettó ár",6151580030,"CP1014 P33",{"$f":"VLOOKUP(V21,Árlista!$B:$D,3,0)","v":"170 700,-Ft "},null,null,"Cikkszám / Típus / (Listaár) Nettó ár",8941073011,"CP7300R",{"$f":"VLOOKUP(AB21,Árlista!$B:$D,3,0)","v":"STARS* 49 990,-Ft"},null,null,null,null,"Tömlők, tömlődobok",null,null,"Cikkszám / Típus / (Listaár) Nettó ár",8951011452,"13 mm",{"$f":"VLOOKUP(AM21,Árlista!$B:$D,3,0)","v":"13 170,-Ft "},null,null,"Cikkszám / Típus / (Listaár) Nettó ár"]
["Szűrők, szabályozók",null,null,"Használati besorolás","3 -igen magas színvonalú",null,null,null,"2 -megnövekedett igényekhez",null,null,null,"2 -megnövekedett igényekhez",null,null,null,null,"Szűrők, szabályozók",null,null,null,null,null,null,null,null,null,null,null,null,null,null,null,null,"Szűrők, szabályozók"]
["Balancerek",null,null,"Cikkszám / Típus / (Listaár) \nNettó ár",8951073001,"RC4105",{"$f":"VLOOKUP(E23,Árlista!$B:$D,3,0)","v":"TOPS* 63 000,-Ft"},null,8951073000,"RC4100",{"$f":"VLOOKUP(I23,Árlista!$B:$D,3,0)","v":"TOPS* 38 530,-Ft"},null,8951073021,"RC4500",{"$f":"VLOOKUP(M23,Árlista!$B:$D,3,0)","v":"TOPS* 36 260,-Ft"},null,null,"Balancerek",null,null,"Cikkszám / Típus / (Listaár) \nNettó ár",6151580010,"CP1014 P45",{"$f":"VLOOKUP(V23,Árlista!$B:$D,3,0)","v":"170 700,-Ft "},null,null,"Cikkszám / Típus / (Listaár) Nettó ár",8941073012,"CP7300RQC",{"$f":"VLOOKUP(AB23,Árlista!$B:$D,3,0)","v":"STARS* 55 200,-Ft"},null,null,null,null,"Balancerek"]
[]
["A feltüntett árak a 2020.02.01.-től ",null,null,null,null,null,null,null,null,null,null,null,null,null,null,null,null,null,null,null,null,null,null,null,null,null,null,null,null,null,null,null,null,null,"A feltüntett árak a 2017.02.01-től "]
["érvényes listaárak.",null,null,null,null,null,null,null,null,null,null,null,null,null,null,null,null,null,null,null,null,null,null,null,null,null,null,null,null,null,null,null,null,null,"érvényes listaárak.",null,null,null,"DUS Zajcsökkentő"]
["* jelöléssel ellátott termékek a ",null,null,null,null,null,null,null,null,null,null,null,null,null,null,null,null,null,null,null,null,null,null,null,null,null,null,null,null,null,null,null,null,null,"* jelöléssel ellátott termékek a ",null,null,"Cikkszám / Típus / (Listaár) Nettó ár",8951011865,"DUS 19",{"$f":"VLOOKUP(AM27,Árlista!$B:$D,3,0)","v":{"$error":"#N/A"}}]
["RC TOPS és CP STAR akciós",null,null,null,null,null,null,null,null,null,null,null,null,null,null,null,null,null,null,null,null,null,null,null,null,null,null,null,null,null,null,null,null,null,"RC TOPS és CP STAR akciós",null,null,"Cikkszám / Típus / (Listaár) Nettó ár",8951011866,"DUS 20",{"$f":"VLOOKUP(AM28,Árlista!$B:$D,3,0)","v":"6 720,-Ft "}]
["kiadvány árai",null,null,null,null,null,null,null,null,null,null,null,null,null,null,null,null,null,null,null,null,null,null,null,null,null,null,null,null,null,null,null,null,null,"kiadvány árai",null,null,"Cikkszám / Típus / (Listaár) Nettó ár",8951011867,"DUS 21",{"$f":"VLOOKUP(AM29,Árlista!$B:$D,3,0)","v":"6 720,-Ft "}]
["SP jelöléssel ellátott termékekre",null,null,null,null,null,null,null,null,null,null,null,null,null,null,null,null,null,null,null,null,null,null,null,null,null,null,null,null,null,null,null,null,null,"SP jelöléssel ellátott termékekre",null,null,"Cikkszám / Típus / (Listaár) Nettó ár",8951011869,"DUS 23",{"$f":"VLOOKUP(AM30,Árlista!$B:$D,3,0)","v":"13 730,-Ft "}]
["speciális viszonteladói árkézés",null,null,null,null,null,null,null,null,null,null,null,null,null,null,null,null,null,null,null,null,null,null,null,null,null,null,null,null,null,null,null,null,null,"speciális viszonteladói árkézés",null,null,"Cikkszám / Típus / (Listaár) Nettó ár",8951011870,"DUS 24",{"$f":"VLOOKUP(AM31,Árlista!$B:$D,3,0)","v":"13 730,-Ft "}]
["vonatkozik. Az Extra árak",null,null,null,null,null,null,null,null,null,null,null,null,null,null,null,null,null,null,null,null,null,null,null,null,null,null,null,null,null,null,null,null,null,"vonatkozik. Az Extra árak",null,null,"Cikkszám / Típus / (Listaár) Nettó ár",8951011871,"DUS 25",{"$f":"VLOOKUP(AM32,Árlista!$B:$D,3,0)","v":"13 730,-Ft "}]
["a készlet erejéig, illetve",null,null,null,null,null,null,null,null,null,null,null,null,null,null,null,null,null,null,null,null,null,null,null,null,null,null,null,null,null,null,null,null,null,"a készlet erejéig, illetve",null,null,"Cikkszám / Típus / (Listaár) Nettó ár",8951011875,"DUS 29"]
["visszavonásig érvényesek.",null,null,null,null,null,null,null,null,null,null,null,null,null,null,null,null,null,null,null,null,null,null,null,null,null,null,null,null,null,null,null,null,null,"visszavonásig érvényesek.",null,null,"Cikkszám / Típus / (Listaár) Nettó ár",8951011885,"DUS 32"]
["Az árista a Techtomat Kft és",null,null,null,null,null,null,null,null,null,null,null,null,null,null,null,null,null,null,null,null,null,null,null,null,null,null,null,null,null,null,null,null,null,"Az árista a Techtomat Kft és",null,null,"Cikkszám / Típus / (Listaár) Nettó ár",8955000015,"DUS 35"]
["Kapitár Kft közös gondozásában",null,null,null,null,null,null,null,null,null,null,null,null,null,null,null,null,null,null,null,null,null,null,null,null,null,null,null,null,null,null,null,null,null,"Kapitár Kft közös gondozásában",null,null,"Cikkszám / Típus / (Listaár) Nettó ár",8955000027,"DUS 36"]
[" jelent meg.",null,null,null,null,null,null,null,null,null,null,null,null,null,null,null,null,null,null,null,null,null,null,null,null,null,null,null,null,null,null,null,null,null," jelent meg."]
["Minden jog fenntartva.",null,null,"Típus","RC4300",null,null,null,"Rodcraft RC4400",null,null,null,"Rodcraft RC4550",null,null,null,null,null,null,null,null,null,null,null,null,null,null,null,null,null,null,null,null,null,"Minden jog fenntartva."]
[null,null,null,"Fúró átmérő  [mm]","1,5 - 13","Kompakt, keskeny hosszú élettartalmú fúró, dupla elülső csapágyazással. Ideális készülék nehéz fúráshoz, hónoláshoz. Minőségi RÖHM 13 mm-es gyorstokmánnyal szerelve.\n\n\n\n",null,null,"1,5 - 13","Kompakt, keskeny hosszú élettartalmú lassújáratú fúró. Ideális készülék nehéz fúráshoz és keveréshez. Minőségi RÖHM 13 mm-es gyorstokmánnyal szerelve.\n\n\n\n",null,null,"1,5 - 13","Kompakt, keskeny hosszú élettartalmú lassújáratú fúró dupla elülső csapágyazással. Forgásirány váltás. Ideális készülék nehéz fúráshoz és keveréshez és egyéb alkalmazásokhoz. Minőségi RÖHM 13 mm-es gyorstokmánnyal szerelve. \n\n\n\n",null,null,null,null,null,null,"Chicago Pneumatic","CP879C és CP887C",null,null,null,null,"Chicago Pneumatic","CP1114R SERIES"]
["Bővebb információ:",null,null,"Motorteljesítmény [W]","500",null,null,null,"500",null,null,null,"500",null,null,null,null,null,null,null,"Típus CP879C Sarokfúró \nTeljesítm: 200W Fordulat 1800 rpm\nTípus CP877C Egyenes \nTeljesítm: 380W Fordulat 2800 rpm","Kompozit házas, gumírozott markolatú fúrók, Jacobs ipari tokmánnyal. Tokmány méret: 10 mm. Praktikus, könnyen kezelhető irányváltóval.",null,null,null,null,"Típus CPCP1114R\nTeljesítmény:   410W\nMax nyomaték: 1,7/25,2 Nm, \nTokmány méret: 10 és 13 mm","Irányváltós ipari fúró. Különböző típusai: CP1114R 05 (500 rpm); CP1114R 09 (irányváltós, 900 rpm); CP1114R 26 (irányváltós, 2600 rpm) és CP1114R 40 (irányváltós, 4000 rpm)\n",null,null,null,null,null,null,"Bővebb információ:"]
["Szabó Attila",null,null,"Forgásirány","jobb",null,null,null,"jobb",null,null,null,"jobb-bal",null,null,null,null,null,null,null,null,null,null,null,null,null,null,null,null,null,null,null,null,null,"Szabó Attila"]
["30/201-4931 vagy 30/626-8687",null,null,"Üresjárati fordulat [rpm]","2000",null,null,null,"500",null,null,null,"800",null,null,null,null,null,null,null,null,null,null,null,null,null,null,null,null,null,null,null,null,null,"30/201-4931 vagy 30/626-8687"]
["e-mail",null,null,"Tömeg [kg]","1",null,null,null,2,null,null,null,2.33,null,null,null,null,null,null,null,null,null,null,null,null,null,null,null,null,null,null,null,null,null,"e-mail"]
["Tóth Tamás",null,null,"Használati besorolás","2 -megnövekedett igényekhez",null,null,null,"3 -igen magas színvonalú",null,null,null,"3 -igen magas színvonalú",null,null,null,null,null,null,null,"Cikkszám / Típus / (Listaár) \nNettó ár",8941008790,"CP879C",{"$f":"VLOOKUP(V44,Árlista!$B:$D,3,0)","v":"STARS* 47 220,-Ft"},null,null,"Cikkszám / Típus / (Listaár) Nettó ár",6151580310,"CP1114R 05",{"$f":"VLOOKUP(AB44,Árlista!$B:$D,3,0)","v":"193 400,-Ft "},null,null,null,null,"Tóth Tamás"]
["30/603-1596",null,null,"Cikkszám / Típus / (Listaár) \nNettó ár",8951073020,"RC4300",{"$f":"VLOOKUP(E45,Árlista!$B:$D,3,0)","v":"Kifutó, érdeklődj!"},null,8951073030,"RC4400",{"$f":"VLOOKUP(I45,Árlista!$B:$D,3,0)","v":"77 700,-Ft "},null,8951073031,"RC4550",{"$f":"VLOOKUP(M45,Árlista!$B:$D,3,0)","v":"TOPS* 49 290,-Ft"},null,null,null,null,null,null,null,null,null,null,null,null,null,null,null,null,null,null,null,"30/603-1596"]
[null,null,null,null,null,null,null,null,null,null,null,null,null,null,null,null,null,null,null,null,"Cikkszám / Típus / (Listaár) \nNettó ár",8941008870,"CP887C",{"$f":"VLOOKUP(V46,Árlista!$B:$D,3,0)","v":"STARS* 41 660,-Ft"},null,null,"Cikkszám / Típus / (Listaár) Nettó ár",6151580320,"CP1114R 09",{"$f":"VLOOKUP(AB46,Árlista!$B:$D,3,0)","v":"193 400,-Ft "}]
[]
[null,null,null,null,null,null,null,null,null,null,null,null,null,null,null,null,null,null,null,null,null,null,null,null,null,null,"Cikkszám / Típus / (Listaár) Nettó ár",6151580330,"CP1114R 26",{"$f":"VLOOKUP(AB48,Árlista!$B:$D,3,0)","v":"160 800,-Ft "}]
[]
[]
[]
[]
[]
[]
[]
[null,null,null,"Típus","Rodcraft RC4600",null,null,null,"Rodcraft RC4607",null,null,null,"Rodcraft RC4650"]
[null,null,null,"Fúró átmérő  [mm]","1,5 - 10","Magas minőségű fúró, dupla elülső csapágyazással. Felszerelhető RÖHM 10 mm-es kulcsos tokmánnyal is.",null,null,"1,5 - 10","Magas minőségű, kompozit házas fúró, dupla elülső csapágyazással. Felszerelhető RÖHM 10 mm-es kulcsos tokmánnyal is.",null,null,"1,5 - 10","Magas minőségű, 90°-os fúró keskeny, rövid kialakítással. Forgásirány váltás.  Felszerelhető RÖHM 10 mm-es kulcsos tokmánnyal is."]
[null,null,null,"Motorteljesítmény [W]","500",null,null,null,"500",null,null,null,"500"]
[null,null,null,"Forgásirány","jobb",null,null,null,"jobb",null,null,null,"jobb-bal"]
[null,null,null,"Üresjárati fordulat [rpm]","2000",null,null,null,"2000",null,null,null,"1500"]
[null,null,null,"Tömeg [kg]","1",null,null,null,2,null,null,null,2.33]
[null,null,null,"Használati besorolás","2 -megnövekedett igényekhez",null,null,null,"2 -megnövekedett igényekhez",null,null,null,"2 -megnövekedett igényekhez"]
[null,null,null,"Cikkszám / Típus / (Listaár) \nNettó ár",8951073040,"RC4600",{"$f":"VLOOKUP(E63,Árlista!$B:$D,3,0)","v":"Kifutó, érdeklődj!"},null,8951073090,"RC4607",{"$f":"VLOOKUP(I63,Árlista!$B:$D,3,0)","v":"TOPS* 49 290,-Ft"},null,8951073050,"RC4650",{"$f":"VLOOKUP(M63,Árlista!$B:$D,3,0)","v":"TOPS* 42 490,-Ft"}]
[null,null,null,null,8951011867,"DUS21",{"$f":"VLOOKUP(E64,Árlista!$B:$D,3,0)","v":"6 720,-Ft "},null,8951011867,"DUS21",{"$f":"VLOOKUP(I64,Árlista!$B:$D,3,0)","v":"6 720,-Ft "},null,8951011867,"DUS21",{"$f":"VLOOKUP(M64,Árlista!$B:$D,3,0)","v":"6 720,-Ft "}]
[null,null,null,null,null,null,null,null,null,null,null,null,null,null,null,null,null,null,null,null,"Chicago Pneumatic","CP1117 sorozat   1/4\"",null,null,null,null,"Chicago Pneumatic","CP785 és CP789R sorozat   1/4\""]
[null,null,null,null,null,null,null,null,null,null,null,null,null,null,null,null,null,null,null,null,"Típus CP1117\nTeljesítmény:   750W\nMax nyomaték: 3,4-6,2 Nm, \nTokmány méret: 10 mm","Strapabíró ipari levegős fúró, kulcsos tokmánnyal. Alacsony vibráció, ergonómikus kialakítás. Különböző fordulatszámú típusai: CP1117 P26 (2600 rpm); CP1117 P32 (3200 rpm);  CP1117 P60 (6000 rpm). Elérető gyorstokmánnyal is.",null,null,null,null,"Típus CP785 és CP789R\nTeljesítmény:   370/380W\nMax nyomaték: 2,5/4,2 Nm, \nTokmány méret: 10 mm","Levegős fúró karbantartáshoz. Classic széria - évtizedek óta bevált darab. Precíz, jól szabályozható fordulatszámú. Különböző típusai: CP785 (2400 rpm); CP789R-26 (irányváltós, 2600 rpm); CP789R-42 (irányváltós, 4200 rpm)\n"]
[null,null,null,null,null,null,null,null,null,null,null,null,null," "]
[]
[]
[null,null,null,null,null,null,null,null,null,null,null,null,null,null,null,null,null,null,null,null,"Cikkszám / Típus / (Listaár) \nNettó ár",6151580130,"CP1117 P26",{"$f":"VLOOKUP(V70,Árlista!$B:$D,3,0)","v":"183 900,-Ft "},null,null,"Cikkszám / Típus / (Listaár) Nettó ár","T022698","CP785",{"$f":"VLOOKUP(AB70,Árlista!$B:$D,3,0)","v":"69 400,-Ft "}]
[]
[null,null,null,null,null,null,null,null,null,null,null,null,null,null,null,null,null,null,null,null,"Cikkszám / Típus / (Listaár) \nNettó ár",6151580110,"CP1117 P32",{"$f":"VLOOKUP(V72,Árlista!$B:$D,3,0)","v":"183 900,-Ft "},null,null,"Cikkszám / Típus / (Listaár) Nettó ár","T025180","CP789R-26",{"$f":"VLOOKUP(AB72,Árlista!$B:$D,3,0)","v":"111 200,-Ft "}]
[]
[null,null,null,null,null,null,null,null,null,null,null,null,null,null,null,null,null,null,null,null,"Cikkszám / Típus / (Listaár) \nNettó ár",6151580090,"CP1117 P60",{"$f":"VLOOKUP(V74,Árlista!$B:$D,3,0)","v":"183 900,-Ft "},null,null,"Cikkszám / Típus / (Listaár) Nettó ár","T025198","CP789R-42",{"$f":"VLOOKUP(AB74,Árlista!$B:$D,3,0)","v":"112 500,-Ft "}]
[]
[]
[]
[null,null,null,"Típus","Rodcraft RC4107",null,null,null,"Rodcraft RC6453",null,null,null,"Rodcraft RC6451 SZET"]
[null,null,null,"Fúró átmérő  [mm]","8","Nagyfordulatú, könnyű, kompozitházas fúró. Könnyen vezérelhető indítókapcsoló a lágy indításhoz, ergonómikus irányváltó és hangtompító. Hőszigetelt markolat gumibetétekkel, a biztos fogás érdekében. ",null,null,"8","Ponthegesztés fúró. 75 mm-es kengyel a készülék tartozéka. A készülék autómatikusan megy ütköző pozícióba, majd indítja a marót. 50 µm -ként állítható a mélység. Tartózékként 140mm-es kengyel is rendelhető hozzá.",null,null,"1,5 - 10","Ponthegesztés fúró. 50 µm -ként állítható a mélység. A szett tartalma: \n5db HS Co fúrószár 1db DG1 csatlakozó\n1 db napi olajozó és a szerszámbefogás szerszámai."]
[null,null,null,"Motorteljesítmény [W]","380"]
[null,null,null,"Forgásirány","jobb-bal",null,null,null,"jobb",null,null,null,"jobb"]
[null,null,null,"Üresjárati fordulat [rpm]","2200",null,null,null,"1800",null,null,null,"2000"]
[null,null,null,"Tömeg [kg]","0,93",null,null,null,"1,3",null,null,null,"1,15"]
[null,null,null,"Használati besorolás","3 -igen magas színvonalú",null,null,null,"2 -megnövekedett igényekhez",null,null,null,"2 -megnövekedett igényekhez"]
[null,null,null,"Cikkszám / Típus / (Listaár) \nNettó ár",8951073011,"RC4107 -10mm",{"$f":"VLOOKUP(E85,Árlista!$B:$D,3,0)","v":"TOPS* 93 800,-Ft"},null,8951076013,"RC6453",{"$f":"VLOOKUP(I85,Árlista!$B:$D,3,0)","v":"TOPS* 134 200,-Ft"},null,8951176000,"RC6451"]
[]
[]
[]
[null,null,null,null,null,null,null,null,null,null,null,null,null,null,null,null,null,null,null,null,"Chicago Pneumatic","CP9285 / CP9287   1/4\"",null,null,null,null,"Chicago Pneumatic"," CP9790 / CP9792   1/4\""]
[null,null,null,null,null,null,null,null,null,null,null,null,null,null,null,null,null,null,null,null,"Típus CP9285\nTeljesítmény:   375W\nMax nyomaték: 5,3 Nm, \nTokmány méret: 10 mm","Levegős fúró, kulcsos tokmánnyal általános karbantartási feladatokra. Alacsony vibráció, ergonómikus kialakítás. Elérető gyorstokmánnyal is (CP9287). Forulatszáma 2900 rpm",null,null,null,null,"Típus CP9790 és CP9792\nTeljesítmény:   270W\nMax nyomaték: 4,8 Nm, \nTokmány méret: 10 mm","Ideális és erőteljes szerszám fúráshoz és csavarozáshoz, mindenféle karbantarási munkhoz. Elérhető egyirányú CP9790 és irányváltós kivitelben is CP9792 Forulatszáma 2000 rpm"]
[]
[]
[]
[null,null,null,null,null,null,null,null,null,null,null,null,null,null,null,null,null,null,null,null,"Cikkszám / Típus / (Listaár) \nNettó ár",8941092850,"CP9285",{"$f":"VLOOKUP(V94,Árlista!$B:$D,3,0)","v":"59 400,-Ft "},null,null,"Cikkszám / Típus / (Listaár) Nettó ár",8941097900,"CP9790",{"$f":"VLOOKUP(AB94,Árlista!$B:$D,3,0)","v":"STARS* 42 610,-Ft"}]
[]
[null,null,null,null,null,null,null,null,null,null,null,null,null,null,null,null,null,null,null,null,"Cikkszám / Típus / (Listaár) \nNettó ár",8941092870,"CP9287",{"$f":"VLOOKUP(V96,Árlista!$B:$D,3,0)","v":"59 400,-Ft "},null,null,"Cikkszám / Típus / (Listaár) Nettó ár",8941097920,"CP9792",{"$f":"VLOOKUP(AB96,Árlista!$B:$D,3,0)","v":"STARS* 42 610,-Ft"}]
[]
[null,null,null,null,null,null,null,null,null,null,null,null,null,null,null,null,null,null,null,null,"Cikkszám / Típus / (Listaár) \nNettó ár",null,null,null,null,null,"Cikkszám / Típus / (Listaár) Nettó ár",6151940790,"CP9790 M KIT",{"$f":"VLOOKUP(AB98,Árlista!$B:$D,3,0)","v":"73 700,-Ft "}]
[]
[]
[]
[]
[]
[]
[]
[]
[]
[]
[null,null,null,null,null,null,null,null,null,null,null,null,null,null,null,null,null,null,null,null,"Chicago Pneumatic","CP1117 sorozat   3/8\"",null,null,null,null,"Chicago Pneumatic","CP785H és CP785HR sorozat    3/8\""]
[null,null,null,"Cikkszám / Típus / (Listaár) \nNettó ár",8940172301,"Fafúró készlet",{"$f":"VLOOKUP(E110,Árlista!$B:$D,3,0)","v":"STARS* 5 130,-Ft"},null,8940172302,"Betonfúró készlet",{"$f":"VLOOKUP(I110,Árlista!$B:$D,3,0)","v":"STARS* 5 130,-Ft"},null,8940172303,"Fémfúró készlet",{"$f":"VLOOKUP(M110,Árlista!$B:$D,3,0)","v":",-Ft "},null,null,null,null,null,"Típus CP1117\nTeljesítmény:   750W\nMax nyomaték: 30/19,3 Nm, \nTokmány méret: 13 mm","Strapabíró ipari levegős fúró, kulcsos tokmánnyal. Alacsony vibráció, ergonómikus kialakítás. Különböző fordulatszámú típusai: CP1117 P05 (500 rpm); CP1117 P08 (800 rpm). Elérető gyorstokmánnyal is (QT).",null,null,null,null,"Típus CP785 és CP789R\nTeljesítmény:   370/380W\nMax nyomaték: 2,5/4,2 Nm, \nTokmány méret: 10 mm","Levegős fúró karbantartáshoz. Classic széria - évtizedek óta bevált darab. Precíz, jól szabályozható fordulatszámú. Különböző típusai: CP785H (500 rpm); CP785HR (irányváltós, 500 rpm)\n"]
[]
[null,null,null,null,null,null,null,null,null,null,null,null,null,null,null,null,null,null,null,null,"Cikkszám / Típus / (Listaár) \nNettó ár",6151580170,"CP1117 P05",{"$f":"VLOOKUP(V112,Árlista!$B:$D,3,0)","v":"202 900,-Ft "},null,null,"Cikkszám / Típus / (Listaár) Nettó ár","T024134","CP785H",{"$f":"VLOOKUP(AB112,Árlista!$B:$D,3,0)","v":"103 200,-Ft "}]
[]
[null,null,null,null,null,null,null,null,null,null,null,null,null,null,null,null,null,null,null,null,"Cikkszám / Típus / (Listaár) \nNettó ár",6151580180,"CP1117P05QT",{"$f":"VLOOKUP(V114,Árlista!$B:$D,3,0)","v":"202 900,-Ft "},null,null,"Cikkszám / Típus / (Listaár) Nettó ár","T025165","CP785HR",{"$f":"VLOOKUP(AB114,Árlista!$B:$D,3,0)","v":"STARS* 109 100,-Ft"}]
[]
[null,null,null,null,null,null,null,null,null,null,null,null,null,null,null,null,null,null,null,null,"Cikkszám / Típus / (Listaár) \nNettó ár",6151580150,"CP1117 P08",{"$f":"VLOOKUP(V116,Árlista!$B:$D,3,0)","v":"202 900,-Ft "}]
[]
[]
[]
[]
[]
[]
[]
[]
[]
[]
[]
[null,null,null,null,null,null,null,null,null,null,null,null,null,null,null,null,null,null,null,null,"Chicago Pneumatic","CP9286C és CP9288C   3/8\"",null,null,null,null,"Chicago Pneumatic","CP9789 és CP9791   3/8\""]
[null,null,null,null,null,null,null,null,null,null,null,null,null,null,null,null,null,null,null,null,"Típus CP9286 és CP9288\nTeljesítmény:   380W\nMax nyomaték: 20 Nm\nTokmány méret: 13 mm","Nagy nyomatékú, egyirányú, lassú fordulatú levegős fúró karbantartáshoz. 600 rpm fordulatszámmal. Elérhető kulcsos CP9286, és gyorstokmánnyal is CP9288",null,null,null,null,"Típus CP9789 és CP9791\nTeljesítmény:   270W\nMax nyomaték: 12,4 Nm\nTokmány méret: 10 mm","Nagy nyomatékú, irányváltós, lassú fordulatú levegős fúró karbantartáshoz. 800 rpm fordulatszámmal."]
[]
[]
[]
[null,null,null,null,null,null,null,null,null,null,null,null,null,null,null,null,null,null,null,null,"Cikkszám / Típus / (Listaár) \nNettó ár",8941092860,"CP9286C",{"$f":"VLOOKUP(V133,Árlista!$B:$D,3,0)","v":"94 900,-Ft "},null,null,"Cikkszám / Típus / (Listaár) Nettó ár",8941097890,"CP9286",{"$f":"VLOOKUP(AB133,Árlista!$B:$D,3,0)","v":"STARS* 62 400,-Ft"}]
[]
[null,null,null,null,null,null,null,null,null,null,null,null,null,null,null,null,null,null,null,null,"Cikkszám / Típus / (Listaár) \nNettó ár",8941092880,"CP9288C",{"$f":"VLOOKUP(V135,Árlista!$B:$D,3,0)","v":"94 900,-Ft "},null,null,null,8941097910,"CP9288C",{"$f":"VLOOKUP(AB135,Árlista!$B:$D,3,0)","v":"STARS* 62 400,-Ft"}]
[]
[]
[]
[]
[]
[]
[]
[]
[]
[]
[null,null,null,null,null,null,null,null,null,null,null,null,null,null,null,null,null,null,null,null,"Chicago Pneumatic","CP1816   1/2\"",null,null,null,null,"Chicago Pneumatic"]
[null,null,null,null,null,null,null,null,null,null,null,null,null,null,null,null,null,null,null,null,"Típus CP1816\nTeljesítmény:   750W\nMax nyomaték: 34,3 Nm\nTokmány méret: 16 mm","Nagy nyomatékú, egyirányú, lassú fordulatú levegős fúró. 800 rpm fordulatszámmal. Erőteljes áttételezéssel. Ideális acél és öntöttvas fúrásához.",null,null,null,null,"\n\nTeljesítménye 1630-2100W","Super ipari kivitelű levegős fúrók"]
[]
[]
[]
[null,null,null,null,null,null,null,null,null,null,null,null,null,null,null,null,null,null,null,null,"Cikkszám / Típus / (Listaár) \nNettó ár",6151580300,"CP1816",{"$f":"VLOOKUP(V151,Árlista!$B:$D,3,0)","v":"419 000,-Ft "},null,null,"Cikkszám / Típus / (Listaár) Nettó ár",6151580260,"CP1620R32",{"$f":"VLOOKUP(AB151,Árlista!$B:$D,3,0)","v":"C #: 1 189 000,-Ft"}]
[]
[null,null,null,null,null,null,null,null,null,null,null,null,null,null,null,null,null,null,null,null,"Cikkszám / Típus / (Listaár) \nNettó ár",null,null,null,null,null,"Cikkszám / Típus / (Listaár) Nettó ár",6151580290,"CP1620R32",{"$f":"VLOOKUP(AB153,Árlista!$B:$D,3,0)","v":"C #: 1 357 000,-Ft"}]
[]
[null,null,null,null,null,null,null,null,null,null,null,null,null,null,null,null,null,null,null,null,"Cikkszám / Típus / (Listaár) \nNettó ár",null,null,null,null,null,"Cikkszám / Típus / (Listaár) Nettó ár",6151580270,"CP1720R50",{"$f":"VLOOKUP(AB155,Árlista!$B:$D,3,0)","v":"C #: 1 457 000,-Ft"}]

{"sheet":"Racsnis kulcs","index":5,"n_rows":104,"n_cols":41,"rows_kept":104,"cut":false,"hidden":false,"merged":[[35,5,39,7],[35,9,39,11],[34,4,34,7],[34,8,34,11],[50,25,52,28],[50,29,52,32],[40,4,40,7],[40,8,40,11],[37,25,38,25],[37,26,38,26],[37,27,38,27],[37,28,38,28],[37,29,38,29],[37,30,38,30],[37,31,38,31],[37,32,38,32],[39,32,40,32],[50,21,52,24],[37,22,38,22],[37,23,38,23],[37,24,38,24],[39,25,40,25],[39,26,40,26],[39,27,40,27],[19,25,21,28],[19,29,21,32],[34,21,36,24],[34,25,36,28],[34,29,36,32],[22,22,23,22],[22,23,23,23],[22,25,23,25],[22,26,23,26],[22,27,23,27],[22,29,23,29],[22,30,23,30],[22,31,23,31],[22,24,23,24],[22,28,23,28],[22,32,23,32],[24,29,25,29],[24,30,25,30],[24,31,25,31],[24,32,25,32],[24,25,25,25],[24,26,25,26],[24,27,25,27],[24,28,25,28],[21,8,22,8],[21,9,22,9],[21,10,22,10],[21,11,22,11],[21,12,22,12],[39,21,40,21],[21,13,22,13],[21,14,22,14],[21,15,22,15],[37,20,38,20],[37,21,38,21],[14,4,14,7],[14,8,14,11],[14,12,14,15],[20,4,20,7],[20,8,20,11],[20,12,20,15],[15,5,19,7],[15,9,19,11],[15,13,19,15],[21,3,22,3],[21,4,22,4],[21,5,22,5],[21,6,22,6],[21,7,22,7],[58,12,59,12],[51,4,51,7],[51,8,51,11],[51,12,51,15],[52,5,56,7],[58,7,59,7],[52,9,56,11],[58,13,59,13],[41,3,42,3],[41,4,42,4],[41,5,42,5],[41,6,42,6],[41,8,42,8],[41,9,42,9],[41,10,42,10],[41,11,42,11],[41,7,42,7],[58,14,59,14],[52,13,56,15],[60,3,61,3],[60,4,61,4],[60,5,61,5],[60,6,61,6],[60,7,61,7],[57,8,57,11],[57,12,57,15],[57,4,57,7],[58,3,59,3],[58,4,59,4],[58,5,59,5],[58,6,59,6],[58,8,59,8],[58,9,59,9],[58,10,59,10],[58,11,59,11],[58,15,59,15],[53,20,54,20],[53,21,54,21],[53,22,54,22],[19,21,21,24],[24,20,25,20],[24,21,25,21],[24,22,25,22],[24,23,25,23],[24,24,25,24],[39,22,40,22],[39,23,40,23],[39,24,40,24],[22,20,23,20],[22,21,23,21],[39,20,40,20],[53,23,54,23],[53,24,54,24],[53,25,54,25],[53,26,54,26],[55,32,56,32],[55,27,56,27],[55,28,56,28],[55,29,56,29],[55,30,56,30],[55,31,56,31],[53,32,54,32],[39,28,40,28],[39,29,40,29],[39,30,40,30],[39,31,40,31],[53,27,54,27],[53,28,54,28],[53,29,54,29],[53,30,54,30],[53,31,54,31],[55,22,56,22],[55,23,56,23],[55,24,56,24],[55,25,56,25],[55,26,56,26],[60,13,61,13],[60,14,61,14],[60,15,61,15],[60,8,61,8],[60,9,61,9],[60,10,61,10],[60,11,61,11],[60,12,61,12],[55,20,56,20],[55,21,56,21],[64,21,64,24],[65,21,67,24],[68,20,69,20],[68,21,69,21],[68,22,69,22],[68,23,69,23],[68,24,69,24],[70,20,71,20],[70,21,71,21],[70,22,71,22],[70,23,71,23],[70,24,71,24],[64,25,64,28],[65,25,67,28],[68,25,69,25],[68,26,69,26],[68,27,69,27],[68,28,69,28],[70,25,71,25],[70,26,71,26],[70,27,71,27],[70,28,71,28],[74,4,74,7],[74,8,74,11],[74,12,74,15],[75,5,79,7],[75,9,79,11],[75,13,79,15],[80,4,80,7],[80,8,80,11],[80,12,80,15],[81,3,82,3],[81,4,82,4],[81,5,82,5],[81,6,82,6],[81,7,82,7],[81,8,82,8],[81,9,82,9],[81,10,82,10],[81,11,82,11],[81,12,82,12],[81,13,82,13],[81,14,82,14],[81,15,82,15],[94,4,94,7],[94,8,94,11],[94,12,94,15],[95,5,99,7],[95,9,99,11],[95,13,99,15],[100,4,100,7],[100,8,100,11],[100,12,100,15],[101,3,102,3],[101,4,102,4],[101,5,102,5],[101,6,102,6],[101,7,102,7],[101,8,102,8],[101,9,102,9],[101,10,102,10],[101,11,102,11],[101,12,102,12],[101,13,102,13],[101,14,102,14],[101,15,102,15],[103,12,104,12],[103,13,104,13],[103,14,104,14],[103,15,104,15],[103,3,104,3],[103,4,104,4],[103,5,104,5],[103,6,104,6],[103,7,104,7],[103,8,104,8],[103,9,104,9],[103,10,104,10],[103,11,104,11]]}
["RODCRAFT",null,null,null,"Általános karbantartáshoz",null,null,null,null,null,"Ipari karbantartáshoz és gyártáshoz",null,null,null,null,null,null,null,null,null,null,null,null,null,null,null,null,null,null,null,null,null,null,null,"RODCRAFT"]
["Árlista",null,null,null,null,null,null,null,null,null,null,null,null,null,null,null,null,"Árlista",null,null,null,null,null,null,null,null,null,null,null,null,null,null,null,null,"Árlista"]
["Megrendelő",null,null,null,null,null,null,null,null,null,null,null,null,null,null,null,null,"Megrendelő",null,null,null,null,null,null,null,null,null,null,null,null,null,null,null,null,"Megrendelő"]
["Fúrók",null,null,null,null,null,null,null,null,null,null,null,null,null,null,null,null,"Fúrók",null,null,null,null,null,null,null,null,null,null,null,null,null,null,null,null,"Fúrók"]
["Racsnis kulcsok",null,null,null,null,null,null,null,null,null,null,null,null,null,null,null,null,"Racsnis kulcsok",null,null,null,null,null,null,null,null,null,null,null,null,null,null,null,null,"Racsnis kulcsok"]
["Csavarbehajtók",null,null,null,null,null,null,null,null,null,null,null,null,null,null,null,null,"Csavarbehajtók",null,null,null,null,null,null,null,null,null,null,null,null,null,null,null,null,"Csavarbehajtók"]
["Sarokcsiszolók",null,null,null,null,null,null,null,null,null,null,null,null,null,null,null,null,"Sarokcsiszolók",null,null,null,null,null,null,null,null,null,null,null,null,null,null,null,null,"Sarokcsiszolók"]
["Légkulcsok",null,null,null,null,null,null,null,null,null,null,null,null,null,null,null,null,"Légkulcsok",null,null,null,null,null,null,null,null,null,null,null,null,null,null,null,null,"Légkulcsok"]
["Egyenes csiszolók",null,null,null,null,null,null,null,null,null,null,null,null,null,null,null,null,"Egyenes csiszolók",null,null,null,null,null,null,null,null,null,null,null,null,null,null,null,null,"Egyenes csiszolók"]
["Szalag és excenter csiszolók",null,null,null,null,null,null,null,null,null,null,null,null,null,null,null,null,"Szalag és excenter csiszolók",null,null,null,null,null,null,null,null,null,null,null,null,null,null,null,null,"Szalag és excenter csiszolók"]
["Polír- és fiber csiszolók",null,null,null,null,null,null,null,null,null,null,null,null,null,null,null,null,"Polír- és fiber csiszolók",null,null,null,null,null,null,null,null,null,null,null,null,null,null,null,null,"Polír- és fiber csiszolók"]
["Vésők, leverők …",null,null,null,null,null,null,null,null,null,null,null,null,null,null,null,null,"Vésők, leverők …",null,null,null,null,null,null,null,null,null,null,null,null,null,null,null,null,"Vésők, leverők …"]
["Szóró- és lefúvató pisztolyok",null,null,null,null,null,null,null,null,null,null,null,null,null,null,null,null,"Vágók, fűrészek, szegecshúzók",null,null,null,null,null,null,null,null,null,null,null,null,null,null,null,null,"Szóró- és lefúvató pisztolyok"]
["Vágók, fűrészek, szegecshúzók",null,null,null,null,null,null,null,null,null,null,null,null,null,null,null,null,"Szóró- és lefúvató pisztolyok",null,null,null,null,null,null,null,null,null,null,null,null,null,null,null,null,"Vágók, fűrészek, szegecshúzók"]
["Dugókulcsok",null,null,"Típus","Rodcraft RC3068",null,null,null,"Rodcraft RC3268",null,null,null,"Rodcraft RC3278",null,null,null,null,"Dugókulcsok",null,null,null,null,null,null,null,null,null,null,null,null,null,null,null,null,"Dugókulcsok"]
["Csatlakozók",null,null,"Kihajtási méret  [inch]","□ 1/4\"","Strapabíró, nagy nyomatékú, könnyen használható ergonomikus kialakítású \"racsnis kulcs\", 4 fokozatú teljesítmény állítással.",null,null,"□ 3/8\"","Strapabíró, nagy nyomatékú, könnyen használható ergonomikus kialakítású \"racsnis kulcs\", 4 fokozatú teljesítmény állítással. Hossz 212 mm.",null,null,"□ 3/8\"","Strapabíró, nagy nyomatékú, könnyen használható ergonomikus kialakítású \"racsnis kulcs\", 4 fokozatú teljesítmény állítással. Hossz 260 mm.",null,null,null,"Csatlakozók",null,null,null,null,null,null,null,null,null,null,null,null,null,null,null,null,"Csatlakozók",null,null,null,"DUS Zajcsökkentő"]
["Abroncstöltők",null,null,"Nyomaték meghúzás [Nm]","30",null,null,null,"25",null,null,null,"60",null,null,null,null,"Abroncstöltők",null,null,null,null,null,null,null,null,null,null,null,null,null,null,null,null,"Abroncstöltők",null,null,"Cikkszám / Típus / (Listaár) Nettó ár",8951011865,"DUS 19"]
["ABAC Levegős szerszámok",null,null,"Max nyomaték. oldás [Nm] ","45",null,null,null,"50",null,null,null,"100",null,null,null,null,"ABAC Levegős szerszámok",null,null,null,null,null,null,null,null,null,null,null,null,null,null,null,null,"ABAC Levegős szerszámok",null,null,"Cikkszám / Típus / (Listaár) Nettó ár",8951011866,"DUS 20",{"$f":"VLOOKUP(AM18,Árlista!$B:$D,3,0)","v":"6 720,-Ft "}]
["Garázsipari eszközök",null,null,"Üresjárati fordulat [rpm]","280",null,null,null,"280",null,null,null,"190",null,null,null,null,"Garázsipari eszközök",null,null,"Chicago Pneumatic","CP824",null,null,null,"CP825",null,null,null,"CP826",null,null,null,null,"Garázsipari eszközök",null,null,"Cikkszám / Típus / (Listaár) Nettó ár",8951011867,"DUS 21",{"$f":"VLOOKUP(AM19,Árlista!$B:$D,3,0)","v":"6 720,-Ft "}]
["AKKUMULÁTOROS GÉPEK",null,null,"Tömeg [kg]","0,67",null,null,null,"0,68",null,null,null,"1,22",null,null,null,null,"AKKUMULÁTOROS GÉPEK",null,null,null,"Nyomatéktartomány: 5-17 Nm  Kihajtás: 1/4\"és 3/8\" \nFordulatszám: 220 RPM    Nettó tömeg: 0,51kg\nKompakt és pillekönnyű \"racsnis kulcs\". ",null,null,null,"Nyomatéktartomány: 6-21 Nm  Kihajtás: 1/4\"és 3/8\" \nFordulatszám: 200 RPM    Nettó tömeg: 0,9kg\nKompakt és könnyű \"racsnis kulcs\". ",null,null,null,"Nyomatéktartomány: 6-21 Nm  Kihajtás: 1/4\"és 3/8\" \nFordulatszám: 250 RPM    Nettó tömeg: 0,51kg\nKompakt és könnyű \"racsnis kulcs\". ",null,null,null,null,"AKKUMULÁTOROS GÉPEK",null,null,"Cikkszám / Típus / (Listaár) Nettó ár",8951011869,"DUS 23",{"$f":"VLOOKUP(AM20,Árlista!$B:$D,3,0)","v":"13 730,-Ft "}]
["Tömlők, tömlődobok",null,null,"Használati besorolás","2 -megnövekedett igényekhez",null,null,null,"1 -általános használatra",null,null,null,"3 -igen magas színvonalú",null,null,null,null,"Tömlők, tömlődobok",null,null,null,null,null,null,null,null,null,null,null,null,null,null,null,null,"Tömlők, tömlődobok",null,null,"Cikkszám / Típus / (Listaár) Nettó ár",8951011870,"DUS 24",{"$f":"VLOOKUP(AM21,Árlista!$B:$D,3,0)","v":"13 730,-Ft "}]
["Szűrők, szabályozók",null,null,"Cikkszám / Típus / (Listaár) \nNettó ár",8951000369,"RC3001",{"$f":"VLOOKUP(E22,Árlista!$B:$D,3,0)","v":"TOPS* 30 890,-Ft"},null,8951000370,"RC3268",{"$f":"VLOOKUP(I22,Árlista!$B:$D,3,0)","v":"TOPS* 30 890,-Ft"},null,8951000371,"RC3278",{"$f":"VLOOKUP(M22,Árlista!$B:$D,3,0)","v":"TOPS* 41 360,-Ft"},null,null,"Szűrők, szabályozók",null,null,null,null,null,null,null,null,null,null,null,null,null,null,null,null,"Szűrők, szabályozók",null,null,"Cikkszám / Típus / (Listaár) Nettó ár",8951011871,"DUS 25",{"$f":"VLOOKUP(AM22,Árlista!$B:$D,3,0)","v":"13 730,-Ft "}]
["Balancerek",null,null,null,null,null,null,null,null,null,null,null,null,null,null,null,null,"Balancerek",null,null,"Cikkszám / Típus / (Listaár) \nNettó ár","T025390","CP824",{"$f":"VLOOKUP(V23,Árlista!$B:$D,3,0)","v":"42 100,-Ft "},null,"T023145","CP825",{"$f":"VLOOKUP(Z23,Árlista!$B:$D,3,0)","v":",-Ft "},null,"T025074","CP826",{"$f":"VLOOKUP(AD23,Árlista!$B:$D,3,0)","v":"100 300,-Ft "},null,null,"Balancerek",null,null,"Cikkszám / Típus / (Listaár) Nettó ár",8951011875,"DUS 29"]
[null,null,null,null,null,null,null,null,null,null,null,null,null,null,null,null,null,null,null,null,null,null,null,null,null,null,null,null,null,null,null,null,null,null,null,null,null,"Cikkszám / Típus / (Listaár) Nettó ár",8951011885,"DUS 32"]
[{"$f":"Fúrók!$A25","v":"A feltüntett árak a 2020.02.01.-től "},null,null,null,null,null,null,null,null,null,null,null,null,null,null,null,null,{"$f":"Fúrók!$A25","v":"A feltüntett árak a 2020.02.01.-től "},null,null,"Cikkszám / Típus / (Listaár) \nNettó ár","T025391","CP824T",{"$f":"VLOOKUP(V25,Árlista!$B:$D,3,0)","v":"46 440,-Ft "},null,"T023190","CP825T",{"$f":"VLOOKUP(Z25,Árlista!$B:$D,3,0)","v":",-Ft "},null,8941172640,"CP826T",{"$f":"VLOOKUP(AD25,Árlista!$B:$D,3,0)","v":"100 300,-Ft "},null,null,{"$f":"Fúrók!$A25","v":"A feltüntett árak a 2020.02.01.-től "},null,null,"Cikkszám / Típus / (Listaár) Nettó ár",8955000015,"DUS 35"]
[{"$f":"Fúrók!$A26","v":"érvényes listaárak."},null,null,null,null,null,null,null,null,null,null,null,null,null,null,null,null,{"$f":"Fúrók!$A26","v":"érvényes listaárak."},null,null,null,null,null,null,null,null,null,null,null,null,null,null,null,null,{"$f":"Fúrók!$A26","v":"érvényes listaárak."},null,null,"Cikkszám / Típus / (Listaár) Nettó ár",8955000027,"DUS 36"]
[{"$f":"Fúrók!$A27","v":"* jelöléssel ellátott termékek a "},null,null,null,null,null,null,null,null,null,null,null,null,null,null,null,null,{"$f":"Fúrók!#REF!","v":{"$error":"#REF!"}},null,null,null,null,null,null,null,null,null,null,null,null,null,null,null,null,{"$f":"Fúrók!$A27","v":"* jelöléssel ellátott termékek a "}]
[{"$f":"Fúrók!$A28","v":"RC TOPS és CP STAR akciós"},null,null,null,null,null,null,null,null,null,null,null,null,null,null,null,null,{"$f":"Fúrók!$A27","v":"* jelöléssel ellátott termékek a "},null,null,null,null,null,null,null,null,null,null,null,null,null,null,null,null,{"$f":"Fúrók!$A28","v":"RC TOPS és CP STAR akciós"}]
[{"$f":"Fúrók!$A29","v":"kiadvány árai"},null,null,null,null,null,null,null,null,null,null,null,null,null,null,null,null,{"$f":"Fúrók!$A28","v":"RC TOPS és CP STAR akciós"},null,null,null,null,null,null,null,null,null,null,null,null,null,null,null,null,{"$f":"Fúrók!$A29","v":"kiadvány árai"}]
[{"$f":"Fúrók!$A30","v":"SP jelöléssel ellátott termékekre"},null,null,null,null,null,null,null,null,null,null,null,null,null,null,null,null,{"$f":"Fúrók!$A29","v":"kiadvány árai"},null,null,null,null,null,null,null,null,null,null,null,null,null,null,null,null,{"$f":"Fúrók!$A30","v":"SP jelöléssel ellátott termékekre"}]
[{"$f":"Fúrók!$A31","v":"speciális viszonteladói árkézés"},null,null,null,null,null,null,null,null,null,null,null,null,null,null,null,null,{"$f":"Fúrók!$A30","v":"SP jelöléssel ellátott termékekre"},null,null,null,null,null,null,null,null,null,null,null,null,null,null,null,null,{"$f":"Fúrók!$A31","v":"speciális viszonteladói árkézés"}]
[{"$f":"Fúrók!$A32","v":"vonatkozik. Az Extra árak"},null,null,null,null,null,null,null,null,null,null,null,null,null,null,null,null,{"$f":"Fúrók!$A31","v":"speciális viszonteladói árkézés"},null,null,null,null,null,null,null,null,null,null,null,null,null,null,null,null,{"$f":"Fúrók!$A32","v":"vonatkozik. Az Extra árak"}]
[{"$f":"Fúrók!$A33","v":"a készlet erejéig, illetve"},null,null,null,null,null,null,null,null,null,null,null,null,null,null,null,null,{"$f":"Fúrók!$A32","v":"vonatkozik. Az Extra árak"},null,null,null,null,null,null,null,null,null,null,null,null,null,null,null,null,{"$f":"Fúrók!$A33","v":"a készlet erejéig, illetve"}]
[{"$f":"Fúrók!$A34","v":"visszavonásig érvényesek."},null,null,null,null,null,null,null,null,null,null,null,null,null,null,null,null,null,null,null,"Chicago Pneumatic","CP9426",null,null,null,"CP886",null,null,null,"CP828",null,null,null,null,{"$f":"Fúrók!$A34","v":"visszavonásig érvényesek."}]
[{"$f":"Fúrók!$A35","v":"Az árista a Techtomat Kft és"},null,null,"Típus","Rodcraft RC3678",null,null,null,"Rodcraft RC2235 ütőműves",null,null,null,null,null,null,null,null,{"$f":"Fúrók!$A35","v":"Az árista a Techtomat Kft és"},null,null,null,"Nyomatéktartomány: 7-35 Nm  Kihajtás: 1/4\"és 3/8\" \nFordulatszám: 270 RPM    Nettó tömeg: 0,49kg\nRövid (128mm) és pillekönnyű \"racsnis kulcs\". ",null,null,null,"Nyomatéktartomány: 13-68 Nm  Kihajtás: 3/8\"és 1/2\" \nFordulatszám: 160 RPM    Nettó tömeg: 1,19kg\nKompakt, nagy nyomatékú \"racsnis kulcs\". ",null,null,null,"Nyomatéktartomány: 13-70 Nm  Kihajtás: 3/8\"és 1/2\" \nFordulatszám: 150 RPM    Nettó tömeg: 1,1kg\nSokat próbált, nagy nyomatékú \"racsnis kulcs\". ",null,null,null,null,{"$f":"Fúrók!$A35","v":"Az árista a Techtomat Kft és"}]
[{"$f":"Fúrók!$A36","v":"Kapitár Kft közös gondozásában"},null,null,"Kihajtási méret  [inch]","□ 1/2\"","Strapabíró, nagy nyomatékú, könnyen használható ergonomikus kialakítású \"racsnis kulcs\", 4 fokozatú teljesítmény állítással. Hossz 260 mm.",null,null,"□ 1/2\" ","Max. nyomatéka 300 Nm \nHossz 341mm . Ultra kompakt fej -csak 50 mm.   Tartósság, ergonómikus markolat, könnyű  nyomaték választás,\negyszerű irányváltás. Jumbo ütőművel.",null,null,null,null,null,null,null,{"$f":"Fúrók!$A36","v":"Kapitár Kft közös gondozásában"},null,null,null,null,null,null,null,null,null,null,null,null,null,null,null,null,{"$f":"Fúrók!$A36","v":"Kapitár Kft közös gondozásában"}]
[{"$f":"Fúrók!$A37","v":" jelent meg."},null,null,"Nyomaték meghúzás [Nm]","60",null,null,null,"200",null,null,null,null,null,null,null,null,{"$f":"Fúrók!$A37","v":" jelent meg."},null,null,null,null,null,null,null,null,null,null,null,null,null,null,null,null,{"$f":"Fúrók!$A37","v":" jelent meg."}]
[{"$f":"Fúrók!$A38","v":"Minden jog fenntartva."},null,null,"Max nyomaték. oldás [Nm] ","100",null,null,null,"300",null,null,null,null,null,null,null,null,{"$f":"Fúrók!$A38","v":"Minden jog fenntartva."},null,null,"Cikkszám / Típus / (Listaár) \nNettó ár",6151919426,"CP9426",{"$f":"VLOOKUP(V38,Árlista!$B:$D,3,0)","v":"STARS* 43 060,-Ft"},null,"T024240","CP886",{"$f":"VLOOKUP(Z38,Árlista!$B:$D,3,0)","v":"STARS* 24 520,-Ft"},null,"T022708","CP828",{"$f":"VLOOKUP(AD38,Árlista!$B:$D,3,0)","v":"66 700,-Ft "},null,null,{"$f":"Fúrók!$A38","v":"Minden jog fenntartva."}]
[null,null,null,"Üresjárati fordulat [rpm]","190"]
[{"$f":"Fúrók!$A40","v":"Bővebb információ:"},null,null,"Tömeg [kg]","1,22",null,null,null,"1,85",null,null,null,null,null,null,null,null,{"$f":"Fúrók!$A40","v":"Bővebb információ:"},null,null,"Cikkszám / Típus / (Listaár) \nNettó ár",6151919427,"CP9427",{"$f":"VLOOKUP(V40,Árlista!$B:$D,3,0)","v":"STARS* 43 630,-Ft"},null,"T024391","CP886H",{"$f":"VLOOKUP(Z40,Árlista!$B:$D,3,0)","v":"STARS* 27 760,-Ft"},null,"T022970","CP828H",{"$f":"VLOOKUP(AD40,Árlista!$B:$D,3,0)","v":"STARS* 44 760,-Ft"},null,null,{"$f":"Fúrók!$A40","v":"Bővebb információ:"}]
[{"$f":"Fúrók!$A41","v":"Szabó Attila"},null,null,"Használati besorolás","1 -általános használatra",null,null,null,"3 -igen magas színvonalú",null,null,null,null,null,null,null,null,{"$f":"Fúrók!$A41","v":"Szabó Attila"},null,null,null,null,null,null,null,null,null,null,null,null,null,null,null,null,{"$f":"Fúrók!$A41","v":"Szabó Attila"}]
[{"$f":"Fúrók!$A42","v":"30/201-4931 vagy 30/626-8687"},null,null,"Cikkszám / Típus / (Listaár) \nNettó ár",8951000372,"RC3678",{"$f":"VLOOKUP(E42,Árlista!$B:$D,3,0)","v":"TOPS* 41 360,-Ft"},null,8951000286,"RC2235",{"$f":"VLOOKUP(I42,Árlista!$B:$D,3,0)","v":"TOPS* 80 600,-Ft"},null,null,null,null,null,null,{"$f":"Fúrók!$A42","v":"30/201-4931 vagy 30/626-8687"},null,null,null,null,null,null,null,null,null,null,null,null,null,null,null,null,{"$f":"Fúrók!$A42","v":"30/201-4931 vagy 30/626-8687"}]
[{"$f":"Fúrók!$A43","v":"e-mail"},null,null,null,null,null,null,null,null,null,null,null,null,null,null,null,null,null,null,null,null,null,null,null,null,null,null,null,null,null,null,null,null,null,{"$f":"Fúrók!$A43","v":"e-mail"}]
[{"$f":"Fúrók!$A44","v":"Tóth Tamás"},null,null,null,null,null,null,null,null,null,null,null,null,null,null,null,null,{"$f":"Fúrók!$A44","v":"Tóth Tamás"},null,null,null,null,null,null,null,null,null,null,null,null,null,null,null,null,{"$f":"Fúrók!$A44","v":"Tóth Tamás"}]
[{"$f":"Fúrók!$A45","v":"30/603-1596"},null,null,null,null,null,null,null,null,null,null,null,null,null,null,null,null,{"$f":"Fúrók!$A45","v":"30/603-1596"},null,null,null,null,null,null,null,null,null,null,null,null,null,null,null,null,{"$f":"Fúrók!$A45","v":"30/603-1596"}]
[]
[]
[]
[]
[null,null,null,null,null,null,null,null,null,null,null,null,null,null,null,null,null,null,null,null,"Chicago Pneumatic","CP828",null,null,null,"CP7830Q",null,null,null,"CP7830HQK"]
[null,null,null,null,null,null,null,null,null,null,null,null,null,null,null,null,null,null,null,null,null,"Nyomatéktartomány: 13-70 Nm  Kihajtás: 3/8\"és 1/2\" \nFordulatszám: 150 RPM    Nettó tömeg: 1,1kg\nSokat próbált, nagy nyomatékú \"racsnis kulcs\". ",null,null,null,"Nyomatéktartomány: 13-122 Nm  Kihajtás: 3/8\"és 1/2\" \nFordulatszám: 190 RPM    Nettó tömeg: 1,2kg\nNagy nyomatékú, jól kiegyensúlyozott \"racsnis kulcs\". ",null,null,null,"Nyomatéktartomány: 13-122 Nm  Kihajtás: 1/2\" \nFordulatszám: 190 RPM    Nettó tömeg: 1,2kg\nNagy nyomatékú, jól kiegyensúlyozott \"racsnis kulcs\". "]
[null,null,null,"Típus","Rodcraft RC3630/Rodcraft RC3600",null,null,null,"Rodcraft RC3607",null,null,null,"Rodcraft RC3700"]
[null,null,null,"Kihajtási méret  [inch]","□ 3/8\" □ 1/2\" ","Erős racsnis csavarozó, minden műhelybe. Ergonómikus fogantyú a csúszásmentes megfogásért. Zajcsillapító rendserrel és védő gumikupakkal szerelhető fel a szűk helyen lévő munkavégzéshez. Az RE típusok tartalmazzák ezt. Az RC3630 3/8\" kihajtással, az  RC3600 1/2\" kihajtással szerelt!",null,null,"□ 1/2\"","Erős racsnis csavarozó, minden műhelybe. Ergonómikus, hideg ellen szigetelt fogantyú, gumibetéttel a csúszásmentes megfogásért. Mini-zsírzógomb a racsnifejen a mechanizmus utánzsírozásához.",null,null,"□ 1/2\"","Szuper erős és hihetetlenül gyors kulcs a DUO-PAWL rendszernek köszönhetően, a dupla rögzítőkarmok dupla erőátvitelt biztosítanak, 3 pontos felfüggesztéssel. A legkoszosabb munkák elvégzésére is alkalmas a teljesen zárt háznak köszönhetően. Szigetelt fogantyúval és állítható levegőkivezetéssel. A 130 Nm-es gépi húzás mellett, kézi meghúzást is biztosít egészen 250 Nm-ig!"]
[null,null,null,"Nyomaték meghúzás [Nm]","60",null,null,null,"60",null,null,null,"130",null,null,null,null,null,null,null,"Cikkszám / Típus / (Listaár) \nNettó ár","T024448","CP828K",{"$f":"VLOOKUP(V54,Árlista!$B:$D,3,0)","v":"75 700,-Ft "},null,8941078306,"CP7830Q",{"$f":"VLOOKUP(Z54,Árlista!$B:$D,3,0)","v":"136 900,-Ft "},null,8943778308,"CP7830HQK"]
[null,null,null,"Max nyomaték. oldás [Nm] ","90",null,null,null,"90",null,null,null,"130 (250)"]
[null,null,null,"Üresjárati fordulat [rpm]","140",null,null,null,"140",null,null,null,"320",null,null,null,null,null,null,null,"Cikkszám / Típus / (Listaár) \nNettó ár","T024493","CP828KH",null,null,8941078308,"CP7830HQ",{"$f":"VLOOKUP(Z56,Árlista!$B:$D,3,0)","v":"STARS* 79 600,-Ft"}]
[null,null,null,"Tömeg [kg]","1,25",null,null,null,"0,9",null,null,null,"1,6"]
[null,null,null,"Használati besorolás","2 -megnövekedett igényekhez",null,null,null,"2 -megnövekedett igényekhez",null,null,null,"2 -megnövekedett igényekhez"]
[null,null,null,"Cikkszám / Típus / (Listaár) \nNettó ár",8951078054,"RC3630",{"$f":"VLOOKUP(E59,Árlista!$B:$D,3,0)","v":"Kifutó, érdeklődj!"},null,8951078114,"RC3607",{"$f":"VLOOKUP(I59,Árlista!$B:$D,3,0)","v":"TOPS* 25 900,-Ft"},null,8951078074,"RC3700",{"$f":"VLOOKUP(M59,Árlista!$B:$D,3,0)","v":"TOPS* 79 900,-Ft"}]
[]
[null,null,null,"Cikkszám / Típus / (Listaár) \nNettó ár",8951078034,"RC3600",{"$f":"VLOOKUP(E61,Árlista!$B:$D,3,0)","v":"46 220,-Ft "}]
[]
[]
[]
[null,null,null,null,null,null,null,null,null,null,null,null,null,null,null,null,null,null,null,null,"Chicago Pneumatic","CP7829 és CP7829H",null,null,null,"CP825C"]
[null,null,null,null,null,null,null,null,null,null,null,null,null,null,null,null,null,null,null,null,null,"Nyomaték: 15-74 Nm Max: 95Nm  Kihajtás: 3/8\"és 1/2\" \nFordulat: 225 RPM    Nettó tömeg: 1,2kg\nNagy nyomatékú, kompozit \"racsnis kulcs\". Made in Japan ",null,null,null,"Nyomatéktartomány: 5-25 Nm  Kihajtás: 1/4\"\nFordulatszám: 280 RPM    Nettó tömeg: 0,5kg\nJól szabályozható, alu-kompozitházas \"racsnis kulcs\". "]
[]
[]
[null,null,null,null,null,null,null,null,null,null,null,null,null,null,null,null,null,null,null,null,"Cikkszám / Típus / (Listaár) \nNettó ár",8941078293,"CP7829",{"$f":"VLOOKUP(V69,Árlista!$B:$D,3,0)","v":"STARS* 55 700,-Ft"},null,8941082511,"CP825C",{"$f":"VLOOKUP(Z69,Árlista!$B:$D,3,0)","v":"STARS* 60 200,-Ft"}]
[]
[null,null,null,null,null,null,null,null,null,null,null,null,null,null,null,null,null,null,null,null,"Cikkszám / Típus / (Listaár) \nNettó ár",8941078294,"CP7829H",{"$f":"VLOOKUP(V71,Árlista!$B:$D,3,0)","v":"STARS* 55 700,-Ft"},null,8941082512,"CP825CT",{"$f":"VLOOKUP(Z71,Árlista!$B:$D,3,0)","v":"STARS* 60 200,-Ft"}]
[]
[]
[]
[null,null,null,"Típus","Rodcraft RC3001",null,null,null,"Rodcraft RC3000/Rodcraft RC3015",null,null,null,"Rodcraft RC3060"]
[null,null,null,"Kihajtási méret  [inch]","□ 1/4\"","A kis mérete végett (140 mm) megfelelő racsnis kulcs szűk helyen történő szereléshez. Gyors összeszerelés és szétszerelés 270 rpm, 30 Nm\nmax. nyomaték. Csúszásgátló bevonatú markolat, hátsó levegőelvezetés. DUS21 zajcsökkentő rendszer rendelhető hozzá!",null,null,"□ 1/4\"","A megfelelő racsnis kulcs a legtöbb alkalmazáshoz. Rövid RC3000 (180 mm) vagy hosszú\nRC3015 (205 mm) kihajtással is rendelhető. A készülék mellé zajcsökkentő adapter is tartozik. DUS21 zajcsökkentő rendszer rendelhető hozzá!",null,null,"□ 1/4\"","Szabadalmaztatott, lapos, zárt fejkialakításának köszönhetően, szennyezett szűk helyeken is használható. Szigetelt markolattal, körbeforgó levegőelvezetéssel, fordulatszám szabályozási lehetőséggel. DUS25 zajcsökkentő rendszer rendelhető hozzá!"]
[null,null,null,"Nyomaték meghúzás [Nm]","25",null,null,null,"20",null,null,null,"20"]
[null,null,null,"Max nyomaték. oldás [Nm] ","30",null,null,null,"30",null,null,null,"45"]
[null,null,null,"Üresjárati fordulat [rpm]","270",null,null,null,"230",null,null,null,"250"]
[null,null,null,"Tömeg [kg]","0,44",null,null,null,"0,55",null,null,null,"0,55"]
[null,null,null,"Használati besorolás","2 -megnövekedett igényekhez",null,null,null,"1 -általános használatra",null,null,null,"3 -igen magas színvonalú"]
[null,null,null,"Cikkszám / Típus / (Listaár) \nNettó ár",8951078022,"RC3001",{"$f":"VLOOKUP(E82,Árlista!$B:$D,3,0)","v":"TOPS* 23 950,-Ft"},null,8951078012,"RC3000",{"$f":"VLOOKUP(I82,Árlista!$B:$D,3,0)","v":"TOPS* 35 700,-Ft"},null,8951078062,"RC3060",{"$f":"VLOOKUP(M82,Árlista!$B:$D,3,0)","v":"TOPS* 51 560,-Ft"}]
[]
[]
[]
[]
[]
[]
[]
[]
[]
[]
[]
[]
[null,null,null,"Típus","Rodcraft RC3005/Rodcraft RC3010",null,null,null,"Rodcraft RC3200/Rodcraft RC3100",null,null,null,"Rodcraft RC3260"]
[null,null,null,"Kihajtási méret  [inch]","□ 1/4\"","A megfelelő racsnis kulcs a legtöbb alkalmazáshoz. Rövid RC3005 (180 mm) vagy hosszú RC3010\n(205 mm) kihajtással is rendelhető. A készülék mellé zajcsökkentő adapter is tartozik. DUS25 zajcsökkentő rendszer rendelhető hozzá!",null,null,"□ 3/8\" □ 1/2\" ","Általános racsniskulcs, hátsó levegőelvezetéssel és biztos fogást lehetővé tévő markolattal. Az RC3200 3/8\" kihajtással, az  RC3100 1/2\" kihajtással szerelt!",null,null,"□ 3/8\"","Zömök, rövid racsniskulcs.  Lapos, zárt fejkialakításának köszönhetően, szennyezett szűk helyeken is használható. DUS25 zajcsökkentő rendszer rendelhető hozzá!"]
[null,null,null,"Nyomaték meghúzás [Nm]","20",null,null,null,"40",null,null,null,"20"]
[null,null,null,"Max nyomaték. oldás [Nm] ","30",null,null,null,"60",null,null,null,"45"]
[null,null,null,"Üresjárati fordulat [rpm]","230",null,null,null,"160",null,null,null,"250"]
[null,null,null,"Tömeg [kg]","0,55",null,null,null,"1,2",null,null,null,"1,2"]
[null,null,null,"Használati besorolás","1 -általános használatra",null,null,null,"1 -általános használatra",null,null,null,"3 -igen magas színvonalú"]
[null,null,null,"Cikkszám / Típus / (Listaár) \nNettó ár",8951078042,"RC3005",{"$f":"VLOOKUP(E102,Árlista!$B:$D,3,0)","v":"TOPS* 29 460,-Ft"},null,8951078023,"RC3200",{"$f":"VLOOKUP(I102,Árlista!$B:$D,3,0)","v":"TOPS* 38 880,-Ft"},null,8951078033,"RC3260",{"$f":"VLOOKUP(M102,Árlista!$B:$D,3,0)","v":"TOPS* 43 060,-Ft"}]
[]
[null,null,null,"Cikkszám / Típus / (Listaár) \nNettó ár",8951078013,"RC3010",{"$f":"VLOOKUP(E104,Árlista!$B:$D,3,0)","v":"44 550,-Ft "},null,8951078004,"RC3100",{"$f":"VLOOKUP(I104,Árlista!$B:$D,3,0)","v":"TOPS* 26 230,-Ft"}]

{"sheet":"Csavarbehajtók","index":6,"n_rows":107,"n_cols":35,"rows_kept":107,"cut":false,"hidden":false,"merged":[[106,29,107,29],[106,30,107,30],[106,31,107,31],[106,32,107,32],[15,4,15,7],[15,8,15,11],[15,12,15,15],[21,8,21,11],[21,12,21,15],[36,4,36,7],[42,4,42,7],[50,8,50,11],[50,12,50,15],[21,4,21,7],[36,8,36,11],[36,12,36,15],[16,5,20,7],[16,9,20,11],[16,13,20,15],[37,5,41,7],[37,9,49,11],[37,13,49,15],[22,8,23,8],[22,9,23,9],[22,10,23,10],[22,11,23,11],[22,12,23,12],[22,13,23,13],[57,20,60,20],[57,21,60,24],[57,25,60,28],[36,20,39,20],[17,20,20,20],[22,14,23,14],[22,15,23,15],[23,23,24,23],[23,24,24,24],[23,25,24,25],[23,26,24,26],[23,27,24,27],[23,28,24,28],[21,21,22,21],[21,22,22,22],[42,25,43,25],[42,26,43,26],[42,27,43,27],[42,28,43,28],[57,29,60,32],[17,21,20,24],[17,25,20,28],[17,29,20,32],[36,21,39,24],[36,25,39,28],[36,29,39,32],[21,20,22,20],[21,25,22,25],[21,23,22,23],[21,24,22,24],[40,29,41,29],[40,30,41,30],[40,31,41,31],[40,32,41,32],[42,21,43,21],[42,22,43,22],[42,23,43,23],[42,24,43,24],[21,31,22,31],[21,32,22,32],[23,20,24,20],[23,21,24,21],[23,22,24,22],[98,20,101,20],[98,21,101,24],[98,25,101,28],[78,20,81,20],[78,21,81,24],[78,25,81,28],[78,29,81,32],[86,20,87,20],[86,21,87,21],[86,22,87,22],[86,23,87,23],[86,24,87,24],[86,25,87,25],[86,26,87,26],[86,27,87,27],[86,28,87,28],[86,29,87,29],[86,30,87,30],[86,31,87,31],[84,23,85,23],[84,24,85,24],[82,28,83,28],[82,29,83,29],[82,30,83,30],[43,3,44,3],[43,4,44,4],[43,5,44,5],[43,6,44,6],[43,7,44,7],[22,3,23,3],[22,4,23,4],[22,5,23,5],[22,6,23,6],[22,7,23,7],[23,29,24,29],[23,30,24,30],[23,31,24,31],[23,32,24,32],[21,26,22,26],[21,27,22,27],[21,28,22,28],[21,29,22,29],[21,30,22,30],[61,30,62,30],[61,31,62,31],[61,32,62,32],[63,20,64,20],[63,21,64,21],[63,22,64,22],[63,23,64,23],[63,24,64,24],[63,25,64,25],[63,26,64,26],[63,27,64,27],[63,28,64,28],[63,29,64,29],[63,30,64,30],[63,31,64,31],[63,32,64,32],[61,25,62,25],[61,26,62,26],[61,27,62,27],[61,28,62,28],[61,29,62,29],[61,20,62,20],[61,21,62,21],[61,22,62,22],[102,25,103,25],[102,26,103,26],[102,27,103,27],[102,28,103,28],[40,20,41,20],[40,21,41,21],[40,22,41,22],[40,23,41,23],[40,24,41,24],[40,25,41,25],[40,26,41,26],[40,27,41,27],[40,28,41,28],[82,20,83,20],[82,21,83,21],[82,22,83,22],[102,20,103,20],[102,21,103,21],[102,22,103,22],[102,23,103,23],[102,24,103,24],[61,23,62,23],[61,24,62,24],[42,20,43,20],[42,29,43,29],[42,30,43,30],[42,31,43,31],[42,32,43,32],[44,20,45,20],[44,21,45,21],[44,22,45,22],[44,23,45,23],[44,24,45,24],[44,25,45,25],[44,26,45,26],[44,27,45,27],[44,28,45,28],[44,29,45,29],[44,30,45,30],[44,31,45,31],[44,32,45,32],[82,31,83,31],[82,32,83,32],[82,23,83,23],[82,24,83,24],[82,25,83,25],[82,26,83,26],[82,27,83,27],[84,30,85,30],[84,31,85,31],[84,32,85,32],[86,32,87,32],[84,25,85,25],[84,26,85,26],[84,27,85,27],[84,28,85,28],[84,29,85,29],[84,20,85,20],[84,21,85,21],[84,22,85,22]]}
["RODCRAFT",null,null,null,"Általános karbantartáshoz",null,null,null,null,null,"Ipari karbantartáshoz és gyártáshoz",null,null,null,null,null,null,"CHICAGO PNEUMATIC",null,null,"Általános karbantartáshoz",null,null,"Ipari karbantartáshoz és gyártáshoz",null,null,null,null,"Ipari körülményekhez -sorozatgyártás",null,null,null,null,null,"RODCRAFT"]
["Árlista",null,null,null,null,null,null,null,null,null,null,null,null,null,null,null,null,"Árlista",null,null,null,null,null,null,null,null,null,null,null,null,null,null,null,null,"Árlista"]
["Megrendelő",null,null,null,null,null,null,null,null,null,null,null,null,null,null,null,null,"Megrendelő",null,null,null,null,null,null,null,null,null,null,null,null,null,null,null,null,"Megrendelő"]
["Fúrók",null,null,null,null,null,null,null,null,null,null,null,null,null,null,null,null,"Fúrók",null,null,null,null,null,null,null,null,null,null,null,null,null,null,null,null,"Fúrók"]
["Racsnis kulcsok",null,null,null,null,null,null,null,null,null,null,null,null,null,null,null,null,"Racsnis kulcsok",null,null,null,null,null,null,null,null,null,null,null,null,null,null,null,null,"Racsnis kulcsok"]
["Csavarbehajtók",null,null,null,null,null,null,null,null,null,null,null,null,null,null,null,null,"Csavarbehajtók",null,null,null,null,null,null,null,null,null,null,null,null,null,null,null,null,"Csavarbehajtók"]
["Sarokcsiszolók",null,null,null,null,null,null,null,null,null,null,null,null,null,null,null,null,"Sarokcsiszolók",null,null,null,null,null,null,null,null,null,null,null,null,null,null,null,null,"Sarokcsiszolók"]
["Légkulcsok",null,null,null,null,null,null,null,null,null,null,null,null,null,null,null,null,"Légkulcsok",null,null,null,null,null,null,null,null,null,null,null,null,null,null,null,null,"Légkulcsok"]
["Egyenes csiszolók",null,null,null,null,null,null,null,null,null,null,null,null,null,null,null,null,"Egyenes csiszolók",null,null,null,null,null,null,null,null,null,null,null,null,null,null,null,null,"Egyenes csiszolók"]
["Szalag és excenter csiszolók",null,null,null,null,null,null,null,null,null,null,null,null,null,null,null,null,"Szalag és excenter csiszolók",null,null,null,null,null,null,null,null,null,null,null,null,null,null,null,null,"Szalag és excenter csiszolók"]
["Polír- és fiber csiszolók",null,null,null,null,null,null,null,null,null,null,null,null,null,null,null,null,"Polír- és fiber csiszolók",null,null,null,null,null,null,null,null,null,null,null,null,null,null,null,null,"Polír- és fiber csiszolók"]
["Vésők, leverők …",null,null,null,null,null,null,null,null,null,null,null,null,null,null,null,null,"Vésők, leverők …",null,null,null,null,null,null,null,null,null,null,null,null,null,null,null,null,"Vésők, leverők …"]
["Szóró- és lefúvató pisztolyok",null,null,null,null,null,null,null,null,null,null,null,null,null,null,null,null,"Vágók, fűrészek, szegecshúzók",null,null,null,null,null,null,null,null,null,null,null,null,null,null,null,null,"Szóró- és lefúvató pisztolyok"]
["Vágók, fűrészek, szegecshúzók",null,null,null,null,null,null,null,null,null,null,null,null,null,null,null,null,"Szóró- és lefúvató pisztolyok",null,null,null,null,null,null,null,null,null,null,null,null,null,null,null,null,"Vágók, fűrészek, szegecshúzók"]
["Dugókulcsok",null,null,null,null,null,null,null,null,null,null,null,null,null,null,null,null,"Dugókulcsok",null,null,null,null,null,null,null,null,null,null,null,null,null,null,null,null,"Dugókulcsok"]
["Csatlakozók",null,null,"Típus","Rodcraft RC4700",null,null,null,"Rodcraft RC4780",null,null,null,"Rodcraft RC4784",null,null,null,null,"Csatlakozók",null,null,null,null,null,null,null,null,null,null,null,null,null,null,null,null,"Csatlakozók"]
["Abroncstöltők",null,null,"Bit méret ","1/4","Kedvelt levegős csavarhúzó 1/4 \" bit tartóval. Könnyen vezérelhető indítókapcsoló csúszókuplungos mechanizmussal. Ergonomikus irányváltó, belső nyomatékállítás, hátsó levegőelvezetés.",null,null,"1/4","1/4 \"csavarhúzó kulcs nélküli befogással. Nyomaték külső beállító gyűrű által. Sokoldalú sima járású, nagy nyomatékú eszköz. Könnyű irányváltás, amely lehet működtetni a bal és jobb kézzel egyaránt.\n",null,null,"1/4","Könnyű kompozit házas csavarozó, kényelmes fogást biztosító, szigetelt, gumi bevonatú markolattal.\nEgyszerű külső nyomatékállítás. Lassan induló érzékeny ravasz, kézre álló irányváltó.\n",null,null,null,"Abroncstöltők",null,null,"Chicago Pneumatic","CP2005 / CP2006",null,null,null,"CP780 és CP781",null,null,null,"CP2816",null,null,null,null,"Abroncstöltők"]
["ABAC Levegős szerszámok",null,null,"Nyomaték [Nm]","8",null,null,null,"4",null,null,null,"1",null,null,null,null,"ABAC Levegős szerszámok",null,null,null,"Üresjárati fordulat:   1100 RPM\nNyomaték: 0,4 - 4,3 Nm, \nRobosztus, aluházas pisztoly csavarozó. Leoldó (CP2005) vagy csúszókuplunggal (CP2006)",null,null,null,"CP780 - Magas fordulatú Üresjárati fordulat:   1800 RPM\nNyomaték: 2,83 - 4,97 Nm, CP781 - Alacsony fordulatú Üresjárati fordulat:   800 RPM\n6,2 - 11,3 Nm, külső nyomatékállítás, csúszókuplung",null,null,null,"CP2816 Fordulat: 1900 RPM Nyomaték: 3-9,5 Nm\nCP2817 Fordulat: 800 RPM Nyomaték: 2,5-4,5 Nm \nRobosztus felépítésű csavarozó, egykezes irányváltóval, csúszókupunggal.",null,null,null,null,"ABAC Levegős szerszámok"]
["Garázsipari eszközök",null,null,"Max nyomaték [Nm]","20",null,null,null,"45",null,null,null,"15",null,null,null,null,"Garázsipari eszközök",null,null,null,null,null,null,null,null,null,null,null,null,null,null,null,null,"Garázsipari eszközök"]
["AKKUMULÁTOROS GÉPEK",null,null,"Üresjárati fordulat [rpm]","1800",null,null,null,"1100",null,null,null,"1770",null,null,null,null,"AKKUMULÁTOROS GÉPEK",null,null,null,null,null,null,null,null,null,null,null,null,null,null,null,null,"AKKUMULÁTOROS GÉPEK"]
["Tömlők, tömlődobok",null,null,"Tömeg [kg]","1,15",null,null,null,"1,45",null,null,null,"0,92",null,null,null,null,"Tömlők, tömlődobok",null,null,null,null,null,null,null,null,null,null,null,null,null,null,null,null,"Tömlők, tömlődobok"]
["Szűrők, szabályozók",null,null,"Használati besorolás","2 -megnövekedett igényekhez",null,null,null,"2 -megnövekedett igényekhez",null,null,null,"3 -igen magas színvonalú",null,null,null,null,"Szűrők, szabályozók",null,null,"Cikkszám / Típus / (Listaár) \nNettó ár",6151922005,"CP2005",{"$f":"VLOOKUP(V22,Árlista!$B:$D,3,0)","v":"395 000,-Ft "},null,"T025095","CP780",{"$f":"VLOOKUP(Z22,Árlista!$B:$D,3,0)","v":"177 800,-Ft "},null,6151630020,"CP2816",{"$f":"VLOOKUP(AD22,Árlista!$B:$D,3,0)","v":"169 100,-Ft "},null,null,"Szűrők, szabályozók"]
["Balancerek",null,null,"Cikkszám / Típus / (Listaár) \nNettó ár",8951073002,"RC4700",{"$f":"VLOOKUP(E23,Árlista!$B:$D,3,0)","v":"TOPS* 49 290,-Ft"},null,8951073003,"RC4780",{"$f":"VLOOKUP(I23,Árlista!$B:$D,3,0)","v":"Kifutó, érdeklődj!"},null,8951073023,"RC4784",{"$f":"VLOOKUP(M23,Árlista!$B:$D,3,0)","v":"TOPS* 78 200,-Ft"},null,null,"Balancerek",null,null,null,null,null,null,null,null,null,null,null,null,null,null,null,null,"Balancerek"]
[null,null,null,null,null,null,null,null,null,null,null,null,null,null,null,null,null,null,null,null,"Cikkszám / Típus / (Listaár) \nNettó ár",6151922006,"CP2006",{"$f":"VLOOKUP(V24,Árlista!$B:$D,3,0)","v":",-Ft "},null,"T025096","CP781",{"$f":"VLOOKUP(Z24,Árlista!$B:$D,3,0)","v":"181 400,-Ft "},null,6151630030,"CP2817",{"$f":"VLOOKUP(AD24,Árlista!$B:$D,3,0)","v":"169 100,-Ft "}]
[{"$f":"Fúrók!$A25","v":"A feltüntett árak a 2020.02.01.-től "},null,null,null,null,null,null,null,null,null,null,null,null,null,null,null,null,{"$f":"Fúrók!$A25","v":"A feltüntett árak a 2020.02.01.-től "},null,null,null,null,null,null,null,null,null,null,null,null,null,null,null,null,{"$f":"Fúrók!$A25","v":"A feltüntett árak a 2020.02.01.-től "}]
[{"$f":"Fúrók!$A26","v":"érvényes listaárak."},null,null,null,null,null,null,null,null,null,null,null,null,null,null,null,null,{"$f":"Fúrók!$A26","v":"érvényes listaárak."},null,null,null,null,null,null,null,null,null,null,null,null,null,null,null,null,{"$f":"Fúrók!$A26","v":"érvényes listaárak."}]
[{"$f":"Fúrók!$A27","v":"* jelöléssel ellátott termékek a "},null,null,null,null,null,null,null,null,null,null,null,null,null,null,null,null,{"$f":"Fúrók!#REF!","v":{"$error":"#REF!"}},null,null,null,null,null,null,null,null,null,null,null,null,null,null,null,null,{"$f":"Fúrók!$A27","v":"* jelöléssel ellátott termékek a "}]
[{"$f":"Fúrók!$A28","v":"RC TOPS és CP STAR akciós"},null,null,null,null,null,null,null,null,null,null,null,null,null,null,null,null,{"$f":"Fúrók!$A27","v":"* jelöléssel ellátott termékek a "},null,null,null,null,null,null,null,null,null,null,null,null,null,null,null,null,{"$f":"Fúrók!$A28","v":"RC TOPS és CP STAR akciós"}]
[{"$f":"Fúrók!$A29","v":"kiadvány árai"},null,null,null,null,null,null,null,null,null,null,null,null,null,null,null,null,{"$f":"Fúrók!$A28","v":"RC TOPS és CP STAR akciós"},null,null,null,null,null,null,null,null,null,null,null,null,null,null,null,null,{"$f":"Fúrók!$A29","v":"kiadvány árai"}]
[{"$f":"Fúrók!$A30","v":"SP jelöléssel ellátott termékekre"},null,null,null,null,null,null,null,null,null,null,null,null,null,null,null,null,{"$f":"Fúrók!$A29","v":"kiadvány árai"},null,null,null,null,null,null,null,null,null,null,null,null,null,null,null,null,{"$f":"Fúrók!$A30","v":"SP jelöléssel ellátott termékekre"}]
[{"$f":"Fúrók!$A31","v":"speciális viszonteladói árkézés"},null,null,null,null,null,null,null,null,null,null,null,null,null,null,null,null,{"$f":"Fúrók!$A30","v":"SP jelöléssel ellátott termékekre"},null,null,null,null,null,null,null,null,null,null,null,null,null,null,null,null,{"$f":"Fúrók!$A31","v":"speciális viszonteladói árkézés"}]
[{"$f":"Fúrók!$A32","v":"vonatkozik. Az Extra árak"},null,null,null,null,null,null,null,null,null,null,null,null,null,null,null,null,{"$f":"Fúrók!$A31","v":"speciális viszonteladói árkézés"},null,null,null,null,null,null,null,null,null,null,null,null,null,null,null,null,{"$f":"Fúrók!$A32","v":"vonatkozik. Az Extra árak"}]
[{"$f":"Fúrók!$A33","v":"a készlet erejéig, illetve"},null,null,null,null,null,null,null,null,null,null,null,null,null,null,null,null,{"$f":"Fúrók!$A32","v":"vonatkozik. Az Extra árak"},null,null,null,null,null,null,null,null,null,null,null,null,null,null,null,null,{"$f":"Fúrók!$A33","v":"a készlet erejéig, illetve"}]
[{"$f":"Fúrók!$A34","v":"visszavonásig érvényesek."},null,null,null,null,null,null,null,null,null,null,null,null,null,null,null,null,null,null,null,null,null,null,null,null,null,null,null,null,null,null,null,null,null,{"$f":"Fúrók!$A34","v":"visszavonásig érvényesek."}]
[{"$f":"Fúrók!$A35","v":"Az árista a Techtomat Kft és"},null,null,null,null,null,null,null,null,null,null,null,null,null,null,null,null,{"$f":"Fúrók!$A35","v":"Az árista a Techtomat Kft és"},null,null,null,null,null,null,null,null,null,null,null,null,null,null,null,null,{"$f":"Fúrók!$A35","v":"Az árista a Techtomat Kft és"}]
[{"$f":"Fúrók!$A36","v":"Kapitár Kft közös gondozásában"},null,null,null,null,null,null,null,null,null,null,null,null,null,null,null,null,{"$f":"Fúrók!$A36","v":"Kapitár Kft közös gondozásában"},null,null,"Chicago Pneumatic","Pisztoly: CP2612 / Egyenes: CP2623",null,null,null,"Pisztoly: CP2611 / Egyenes: CP2621 / CP2622",null,null,null,"CP2754 / CP2764",null,null,null,null,{"$f":"Fúrók!$A36","v":"Kapitár Kft közös gondozásában"}]
[{"$f":"Fúrók!$A37","v":" jelent meg."},null,null,"Típus","Rodcraft RC4760",null,null,null,null,null,null,null,null,null,null,null,null,{"$f":"Fúrók!$A37","v":" jelent meg."},null,null,null,"Üresjárati fordulat:   1700 / 1800 RPM\nNyomaték: 1 - 6 Nm / 1,5 - 5,5 Nm\nEgykezes használatra tervezett csavarozó  csúszókuplunggal. Ideális eszköz karbantartáshoz.",null,null,null,"Üresjárati fordulat:   1000 / 1000 / 1700 RPM\nNyomaték: 1 - 7,5 / 0,8 - 6,5 / 0,5 4,5 Nm\nEgykezes használatra tervezett csavarozó leoldó kuplunggal. Ideális eszköz karbantartáshoz.",null,null,null,"Üresjárati fordulat: \nNyomaték: 6,2 - 11,3 Nm, \nAlacsony fordulatú csavarbehajtó, külső nyomatékállítással, csúszókupunggal.",null,null,null,null,{"$f":"Fúrók!$A37","v":" jelent meg."}]
[{"$f":"Fúrók!$A38","v":"Minden jog fenntartva."},null,null,"Bit méret ","1/4","Kedvelt levegős csavarhúzó 1/4 \" bit tartóval. Könnyen vezérelhető indítókapcsoló csúszókuplungos mechanizmussal. Ergonomikus irányváltó, belső nyomatékállítás, hátsó levegőelvezetés.\n\n\n\n",null,null,null,null,null,null,null,null,null,null,null,{"$f":"Fúrók!$A38","v":"Minden jog fenntartva."},null,null,null,null,null,null,null,null,null,null,null,null,null,null,null,null,{"$f":"Fúrók!$A38","v":"Minden jog fenntartva."}]
[null,null,null,"Nyomaték [Nm]","4"]
[{"$f":"Fúrók!$A40","v":"Bővebb információ:"},null,null,"Max nyomaték [Nm]","17",null,null,null,null,null,null,null,null,null,null,null,null,{"$f":"Fúrók!$A40","v":"Bővebb információ:"},null,null,null,null,null,null,null,null,null,null,null,null,null,null,null,null,{"$f":"Fúrók!$A40","v":"Bővebb információ:"}]
[{"$f":"Fúrók!$A41","v":"Szabó Attila"},null,null,"Üresjárati fordulat [rpm]","1800",null,null,null,null,null,null,null,null,null,null,null,null,{"$f":"Fúrók!$A41","v":"Szabó Attila"},null,null,"Cikkszám / Típus / (Listaár) \nNettó ár",6151922612,"CP2612 -Pisztoly\n1700 RPM",{"$f":"VLOOKUP(V41,Árlista!$B:$D,3,0)","v":"175 300,-Ft "},null,6151922611,"CP2611 -Pisztoly",{"$f":"VLOOKUP(Z41,Árlista!$B:$D,3,0)","v":"358 000,-Ft "},null,6151922754,"CP2754 -1450 RPM",{"$f":"VLOOKUP(AD41,Árlista!$B:$D,3,0)","v":",-Ft "},null,null,{"$f":"Fúrók!$A41","v":"Szabó Attila"}]
[{"$f":"Fúrók!$A42","v":"30/201-4931 vagy 30/626-8687"},null,null,"Tömeg [kg]","1,1",null,null,null,null,null,null,null,null,null,null,null,null,{"$f":"Fúrók!$A42","v":"30/201-4931 vagy 30/626-8687"},null,null,null,null,null,null,null,null,null,null,null,null,null,null,null,null,{"$f":"Fúrók!$A42","v":"30/201-4931 vagy 30/626-8687"}]
[{"$f":"Fúrók!$A43","v":"e-mail"},null,null,"Használati besorolás","2 -megnövekedett igényekhez",null,null,null,null,null,null,null,null,null,null,null,null,null,null,null,"Cikkszám / Típus / (Listaár) \nNettó ár",6151922623,"CP2623 -Egyenes\n1800 RPM",{"$f":"VLOOKUP(V43,Árlista!$B:$D,3,0)","v":"134 000,-Ft "},null,6151922621,"CP2621 -Egyenes\n1000 RPM",{"$f":"VLOOKUP(Z43,Árlista!$B:$D,3,0)","v":"270 400,-Ft "},null,6151922764,"CP2764 -600 RPM",{"$f":"VLOOKUP(AD43,Árlista!$B:$D,3,0)","v":",-Ft "},null,null,{"$f":"Fúrók!$A43","v":"e-mail"}]
[{"$f":"Fúrók!$A44","v":"Tóth Tamás"},null,null,"Cikkszám / Típus / (Listaár) \nNettó ár",8951073012,"RC4760",{"$f":"VLOOKUP(E44,Árlista!$B:$D,3,0)","v":"TOPS* 56 900,-Ft"},null,null,null,null,null,null,null,null,null,null,{"$f":"Fúrók!$A44","v":"Tóth Tamás"},null,null,null,null,null,null,null,null,null,null,null,null,null,null,null,null,{"$f":"Fúrók!$A44","v":"Tóth Tamás"}]
[{"$f":"Fúrók!$A45","v":"30/603-1596"},null,null,null,null,null,null,null,null,null,null,null,null,null,null,null,null,{"$f":"Fúrók!$A45","v":"30/603-1596"},null,null,"Cikkszám / Típus / (Listaár) \nNettó ár",null,null,null,null,6151922622,"CP2622 -Egyenes\n1700 RPM",{"$f":"VLOOKUP(Z45,Árlista!$B:$D,3,0)","v":"270 400,-Ft "},null,null,null,null,null,null,{"$f":"Fúrók!$A45","v":"30/603-1596"}]
[]
[]
[]
[]
[]
[]
[]
[]
[]
[]
[]
[null,null,null,null,null,null,null,null,null,null,null,null,null,null,null,null,null,null,null,null,"Chicago Pneumatic","CP2755 / CP2765",null,null,null,"CP2780",null,null,null,"CP2041 / CP2042"]
[null,null,null,null,null,null,null,null,null,null,null,null,null,null,null,null,null,null,null,null,null,"Üresjárati fordulat:   2000 / 900 RPM\nNyomaték: 7,3 Nm / 9,0 Nm\nKönnyű, jól használható, direkthajtásos csavarozó.",null,null,null,"Üresjárati fordulat:   2100 RPM\nNyomaték: 10 Nm\nPozitív hajtású csavarozó, gumimarkolattal.",null,null,null,"Ütésszám:   15000 / 5600 RPM\nNyomaték: 8 - 42 /  6 - 41 Nm\nÜtvecsavarozó, duplakalapácsos ütőművel."]
[]
[]
[]
[null,null,null,null,null,null,null,null,null,null,null,null,null,null,null,null,null,null,null,null,"Cikkszám / Típus / (Listaár) \nNettó ár",6151922755,"CP2755 -2200 RPM",{"$f":"VLOOKUP(V62,Árlista!$B:$D,3,0)","v":"86 300,-Ft "},null,6151922780,"CP2780 -2100 RPM",{"$f":"VLOOKUP(Z62,Árlista!$B:$D,3,0)","v":"96 600,-Ft "},null,6151922041,"CP2041",{"$f":"VLOOKUP(AD62,Árlista!$B:$D,3,0)","v":"124 400,-Ft "}]
[]
[null,null,null,null,null,null,null,null,null,null,null,null,null,null,null,null,null,null,null,null,"Cikkszám / Típus / (Listaár) \nNettó ár",6151922765,"CP2765 -900 RPM",{"$f":"VLOOKUP(V64,Árlista!$B:$D,3,0)","v":"96 600,-Ft "},null,null,null,null,null,6151922042,"CP2042",{"$f":"VLOOKUP(AD64,Árlista!$B:$D,3,0)","v":"124 400,-Ft "}]
[]
[]
[]
[]
[]
[]
[]
[]
[]
[]
[]
[]
[]
[null,null,null,null,null,null,null,null,null,null,null,null,null,null,null,null,null,null,null,null,"Chicago Pneumatic","CP2036 / CP2037",null,null,null,"CP2007 / CP2008 / CP2009",null,null,null,"CP2010 / CP2011 / CP2012"]
[null,null,null,null,null,null,null,null,null,null,null,null,null,null,null,null,null,null,null,null,null,"Ütésszám:   10000 RPM\nNyomaték: 3,4 - 16 /  18 - 28 Nm\nÜtvecsavarozó, duplakalapácsos ütőművel.",null,null,null,"Üresjárati fordulat:   1100 RPM\nNyomaték: 0,4 - 4,3 / 0,4 - 4,3 / 0,4 - 4,3 Nm\nEgyenes ipari csavarozó leoldó kuplunggal, vagy csúszókuplunggal (CP2009)",null,null,null,"Üresjárati fordulat:   1470 RPM\nNyomaték: 2 - 5,5 Nm, \nEgyenes ipari csavarozó leoldó kuplunggal, vagy csúszókuplunggal (CP2012)"]
[]
[]
[]
[null,null,null,null,null,null,null,null,null,null,null,null,null,null,null,null,null,null,null,null,"Cikkszám / Típus / (Listaár) \nNettó ár",6151922036,"CP2636",{"$f":"VLOOKUP(V83,Árlista!$B:$D,3,0)","v":"116 100,-Ft "},null,6151922007,"CP2007 -PUSH",{"$f":"VLOOKUP(Z83,Árlista!$B:$D,3,0)","v":"395 000,-Ft "},null,6151922010,"CP2010 PUSH,\nSHUT OFF",{"$f":"VLOOKUP(AD83,Árlista!$B:$D,3,0)","v":"395 000,-Ft "}]
[]
[null,null,null,null,null,null,null,null,null,null,null,null,null,null,null,null,null,null,null,null,"Cikkszám / Típus / (Listaár) \nNettó ár",6151922037,"CP2637",{"$f":"VLOOKUP(V85,Árlista!$B:$D,3,0)","v":"116 100,-Ft "},null,6151922008,"CP2008 -KAROS\nCUSHION",{"$f":"VLOOKUP(Z85,Árlista!$B:$D,3,0)","v":"395 000,-Ft "},null,6151922011,"CP2011 -KAROS\nCUSHION",{"$f":"VLOOKUP(AD85,Árlista!$B:$D,3,0)","v":",-Ft "}]
[]
[null,null,null,null,null,null,null,null,null,null,null,null,null,null,null,null,null,null,null,null,"Cikkszám / Típus / (Listaár) \nNettó ár",null,null,null,null,6151922009,"CP2009 -KAROS, \nSHUT OFF",null,null,6151922012,"CP2012 KAROS, \nSHUT OFF",{"$f":"VLOOKUP(AD87,Árlista!$B:$D,3,0)","v":"403 000,-Ft "}]
[]
[]
[]
[]
[]
[]
[]
[]
[]
[]
[null,null,null,null,null,null,null,null,null,null,null,null,null,null,null,null,null,null,null,null,"Chicago Pneumatic","CP2782",null,null,null,"CP2783"]
[null,null,null,null,null,null,null,null,null,null,null,null,null,null,null,null,null,null,null,null,null,"Üresjárati fordulat:   1800 RPM\nNyomaték: 3,5 - 5,0 Nm\nEgykezes használatra tervezett egyenes csavarozó  csúszókuplunggal. Ideális eszköz karbantartáshoz.",null,null,null,"Üresjárati fordulat:   2000 RPM\nNyomaték: 1,1 - 2,8 Nm\nEgykezes használatra tervezett egyenes csavarozó  csúszókuplunggal. Ideális eszköz karbantartáshoz."]
[]
[]
[]
[null,null,null,null,null,null,null,null,null,null,null,null,null,null,null,null,null,null,null,null,"Cikkszám / Típus / (Listaár) \nNettó ár","T025097","CP2782",{"$f":"VLOOKUP(V103,Árlista!$B:$D,3,0)","v":"177 800,-Ft "},null,"T025098","CP2783",{"$f":"VLOOKUP(Z103,Árlista!$B:$D,3,0)","v":"177 800,-Ft "}]
[]
[]
[]
[null,null,null,null,null,null,null,null,null,null,null,null,null,null,null,null,null,null,null,null,null,null,null,null,null,null,null,null,null,8940172305,"Bitt készlet",{"$f":"VLOOKUP(AD107,Árlista!$B:$D,3,0)","v":"STARS* 6 270,-Ft"}]

{"sheet":"Sarokcsiszolók","index":7,"n_rows":151,"n_cols":35,"rows_kept":151,"cut":false,"hidden":false,"merged":[[40,4,40,7],[43,3,44,3],[43,4,44,4],[43,5,44,5],[43,6,44,6],[43,7,44,7],[41,3,42,3],[41,4,42,4],[40,8,40,11],[43,8,44,8],[43,9,44,9],[40,12,40,15],[41,7,42,7],[13,4,13,7],[13,8,13,11],[13,12,13,15],[19,4,19,7],[19,8,19,11],[19,12,19,15],[34,4,34,7],[34,8,34,11],[34,12,34,15],[14,5,18,7],[14,9,18,11],[14,13,18,15],[20,8,21,8],[20,9,21,9],[20,10,21,10],[20,11,21,11],[20,12,21,12],[20,13,21,13],[20,14,21,14],[20,15,21,15],[41,14,42,14],[41,15,42,15],[100,20,103,20],[100,21,103,24],[100,25,103,28],[102,30,103,30],[79,25,82,28],[79,29,82,32],[83,32,84,32],[85,20,86,20],[85,21,86,21],[85,22,86,22],[85,23,86,23],[85,24,86,24],[85,25,86,25],[85,26,86,26],[85,27,86,27],[85,30,86,30],[85,31,86,31],[85,32,86,32],[83,25,84,25],[83,30,84,30],[83,31,84,31],[83,20,84,20],[83,21,84,21],[83,22,84,22],[106,23,107,23],[106,24,107,24],[106,30,107,30],[106,31,107,31],[106,32,107,32],[106,20,107,20],[106,21,107,21],[106,22,107,22],[106,25,107,25],[106,26,107,26],[106,27,107,27],[106,28,107,28],[106,29,107,29],[17,20,20,20],[17,21,20,24],[17,25,20,28],[17,29,20,32],[35,13,39,15],[35,9,39,11],[21,21,22,21],[21,22,22,22],[25,32,26,32],[25,20,26,20],[25,21,26,21],[25,22,26,22],[25,23,26,23],[25,24,26,24],[37,20,40,20],[37,21,40,24],[21,32,22,32],[23,25,24,25],[23,26,24,26],[23,27,24,27],[21,26,22,26],[21,27,22,27],[21,28,22,28],[21,29,22,29],[79,20,82,20],[79,21,82,24],[43,21,44,21],[43,22,44,22],[43,23,44,23],[43,24,44,24],[67,3,68,3],[69,3,70,3],[71,3,72,3],[67,14,68,14],[67,15,68,15],[69,14,70,14],[69,15,70,15],[71,14,72,14],[71,15,72,15],[67,12,68,12],[59,20,62,20],[67,13,68,13],[69,12,70,12],[69,13,70,13],[71,12,72,12],[71,13,72,13],[43,10,44,10],[43,11,44,11],[43,12,44,12],[43,13,44,13],[43,14,44,14],[43,15,44,15],[41,9,42,9],[41,10,42,10],[41,11,42,11],[41,12,42,12],[41,13,42,13],[35,5,39,7],[21,23,22,23],[21,24,22,24],[23,20,24,20],[23,21,24,21],[23,22,24,22],[23,23,24,23],[23,24,24,24],[21,20,22,20],[21,30,22,30],[21,31,22,31],[41,5,42,5],[41,6,42,6],[41,8,42,8],[20,3,21,3],[20,4,21,4],[20,5,21,5],[20,6,21,6],[20,7,21,7],[25,30,26,30],[25,31,26,31],[37,25,40,28],[37,29,40,32],[41,29,42,29],[41,30,42,30],[23,28,24,28],[23,29,24,29],[23,30,24,30],[23,31,24,31],[23,32,24,32],[21,25,22,25],[41,31,42,31],[41,32,42,32],[25,25,26,25],[25,26,26,26],[25,27,26,27],[25,28,26,28],[25,29,26,29],[41,20,42,20],[41,21,42,21],[41,22,42,22],[41,23,42,23],[41,25,42,25],[41,26,42,26],[41,27,42,27],[41,28,42,28],[41,24,42,24],[43,29,44,29],[43,20,44,20],[45,21,46,21],[45,22,46,22],[45,23,46,23],[45,24,46,24],[45,25,46,25],[45,26,46,26],[45,27,46,27],[45,28,46,28],[45,29,46,29],[43,30,44,30],[43,31,44,31],[59,21,62,24],[59,25,62,28],[59,29,62,32],[65,20,66,20],[65,21,66,21],[65,22,66,22],[65,23,66,23],[65,24,66,24],[65,25,66,25],[65,26,66,26],[65,27,66,27],[65,28,66,28],[65,29,66,29],[43,32,44,32],[45,20,46,20],[45,30,46,30],[45,31,46,31],[45,32,46,32],[43,25,44,25],[43,26,44,26],[43,27,44,27],[43,28,44,28],[87,22,88,22],[87,23,88,23],[87,24,88,24],[83,29,84,29],[85,28,86,28],[85,29,86,29],[83,26,84,26],[83,27,84,27],[83,28,84,28],[83,23,84,23],[83,24,84,24],[87,30,88,30],[87,31,88,31],[87,32,88,32],[104,20,105,20],[104,21,105,21],[104,22,105,22],[104,23,105,23],[104,24,105,24],[104,25,105,25],[104,26,105,26],[104,27,105,27],[104,28,105,28],[104,29,105,29],[104,30,105,30],[104,31,105,31],[104,32,105,32],[87,25,88,25],[87,26,88,26],[87,27,88,27],[102,31,103,31],[87,28,88,28],[87,29,88,29],[87,20,88,20],[87,21,88,21],[119,20,122,20],[119,21,122,24],[119,25,122,28],[119,29,122,32],[125,20,126,20],[125,21,126,21],[125,22,126,22],[125,23,126,23],[125,24,126,24],[123,29,124,29],[123,30,124,30],[123,31,124,31],[123,32,124,32],[123,20,124,20],[123,21,124,21],[123,22,124,22],[123,23,124,23],[123,24,124,24],[123,25,124,25],[123,26,124,26],[123,27,124,27],[123,28,124,28],[125,32,126,32],[125,29,126,29],[127,32,128,32],[125,25,126,25],[125,26,126,26],[125,27,126,27],[125,28,126,28],[127,20,128,20],[127,21,128,21],[127,22,128,22],[127,23,128,23],[127,24,128,24],[127,25,128,25],[127,26,128,26],[127,27,128,27],[127,28,128,28],[129,20,130,20],[129,21,130,21],[129,22,130,22],[129,23,130,23],[129,24,130,24],[125,30,126,30],[125,31,126,31],[129,30,130,30],[129,31,130,31],[127,29,128,29],[127,30,128,30],[127,31,128,31],[129,32,130,32],[63,20,64,20],[63,21,64,21],[63,22,64,22],[63,23,64,23],[63,24,64,24],[63,25,64,25],[63,26,64,26],[63,27,64,27],[63,28,64,28],[63,29,64,29],[63,30,64,30],[63,31,64,31],[63,32,64,32],[129,25,130,25],[129,26,130,26],[129,27,130,27],[65,30,66,30],[65,31,66,31],[65,32,66,32],[102,29,103,29],[102,32,103,32],[129,28,130,28],[129,29,130,29],[150,20,151,20],[150,21,151,21],[150,22,151,22],[150,23,151,23],[150,24,151,24],[142,20,145,20],[142,21,145,24],[146,20,147,20],[146,21,147,21],[146,22,147,22],[146,23,147,23],[146,24,147,24],[148,20,149,20],[148,21,149,21],[148,22,149,22],[148,23,149,23],[148,24,149,24]]}
["RODCRAFT",null,null,null,null,null,"Általános karbantartáshoz",null,null,null,null,null,"Ipari karbantartáshoz és gyártáshoz",null,null,null,null,"CHICAGO PNEUMATIC",null,null,"Általános karbantartáshoz",null,null,"Ipari karbantartáshoz és gyártáshoz",null,null,null,null,"Ipari körülményekhez -sorozatgyártás",null,null,null,null,null,"RODCRAFT"]
["Árlista",null,null,null,null,null,null,null,null,null,null,null,null,null,null,null,null,"Árlista",null,null,null,null,null,null,null,null,null,null,null,null,null,null,null,null,"Árlista"]
["Megrendelő",null,null,null,null,null,null,null,null,null,null,null,null,null,null,null,null,"Megrendelő",null,null,null,null,null,null,null,null,null,null,null,null,null,null,null,null,"Megrendelő"]
["Fúrók",null,null,null,null,null,null,null,null,null,null,null,null,null,null,null,null,"Fúrók",null,null,null,null,null,null,null,null,null,null,null,null,null,null,null,null,"Fúrók"]
["Racsnis kulcsok",null,null,null,null,null,null,null,null,null,null,null,null,null,null,null,null,"Racsnis kulcsok",null,null,null,null,null,null,null,null,null,null,null,null,null,null,null,null,"Racsnis kulcsok"]
["Csavarbehajtók",null,null,null,null,null,null,null,null,null,null,null,null,null,null,null,null,"Csavarbehajtók",null,null,null,null,null,null,null,null,null,null,null,null,null,null,null,null,"Csavarbehajtók"]
["Sarokcsiszolók",null,null,null,null,null,null,null,null,null,null,null,null,null,null,null,null,"Sarokcsiszolók",null,null,null,null,null,null,null,null,null,null,null,null,null,null,null,null,"Sarokcsiszolók"]
["Légkulcsok",null,null,null,null,null,null,null,null,null,null,null,null,null,null,null,null,"Légkulcsok",null,null,null,null,null,null,null,null,null,null,null,null,null,null,null,null,"Légkulcsok"]
["Egyenes csiszolók",null,null,null,null,null,null,null,null,null,null,null,null,null,null,null,null,"Egyenes csiszolók",null,null,null,null,null,null,null,null,null,null,null,null,null,null,null,null,"Egyenes csiszolók"]
["Szalag és excenter csiszolók",null,null,null,null,null,null,null,null,null,null,null,null,null,null,null,null,"Szalag és excenter csiszolók",null,null,null,null,null,null,null,null,null,null,null,null,null,null,null,null,"Szalag és excenter csiszolók"]
["Polír- és fiber csiszolók",null,null,null,null,null,null,null,null,null,null,null,null,null,null,null,null,"Polír- és fiber csiszolók",null,null,null,null,null,null,null,null,null,null,null,null,null,null,null,null,"Polír- és fiber csiszolók"]
["Vésők, leverők …",null,null,null,null,null,null,null,null,null,null,null,null,null,null,null,null,"Vésők, leverők …",null,null,null,null,null,null,null,null,null,null,null,null,null,null,null,null,"Vésők, leverők …"]
["Szóró- és lefúvató pisztolyok",null,null,null,null,null,null,null,null,null,null,null,null,null,null,null,null,"Vágók, fűrészek, szegecshúzók",null,null,null,null,null,null,null,null,null,null,null,null,null,null,null,null,"Szóró- és lefúvató pisztolyok"]
["Vágók, fűrészek, szegecshúzók",null,null,"Típus","Rodcraft RC7128",null,null,null,"Rodcraft RC7681K",null,null,null,"Rodcraft RC7684",null,null,null,null,"Szóró- és lefúvató pisztolyok",null,null,null,null,null,null,null,null,null,null,null,null,null,null,null,null,"Vágók, fűrészek, szegecshúzók"]
["Dugókulcsok",null,null,"Motorteljesítmény [W]","400","Új fejlesztésű, magas minőségű, precíziós motor, alacsony vibrációs- és zajszinttel. Ergonómikus kialakítás, egyszerű szabályozás, tengelyrögzítő a gyors szerszámcsere érdekében. 3 és 8 mm-es patron is rendelhető hozzá.\n\n",null,null,"150","Direkthajtásos \"sarokcsiszoló\" SET. Kis felületű hibák javítására. Könnyű, kompozitházas, kézreálló az egykezes használat érdekében. 3M Roloc rendszerű 50 és 75-ös paddal, vágó és csiszolótárcsákkal.",null,null,"250","Sokoldalúan használható készülék. Egyenes kiahajtásnak köszönhetően nagyobb hatékonyság. Az új készülék az RC7015 és RC7016 modelleket fogja kiváltani.\n",null,null,null,"Dugókulcsok",null,null,null,null,null,null,null,null,null,null,null,null,null,null,null,null,"Dugókulcsok"]
["Csatlakozók",null,null,"Kihajtási méret","6",null,null,null,"1/4\" AG",null,null,null,"6",null,null,null,null,"Csatlakozók",null,null,null,null,null,null,null,null,null,null,null,null,null,null,null,null,"Csatlakozók"]
["Abroncstöltők",null,null,"Tárcsaméret [mm]","191",null,null,null,"50-75",null,null,null,"120",null,null,null,null,"Abroncstöltők",null,null,"Chicago Pneumatic","CP3019",null,null,null,"CP3040",null,null,null,"CP3109",null,null,null,null,"Abroncstöltők"]
["ABAC Levegős szerszámok",null,null,"Üresjárati fordulat [rpm]","23000",null,null,null,"15000",null,null,null,"20000",null,null,null,null,"ABAC Levegős szerszámok",null,null,null,"Motorteljesítmény:   375W    Kihajtási méret: 3/8-24\nFordulatszám: 13, 18, 20 x 1000RPM\nIpari sarokcsiszoló, maximális megbizhatóság. Min 2000 órás szervizciklus.",null,null,null,"Motorteljesítmény:   520W    Kihajtási méret: 3/8-24\nFordulatszám: 13500 RPM     Tárcsaátmérő: 100mm\nRobosztus fémházas, ipari sarokcsiszoló.",null,null,null,"Motorteljesítmény:   600W    Kihajtási méret: 3/8-24\nFordulatszám: 13000 RPM     Tárcsaátmérő: 100mm\nRobosztus fémházas, ipari sarokcsiszoló.  Min 2000 órás szervizciklus.",null,null,null,null,"ABAC Levegős szerszámok"]
["Garázsipari eszközök",null,null,"Tömeg [kg]","0,72",null,null,null,"0,4",null,null,null,"0,52",null,null,null,null,"Garázsipari eszközök",null,null,null,null,null,null,null,null,null,null,null,null,null,null,null,null,"Garázsipari eszközök"]
["AKKUMULÁTOROS GÉPEK",null,null,"Használati besorolás","3 -igen magas színvonalú",null,null,null,"3 -igen magas színvonalú",null,null,null,null,null,null,null,null,"AKKUMULÁTOROS GÉPEK",null,null,null,null,null,null,null,null,null,null,null,null,null,null,null,null,"AKKUMULÁTOROS GÉPEK"]
["Tömlők, tömlődobok",null,null,"Cikkszám / Típus / (Listaár) \nNettó ár",8951000277,"RC7128",{"$f":"VLOOKUP(E21,Árlista!$B:$D,3,0)","v":"TOPS* 55 700,-Ft"},null,8951000019,"RC7681K",{"$f":"VLOOKUP(I21,Árlista!$B:$D,3,0)","v":"TOPS* 42 490,-Ft"},null,8951000115,"RC7684",{"$f":"VLOOKUP(M21,Árlista!$B:$D,3,0)","v":",-Ft "},null,null,"Tömlők, tömlődobok",null,null,null,null,null,null,null,null,null,null,null,null,null,null,null,null,"Tömlők, tömlődobok"]
["Szűrők, szabályozók",null,null,null,null,null,null,null,null,null,null,null,null,null,null,null,null,"Szűrők, szabályozók",null,null,"Cikkszám / Típus / (Listaár) \nNettó ár",6151607050,"CP3019-13A4",{"$f":"VLOOKUP(V22,Árlista!$B:$D,3,0)","v":"431 000,-Ft "},null,6151607010,"CP3040GAB",{"$f":"VLOOKUP(Z22,Árlista!$B:$D,3,0)","v":"160 000,-Ft "},null,6151607030,"CP3109 13A4",{"$f":"VLOOKUP(AD22,Árlista!$B:$D,3,0)","v":"C #: 502 000,-Ft"},null,null,"Szűrők, szabályozók"]
["Balancerek",null,null,null,null,null,null,null,null,null,null,null,null,null,null,null,null,"Balancerek",null,null,null,null,null,null,null,null,null,null,null,null,null,null,null,null,"Balancerek"]
[null,null,null,null,null,null,null,null,null,null,null,null,null,null,null,null,null,null,null,null,"Cikkszám / Típus / (Listaár) \nNettó ár",6151607060,"CP3019-18A3",{"$f":"VLOOKUP(V24,Árlista!$B:$D,3,0)","v":"431 000,-Ft "},null,6151607020,"CP3040GAS\nHosszú",{"$f":"VLOOKUP(Z24,Árlista!$B:$D,3,0)","v":"176 900,-Ft "},null,6151607040,"CP3109 13A4ES\nHosszú",{"$f":"VLOOKUP(AD24,Árlista!$B:$D,3,0)","v":"C #: 552 000,-Ft"}]
[{"$f":"Fúrók!$A25","v":"A feltüntett árak a 2020.02.01.-től "},null,null,null,null,null,null,null,null,null,null,null,null,null,null,null,null,{"$f":"Fúrók!$A25","v":"A feltüntett árak a 2020.02.01.-től "},null,null,null,null,null,null,null,null,null,null,null,null,null,null,null,null,{"$f":"Fúrók!$A25","v":"A feltüntett árak a 2020.02.01.-től "}]
[{"$f":"Fúrók!$A26","v":"érvényes listaárak."},null,null,null,null,null,null,null,null,null,null,null,null,null,null,null,null,{"$f":"Fúrók!$A26","v":"érvényes listaárak."},null,null,"Cikkszám / Típus / (Listaár) \nNettó ár",6151607070,"CP3019-20A3",{"$f":"VLOOKUP(V26,Árlista!$B:$D,3,0)","v":"431 000,-Ft "},null,null,null,null,null,null,null,null,null,null,{"$f":"Fúrók!$A26","v":"érvényes listaárak."}]
[{"$f":"Fúrók!$A27","v":"* jelöléssel ellátott termékek a "},null,null,null,null,null,null,null,null,null,null,null,null,null,null,null,null,{"$f":"Fúrók!#REF!","v":{"$error":"#REF!"}},null,null,null,null,null,null,null,null,null,null,null,null,null,null,null,null,{"$f":"Fúrók!$A27","v":"* jelöléssel ellátott termékek a "}]
[{"$f":"Fúrók!$A28","v":"RC TOPS és CP STAR akciós"},null,null,null,null,null,null,null,null,null,null,null,null,null,null,null,null,{"$f":"Fúrók!$A27","v":"* jelöléssel ellátott termékek a "},null,null,null,null,null,null,null,null,null,null,null,null,null,null,null,null,{"$f":"Fúrók!$A28","v":"RC TOPS és CP STAR akciós"}]
[{"$f":"Fúrók!$A29","v":"kiadvány árai"},null,null,null,null,null,null,null,null,null,null,null,null,null,null,null,null,{"$f":"Fúrók!$A28","v":"RC TOPS és CP STAR akciós"},null,null,null,null,null,null,null,null,null,null,null,null,null,null,null,null,{"$f":"Fúrók!$A29","v":"kiadvány árai"}]
[{"$f":"Fúrók!$A30","v":"SP jelöléssel ellátott termékekre"},null,null,null,null,null,null,null,null,null,null,null,null,null,null,null,null,{"$f":"Fúrók!$A29","v":"kiadvány árai"},null,null,null,null,null,null,null,null,null,null,null,null,null,null,null,null,{"$f":"Fúrók!$A30","v":"SP jelöléssel ellátott termékekre"}]
[{"$f":"Fúrók!$A31","v":"speciális viszonteladói árkézés"},null,null,null,null,null,null,null,null,null,null,null,null,null,null,null,null,{"$f":"Fúrók!$A30","v":"SP jelöléssel ellátott termékekre"},null,null,null,null,null,null,null,null,null,null,null,null,null,null,null,null,{"$f":"Fúrók!$A31","v":"speciális viszonteladói árkézés"}]
[{"$f":"Fúrók!$A32","v":"vonatkozik. Az Extra árak"},null,null,null,null,null,null,null,null,null,null,null,null,null,null,null,null,{"$f":"Fúrók!$A31","v":"speciális viszonteladói árkézés"},null,null,null,null,null,null,null,null,null,null,null,null,null,null,null,null,{"$f":"Fúrók!$A32","v":"vonatkozik. Az Extra árak"}]
[{"$f":"Fúrók!$A33","v":"a készlet erejéig, illetve"},null,null,null,null,null,null,null,null,null,null,null,null,null,null,null,null,{"$f":"Fúrók!$A32","v":"vonatkozik. Az Extra árak"},null,null,null,null,null,null,null,null,null,null,null,null,null,null,null,null,{"$f":"Fúrók!$A33","v":"a készlet erejéig, illetve"}]
[{"$f":"Fúrók!$A34","v":"visszavonásig érvényesek."},null,null,null,null,null,null,null,null,null,null,null,null,null,null,null,null,null,null,null,null,null,null,null,null,null,null,null,null,null,null,null,null,null,{"$f":"Fúrók!$A34","v":"visszavonásig érvényesek."}]
[{"$f":"Fúrók!$A35","v":"Az árista a Techtomat Kft és"},null,null,"Típus","Rodcraft RC7160/Rodcraft RC7166",null,null,null,"Rodcraft RC7170",null,null,null,"Rodcraft RC7181",null,null,null,null,{"$f":"Fúrók!$A35","v":"Az árista a Techtomat Kft és"},null,null,null,null,"CP3450-12AA5 125mm-es, ",null,null,null,null,null,null,null,null,null,null,null,{"$f":"Fúrók!$A35","v":"Az árista a Techtomat Kft és"}]
[{"$f":"Fúrók!$A36","v":"Kapitár Kft közös gondozásában"},null,null,"Motorteljesítmény [W]","750","Megbizható kicsi, ugyanakkor erős sarokcsiszoló. Könnyű karbantartás végett zsirzógomb a kúkerekek zsirzásához, amely rendszeres használatát javasoljuk a hosszú élettartam végett! \n\n\n\n",null,null,"746","Ipari sarokcsiszoló gyártási és karbantartási feladatokhoz. Könnyű, de rős alumínum ház kompozit borítással. Kiemelkedő teljesítmény és megbizhatóság. Erős, nagy nyomatékú motor. Speciális fogaskerék hajtás a hosszú étettartam végett!\n",null,null,"850","Sokoldalú robosztus ipari sarokcsiszoló.",null,null,null,{"$f":"Fúrók!$A36","v":"Kapitár Kft közös gondozásában"},null,null,null,null,"M14 kihajtással",null,null,null,null,null,null,null,null,null,null,null,{"$f":"Fúrók!$A36","v":"Kapitár Kft közös gondozásában"}]
[{"$f":"Fúrók!$A37","v":" jelent meg."},null,null,"Kihajtási méret","M10 és M14",null,null,null,"10",null,null,null,"M 14x2",null,null,null,null,{"$f":"Fúrók!$A37","v":" jelent meg."},null,null,"Chicago Pneumatic","CP3450",null,null,null,"CP3650",null,null,null,"CP3850",null,null,null,null,{"$f":"Fúrók!$A37","v":" jelent meg."}]
[{"$f":"Fúrók!$A38","v":"Minden jog fenntartva."},null,null,"Tárcsaméret [mm]","115-125",null,null,null,"100",null,null,null,"180",null,null,null,null,{"$f":"Fúrók!$A38","v":"Minden jog fenntartva."},null,null,null,"Motorteljesítmény:   810W    Kihajtási méret: \nFordulatszám: 12000 RPM  Tárcsaátmérő: 100, 115, 125mm\nIpari sarokcsiszoló.",null,null,null,"Motorteljesítmény:   1700W    Kihajtási méret: M14\nFordulatszám: 13000 RPM     Tárcsaátmérő: 115, 125\nRobosztus fémházas, ipari sarokcsiszoló.  Min 2000 órás szervizciklus. Auto balancerrel is rendelhető!",null,null,null,"Motorteljesítmény:   2100W    Kihajtási méret: 5/8-11\nFordulatszám: 6500/8500     Tárcsaátmérő: 180/230\nRobosztus fémházas, ipari sarokcsiszoló.  Min 2000 órás szervizciklus. Auto balancerrel is rendelhető!",null,null,null,null,{"$f":"Fúrók!$A38","v":"Minden jog fenntartva."}]
[null,null,null,"Üresjárati fordulat [rpm]","10000",null,null,null,"14 000",null,null,null,"7600"]
[{"$f":"Fúrók!$A40","v":"Bővebb információ:"},null,null,"Tömeg [kg]","1,6",null,null,null,"1,9",null,null,null,"3,4",null,null,null,null,{"$f":"Fúrók!$A40","v":"Bővebb információ:"},null,null,null,null,null,null,null,null,null,null,null,null,null,null,null,null,{"$f":"Fúrók!$A40","v":"Bővebb információ:"}]
[{"$f":"Fúrók!$A41","v":"Szabó Attila"},null,null,"Használati besorolás","2 -megnövekedett igényekhez",null,null,null,null,null,null,null,"2 -megnövekedett igényekhez",null,null,null,null,{"$f":"Fúrók!$A41","v":"Szabó Attila"},null,null,null,null,null,null,null,null,null,null,null,null,null,null,null,null,{"$f":"Fúrók!$A41","v":"Szabó Attila"}]
[{"$f":"Fúrók!$A42","v":"30/201-4931 vagy 30/626-8687"},null,null,"Cikkszám / Típus / (Listaár) \nNettó ár",8951075021,"RC7160  -D100 M10",{"$f":"VLOOKUP(E42,Árlista!$B:$D,3,0)","v":",-Ft "},null,8951000144,"RC7170",{"$f":"VLOOKUP(I42,Árlista!$B:$D,3,0)","v":"TOPS* 61 900,-Ft"},null,8951000083,"RC7181  M14",{"$f":"VLOOKUP(M42,Árlista!$B:$D,3,0)","v":"162 200,-Ft "},null,null,{"$f":"Fúrók!$A42","v":"30/201-4931 vagy 30/626-8687"},null,null,"Cikkszám / Típus / (Listaár) \nNettó ár",6151604040,"12AA5  5\" -125",{"$f":"VLOOKUP(V42,Árlista!$B:$D,3,0)","v":"280 300,-Ft "},null,6151607310,"CP3650\n120AA45 4,5\" -115",{"$f":"VLOOKUP(Z42,Árlista!$B:$D,3,0)","v":"C #: 507 000,-Ft"},null,6151704940,"65AB9VE 6500RPM\n9\" -210 Auto balanc",{"$f":"VLOOKUP(AD42,Árlista!$B:$D,3,0)","v":"C #: 720 000,-Ft"},null,null,{"$f":"Fúrók!$A42","v":"30/201-4931 vagy 30/626-8687"}]
[{"$f":"Fúrók!$A43","v":"e-mail"},null,null,null,null,null,null,null,null,null,null,null,null,null,null,null,null,null,null,null,null,null,null,null,null,null,null,null,null,null,null,null,null,null,{"$f":"Fúrók!$A43","v":"e-mail"}]
[{"$f":"Fúrók!$A44","v":"Tóth Tamás"},null,null,"Cikkszám / Típus / (Listaár) \nNettó ár",8951075051,"RC7166 -D125 M14",{"$f":"VLOOKUP(E44,Árlista!$B:$D,3,0)","v":"TOPS* 55 700,-Ft"},null,null,null,null,null,null,null,null,null,null,null,null,null,"Cikkszám / Típus / (Listaár) \nNettó ár",6151604010,"12AC4  4\" -100",{"$f":"VLOOKUP(V44,Árlista!$B:$D,3,0)","v":"280 300,-Ft "},null,6151607210,"CP3650\n120AA5 5\" -125",{"$f":"VLOOKUP(Z44,Árlista!$B:$D,3,0)","v":"C #: 531 000,-Ft"},null,6151704920,"85AB7VE 8500RPM\n7\" -180 Auto balac",{"$f":"VLOOKUP(AD44,Árlista!$B:$D,3,0)","v":"C #: 688 000,-Ft"},null,null,{"$f":"Fúrók!$A44","v":"Tóth Tamás"}]
[{"$f":"Fúrók!$A45","v":"30/603-1596"},null,null,null,null,null,null,null,null,null,null,null,null,null,null,null,null,{"$f":"Fúrók!$A44","v":"Tóth Tamás"},null,null,null,null,null,null,null,null,null,null,null,null,null,null,null,null,{"$f":"Fúrók!$A45","v":"30/603-1596"}]
[{"$f":"Fúrók!$A45","v":"30/603-1596"},null,null,null,null,null,null,null,null,null,null,null,null,null,null,null,null,{"$f":"Fúrók!$A45","v":"30/603-1596"},null,null,"Cikkszám / Típus / (Listaár) \nNettó ár",6151604030,"12AC45 4,5\" -115",{"$f":"VLOOKUP(V46,Árlista!$B:$D,3,0)","v":"280 300,-Ft "},null,6151607180,"120AA5VK 5\"-125\nAuto balancerrel",{"$f":"VLOOKUP(Z46,Árlista!$B:$D,3,0)","v":"C #: 591 000,-Ft"},null,null,null,null,null,null,{"$f":"Fúrók!$A45","v":"30/603-1596"}]
[]
[null,null,null,null,null,null,null,null,null,null,null,null,null,null,null,null,null,null,null,null,null,"*Továbbí típusok www.cp.com illetve az árlistában!",null,null,null,"*Továbbí típusok www.cp.com illetve az árlistában!",null,null,null,"*Továbbí típusok www.cp.com illetve az árlistában!"]
[]
[]
[]
[]
[]
[]
[]
[]
[]
[]
[null,null,null,null,null,null,null,null,null,null,null,null,null,null,null,null,null,null,null,null,"Chicago Pneumatic","CP7500D",null,null,null,"CP9120 / CP9121 /CP9122",null,null,null,"CP854 "]
[null,null,null,null,null,null,null,null,null,null,null,null,null,null,null,null,null,null,null,null,null,"Motorteljesítmény:   150W    Kihajtási méret: 3/8-24\nFordulatszám: 22000 RPM     Tárcsaátmérő: 50\nMini sarokcsiszoló.  Általános célokra. Kompakt és könnyű.",null,null,null,"Motorteljesítmény:   600W    Kihajtási méret: M14\nFordulatszám: 12000 RPM     Tárcsaátmérő: 100, 125\nRobosztus fémházas,  sarokcsiszoló általános célokra.",null,null,null,"Motorteljesítmény:   525W    Kihajtás: 3/8-24, M10\nFordulatszám: 13000 RPM     Tárcsaátmérő: 100, 125Robosztus fémházas,  sarokcsiszoló általános célokra."]
[]
[]
[]
[null,null,null,null,null,null,null,null,null,null,null,null,null,null,null,null,null,null,null,null,"Cikkszám / Típus / (Listaár) \nNettó ár",8941075001,"CP7500D",{"$f":"VLOOKUP(V64,Árlista!$B:$D,3,0)","v":"85 300,-Ft "},null,6151957321,"CP9121AR   M14 \n5\" -125",{"$f":"VLOOKUP(Z64,Árlista!$B:$D,3,0)","v":"STARS* 74 500,-Ft"},null,"T023186","CP854 ",{"$f":"VLOOKUP(AD64,Árlista!$B:$D,3,0)","v":"168 900,-Ft "}]
[]
[null,null,null,null,null,null,null,null,null,null,null,null,null,null,null,null,null,null,null,null,"Cikkszám / Típus / (Listaár) \nNettó ár",8941075002,"CP7500DK  KIT",{"$f":"VLOOKUP(V66,Árlista!$B:$D,3,0)","v":"99 900,-Ft "},null,6151957222,"CP9122BR  5/8-11\n4,5\" -115",{"$f":"VLOOKUP(Z66,Árlista!$B:$D,3,0)","v":"108 900,-Ft "},null,"T023187","CP854E",{"$f":"VLOOKUP(AD66,Árlista!$B:$D,3,0)","v":"STARS* 81 100,-Ft"}]
[]
[null,null,null,"Cikkszám / Típus / (Listaár) \nNettó ár",null,null,null,null,null,null,null,null,8951000210,"RC7181",{"$f":"VLOOKUP(M68,Árlista!$B:$D,3,0)","v":",-Ft "},null,null,null,null,null,null,null,null,null,null,"*Továbbí típusok www.cp.com illetve az árlistában!"]
[]
[null,null,null,"Cikkszám / Típus / (Listaár) \nNettó ár",null,null,null,null,null,null,null,null,8951000211,"RC7180",{"$f":"VLOOKUP(M70,Árlista!$B:$D,3,0)","v":"97 400,-Ft "}]
[]
[null,null,null,"Cikkszám / Típus / (Listaár) \nNettó ár",null,null,null,null,null,null,null,null,8951000212,"RC7181",{"$f":"VLOOKUP(M72,Árlista!$B:$D,3,0)","v":"TOPS* 88 900,-Ft"}]
[]
[]
[]
[]
[]
[]
[null,null,null,null,null,null,null,null,null,null,null,null,null,null,null,null,null,null,null,null,"Chicago Pneumatic","CP857",null,null,null,"CP9123",null,null,null,"CP3349"]
[null,null,null,null,null,null,null,null,null,null,null,null,null,null,null,null,null,null,null,null,null,"Motorteljesítmény:   940W    Kihajtási méret: 5/8-11\nFordulatszám: 7500 RPM     Tárcsaátmérő: 180\nRobosztus fémházas,  sarokcsiszoló általános célokra.",null,null,null,"Motorteljesítmény:   850W    Kihajtási méret: 5/8-11\nFordulatszám: 7500 RPM     Tárcsaátmérő: 180\nRobosztus fémházas,  sarokcsiszoló általános célokra.",null,null,null,"Motorteljesítmény:  3000W    Kihajtás: 5/8-11\nFordulatszám: 6-7,7 x1000 RPM     Tárcsaátmérő: 150, 180, 230\nRobosztus fémházas,  sarokcsiszoló általános célokra."]
[]
[]
[]
[null,null,null,null,null,null,null,null,null,null,null,null,null,null,null,null,null,null,null,null,"Cikkszám / Típus / (Listaár) \nNettó ár","T024387","CP857",{"$f":"VLOOKUP(V84,Árlista!$B:$D,3,0)","v":"262 200,-Ft "},null,6151959123,"CP9123",{"$f":"VLOOKUP(Z84,Árlista!$B:$D,3,0)","v":"217 000,-Ft "},null,6151609110,"CP33490 -SALAVADE D180",{"$f":"VLOOKUP(AD84,Árlista!$B:$D,3,0)","v":"C #: 771 000,-Ft"}]
[]
[null,null,null,null,null,null,null,null,null,null,null,null,null,null,null,null,null,null,null,null,"Cikkszám / Típus / (Listaár) \nNettó ár",null,null,null,null,null,null,null,null,6151609150,"CP33490 -SALAVETE D150",{"$f":"VLOOKUP(AD86,Árlista!$B:$D,3,0)","v":"C #: 797 000,-Ft"}]
[]
[null,null,null,null,null,null,null,null,null,null,null,null,null,null,null,null,null,null,null,null,"Cikkszám / Típus / (Listaár) \nNettó ár",null,null,null,null,null,null,null,null,6151609130,"CP33490 -SALAVELE D230",{"$f":"VLOOKUP(AD88,Árlista!$B:$D,3,0)","v":"C #: 795 000,-Ft"}]
[]
[]
[]
[]
[]
[]
[]
[]
[]
[]
[]
[null,null,null,null,null,null,null,null,null,null,null,null,null,null,null,null,null,null,null,null,"Chicago Pneumatic","CP3650-120ACC",null,null,null,"CP3030 -",null,null,null,"CP3030"]
[null,null,null,null,null,null,null,null,null,null,null,null,null,null,null,null,null,null,null,null,null,"Motorteljesítmény:  1700 W  Befogási méret: 6,35 mm\nFordulatszám: 12 000 RPM     Ipari csiszoló a legmagasabb ipari igénybevételre. Egyedülálló megbizhatóság és termelékenység. Karbantartási igénye min 2000 üo.",null,null,null,"Motorteljesítmény:   300/400/500W   Befogás: 6,35 mm\nFordulatszám: 18-30 x 1000 RPM\nJelölés: Pl 300 W 25000RPM -->CP3030-325R\nIpari egyenescsiszoló. Karbantartási igény min. 1000 üo",null,null,null,6151604130,"CP3030 -418R",{"$f":"VLOOKUP(AD101,Árlista!$B:$D,3,0)","v":"191 700,-Ft "}]
[null,null,null,null,null,null,null,null,null,null,null,null,null,null,null,null,null,null,null,null,null,null,null,null,null,null,null,null,null,6151604140,"CP3030 -420R",{"$f":"VLOOKUP(AD102,Árlista!$B:$D,3,0)","v":"191 700,-Ft "}]
[null,null,null,null,null,null,null,null,null,null,null,null,null,null,null,null,null,null,null,null,null,null,null,null,null,null,null,null,null,6151604150,"CP3030 -424R",{"$f":"VLOOKUP(AD103,Árlista!$B:$D,3,0)","v":"191 700,-Ft "}]
[]
[null,null,null,null,null,null,null,null,null,null,null,null,null,null,null,null,null,null,null,null,"Cikkszám / Típus / (Listaár) \nNettó ár",6151607230,"CP3650-120AAC",{"$f":"VLOOKUP(V105,Árlista!$B:$D,3,0)","v":"C #: 517 000,-Ft"},null,6151604090,"CP3030 -325R",{"$f":"VLOOKUP(Z105,Árlista!$B:$D,3,0)","v":"161 600,-Ft "},null,6151604190,"CP3030 -518R"]
[]
[null,null,null,null,null,null,null,null,null,null,null,null,null,null,null,null,null,null,null,null,"Cikkszám / Típus / (Listaár) \nNettó ár",null,null,null,null,6151604100,"CP3030 -330R",{"$f":"VLOOKUP(Z107,Árlista!$B:$D,3,0)","v":"161 600,-Ft "},null,6151604200,"CP3030 -520R",{"$f":"VLOOKUP(AD107,Árlista!$B:$D,3,0)","v":"212 200,-Ft "}]
[]
[null,null,null,null,null,null,null,null,null,null,null,null,null,null,null,null,null,null,null,null,null,null,null,null,null,"*Továbbí típusok www.cp.com illetve az árlistában!"]
[]
[]
[]
[]
[]
[]
[]
[]
[]
[null,null,null,null,null,null,null,null,null,null,null,null,null,null,null,null,null,null,null,null,"Chicago Pneumatic","CP3030      D75 mm",null,null,null,"CP3650      D180 mm",null,null,null,"CP3850      D 180/230 mm"]
[null,null,null,null,null,null,null,null,null,null,null,null,null,null,null,null,null,null,null,null,null,"Motorteljesítmény: 3/4/500W Kihajtás: 3/8\"-24 mm\nFordulatszám: 15-25 x 1000 RPM\nJelölés: Pl 300 W 25000RPM -->CP3030-325AFR\nIpari egyenescsiszoló. Karbantartási igény min. 1000 üo",null,null,null,"Motorteljesítmény:  1700 W  Kihajtási méret: M14 mm\nIpari csiszoló a legmagasabb ipari igénybevételre. Egyedülálló megbizhatóság és termelékenység. Karbantartási igénye min 2000 üo.",null,null,null,"Motorteljesítmény:  2100 W  Kihajtási méret: 5/8\"-11\nIpari csiszoló a legmagasabb ipari igénybevételre. Egyedülálló megbizhatóság és termelékenység. Karbantartási igénye min 2000 üo."]
[]
[]
[]
[null,null,null,null,null,null,null,null,null,null,null,null,null,null,null,null,null,null,null,null,"Cikkszám / Típus / (Listaár) \nNettó ár",6151620060,"CP3030 -325AFR",{"$f":"VLOOKUP(V124,Árlista!$B:$D,3,0)","v":"141 000,-Ft "},null,6151607270,"CP3650 -075AAE",{"$f":"VLOOKUP(Z124,Árlista!$B:$D,3,0)","v":"C #: 519 000,-Ft"},null,6151704980,"CP3850 -65ABVE",{"$f":"VLOOKUP(AD124,Árlista!$B:$D,3,0)","v":"C #: 720 000,-Ft"}]
[]
[null,null,null,null,null,null,null,null,null,null,null,null,null,null,null,null,null,null,null,null,"Cikkszám / Típus / (Listaár) \nNettó ár",6151620070,"CP3030 -415AFR",{"$f":"VLOOKUP(V126,Árlista!$B:$D,3,0)","v":"156 700,-Ft "},null,6151607260,"CP3650 -085AAE",{"$f":"VLOOKUP(Z126,Árlista!$B:$D,3,0)","v":"C #: 519 000,-Ft"},null,6151704970,"CP3850 -85ABVE",{"$f":"VLOOKUP(AD126,Árlista!$B:$D,3,0)","v":"C #: 685 000,-Ft"}]
[]
[null,null,null,null,null,null,null,null,null,null,null,null,null,null,null,null,null,null,null,null,"Cikkszám / Típus / (Listaár) \nNettó ár",6151620080,"CP3030 -420AFR",{"$f":"VLOOKUP(V128,Árlista!$B:$D,3,0)","v":"156 700,-Ft "},null,6151607240,"CP3650 -120AAE",{"$f":"VLOOKUP(Z128,Árlista!$B:$D,3,0)","v":"C #: 519 000,-Ft"}]
[]
[null,null,null,null,null,null,null,null,null,null,null,null,null,null,null,null,null,null,null,null,"Cikkszám / Típus / (Listaár) \nNettó ár",6151620100,"CP3030 -515AFR",{"$f":"VLOOKUP(V130,Árlista!$B:$D,3,0)","v":"188 900,-Ft "}]
[]
[null,null,null,null,null,null,null,null,null,null,null,null,null,null,null,null,null,null,null,null,null,"*Továbbí típusok www.cp.com illetve az árlistában!",null,null,null,"*Továbbí típusok www.cp.com illetve az árlistában!"]
[]
[]
[]
[]
[]
[]
[]
[]
[]
[null,null,null,null,null,null,null,null,null,null,null,null,null,null,null,null,null,null,null,null,"Chicago Pneumatic","CP3450"]
[null,null,null,null,null,null,null,null,null,null,null,null,null,null,null,null,null,null,null,null,null,"Motorteljesítmény:   840W    Kihajtás:  3/8-24, 5/8-11 vagy M14\nFordulatszám: 12000 RPM  Tárcsaátmérő: 100, 115, 125mm\nIpari sarokcsiszoló."]
[]
[]
[]
[null,null,null,null,null,null,null,null,null,null,null,null,null,null,null,null,null,null,null,null,"Cikkszám / Típus / (Listaár) \nNettó ár",8941075401,"CP7540-C  4\" -100",{"$f":"VLOOKUP(V147,Árlista!$B:$D,3,0)","v":"130 300,-Ft "}]
[]
[null,null,null,null,null,null,null,null,null,null,null,null,null,null,null,null,null,null,null,null,"Cikkszám / Típus / (Listaár) \nNettó ár",8941075451,"CP7545-C  4,5\" -115",{"$f":"VLOOKUP(V149,Árlista!$B:$D,3,0)","v":"130 300,-Ft "}]
[]
[null,null,null,null,null,null,null,null,null,null,null,null,null,null,null,null,null,null,null,null,"Cikkszám / Típus / (Listaár) \nNettó ár",8941075503,"CP7550 5\" -125 M14",{"$f":"VLOOKUP(V151,Árlista!$B:$D,3,0)","v":"STARS* 103 600,-Ft"}]

{"sheet":"Egyenes csiszolók","index":8,"n_rows":122,"n_cols":47,"rows_kept":122,"cut":false,"hidden":false,"merged":[[117,20,118,20],[117,21,118,21],[117,22,118,22],[117,23,118,23],[95,5,96,5],[95,6,96,6],[95,7,96,7],[95,8,96,8],[99,5,100,5],[99,6,100,6],[110,21,110,24],[111,22,115,24],[117,24,118,24],[99,7,100,7],[99,8,100,8],[112,4,112,7],[113,5,117,7],[113,9,117,11],[113,13,117,15],[97,10,98,10],[97,11,98,11],[99,9,100,9],[99,10,100,10],[99,11,100,11],[119,20,120,20],[119,21,120,21],[119,6,120,6],[119,8,120,8],[119,9,120,9],[119,7,120,7],[119,22,120,22],[119,23,120,23],[119,24,120,24],[68,24,69,24],[68,25,69,25],[68,26,69,26],[68,27,69,27],[93,30,94,30],[93,31,94,31],[99,12,100,12],[99,13,100,13],[93,4,94,4],[93,5,94,5],[93,6,94,6],[93,8,94,8],[93,9,94,9],[99,4,100,4],[97,4,98,4],[93,7,94,7],[97,7,98,7],[89,22,90,22],[89,23,90,23],[89,24,90,24],[89,25,90,25],[93,20,94,20],[93,21,94,21],[93,22,94,22],[119,25,120,25],[119,26,120,26],[119,27,120,27],[119,28,120,28],[116,21,116,24],[116,25,116,28],[110,25,110,28],[111,26,115,28],[117,25,118,25],[117,26,118,26],[117,27,118,27],[117,28,118,28],[64,14,65,14],[64,15,65,15],[64,8,65,8],[64,9,65,9],[68,29,69,29],[68,30,69,30],[92,4,92,7],[92,8,92,11],[92,12,92,15],[83,5,91,7],[83,9,91,11],[83,13,91,15],[91,21,92,21],[91,22,92,22],[91,23,92,23],[91,24,92,24],[87,30,88,30],[89,20,90,20],[83,20,86,20],[83,29,86,32],[87,29,88,29],[68,31,69,31],[68,32,69,32],[89,21,90,21],[13,4,13,7],[13,8,13,11],[13,12,13,15],[19,4,19,7],[19,8,19,11],[19,12,19,15],[20,7,21,7],[57,4,57,7],[57,8,57,11],[57,12,57,15],[14,5,18,7],[14,9,18,11],[14,13,18,15],[20,9,21,9],[20,14,21,14],[44,10,45,10],[44,11,45,11],[17,20,20,20],[17,21,20,24],[17,25,20,28],[17,29,20,32],[66,31,67,31],[66,32,67,32],[68,23,69,23],[66,23,67,23],[66,24,67,24],[66,25,67,25],[66,26,67,26],[66,27,67,27],[40,29,41,29],[40,20,41,20],[40,21,41,21],[40,22,41,22],[62,29,65,32],[66,29,67,29],[66,30,67,30],[62,20,65,20],[62,21,65,24],[62,25,65,28],[44,21,45,21],[44,22,45,22],[48,24,49,24],[44,30,45,30],[44,24,45,24],[48,30,49,30],[82,4,82,7],[82,8,82,11],[82,12,82,15],[58,5,62,7],[58,9,62,11],[58,13,62,15],[66,4,67,4],[66,5,67,5],[66,6,67,6],[66,7,67,7],[66,8,67,8],[66,9,67,9],[66,10,67,10],[66,11,67,11],[66,12,67,12],[66,13,67,13],[66,14,67,14],[66,15,67,15],[63,12,63,15],[64,12,65,12],[64,10,65,10],[64,11,65,11],[35,4,35,7],[35,8,35,11],[36,5,40,7],[36,9,40,11],[41,4,41,7],[41,8,41,11],[35,12,35,15],[36,13,40,15],[41,12,41,15],[42,10,43,10],[42,11,43,11],[42,12,43,12],[42,13,43,13],[42,14,43,14],[42,15,43,15],[44,12,45,12],[44,13,45,13],[44,14,45,14],[44,15,45,15],[64,7,65,7],[63,4,63,7],[63,8,63,11],[20,3,21,3],[20,4,21,4],[20,5,21,5],[20,6,21,6],[20,8,21,8],[36,20,39,20],[36,21,39,24],[36,25,39,28],[36,29,39,32],[21,21,22,21],[21,22,22,22],[21,23,22,23],[21,24,22,24],[21,30,22,30],[21,31,22,31],[21,32,22,32],[23,20,24,20],[23,21,24,21],[23,22,24,22],[23,23,24,23],[23,24,24,24],[23,25,24,25],[23,26,24,26],[21,20,22,20],[64,3,65,3],[66,3,67,3],[64,4,65,4],[64,5,65,5],[64,6,65,6],[20,15,21,15],[22,3,23,3],[22,4,23,4],[22,5,23,5],[22,6,23,6],[22,7,23,7],[22,8,23,8],[22,9,23,9],[22,10,23,10],[22,11,23,11],[22,12,23,12],[22,13,23,13],[22,14,23,14],[22,15,23,15],[20,10,21,10],[20,11,21,11],[20,12,21,12],[20,13,21,13],[64,13,65,13],[119,3,120,3],[121,3,122,3],[93,3,94,3],[95,3,96,3],[97,3,98,3],[99,3,100,3],[119,15,120,15],[121,4,122,4],[121,5,122,5],[121,6,122,6],[121,7,122,7],[121,8,122,8],[121,9,122,9],[121,10,122,10],[121,11,122,11],[121,12,122,12],[121,13,122,13],[95,4,96,4],[121,14,122,14],[121,15,122,15],[119,10,120,10],[119,11,120,11],[119,12,120,12],[119,13,120,13],[112,8,112,11],[112,12,112,15],[118,4,118,7],[118,8,118,11],[118,12,118,15],[119,4,120,4],[119,5,120,5],[93,10,94,10],[93,11,94,11],[93,12,94,12],[93,13,94,13],[97,13,98,13],[95,9,96,9],[95,10,96,10],[95,11,96,11],[95,12,96,12],[95,13,96,13],[97,12,98,12],[95,15,96,15],[97,5,98,5],[97,6,98,6],[97,8,98,8],[97,9,98,9],[119,14,120,14],[21,25,22,25],[21,26,22,26],[21,27,22,27],[21,28,22,28],[21,29,22,29],[99,14,100,14],[99,15,100,15],[66,20,67,20],[66,21,67,21],[66,22,67,22],[68,20,69,20],[68,21,69,21],[68,22,69,22],[93,14,94,14],[93,15,94,15],[97,14,98,14],[97,15,98,15],[40,24,41,24],[23,27,24,27],[23,28,24,28],[44,20,45,20],[40,23,41,23],[95,14,96,14],[87,20,88,20],[23,29,24,29],[23,30,24,30],[40,31,41,31],[40,32,41,32],[42,20,43,20],[42,21,43,21],[42,22,43,22],[42,23,43,23],[42,24,43,24],[42,25,43,25],[42,26,43,26],[42,27,43,27],[42,28,43,28],[42,29,43,29],[42,30,43,30],[42,31,43,31],[42,32,43,32],[40,25,41,25],[40,26,41,26],[40,27,41,27],[40,28,41,28],[23,31,24,31],[23,32,24,32],[40,30,41,30],[44,32,45,32],[46,20,47,20],[46,21,47,21],[46,22,47,22],[46,23,47,23],[46,24,47,24],[46,25,47,25],[46,26,47,26],[46,27,47,27],[46,28,47,28],[46,29,47,29],[46,30,47,30],[46,31,47,31],[46,32,47,32],[44,25,45,25],[44,26,45,26],[44,27,45,27],[44,28,45,28],[44,29,45,29],[44,31,45,31],[44,23,45,23],[48,31,49,31],[48,32,49,32],[50,20,51,20],[50,21,51,21],[50,22,51,22],[50,23,51,23],[50,24,51,24],[50,25,51,25],[50,26,51,26],[50,27,51,27],[50,28,51,28],[50,29,51,29],[50,30,51,30],[50,31,51,31],[50,32,51,32],[48,25,49,25],[48,26,49,26],[48,27,49,27],[48,28,49,28],[48,29,49,29],[48,20,49,20],[48,21,49,21],[48,22,49,22],[48,23,49,23],[66,28,67,28],[87,24,88,24],[68,28,69,28],[89,29,90,29],[93,28,94,28],[93,29,94,29],[87,31,88,31],[87,32,88,32],[89,30,90,30],[89,31,90,31],[89,32,90,32],[87,25,88,25],[87,26,88,26],[87,27,88,27],[87,28,88,28],[93,27,94,27],[89,26,90,26],[89,27,90,27],[89,28,90,28],[83,21,86,24],[83,25,86,28],[87,21,88,21],[87,22,88,22],[87,23,88,23],[93,32,94,32],[91,25,92,25],[91,26,92,26],[91,27,92,27],[91,28,92,28],[91,29,92,29],[91,30,92,30],[91,31,92,31],[91,32,92,32],[93,23,94,23],[93,24,94,24],[93,25,94,25],[93,26,94,26],[95,22,96,22],[95,23,96,23],[95,24,96,24],[91,20,92,20],[95,30,96,30],[95,31,96,31],[95,32,96,32],[97,20,98,20],[97,21,98,21],[97,22,98,22],[97,23,98,23],[97,24,98,24],[97,25,98,25],[97,26,98,26],[97,27,98,27],[97,28,98,28],[97,29,98,29],[97,30,98,30],[97,31,98,31],[97,32,98,32],[95,25,96,25],[95,26,96,26],[95,27,96,27],[95,28,96,28],[95,29,96,29],[95,20,96,20],[95,21,96,21],[42,3,43,3],[42,4,43,4],[42,5,43,5],[42,6,43,6],[42,7,43,7],[42,8,43,8],[42,9,43,9],[44,3,45,3],[44,4,45,4],[44,5,45,5],[44,6,45,6],[44,7,45,7],[44,8,45,8],[44,9,45,9]]}
["RODCRAFT",null,null,null,"Általános karbantartáshoz",null,null,null,null,null,"Ipari karbantartáshoz és gyártáshoz",null,null,null,null,null,null,"CHICAGO PNEUMATIC",null,null,"Általános karbantartáshoz",null,null,"Ipari karbantartáshoz és gyártáshoz",null,null,null,null,"Ipari körülményekhez -sorozatgyártás",null,null,null,null,null,"RODCRAFT"]
["Árlista",null,null,null,null,null,null,null,null,null,null,null,null,null,null,null,null,"Árlista",null,null,null,null,null,null,null,null,null,null,null,null,null,null,null,null,"Árlista"]
["Megrendelő",null,null,null,null,null,null,null,null,null,null,null,null,null,null,null,null,"Megrendelő",null,null,null,null,null,null,null,null,null,null,null,null,null,null,null,null,"Megrendelő"]
["Fúrók",null,null,null,null,null,null,null,null,null,null,null,null,null,null,null,null,"Fúrók",null,null,null,null,null,null,null,null,null,null,null,null,null,null,null,null,"Fúrók"]
["Racsnis kulcsok",null,null,null,null,null,null,null,null,null,null,null,null,null,null,null,null,"Racsnis kulcsok",null,null,null,null,null,null,null,null,null,null,null,null,null,null,null,null,"Racsnis kulcsok"]
["Csavarbehajtók",null,null,null,null,null,null,null,null,null,null,null,null,null,null,null,null,"Csavarbehajtók",null,null,null,null,null,null,null,null,null,null,null,null,null,null,null,null,"Csavarbehajtók"]
["Sarokcsiszolók",null,null,null,null,null,null,null,null,null,null,null,null,null,null,null,null,"Sarokcsiszolók",null,null,null,null,null,null,null,null,null,null,null,null,null,null,null,null,"Sarokcsiszolók"]
["Légkulcsok",null,null,null,null,null,null,null,null,null,null,null,null,null,null,null,null,"Légkulcsok",null,null,null,null,null,null,null,null,null,null,null,null,null,null,null,null,"Légkulcsok"]
["Egyenes csiszolók",null,null,null,null,null,null,null,null,null,null,null,null,null,null,null,null,"Egyenes csiszolók",null,null,null,null,null,null,null,null,null,null,null,null,null,null,null,null,"Egyenes csiszolók"]
["Szalag és excenter csiszolók",null,null,null,null,null,null,null,null,null,null,null,null,null,null,null,null,"Szalag és excenter csiszolók",null,null,null,null,null,null,null,null,null,null,null,null,null,null,null,null,"Szalag és excenter csiszolók"]
["Polír- és fiber csiszolók",null,null,null,null,null,null,null,null,null,null,null,null,null,null,null,null,"Polír- és fiber csiszolók",null,null,null,null,null,null,null,null,null,null,null,null,null,null,null,null,"Polír- és fiber csiszolók"]
["Vésők, leverők …",null,null,null,null,null,null,null,null,null,null,null,null,null,null,null,null,"Vésők, leverők …",null,null,null,null,null,null,null,null,null,null,null,null,null,null,null,null,"Vésők, leverők …"]
["Szóró- és lefúvató pisztolyok",null,null,null,null,null,null,null,null,null,null,null,null,null,null,null,null,"Vágók, fűrészek, szegecshúzók",null,null,null,null,null,null,null,null,null,null,null,null,null,null,null,null,"Szóró- és lefúvató pisztolyok"]
["Vágók, fűrészek, szegecshúzók",null,null,"Típus","Rodcraft RC7009",null,null,null,"Rodcraft RC7010 / Rodcraft RC7045",null,null,null,"Rodcraft RC7011",null,null,null,null,"Szóró- és lefúvató pisztolyok",null,null,null,null,null,null,null,null,null,null,null,null,null,null,null,null,"Vágók, fűrészek, szegecshúzók"]
["Dugókulcsok",null,null,"Motorteljesítmény [W]","300","Magas fordulatú, fémházas egyenescsiszoló. Hátsó levegőkivezetéssel. Opcionálisan 3 és 8 mm-es patron is rendelhető mellé. Az új készülék az RC7010 és RC7011 készülékeket fogja kiváltani.",null,null,"300","Magas fordulatú, fémházas egyenescsiszoló. Hátsó levegőkivezetéssel. Opcionálisan felszerelhető DUS 24 zajcsökkentő rendszerrel. Elérhető rövid RC7010 és hosszabbított RC7045kivitelben.",null,null,"300","Magas fordulatú, kompozitházas egyenescsiszoló. Hátsó levegőkivezetéssel. Opcionálisan felszerelhető DUS 23 zajcsökkentő rendszerrel. Rendelhető hozzá 3mm-es befogó patron is.",null,null,null,"Dugókulcsok",null,null,null,null,null,null,null,null,null,null,null,null,null,null,null,null,"Dugókulcsok"]
["Csatlakozók",null,null,"Szerszámbefogó patron méret [mm]","6",null,null,null,"6 (3)",null,null,null,"6 (3)",null,null,null,null,"Csatlakozók",null,null,null,null,null,null,null,null,null,null,null,null,null,null,null,null,"Csatlakozók"]
["Abroncstöltők",null,null,"Készülék hossza [mm]","134",null,null,null,"154 / 233",null,null,null,"155",null,null,null,null,"Abroncstöltők",null,null,"Chicago Pneumatic"," CP9104Q ",null,null,null,"CP3000-600CR",null,null,null," CP876 ",null,null,null,null,"Abroncstöltők"]
["ABAC Levegős szerszámok",null,null,"Üresjárati fordulat [rpm]","30000",null,null,null,"25000",null,null,null,"26000",null,null,null,null,"ABAC Levegős szerszámok",null,null,null,"Motorteljesítmény:  40W    Befogási méret: 3 mm\nFordulatszám: 60 000RPM\nPreciziós könnyű csiszoló, csendes működés 71dBA",null,null,null,"Motorteljesítmény:  80W    Befogási méret: 3 mm\nFordulatszám: 60 000RPM\nPreciziós ipari csiszoló, csendes működés 71dBA, tartós használatra tervezve.",null,null,null,"Motorteljesítmény:   220W    Befogási méret: 6 mm\nCP875   Fordulatszám: 22 500RPM\nCP876   Fordulatszám: 30 000RPM\n",null,null,null,null,"ABAC Levegős szerszámok"]
["Garázsipari eszközök",null,null,"Tömeg [kg]","0,2",null,null,null,"0,4 / 0,55",null,null,null,"0,4",null,null,null,null,"Garázsipari eszközök",null,null,null,null,null,null,null,null,null,null,null,null,null,null,null,null,"Garázsipari eszközök"]
["AKKUMULÁTOROS GÉPEK",null,null,"Használati besorolás","2 -megnövekedett igényekhez",null,null,null,"2 -megnövekedett igényekhez",null,null,null,"2 -megnövekedett igényekhez",null,null,null,null,"AKKUMULÁTOROS GÉPEK",null,null,null,null,null,null,null,null,null,null,null,null,null,null,null,null,"AKKUMULÁTOROS GÉPEK"]
["Tömlők, tömlődobok",null,null,"Cikkszám / Típus / (Listaár) \nNettó ár",8951000274,"RC7009",{"$f":"VLOOKUP(E21,Árlista!$B:$D,3,0)","v":"TOPS* 16 540,-Ft"},null,8951075040,"RC7010 rövid",{"$f":"VLOOKUP(I21,Árlista!$B:$D,3,0)","v":{"$error":"#N/A"}},null,8951075050,"RC7011 gép",{"$f":"VLOOKUP(M21,Árlista!$B:$D,3,0)","v":{"$error":"#N/A"}},null,null,"Tömlők, tömlődobok",null,null,null,null,null,null,null,null,null,null,null,null,null,null,null,null,"Tömlők, tömlődobok"]
["Szűrők, szabályozók",null,null,null,null,null,null,null,null,null,null,null,null,null,null,null,null,"Szűrők, szabályozók",null,null,"Cikkszám / Típus / (Listaár) \nNettó ár",6151959104," CP9104Q ",{"$f":"VLOOKUP(V22,Árlista!$B:$D,3,0)","v":"STARS* 44 510,-Ft"},null,6151600330,"CP3000-600CR",{"$f":"VLOOKUP(Z22,Árlista!$B:$D,3,0)","v":"202 100,-Ft "},null,"T023995"," CP875",{"$f":"VLOOKUP(AD22,Árlista!$B:$D,3,0)","v":"STARS* 26 050,-Ft"},null,null,"Szűrők, szabályozók"]
["Balancerek",null,null,"Cikkszám / Típus / (Listaár) \nNettó ár",null,null,null,null,8951075120,"RC7045 hosszú",{"$f":"VLOOKUP(I23,Árlista!$B:$D,3,0)","v":{"$error":"#N/A"}},null,8951175000,"RC7012 készlet",{"$f":"VLOOKUP(M23,Árlista!$B:$D,3,0)","v":{"$error":"#N/A"}},null,null,"Balancerek",null,null,null,null,null,null,null,null,null,null,null,null,null,null,null,null,"Balancerek",null,null,null,null,"8951011483",{"$f":"IFERROR(VLOOKUP(AN23,Árlista!$B:$D,3,0),\"\")","v":""},null,null,null,null,8951011482,{"$f":"VLOOKUP(AT23,Árlista!$B:$D,3,0)","v":"8 970,-Ft "}]
[null,null,null,null,null,null,null,null,null,null,null,null,null,null,null,null,null,null,null,null,"Cikkszám / Típus / (Listaár) \nNettó ár",6151950104," CP9104QKit",{"$f":"VLOOKUP(V24,Árlista!$B:$D,3,0)","v":"89 600,-Ft "},null,null,null,null,null,"T023996"," CP876",{"$f":"VLOOKUP(AD24,Árlista!$B:$D,3,0)","v":"35 080,-Ft "}]
[{"$f":"Fúrók!$A25","v":"A feltüntett árak a 2020.02.01.-től "},null,null,null,null,null,null,null,null,null,null,null,null,null,null,null,null,{"$f":"Fúrók!$A25","v":"A feltüntett árak a 2020.02.01.-től "},null,null,null,null,null,null,null,null,null,null,null,null,null,null,null,null,{"$f":"Fúrók!$A25","v":"A feltüntett árak a 2020.02.01.-től "}]
[{"$f":"Fúrók!$A26","v":"érvényes listaárak."},null,null,null,null,null,null,null,null,null,null,null,null,null,null,null,null,{"$f":"Fúrók!$A26","v":"érvényes listaárak."},null,null,null,null,null,null,null,null,null,null,null,null,null,null,null,null,{"$f":"Fúrók!$A26","v":"érvényes listaárak."}]
[{"$f":"Fúrók!$A27","v":"* jelöléssel ellátott termékek a "},null,null,null,null,null,null,null,null,null,null,null,null,null,null,null,null,{"$f":"Fúrók!#REF!","v":{"$error":"#REF!"}},null,null,null,null,null,null,null,null,null,null,null,null,null,null,null,null,{"$f":"Fúrók!$A27","v":"* jelöléssel ellátott termékek a "},null,null,null,null,"8951011460",{"$f":"IFERROR(VLOOKUP(AN27,Árlista!$B:$D,3,0),\"\")","v":""}]
[{"$f":"Fúrók!$A28","v":"RC TOPS és CP STAR akciós"},null,null,null,null,null,null,null,null,null,null,null,null,null,null,null,null,{"$f":"Fúrók!$A27","v":"* jelöléssel ellátott termékek a "},null,null,null,null,null,null,null,null,null,null,null,null,null,null,null,null,{"$f":"Fúrók!$A28","v":"RC TOPS és CP STAR akciós"},null,null,null,null,null,null,null,null,null,null,8951011478,{"$f":"VLOOKUP(AT28,Árlista!$B:$D,3,0)","v":{"$error":"#N/A"}}]
[{"$f":"Fúrók!$A29","v":"kiadvány árai"},null,null,null,null,null,null,null,null,null,null,null,null,null,null,null,null,{"$f":"Fúrók!$A28","v":"RC TOPS és CP STAR akciós"},null,null,null,null,null,null,null,null,null,null,null,null,null,null,null,null,{"$f":"Fúrók!$A29","v":"kiadvány árai"}]
[{"$f":"Fúrók!$A30","v":"SP jelöléssel ellátott termékekre"},null,null,null,null,null,null,null,null,null,null,null,null,null,null,null,null,{"$f":"Fúrók!$A29","v":"kiadvány árai"},null,null,null,null,null,null,null,null,null,null,null,null,null,null,null,null,{"$f":"Fúrók!$A30","v":"SP jelöléssel ellátott termékekre"}]
[{"$f":"Fúrók!$A31","v":"speciális viszonteladói árkézés"},null,null,null,null,null,null,null,null,null,null,null,null,null,null,null,null,{"$f":"Fúrók!$A30","v":"SP jelöléssel ellátott termékekre"},null,null,null,null,null,null,null,null,null,null,null,null,null,null,null,null,{"$f":"Fúrók!$A31","v":"speciális viszonteladói árkézés"}]
[{"$f":"Fúrók!$A32","v":"vonatkozik. Az Extra árak"},null,null,null,null,null,null,null,null,null,null,null,null,null,null,null,null,{"$f":"Fúrók!$A31","v":"speciális viszonteladói árkézés"},null,null,null,null,null,null,null,null,null,null,null,null,null,null,null,null,{"$f":"Fúrók!$A32","v":"vonatkozik. Az Extra árak"}]
[{"$f":"Fúrók!$A33","v":"a készlet erejéig, illetve"},null,null,null,null,null,null,null,null,null,null,null,null,null,null,null,null,{"$f":"Fúrók!$A32","v":"vonatkozik. Az Extra árak"},null,null,null,null,null,null,null,null,null,null,null,null,null,null,null,null,{"$f":"Fúrók!$A33","v":"a készlet erejéig, illetve"},null,null,null,null,"8951011477",{"$f":"IFERROR(VLOOKUP(AN33,Árlista!$B:$D,3,0),\"\")","v":""},null,null,null,null,8951011485,{"$f":"VLOOKUP(AT33,Árlista!$B:$D,3,0)","v":"15 970,-Ft "}]
[{"$f":"Fúrók!$A34","v":"visszavonásig érvényesek."},null,null,null,null,null,null,null,null,null,null,null,null,null,null,null,null,null,null,null,null,null,null,null,null,null,null,null,null,null,null,null,null,null,{"$f":"Fúrók!$A34","v":"visszavonásig érvényesek."}]
[{"$f":"Fúrók!$A35","v":"Az árista a Techtomat Kft és"},null,null,null,null,null,null,null,null,null,null,null,null,null,null,null,null,{"$f":"Fúrók!$A35","v":"Az árista a Techtomat Kft és"},null,null,null,null,null,null,null,null,null,null,null,null,null,null,null,null,{"$f":"Fúrók!$A35","v":"Az árista a Techtomat Kft és"}]
[{"$f":"Fúrók!$A36","v":"Kapitár Kft közös gondozásában"},null,null,"Típus","Rodcraft RC7028",null,null,null,"Rodcraft RC7048",null,null,null,"Rodcraft RC7027",null,null,null,null,{"$f":"Fúrók!$A36","v":"Kapitár Kft közös gondozásában"},null,null,"Chicago Pneumatic","CP9105Q-B",null,null,null,"CP3000",null,null,null,"CP3019",null,null,null,null,{"$f":"Fúrók!$A36","v":"Kapitár Kft közös gondozásában"}]
[{"$f":"Fúrók!$A37","v":" jelent meg."},null,null,"Motorteljesítmény [W]","400","Új fejlesztésű, magas minőségű, precíziós motor, alacsony vibrációs- és zajszinttel. Ergonómikus kialakítás, egyszerű fordulat szabályozás, tengelyrögzítő a gyors szerszámcsere érdekében. 3 és 8 mm-es patron is rendelhető hozzá.\n\n",null,null,"400","Új fejlesztésű, magas minőségű, precíziós motor, alacsony vibrációs- és zajszinttel. Ergonómikus hosszabbított kialakítás. Az új készülékek az RC7020 és RC7027 modelleket fogják fokozatosan kiváltani.\n\n",null,null,"400","Kedvelt magas fordulatú, kompozitházas (RC7027) és fémházas (RC7020 és RC7021 készlet) egyenescsiszoló. Hátsó levegőkivezetéssel. Opcionálisan felszerelhető DUS 21 zajcsökkentő rendszerrel. Rendelhető hozzá 3mm-es befogó patron is. \n\n",null,null,null,{"$f":"Fúrók!$A37","v":" jelent meg."},null,null,null,"Motorteljesítmény:   240/350 W  Befogási méret: 6 mm\nFordulatszám: 22-28 x 1000 RPM\nKönnyű egyenescsiszoló általános felhasználásra.",null,null,null,"Motorteljesítmény:   300/400/500W   Befogás: 6,35 mm\nFordulatszám: 15-30 x 1000 RPM\nJelölés: Pl 300 W 25000RPM -->CP3000-325R\nIpari egyenescsiszoló. Karbantartási igény min. 1000 üo",null,null,null,"Motorteljesítmény:   375W   Befogás: 6 mm\nFordulatszám: 12-40 x 1000 RPM\nIpari egyenescsiszoló. Karbantartási igény min. 2000 üo",null,null,null,null,{"$f":"Fúrók!$A37","v":" jelent meg."}]
[{"$f":"Fúrók!$A38","v":"Minden jog fenntartva."},null,null,"Szerszámbefogó patron méret [mm]","6",null,null,null,"6",null,null,null,"6 (3)",null,null,null,null,{"$f":"Fúrók!$A38","v":"Minden jog fenntartva."},null,null,null,null,null,null,null,null,null,null,null,null,null,null,null,null,{"$f":"Fúrók!$A38","v":"Minden jog fenntartva."}]
[null,null,null,"Készülék hossza [mm]","191",null,null,null,"250",null,null,null,"175",null,null,null,null,null,null,null,null,null,null,null,null,null,null,null,null,null,null,null,null,null,null,null,null,null,null,"C139289",{"$f":"VLOOKUP(AN39,Árlista!$B:$D,3,0)","v":"5 810,-Ft "}]
[{"$f":"Fúrók!$A40","v":"Bővebb információ:"},null,null,"Üresjárati fordulat [rpm]","27000",null,null,null,"27000",null,null,null,"20000",null,null,null,null,{"$f":"Fúrók!$A40","v":"Bővebb információ:"},null,null,null,null,null,null,null,null,null,null,null,null,null,null,null,null,{"$f":"Fúrók!$A40","v":"Bővebb információ:"}]
[{"$f":"Fúrók!$A41","v":"Szabó Attila"},null,null,"Tömeg [kg]","0,72",null,null,null,"0,8",null,null,null,"0,6",null,null,null,null,{"$f":"Fúrók!$A41","v":"Szabó Attila"},null,null,"Cikkszám / Típus / (Listaár) \nNettó ár",6151952105,"9105Q-B -240W\nEgyenes, rövid",{"$f":"VLOOKUP(V41,Árlista!$B:$D,3,0)","v":"STARS* 27 200,-Ft"},null,6151600150,"CP3000 -325R\n300W 25000RPM",{"$f":"VLOOKUP(Z41,Árlista!$B:$D,3,0)","v":"133 600,-Ft "},null,6151600340,"CP3019 -20 CNOMO Rövid, e.",{"$f":"VLOOKUP(AD41,Árlista!$B:$D,3,0)","v":"315 100,-Ft "},null,null,{"$f":"Fúrók!$A41","v":"Szabó Attila"}]
[{"$f":"Fúrók!$A42","v":"30/201-4931 vagy 30/626-8687"},null,null,"Használati besorolás","3 -igen magas színvonalú",null,null,null,"3 -igen magas színvonalú",null,null,null,"3 -igen magas színvonalú",null,null,null,null,{"$f":"Fúrók!$A42","v":"30/201-4931 vagy 30/626-8687"},null,null,null,null,null,null,null,null,null,null,null,null,null,null,null,null,{"$f":"Fúrók!$A42","v":"30/201-4931 vagy 30/626-8687"}]
[{"$f":"Fúrók!$A43","v":"e-mail"},null,null,"Cikkszám / Típus / (Listaár) \nNettó ár",8951000275,"RC7028",{"$f":"VLOOKUP(E43,Árlista!$B:$D,3,0)","v":"TOPS* 50 430,-Ft"},null,8951000276,"RC7048",{"$f":"VLOOKUP(I43,Árlista!$B:$D,3,0)","v":"TOPS* 55 700,-Ft"},null,8951075330,"RC7027 kompozit",{"$f":"VLOOKUP(M43,Árlista!$B:$D,3,0)","v":{"$error":"#N/A"}},null,null,null,null,null,"Cikkszám / Típus / (Listaár) \nNettó ár",6151952106,"9106Q-B -240W\n90°",{"$f":"VLOOKUP(V43,Árlista!$B:$D,3,0)","v":"STARS* 36 110,-Ft"},null,6151600160,"CP3000 -330R\n300W 30000RPM",{"$f":"VLOOKUP(Z43,Árlista!$B:$D,3,0)","v":"133 600,-Ft "},null,6151600360,"CP3019 -31 CNOMO Rövid, e.",{"$f":"VLOOKUP(AD43,Árlista!$B:$D,3,0)","v":"315 100,-Ft "},null,null,{"$f":"Fúrók!$A43","v":"e-mail"}]
[{"$f":"Fúrók!$A44","v":"Tóth Tamás"},null,null,null,null,null,null,null,null,null,null,null,null,null,null,null,null,{"$f":"Fúrók!$A44","v":"Tóth Tamás"},null,null,null,null,null,null,null,null,null,null,null,null,null,null,null,null,{"$f":"Fúrók!$A44","v":"Tóth Tamás"}]
[{"$f":"Fúrók!$A45","v":"30/603-1596"},null,null,"Cikkszám / Típus / (Listaár) \nNettó ár",null,null,null,null,null,null,null,null,8951075080,"RC7020 fémház",{"$f":"VLOOKUP(M45,Árlista!$B:$D,3,0)","v":{"$error":"#N/A"}},null,null,{"$f":"Fúrók!$A45","v":"30/603-1596"},null,null,"Cikkszám / Típus / (Listaár) \nNettó ár",6151952108,"9108Q-B -240W\n120°",{"$f":"VLOOKUP(V45,Árlista!$B:$D,3,0)","v":"STARS* 36 110,-Ft"},null,6151600200,"CP3000 -418R\n400W 18000RPM",{"$f":"VLOOKUP(Z45,Árlista!$B:$D,3,0)","v":"161 200,-Ft "},null,6151602220,"CP3019 -25ES CNOM Hosszú, e.",{"$f":"VLOOKUP(AD45,Árlista!$B:$D,3,0)","v":"377 000,-Ft "},null,null,{"$f":"Fúrók!$A45","v":"30/603-1596"}]
[]
[null,null,null,null,null,null,null,null,null,null,null,null,null,null,null,null,null,null,null,null,"Cikkszám / Típus / (Listaár) \nNettó ár",6151952110,"9110Q-B -240W\nEgyenes, hosszú",{"$f":"VLOOKUP(V47,Árlista!$B:$D,3,0)","v":"53 800,-Ft "},null,6151600220,"CP3000 -424R\n400W 24000RPM",{"$f":"VLOOKUP(Z47,Árlista!$B:$D,3,0)","v":"161 200,-Ft "},null,6151602240,"CP3019 -40ES CNOM Hosszú, e.",{"$f":"VLOOKUP(AD47,Árlista!$B:$D,3,0)","v":"375 000,-Ft "}]
[null,null,null,null,null,null,null,null,null,null,null,null,null,null,null,null,null,null,null,null,null,null,null,null,null,null,null,null,null,null,null,null,null,null,null,null,null,null,null,null,null,null,null,null,null,8951011633,{"$f":"VLOOKUP(AT48,Árlista!$B:$D,3,0)","v":"6 160,-Ft "}]
[null,null,null,null,null,null,null,null,null,null,null,null,null,null,null,null,null,null,null,null,"Cikkszám / Típus / (Listaár) \nNettó ár",6151952111,"9111Q-B -350W\nEgyenes, rövid",{"$f":"VLOOKUP(V49,Árlista!$B:$D,3,0)","v":"75 700,-Ft "},null,6151600270,"CP3000 -515R",{"$f":"VLOOKUP(Z49,Árlista!$B:$D,3,0)","v":"188 900,-Ft "},null,6151604230,"CP3019 -12AC CNOM 90°",{"$f":"VLOOKUP(AD49,Árlista!$B:$D,3,0)","v":"431 000,-Ft "}]
[]
[null,null,null,null,null,null,null,null,null,null,null,null,null,null,null,null,null,null,null,null,"Cikkszám / Típus / (Listaár) \nNettó ár",6151950211,"9111Q-B Kit 350W\nKIT",{"$f":"VLOOKUP(V51,Árlista!$B:$D,3,0)","v":"STARS* 40 320,-Ft"},null,6151600290,"CP3000 -520R",{"$f":"VLOOKUP(Z51,Árlista!$B:$D,3,0)","v":"188 900,-Ft "},null,6151604240,"CP3019 -20AC CNOM  90°",{"$f":"VLOOKUP(AD51,Árlista!$B:$D,3,0)","v":"418 000,-Ft "}]
[]
[null,null,null,null,null,null,null,null,null,null,null,null,null,null,null,null,null,null,null,null,null,null,null,null,null,"*Továbbí típusok www.cp.com illetve az árlistában!",null,null,null,null,null,null,null,null,null,null,null,null,null,null,null,null,null,null,null,8951011635,{"$f":"VLOOKUP(AT53,Árlista!$B:$D,3,0)","v":"6 160,-Ft "}]
[]
[]
[null,null,null,null,null,null,null,null,null,null,null,null,null,null,null,null,null,null,null,null,null,null,null,null,null,null,null,null,null,null,null,null,null,null,null,null,null,null,null,"8951011573",{"$f":"IFERROR(VLOOKUP(AN56,Árlista!$B:$D,3,0),\"\")","v":""}]
[]
[null,null,null,"Típus","Rodcraft RC7058",null,null,null,"Rodcraft RC7038 / 7088",null,null,null,"Rodcraft RC7068",null,null,null,null,null,null,null,null,null,null,null,null,null,null,null,null,null,null,null,null,null,null,null,null,null,null,null,null,null,null,null,null,8951011634,{"$f":"VLOOKUP(AT58,Árlista!$B:$D,3,0)","v":"6 160,-Ft "}]
[null,null,null,"Motorteljesítmény [W]","700","Magas fordulatú, kompozitházas egyenescsiszoló, hátsó levegőkivezetéssel.  Rendelhető hozzá 3 és 8mm-es befogó patron is. Az új készülék az RC7025 modelt fogja fokozatosan kiváltami!\n\n",null,null,"400","Lassú fordulatú, erős, nyomatékos egyenescsiszoló fordulat állítási lehetőséggel. Kompozit ház, alacsony zajszint és vibráció.   Az RC7038 radírozó 3/8“-24 KM 5/16“ BM csatlakozással. RC7088 11 hatlap csatlakozással, erősített első csapágyazással.",null,null,"400","Lassú fordulatú, erős, nyomatékos egyenescsiszoló fordulat állítási lehetőséggel. Kompozit ház, alacsony zajszint és vibráció.  ",null,null,null,null,null,null,null,null,null,null,null,null,null,null,null,null,null,null,null,null,null,null,null,null,null,"8951011574",{"$f":"IFERROR(VLOOKUP(AN59,Árlista!$B:$D,3,0),\"\")","v":""}]
[null,null,null,"Szerszámbefogó patron méret [mm]","6 / 8",null,null,null,null,null,null,null,"6"]
[null,null,null,"Készülék hossza [mm]","199",null,null,null,"184 / 340",null,null,null,"218"]
[null,null,null,"Üresjárati fordulat [rpm]","23500",null,null,null,"22000 / 2800",null,null,null,"2800",null,null,null,null,null,null,null,"Chicago Pneumatic","CP9113G",null,null,null,"CP3451 -18",null,null,null,"CP3249"]
[null,null,null,"Tömeg [kg]","0,82",null,null,null,"1 / 1,2",null,null,null,"0,95",null,null,null,null,null,null,null,null,"Motorteljesítmény:   750 W  Befogási méret: 6,35 mm\nFordulatszám: 25 000 RPM\nRobosztus, erős acélházas csiszoló ipari felhasználásra.",null,null,null,"Motorteljesítmény:   750 W  Befogási méret: 6,35 mm\nFordulatszám: 18 000 RPM\nKönnyű, alu- és kompozitházas csiszoló ipari felhasználásra. Karbantartási igénye min 1000 üo.",null,null,null,"Motorteljesítmény: 2400 W  Tárcsaméret: 200x25x15,9\nFordulatszám: 4 500 RPM\nMotorteljesítmény: 2700 W  Tárcsaméret: 150x25x15,9\nFordulatszám: 6 000 RPM"]
[null,null,null,"Használati besorolás","3 -igen magas színvonalú",null,null,null,"3 -igen magas színvonalú",null,null,null,"2 -megnövekedett igényekhez"]
[null,null,null,"Cikkszám / Típus / (Listaár) \nNettó ár",8951000278,"RC7058",{"$f":"VLOOKUP(E65,Árlista!$B:$D,3,0)","v":"TOPS* 61 400,-Ft"},null,8951000328,"RC7038",{"$f":"VLOOKUP(I65,Árlista!$B:$D,3,0)","v":"TOPS* 44 440,-Ft"},null,8951000329,"RC7068",{"$f":"VLOOKUP(M65,Árlista!$B:$D,3,0)","v":"TOPS* 43 330,-Ft"}]
[]
[null,null,null,"Cikkszám / Típus / (Listaár) \nNettó ár",null,null,null,null,8951000330,"RC7088",{"$f":"VLOOKUP(I67,Árlista!$B:$D,3,0)","v":"TOPS* 45 550,-Ft"},null,null,null,null,null,null,null,null,null,"Cikkszám / Típus / (Listaár) \nNettó ár",6151600010,"CP9113G",{"$f":"VLOOKUP(V67,Árlista!$B:$D,3,0)","v":"116 300,-Ft "},null,6151602010,"CP3451 -18SEC",{"$f":"VLOOKUP(Z67,Árlista!$B:$D,3,0)","v":"247 500,-Ft "},null,6151606190,"GABSUDE",{"$f":"VLOOKUP(AD67,Árlista!$B:$D,3,0)","v":"C #: 1 136 000,-Ft"}]
[]
[null,null,null,null,null,null,null,null,null,null,null,null,null,null,null,null,null,null,null,null,"Cikkszám / Típus / (Listaár) \nNettó ár",6151602070,"CP9113GES",{"$f":"VLOOKUP(V69,Árlista!$B:$D,3,0)","v":"129 900,-Ft "},null,6151602030,"CP3451 -18SE3",{"$f":"VLOOKUP(Z69,Árlista!$B:$D,3,0)","v":"247 500,-Ft "},null,6151606180,"GABSYGE",{"$f":"VLOOKUP(AD69,Árlista!$B:$D,3,0)","v":"C #: 1 020 000,-Ft"}]
[]
[]
[]
[]
[]
[null,null,null,"7035D",null,null,null,null,null,null,null,null,null,null,null,null,null,null,null,null,null,null,null,null,null,null,null,null,null,null,null,null,null,null,null,null,null,null,null,"89510011629",{"$f":"IFERROR(VLOOKUP(AN75,Árlista!$B:$D,3,0),\"\")","v":""}]
[null,null,null,null,null,null,null,null,null,null,null,null,null,null,null,null,null,null,null,null,null,null,null,null,null,null,null,null,null,null,"12EL","Hossz: 603mm"]
[null,null,null,null,null,null,null,null,null,null,null,null,null,null,null,null,null,null,null,null,null,null,null,null,null,null,null,null,null,null,"12EXL","Hossz: 853mm"]
[]
[null,null,null,null,null,null,null,null,null,null,null,null,null,null,null,null,null,null,null,null,null,null,null,null,null,null,null,null,null,null,null,null,null,null,null,null,null,null,null,"8951011631",{"$f":"IFERROR(VLOOKUP(AN79,Árlista!$B:$D,3,0),\"\")","v":""}]
[]
[null,null,null,"7035LST",null,null,"7035A",null,null,null,null,null,null,null,null,null,null,null,null,null,null,null,null,null,null,null,null,null,null,null,null,null,null,null,null,null,null,null,null,null,null,null,null,null,null,8951011557,{"$f":"VLOOKUP(AT81,Árlista!$B:$D,3,0)","v":"6 720,-Ft "}]
[null,null,null,null,null,null,null,null,null,null,null,null,null,null,null,null,null,null,null,null,null,null,null,null,null,null,null,null,null,"CP3119-12ES4"]
[null,null,null,"Típus","Rodcraft RC7035",null,null,null,"RC7040/ RC7075RE / RC7077RE / 7078RE",null,null,null,"Rodcraft RC7037 / Rodcraft RC7079RE",null,null,null,null,null,null,null,"Chicago Pneumatic","CP3109",null,null,null,"CP3119",null,null,null,"CP3119",null,null,null,null,null,null,null,null,null,"895500005",{"$f":"IFERROR(VLOOKUP(AN83,Árlista!$B:$D,3,0),\"\")","v":""}]
[null,null,null,"Motorteljesítmény [W]","400","Lasú fordulatú radírozó. Hatékony eszköz a festett felületek javítására, matricák, ragasztók eltávolítására. Hátsó levegőelvezetéssel. Opcionálisan felszerelhető DUS 21 zajcsökkentő rendszerrel.",null,null,"400","Könnyen kezelhető, lassú járású, fogaskerék áttételű egyenes csiszoló különböző feladatokhoz. Az RE jelölésű típusok zajcsökkentővel szereltek.\nRC7040 - 6 mm-es befogópatronnal\nRC7075RE - 11 mm-es hatlapú befogással\nRC7077RE - 10 mm-es gyorstokmánnyal\nRC 7078RE - 11 mm-es hatlapú befogással erősített frontcsapágyazással\n",null,null,"400","Könnyen kezelhető, lassú járású, fogaskerék áttételű kompozitházas egyenes csiszoló különböző feladatokhoz. Az RE jelölésű típusok zajcsökkentővel szereltek.\nRC7037 - 5/16\" belső menet radírozó tárcsához\nRC 7078RE - 11 mm-es hatlapú befogással erősített frontcsapágyazással\n",null,null,null,null,null,null,null,"Motorteljesítmény:   600 W  Befogási méret: 6,35 mm\nFordulatszám: 13-28 x 1000 RPM\nRobosztus, erős acélházas csiszoló ipari felhasználásra.  Karbantartási igénye min 1000 üo.",null,null,null,"Motorteljesítmény:   900 W  Befogási méret: 6 mm\nFordulatszám: 12-22 x 1000 RPM\nRobosztus, erős acélházas csiszoló ipari felhasználásra.  Karbantartási igénye min 2000 üo.",null,null,null,"Motorteljesítmény:  900 W  Befogási méret: 6,35 mm\nFordulatszám: 12 000 RPM     Ipari csiszoló és köszörü a legmagasabb ipari igénybevételre. Egyedülálló megbizhatóság és termelékenység. Karbantartási igénye min 2000 üo."]
[null,null,null,"Szerszámbefogó patron méret [mm]","5/16\" IG"]
[null,null,null,"Készülék hossza [mm]","230",null,null,null,"330",null,null,null,"222",null,null,null,null,null,null,null,null,null,null,null,null,null,null,null,null,null,null,null,null,null,null,null,null,null,null,null,null,null,null,null,null,8951011558,{"$f":"VLOOKUP(AT86,Árlista!$B:$D,3,0)","v":"10 090,-Ft "}]
[null,null,null,"Üresjárati fordulat [rpm]","2600",null,null,null,"3400",null,null,null,"18000",null,null,null,null,null,null,null,null,null,null,null,null,null,null,null,null,null,null,null,null,null,null,null,null,null,null,"8955000004",{"$f":"IFERROR(VLOOKUP(AN87,Árlista!$B:$D,3,0),\"\")","v":""}]
[null,null,null,"Tömeg [kg]","0,9",null,null,null,"0,8",null,null,null,"1",null,null,null,null,null,null,null,"Cikkszám / Típus / (Listaár) \nNettó ár",6151604060,"13AC",{"$f":"VLOOKUP(V88,Árlista!$B:$D,3,0)","v":"479 000,-Ft "},null,6151600380,"12 CNOMO",{"$f":"VLOOKUP(Z88,Árlista!$B:$D,3,0)","v":"C #: 508 000,-Ft"},null,6151602150,"12EL",{"$f":"VLOOKUP(AD88,Árlista!$B:$D,3,0)","v":"C #: 958 000,-Ft"}]
[null,null,null,"Javasolt tömlőméret ø [mm]",8,null,null,null,"8",null,null,null,"10"]
[null,null,null,"Max. nyomás [bar] ","6,3",null,null,null,"6,3",null,null,null,"6,3",null,null,null,null,null,null,null,"Cikkszám / Típus / (Listaár) \nNettó ár",6151600020,"CP3109-19",{"$f":"VLOOKUP(V90,Árlista!$B:$D,3,0)","v":"404 000,-Ft "},null,6151600400,"18 CNOMO",{"$f":"VLOOKUP(Z90,Árlista!$B:$D,3,0)","v":"C #: 508 000,-Ft"},null,6151602160,"12EXL",{"$f":"VLOOKUP(AD90,Árlista!$B:$D,3,0)","v":"C #: 1 036 000,-Ft"}]
[null,null,null,"Átlagos levegőfogyasztás [l/min]  ","420",null,null,null,"410",null,null,null,"410"]
[null,null,null,"Folyamatos levegőfogyasztás [l/min]","500",null,null,null,"520",null,null,null,"520",null,null,null,null,null,null,null,"Cikkszám / Típus / (Listaár) \nNettó ár",6151600040,"CP3109-28",{"$f":"VLOOKUP(V92,Árlista!$B:$D,3,0)","v":"404 000,-Ft "},null,6151602250,"12ES CNOM",{"$f":"VLOOKUP(Z92,Árlista!$B:$D,3,0)","v":"C #: 573 000,-Ft"},null,6151606020,"12ES4",{"$f":"VLOOKUP(AD92,Árlista!$B:$D,3,0)","v":"C #: 536 000,-Ft"}]
[null,null,null,"Használati besorolás","2 -megnövekedett igényekhez",null,null,null,"2 -megnövekedett igényekhez",null,null,null,"3 -igen magas színvonalú"]
[null,null,null,"Cikkszám / Típus / (Listaár) \nNettó ár",8951075100,"RC7035",{"$f":"VLOOKUP(E94,Árlista!$B:$D,3,0)","v":",-Ft "},null,8951075110,"RC7040  6 mm patron",{"$f":"VLOOKUP(I94,Árlista!$B:$D,3,0)","v":{"$error":"#N/A"}},null,8951075340,"RC7037",{"$f":"VLOOKUP(M94,Árlista!$B:$D,3,0)","v":",-Ft "},null,null,null,null,null,"Cikkszám / Típus / (Listaár) \nNettó ár",6151602080,"19ES",{"$f":"VLOOKUP(V94,Árlista!$B:$D,3,0)","v":"462 000,-Ft "},null,6151602260,"15ES CNOM",{"$f":"VLOOKUP(Z94,Árlista!$B:$D,3,0)","v":"C #: 576 000,-Ft"},null,6151606040,"15ES2",{"$f":"VLOOKUP(AD94,Árlista!$B:$D,3,0)","v":"C #: 536 000,-Ft"}]
[null,null,null,null,null,null,null,null,null,null,null,null,null,null,null,null,null,null,null,null,null,null,null,null,null,null,null,null,null,null,null,null,null,null,null,null,null,null,null,null,null,null,null,null,null,8951012291,{"$f":"VLOOKUP(AT95,Árlista!$B:$D,3,0)","v":{"$error":"#N/A"}}]
[null,null,null,"Cikkszám / Típus / (Listaár) \nNettó ár",8951011677,"RC7035D radír tárcsa",{"$f":"VLOOKUP(E96,Árlista!$B:$D,3,0)","v":"TOPS* 2 850,-Ft"},null,8951075290,"RC7075RE  11 mm hatlap",{"$f":"VLOOKUP(I96,Árlista!$B:$D,3,0)","v":",-Ft "},null,8951074009,"RC7079RE",{"$f":"VLOOKUP(M96,Árlista!$B:$D,3,0)","v":{"$error":"#N/A"}},null,null,null,null,null,"Cikkszám / Típus / (Listaár) \nNettó ár",6151602090,"24ES",{"$f":"VLOOKUP(V96,Árlista!$B:$D,3,0)","v":"462 000,-Ft "},null,6151602270,"18AC CNOM",{"$f":"VLOOKUP(Z96,Árlista!$B:$D,3,0)","v":"C #: 573 000,-Ft"},null,6151606050,"15ES3",{"$f":"VLOOKUP(AD96,Árlista!$B:$D,3,0)","v":"C #: 536 000,-Ft"}]
[]
[null,null,null,"Cikkszám / Típus / (Listaár) \nNettó ár",8951012289,"RC7035LST",{"$f":"VLOOKUP(E98,Árlista!$B:$D,3,0)","v":",-Ft "},null,8951075310,"RC7077RE 10 mm gyorstokmány",{"$f":"VLOOKUP(I98,Árlista!$B:$D,3,0)","v":",-Ft "},null,null,null,null,null,null,null,null,null,"Cikkszám / Típus / (Listaár) \nNettó ár",6151602100,"28ES",{"$f":"VLOOKUP(V98,Árlista!$B:$D,3,0)","v":"462 000,-Ft "},null,6151602280,"22AC CNOM",{"$f":"VLOOKUP(Z98,Árlista!$B:$D,3,0)","v":"C #: 573 000,-Ft"},null,6151606060,"18ES3",{"$f":"VLOOKUP(AD98,Árlista!$B:$D,3,0)","v":"C #: 536 000,-Ft"}]
[]
[null,null,null,"Cikkszám / Típus / (Listaár) \nNettó ár",8951011678,"RC7035A adapter",{"$f":"VLOOKUP(E100,Árlista!$B:$D,3,0)","v":"TOPS* 2 280,-Ft"},null,8951075320,"RC7078RE 11 mm hatlap, erősített",{"$f":"VLOOKUP(I100,Árlista!$B:$D,3,0)","v":{"$error":"#N/A"}},null,null,null,null,null,null,null,null,null,null,null,null,null,null,null,null,null,null,null,null,null,null,null,null,null,null,null,null,"8951011677",{"$f":"IFERROR(VLOOKUP(AN100,Árlista!$B:$D,3,0),\"\")","v":""}]
[]
[]
[]
[]
[]
[]
[]
[null,null,null,null,null,null,null,null,null,null,null,null,null,null,null,null,null,null,null,null,null,null,null,null,null,null,null,null,null,null,null,null,null,null,null,null,null,null,null,"8951012289",{"$f":"IFERROR(VLOOKUP(AN108,Árlista!$B:$D,3,0),\"\")","v":""},null,null,null,null,8951011678,{"$f":"VLOOKUP(AT108,Árlista!$B:$D,3,0)","v":"TOPS* 2 280,-Ft"}]
[]
[]
[null,null,null,null,null,null,null,null,null,null,null,null,null,null,null,null,null,null,null,null,"Típus","Chicago Pneumatic CP873",null,null,null,"Chicago Pneumatic CP872"]
[null,null,null,null,null,null,null,null,null,null,null,null,null,null,null,null,null,null,null,null,"Motorteljesítmény [W]","370","Kedvelt megbízható gumicsiszoló gumisműhelyek részére.\n\n",null,null,"300","Magas fordulatú, fémházas egyenescsiszoló. Hátsó levegőkivezetéssel."]
[null,null,null,"Típus","Rodcraft RC7051RE",null,null,null,"Rodcraft RC7190",null,null,null,null,null,null,null,null,null,null,null,"Szerszámbefogó patron méret [mm]","HEX11",null,null,null,"6"]
[null,null,null,"Motorteljesítmény [W]","150","Szuper magas fordulatú, tollméretű gravírozó. Ideális gravírozáshoz, tuningoláshoz. Szűk helyekre is befér. Zajcsökkentővel. Fordulata szabályozható a készülék végén lévő gyűrűvel. ",null,null,"350","Mini vágó gép 75mm-es vágótárcsával.\nFordulatszá 20.000 /min\nHozzávaló vágótárcsa: TR70 (Ft/db)",null,null,null,null,null,null,null,null,null,null,"Készülék hossza [mm]","175"]
[null,null,null,"Szerszámbefogó patron méret [mm]","3",null,null,null,null,null,null,null,null,null,null,null,null,null,null,null,"Üresjárati fordulat [rpm]","2800",null,null,null,"22000"]
[null,null,null,"Készülék hossza [mm]","134",null,null,null,"195",null,null,null,null,null,null,null,null,null,null,null,"Tömeg [kg]","1,02",null,null,null,"0,57"]
[null,null,null,"Üresjárati fordulat [rpm]","55000",null,null,null,"20000",null,null,null,null,null,null,null,null,null,null,null,"Használati besorolás","3 -igen magas színvonalú",null,null,null,"3 -igen magas színvonalú"]
[null,null,null,"Tömeg [kg]","0,2",null,null,null,"0,8",null,null,null,null,null,null,null,null,null,null,null,"Cikkszám / Típus / (Listaár) \nNettó ár","T025374","CP873",{"$f":"VLOOKUP(V118,Árlista!$B:$D,3,0)","v":"STARS* 26 230,-Ft"},null,"T025373","CP872",{"$f":"VLOOKUP(Z118,Árlista!$B:$D,3,0)","v":"STARS* 19 960,-Ft"}]
[null,null,null,"Használati besorolás","2 -megnövekedett igényekhez",null,null,null,"2 -megnövekedett igényekhez"]
[null,null,null,"Cikkszám / Típus / (Listaár) \nNettó ár",8951000165,"RC7051",{"$f":"VLOOKUP(E120,Árlista!$B:$D,3,0)","v":"TOPS* 52 400,-Ft"},null,8951075101,"RC7190",{"$f":"VLOOKUP(I120,Árlista!$B:$D,3,0)","v":"TOPS* 21 670,-Ft"},null,null,null,null,null,null,null,null,null,"Cikkszám / Típus / (Listaár) \nNettó ár",null,null,null,null,8951075120,"RC7045"]
[]
[null,null,null,"Cikkszám / Típus / (Listaár) \nNettó ár",null,null,null,null,8951011536,"TR70 vágótárcsa",{"$f":"VLOOKUP(I122,Árlista!$B:$D,3,0)","v":"560,-Ft "}]

{"sheet":"Szalag- és excentercsiszolók","index":9,"n_rows":166,"n_cols":49,"rows_kept":166,"cut":false,"hidden":false,"merged":[[121,13,122,13],[104,12,104,15],[121,9,122,9],[121,15,122,15],[121,10,122,10],[121,11,122,11],[105,5,117,7],[118,4,118,7],[105,8,111,11],[112,8,117,11],[105,12,111,15],[112,12,117,15],[118,8,118,11],[118,12,118,15],[119,8,120,8],[119,9,120,9],[119,10,120,10],[119,11,120,11],[119,12,120,12],[119,13,120,13],[119,14,120,14],[119,15,120,15],[121,14,122,14],[119,7,120,7],[121,12,122,12],[29,14,30,14],[29,15,30,15],[74,4,74,7],[74,8,74,11],[74,12,74,15],[75,5,87,7],[75,9,87,11],[75,13,87,15],[88,4,88,7],[88,8,88,11],[88,12,88,15],[55,4,55,7],[55,8,55,11],[56,7,57,7],[56,9,57,9],[56,10,57,10],[56,11,57,11],[56,12,57,12],[58,9,59,9],[58,10,59,10],[58,11,59,11],[121,7,122,7],[121,8,122,8],[38,20,41,20],[38,21,41,24],[38,25,41,28],[38,29,41,32],[17,20,20,20],[17,21,20,24],[17,25,20,28],[17,29,20,32],[14,4,14,7],[14,8,14,11],[14,12,14,15],[15,5,27,7],[15,9,27,11],[15,13,27,15],[28,4,28,7],[28,8,28,11],[28,12,28,15],[41,12,41,15],[29,8,30,8],[29,9,30,9],[29,10,30,10],[29,11,30,11],[29,12,30,12],[29,13,30,13],[162,29,162,32],[161,20,164,20],[161,21,164,24],[161,25,164,28],[147,20,150,20],[147,21,150,24],[147,25,150,28],[147,29,150,32],[131,20,134,20],[131,21,134,24],[131,25,134,28],[131,29,134,32],[98,20,101,20],[98,21,101,24],[98,25,101,28],[98,29,101,32],[115,25,118,28],[115,29,118,32],[115,20,118,20],[115,21,118,24],[104,4,104,7],[29,3,30,3],[29,4,30,4],[29,5,30,5],[29,6,30,6],[29,7,30,7],[41,4,41,7],[41,8,41,11],[42,5,54,7],[42,9,54,11],[56,3,57,3],[56,4,57,4],[56,5,57,5],[56,6,57,6],[56,8,57,8],[58,3,59,3],[58,4,59,4],[58,5,59,5],[58,6,59,6],[58,7,59,7],[58,8,59,8],[60,9,61,9],[60,10,61,10],[60,11,61,11],[60,12,61,12],[60,13,61,13],[60,3,61,3],[60,4,61,4],[60,5,61,5],[60,6,61,6],[60,8,61,8],[60,7,61,7],[89,3,90,3],[89,4,90,4],[89,5,90,5],[89,6,90,6],[89,7,90,7],[104,8,104,11],[89,8,90,8],[89,9,90,9],[89,10,90,10],[89,11,90,11],[125,3,126,3],[127,3,128,3],[119,4,120,4],[119,5,120,5],[119,6,120,6],[121,4,122,4],[121,5,122,5],[121,6,122,6],[125,4,126,4],[125,5,126,5],[125,6,126,6],[119,3,120,3],[121,3,122,3],[123,3,124,3],[123,4,124,4],[123,5,124,5],[123,6,124,6],[127,4,128,4],[127,5,128,5],[127,6,128,6],[125,15,126,15],[123,7,124,7],[127,7,128,7],[123,8,124,8],[123,9,124,9],[123,10,124,10],[123,11,124,11],[123,12,124,12],[123,13,124,13],[127,14,128,14],[74,42,74,45],[74,46,74,49],[78,29,81,32],[57,20,60,20],[57,21,60,24],[57,25,60,28],[57,29,60,32],[127,15,128,15],[125,7,126,7],[125,8,126,8],[125,9,126,9],[125,10,126,10],[125,11,126,11],[125,12,126,12],[123,14,124,14],[123,15,124,15],[127,8,128,8],[127,9,128,9],[127,10,128,10],[127,11,128,11],[127,12,128,12],[127,13,128,13],[125,13,126,13],[125,14,126,14],[74,38,74,41],[78,20,81,20],[78,21,81,24],[78,25,81,28],[64,20,65,20],[64,21,65,21],[64,22,65,22],[64,23,65,23],[64,24,65,24],[45,20,46,20],[45,22,46,22],[45,24,46,24],[60,14,61,14],[60,15,61,15],[56,13,57,13],[42,13,54,15],[55,12,55,15],[89,15,90,15],[45,23,46,23],[45,21,46,21],[56,14,57,14],[56,15,57,15],[58,12,59,12],[58,13,59,13],[58,14,59,14],[58,15,59,15],[89,13,90,13],[89,14,90,14],[89,12,90,12]]}
["RODCRAFT",null,null,null,"Általános karbantartáshoz",null,null,null,null,null,"Ipari karbantartáshoz és gyártáshoz",null,null,null,null,null,null,"CHICAGO PNEUMATIC",null,null,"Általános karbantartáshoz",null,null,"Ipari karbantartáshoz és gyártáshoz",null,null,null,null,"Ipari körülményekhez -sorozatgyártás",null,null,null,null,null,"RODCRAFT"]
["Árlista",null,null,null,null,null,null,null,null,null,null,null,null,null,null,null,null,"Árlista",null,null,null,null,null,null,null,null,null,null,null,null,null,null,null,null,"Árlista"]
["Megrendelő",null,null,null,null,null,null,null,null,null,null,null,null,null,null,null,null,"Megrendelő",null,null,null,null,null,null,null,null,null,null,null,null,null,null,null,null,"Megrendelő"]
["Fúrók",null,null,null,null,null,null,null,null,null,null,null,null,null,null,null,null,"Fúrók",null,null,null,null,null,null,null,null,null,null,null,null,null,null,null,null,"Fúrók"]
["Racsnis kulcsok",null,null,null,null,null,null,null,null,null,null,null,null,null,null,null,null,"Racsnis kulcsok",null,null,null,null,null,null,null,null,null,null,null,null,null,null,null,null,"Racsnis kulcsok"]
["Csavarbehajtók",null,null,null,null,null,null,null,null,null,null,null,null,null,null,null,null,"Csavarbehajtók",null,null,null,null,null,null,null,null,null,null,null,null,null,null,null,null,"Csavarbehajtók"]
["Sarokcsiszolók",null,null,null,null,null,null,null,null,null,null,null,null,null,null,null,null,"Sarokcsiszolók",null,null,null,null,null,null,null,null,null,null,null,null,null,null,null,null,"Sarokcsiszolók"]
["Légkulcsok",null,null,null,null,null,null,null,null,null,null,null,null,null,null,null,null,"Légkulcsok",null,null,null,null,null,null,null,null,null,null,null,null,null,null,null,null,"Légkulcsok"]
["Egyenes csiszolók",null,null,null,null,null,null,null,null,null,null,null,null,null,null,null,null,"Egyenes csiszolók",null,null,null,null,null,null,null,null,null,null,null,null,null,null,null,null,"Egyenes csiszolók"]
["Szalag és excenter csiszolók",null,null,null,null,null,null,null,null,null,null,null,null,null,null,null,null,"Szalag és excenter csiszolók",null,null,null,null,null,null,null,null,null,"Jelölések:","NV","Elszívás nélküli",null,null,null,null,"Szalag és excenter csiszolók"]
["Polír- és fiber csiszolók",null,null,null,null,null,null,null,null,null,null,null,null,null,null,null,null,"Polír- és fiber csiszolók",null,null,null,null,null,null,null,null,null,null,"CV","Központi elszívás lehetőségével",null,null,null,null,"Polír- és fiber csiszolók"]
["Vésők, leverők …",null,null,null,null,null,null,null,null,null,null,null,null,null,null,null,null,"Vésők, leverők …",null,null,null,null,null,null,null,null,null,null,"SV","Saját elszívás",null,null,null,null,"Vésők, leverők …"]
["Szóró- és lefúvató pisztolyok",null,null," ",null,null,null,null,null,null,null,null,null,null,null,null,null,"Vágók, fűrészek, szegecshúzók",null,null,null,null,null,null,null,null,null,null,"H&L","Hook and Loop rendszerű tépőzár",null,null,null,null,"Szóró- és lefúvató pisztolyok"]
["Vágók, fűrészek, szegecshúzók",null,null,null,null,null,null,null,null,null,null,null,null,null,null,null,null,"Szóró- és lefúvató pisztolyok",null,null,null,null,null,null,null,null,null,null,"PSA","Pressure Sensitive Adhesive rögzítés",null,null,null,null,"Vágók, fűrészek, szegecshúzók"]
["Dugókulcsok",null,null,"Típus","Rodcraft RC7682K",null,null,null,"Rodcraft RC7661V",null,null,null,"Rodcraft RC7200V",null,null,null,null,"Dugókulcsok",null,null,null,null,null,null,null,null,null,null,null,null,null,null,null,null,"Dugókulcsok"]
["Csatlakozók",null,null,"Motorteljesítmény [W]","150","Javító csiszoló SET. Ideális kis felületek javítására. Könnyű kompozitházas, kézreálló kialakítás az egykezes munkavégzés érdekében. A doboz tartalma: \n1-1 db 50 és 75 mm-es tépőzáras pad\n10-10 db 600-as finomcsiszoló\n10-10 db 320-as csiszoló\n10-10 db 180-as csiszoló korong.",null,null,null,"Kicsi, kézreálló excentercsiszoló, kiváló tömítettséggel és kiegyensúlyozással kis javításokhoz.  Kompozitházas, gumírozott borítással a biztos tartás végett. Fordulatszám szabályozás. Kiválóan használható festési hibák, megfolyások javításához.",null,null,null,"150-es excenter csiszoló, közepes pályaméretben így alkalmas finomabb és durvább csiszolásra is. Beépített fordulatszám szabályozóval, 150 mm-es velcro paddal.",null,null,null,"Csatlakozók",null,null,null,null,null,null,null,null,null,null,null,null,null,null,null,null,"Csatlakozók"]
["Abroncstöltők",null,null,"Excentricitás [mm]","5",null,null,null,"2,5",null,null,null,"5",null,null,null,null,"Abroncstöltők",null,null,"Chicago Pneumatic"," CP870   CP9674",null,null,null,"CP7215",null,null,null," CP7215 Kétkezes csiszolók",null,null,null,null,"Abroncstöltők"]
["ABAC Levegős szerszámok",null,null,"Csiszolótalp átmérő [mm]","50 / 75",null,null,null,"75-80",null,null,null,"150",null,null,null,null,"ABAC Levegős szerszámok",null,null,null,"Motorteljesítmény:  210W    Talpméret: 150mm\nFordulatszám: 10 000 RPM   Excentricitás: 10mm\nAlacsony zaj- és vibrácójú, jól szabályozható készülék",null,null,null,"Motorteljesítmény:  210W    Talpméret: 150mm\nFordulatszám: 12 000 RPM   Excentricitás: 10 mm\nAlacsony zaj- és vibrácójú, jól szabályozható készülék",null,null,null,"Motorteljesítmény:  210W    Talpméret: 150mm\nFordulatszám: 12 000 RPM    Excentricitás: 10 mm\nAlacsony zaj- és vibrácójú, jól szabályozható készülék",null,null,null,null,"ABAC Levegős szerszámok"]
["Garázsipari eszközök",null,null,"Üresjárati fordulat [rpm]","15000",null,null,null,"10000",null,null,null,"10000",null,null,null,null,"Garázsipari eszközök",null,null,null,null,null,null,null,null,null,null,null,null,null,null,null,null,"Garázsipari eszközök"]
["AKKUMULÁTOROS GÉPEK",null,null,"Tömeg [kg]","0,53",null,null,null,"1",null,null,null,"1,95",null,null,null,null,"AKKUMULÁTOROS GÉPEK",null,null,null,null,null,null,null,null,null,null,null,null,null,null,null,null,"AKKUMULÁTOROS GÉPEK"]
["Tömlők, tömlődobok",null,null,"Javasolt tömlőméret ø [mm]","8",null,null,null,"8",null,null,null,"8",null,null,null,null,"Tömlők, tömlődobok",null,null,null,null,null,null,null,null,null,null,null,null,null,null,null,null,"Tömlők, tömlődobok",null,null,null,null,null,null,null,null,null,"Nettó ár"]
["Szűrők, szabályozók",null,null,"Max. nyomás [bar] ","6,3",null,null,null,"6,3",null,null,null,"6,3",null,null,null,null,"Szűrők, szabályozók",null,null,"Cikkszám / Típus / (Listaár) Nettó ár","T023990","NV PSA",{"$f":"VLOOKUP(V22,Árlista!$B:$D,3,0)","v":"36 750,-Ft "},null,8941072151,"NV PSA",{"$f":"VLOOKUP(Z22,Árlista!$B:$D,3,0)","v":"94 300,-Ft "},null,8941072154,"NV PSA 2H",{"$f":"VLOOKUP(AD22,Árlista!$B:$D,3,0)","v":"117 800,-Ft "},null,null,"Szűrők, szabályozók",null,null,null,null,null,null,null,8951011645]
["Balancerek",null,null,"Átlagos levegőfogyasztás [l/min]  ","380",null,null,null,"350",null,null,null,null,null,null,null,null,"Balancerek",null,null,"Cikkszám / Típus / (Listaár) Nettó ár",6151939674,"CV H&L",{"$f":"VLOOKUP(V23,Árlista!$B:$D,3,0)","v":"237 200,-Ft "},null,8941072153,"CV PSA",null,null,8941272154,"NV H&L 2H",{"$f":"VLOOKUP(AD23,Árlista!$B:$D,3,0)","v":"108 900,-Ft "},null,null,"Balancerek",null,null,null,null,null,null,null,8951011646]
[null,null,null,"Folyamatos levegőfogyasztás [l/min]","510",null,null,null,"430",null,null,null,"400",null,null,null,null,null,null,null,"Cikkszám / Típus / (Listaár) Nettó ár",null,null,null,null,8941272151,"NV H&L",{"$f":"VLOOKUP(Z24,Árlista!$B:$D,3,0)","v":"107 200,-Ft "},null,8941272155,"CV H&L 2H",{"$f":"VLOOKUP(AD24,Árlista!$B:$D,3,0)","v":"123 700,-Ft "},null,null,null,null,null,null,null,null,null,null,8951011610]
[{"$f":"Fúrók!$A25","v":"A feltüntett árak a 2020.02.01.-től "},null,null,"Levegőcsatlakozás [inch]","1/4 Zoll IG",null,null,null,"1/4 Zoll IG",null,null,null,"1/4 Zoll IG",null,null,null,null,{"$f":"Fúrók!$A25","v":"A feltüntett árak a 2020.02.01.-től "},null,null,"Cikkszám / Típus / (Listaár) Nettó ár",null,null,null,null,8941272153,"CV H&L",{"$f":"VLOOKUP(Z25,Árlista!$B:$D,3,0)","v":"103 200,-Ft "},null,null,null,null,null,null,{"$f":"Fúrók!$A25","v":"A feltüntett árak a 2020.02.01.-től "},null,null,null,null,null,null,null,8951011575]
[{"$f":"Fúrók!$A26","v":"érvényes listaárak."},null,null,"Hangnyomásszint LpA  ","79,6",null,null,null,"88",null,null,null,"92,7",null,null,null,null,{"$f":"Fúrók!$A26","v":"érvényes listaárak."},null,null,"Cikkszám / Típus / (Listaár) Nettó ár",null,null,null,null,8941072152,"SV PSA",null,null,null,null,null,null,null,{"$f":"Fúrók!$A26","v":"érvényes listaárak."},null,null,null,null,null,null,null,8951011561,null,{"$f":"VLOOKUP(AQ26,Árlista!B:D,3,0)","v":"6 440,-Ft "}]
[{"$f":"Fúrók!$A27","v":"* jelöléssel ellátott termékek a "},null,null,"Hangenergiaszint, LwA [dB(A)]",null,null,null,null,"98",null,null,null,null,null,null,null,null,{"$f":"Fúrók!#REF!","v":{"$error":"#REF!"}},null,null,"Cikkszám / Típus / (Listaár) Nettó ár",null,null,null,null,8941272152,"SV H&L",{"$f":"VLOOKUP(Z27,Árlista!$B:$D,3,0)","v":"106 900,-Ft "},null,null,null,null,null,null,{"$f":"Fúrók!$A27","v":"* jelöléssel ellátott termékek a "},null,null,null,null,null,null,null,8955000007,null,{"$f":"VLOOKUP(AQ27,Árlista!B:D,3,0)","v":"3 080,-Ft "},"RC7182/83"]
[{"$f":"Fúrók!$A28","v":"RC TOPS és CP STAR akciós"},null,null,"Vibráció [m/s2]  ","<8,9 m/s²",null,null,null,"7,2",null,null,null,"2,5",null,null,null,null,{"$f":"Fúrók!$A27","v":"* jelöléssel ellátott termékek a "},null,null,null,null,null,null,null,null,null,null,null,null,null,null,null,null,{"$f":"Fúrók!$A28","v":"RC TOPS és CP STAR akciós"},null,null,null,null,null,null,null,8951011560,null,{"$f":"VLOOKUP(AQ28,Árlista!B:D,3,0)","v":"6 720,-Ft "}]
[{"$f":"Fúrók!$A29","v":"kiadvány árai"},null,null,"Használati besorolás","3 -igen magas színvonalú",null,null,null,"3 -igen magas színvonalú",null,null,null,"2 -megnövekedett igényekhez",null,null,null,null,{"$f":"Fúrók!$A28","v":"RC TOPS és CP STAR akciós"},null,null,null,null,null,null,null,null,null,null,null,null,null,null,null,null,{"$f":"Fúrók!$A29","v":"kiadvány árai"},null,null,null,null,null,null,null,8955000006,null,{"$f":"VLOOKUP(AQ29,Árlista!B:D,3,0)","v":"3 640,-Ft "},"RC7182/83"]
[{"$f":"Fúrók!$A30","v":"SP jelöléssel ellátott termékekre"},null,null,"Cikkszám / Típus / (Listaár) \nNettó ár",8951000018,"RC7682K",{"$f":"VLOOKUP(E30,Árlista!$B:$D,3,0)","v":"TOPS* 47 590,-Ft"},null,8951072231,"RC7661V",{"$f":"VLOOKUP(I30,Árlista!$B:$D,3,0)","v":"54 010,-Ft "},null,8951072111,"RC7200V",{"$f":"VLOOKUP(M30,Árlista!$B:$D,3,0)","v":"TOPS* 30 550,-Ft"},null,null,{"$f":"Fúrók!$A29","v":"kiadvány árai"},null,null,null,null,null,null,null,null,null,null,null,null,null,null,null,null,{"$f":"Fúrók!$A30","v":"SP jelöléssel ellátott termékekre"},null,null,null,null,null,null,null,8951011608]
[{"$f":"Fúrók!$A31","v":"speciális viszonteladói árkézés"},null,null,null,null,null,null,null,null,null,null,null,null,null,null,null,null,{"$f":"Fúrók!$A30","v":"SP jelöléssel ellátott termékekre"},null,null,null,null,null,null,null,null,null,null,null,null,null,null,null,null,{"$f":"Fúrók!$A31","v":"speciális viszonteladói árkézés"},null,null,null,null,null,null,null,8951011644]
[{"$f":"Fúrók!$A32","v":"vonatkozik. Az Extra árak"},null,null,null,null,null,null,null,null,null,null,null,null,null,null,null,null,{"$f":"Fúrók!$A31","v":"speciális viszonteladói árkézés"},null,null,null,null,null,null,null,null,null,null,null,null,null,null,null,null,{"$f":"Fúrók!$A32","v":"vonatkozik. Az Extra árak"},null,null,null,null,null,null,null,8951011562]
[{"$f":"Fúrók!$A33","v":"a készlet erejéig, illetve"},null,null,null,null,null,null,null,null,null,null,null,null,null,null,null,null,{"$f":"Fúrók!$A32","v":"vonatkozik. Az Extra árak"},null,null,null,null,null,null,null,null,null,null,null,null,null,null,null,null,{"$f":"Fúrók!$A33","v":"a készlet erejéig, illetve"},null,null,null,null,null,null,null,8951011563]
[{"$f":"Fúrók!$A34","v":"visszavonásig érvényesek."},null,null,null,null,null,null,null,null,null,null,null,null,null,null,null,null,null,null,null,null,null,null,null,null,null,null,null,null,null,null,null,null,null,{"$f":"Fúrók!$A34","v":"visszavonásig érvényesek."},null,null,null,null,null,null,null,8951011564,null,{"$f":"VLOOKUP(AQ34,Árlista!B:D,3,0)","v":"6 440,-Ft "}]
[{"$f":"Fúrók!$A35","v":"Az árista a Techtomat Kft és"},null,null,null,null,null,null,null,null,null,null,null,null,null,null,null,null,{"$f":"Fúrók!$A35","v":"Az árista a Techtomat Kft és"},null,null,null,null,null,null,null,null,null,null,null,null,null,null,null,null,{"$f":"Fúrók!$A35","v":"Az árista a Techtomat Kft és"},null,null,null,null,null,null,null,8951011565]
[{"$f":"Fúrók!$A36","v":"Kapitár Kft közös gondozásában"},null,null,null,null,null,null,null,null,null,null,null,null,null,null,null,null,{"$f":"Fúrók!$A36","v":"Kapitár Kft közös gondozásában"},null,null,null,null,null,null,null,null,null,null,null,null,null,null,null,null,{"$f":"Fúrók!$A36","v":"Kapitár Kft közös gondozásában"},null,null,null,null,null,null,null,8951011566,null,{"$f":"VLOOKUP(AQ36,Árlista!B:D,3,0)","v":"9 530,-Ft "}]
[{"$f":"Fúrók!$A37","v":" jelent meg."},null,null,null,null,null,null,null,null,null,null,null,null,null,null,null,null,{"$f":"Fúrók!$A37","v":" jelent meg."},null,null,null,null,null,null,null,null,null,null,null,null,null,null,null,null,{"$f":"Fúrók!$A37","v":" jelent meg."},null,null,null,null,null,null,null,8951011601]
[{"$f":"Fúrók!$A38","v":"Minden jog fenntartva."},null,null,null,null,null,null,null,null,null,null,null,null,null,null,null,null,{"$f":"Fúrók!$A38","v":"Minden jog fenntartva."},null,null,"Chicago Pneumatic"," CP3510, CP3511, CP3512, CP3514",null,null,null,"CP7250",null,null,null,"CP7255-3",null,null,null,null,{"$f":"Fúrók!$A38","v":"Minden jog fenntartva."},null,null,null,null,null,null,null,8951011554,null,{"$f":"VLOOKUP(AQ38,Árlista!B:D,3,0)","v":"14 570,-Ft "}]
[null,null,null,null,null,null,null,null,null,null,null,null,null,null,null,null,null,null,null,null,null,"Motorteljesítmény:  210W    Talpméret: 125mm\nFordulatszám: 12 000 RPM    Excentricitás: 5mm\nAlacsony zaj- és vibrácójú, jól szabályozható készülék",null,null,null,"Motorteljesítmény:  210W    Talpméret: 150mm\nFordulatszám: 12 000 RPM   Excentricitás: 5 mm\nAlacsony zaj- és vibrácójú, jól szabályozható készülék nagy igénybevételre! Olajzásmentes kivitel.",null,null,null,"Motorteljesítmény:  210W    Talpméret: 75mm\nFordulatszám: 12 000 RPM    Excentricitás: 5 mm\nAlacsony zaj- és vibrácójú, jól szabályozható készülék",null,null,null,null,null,null,null,null,null,null,null,null,8951011559]
[{"$f":"Fúrók!$A40","v":"Bővebb információ:"},null,null,null,null,null,null,null,null,null,null,null,null,null,null,null,null,{"$f":"Fúrók!$A40","v":"Bővebb információ:"},null,null,null,null,null,null,null,null,null,null,null,null,null,null,null,null,{"$f":"Fúrók!$A40","v":"Bővebb információ:"}]
[{"$f":"Fúrók!$A41","v":"Szabó Attila"},null,null,null,null,null,null,null,null,null,null,null,null,null,null,null,null,{"$f":"Fúrók!$A41","v":"Szabó Attila"},null,null,null,null,null,null,null,null,null,null,null,null,null,null,null,null,{"$f":"Fúrók!$A41","v":"Szabó Attila"}]
[{"$f":"Fúrók!$A42","v":"30/201-4931 vagy 30/626-8687"},null,null,"Típus","RC7702V6 / RC7705V6 / RC7710V6",null,null,null,"Rodcraft RC7705V6 2H / Rodcraft RC7710V6 2H",null,null,null,"Rodcraft RC7691V",null,null,null,null,{"$f":"Fúrók!$A42","v":"30/201-4931 vagy 30/626-8687"},null,null,null,null,null,null,null,null,null,null,null,null,null,null,null,null,{"$f":"Fúrók!$A42","v":"30/201-4931 vagy 30/626-8687"}]
[{"$f":"Fúrók!$A43","v":"e-mail"},null,null,"Motorteljesítmény [W]","285","Rendkívül erőteljes, könnyű szerkezetű legújabb generációs csiszológépek 150 mm-es (6“) micro-velcro talppal, minden szabványos csiszolóanyaghoz. Ergonomikus, pontos és kiegyensúlyozott készülék. Minimális vibráció a minél hosszabb munkabírás érdekében. Változtatható levegő kivezetés, alacsony zajkibocsájtás a különleges felfüggesztése és a gumiborítása végett.  Elforgó porelszívó csatlakozóval. Elérhető 3 pályaméretben: 2,5 / 5 / 10 mm",null,null,"285","Rendkívül erőteljes, könnyű szerkezetű kétkezes csiszológépek 150 mm-es (6“) micro-velcro talppal, minden szabványos csiszolóanyaghoz. Ergonomikus, pontos és kiegyensúlyozott készülék. Minimális vibráció a minél hosszabb munkabírás érdekében. Változtatható levegő kivezetés, alacsony zajkibocsájtás a különleges felfüggesztése és a gumiborítása végett.  Elforgó porelszívó csatlakozóval. Elérhető 2 pályaméretben:  5 és 10 mm",null,null,null,"200 mm-es kétkezes nagyteljesítményű excentercsiszoló, erőteljes 8 lamellás motorral, állítható sebességgel, 900 rpm-es orbital sebességgel. Különösen alkalmas nagy, sík felületek például a buszok, vagonok csiszolására. A kompozit anyagok és szigetelt markolat. A csiszoló 29 mm-es elszívócsonkkal van ellátva a központi elszívás végett.",null,null,null,null,null,null,"Cikkszám / Típus / (Listaár) Nettó ár",6151933510,"NV H&L",{"$f":"VLOOKUP(V43,Árlista!$B:$D,3,0)","v":"89 000,-Ft "},null,8941272501,"NV H&L",{"$f":"VLOOKUP(Z43,Árlista!$B:$D,3,0)","v":"169 100,-Ft "},null,8941072557,"NV PSA",{"$f":"VLOOKUP(AD43,Árlista!$B:$D,3,0)","v":"89 000,-Ft "},null,null,{"$f":"Fúrók!$A43","v":"e-mail"}]
[{"$f":"Fúrók!$A44","v":"Tóth Tamás"},null,null,"Excentricitás [mm]","2,5 / 5/ 10",null,null,null,"5/ 10",null,null,null,"5",null,null,null,null,{"$f":"Fúrók!$A44","v":"Tóth Tamás"},null,null,"Cikkszám / Típus / (Listaár) Nettó ár",6151933511,"NV PSA",{"$f":"VLOOKUP(V44,Árlista!$B:$D,3,0)","v":"89 000,-Ft "},null,8941272503,"CV H&L",{"$f":"VLOOKUP(Z44,Árlista!$B:$D,3,0)","v":"198 800,-Ft "},null,8941272557,"NV H&L",{"$f":"VLOOKUP(AD44,Árlista!$B:$D,3,0)","v":"89 000,-Ft "},null,null,{"$f":"Fúrók!$A44","v":"Tóth Tamás"}]
[{"$f":"Fúrók!$A45","v":"30/603-1596"},null,null,"Csiszolótalp átmérő [mm]","150",null,null,null,"150",null,null,null,"200",null,null,null,null,{"$f":"Fúrók!$A45","v":"30/603-1596"},null,null,"Cikkszám / Típus / (Listaár) Nettó ár",6151933512,"SV H&L",{"$f":"VLOOKUP(V45,Árlista!$B:$D,3,0)","v":"93 300,-Ft "},null,8941272502,"SV H&L",{"$f":"VLOOKUP(Z45,Árlista!$B:$D,3,0)","v":"202 500,-Ft "},null,8941272558,"CV H&L",{"$f":"VLOOKUP(AD45,Árlista!$B:$D,3,0)","v":"93 300,-Ft "},null,null,{"$f":"Fúrók!$A45","v":"30/603-1596"}]
[null,null,null,"Üresjárati fordulat [rpm]","10000",null,null,null,"10000",null,null,null,"10000",null,null,null,null,null,null,null,"Cikkszám / Típus / (Listaár) Nettó ár",6151933514,"CV H&L",{"$f":"VLOOKUP(V46,Árlista!$B:$D,3,0)","v":"STARS* 59 100,-Ft"},null,6151703740,"NV H&L 2H",{"$f":"VLOOKUP(Z46,Árlista!$B:$D,3,0)","v":{"$error":"#N/A"}}]
[null,null,null,"Tömeg [kg]","0,73",null,null,null,"1",null,null,null,"1,76",null,null,null,null,null,null,null,null,null,null,null,null,6151703760,"CV H&L 2H",{"$f":"VLOOKUP(Z47,Árlista!$B:$D,3,0)","v":"240 900,-Ft "}]
[null,null,null,"Javasolt tömlőméret ø [mm]",8,null,null,null,8,null,null,null,"8",null,null,null,null,null,null,null,null,null,null,null,null,null,null,null,null,null,null,null,null,null,null,null,null,null,null,null,null,null,null,null,"Nettó ár"]
[null,null,null,"Max. nyomás [bar] ","6,3",null,null,null,"6,3",null,null,null,"6,3",null,null,null,null,null,null,null,null,null,null,null,null,null,null,null,null,null,null,null,null,null,null,null,null,null,null,null,null,null,8951011597]
[null,null,null,"Átlagos levegőfogyasztás [l/min]  ","450",null,null,null,"450",null,null,null,"445",null,null,null,null,null,null,null,null,null,null,null,null,null,null,null,null,null,null,null,null,null,null,null,null,null,null,null,null,null,8951011642,null,{"$f":"VLOOKUP(AQ50,Árlista!B:D,3,0)","v":"15 130,-Ft "}]
[null,null,null,"Folyamatos levegőfogyasztás [l/min]","550",null,null,null,"550",null,null,null,"550",null,null,null,null,null,null,null,null,null,null,null,null,null,null,null,null,null,null,null,null,null,null,null,null,null,null,null,null,null,8951011643,null,{"$f":"VLOOKUP(AQ51,Árlista!B:D,3,0)","v":"20 170,-Ft "}]
[null,null,null,"Levegőcsatlakozás [inch]","1/4 Zoll IG",null,null,null,"1/4 Zoll IG",null,null,null,"1/4 Zoll IG",null,null,null,null,null,null,null,null,null,null,null,null,null,null,null,null,null,null,null,null,null,null,null,null,null,null,null,null,null,8951011567,null,{"$f":"VLOOKUP(AQ52,Árlista!B:D,3,0)","v":"8 970,-Ft "}]
[null,null,null,"Hangnyomásszint LpA  ","86,1",null,null,null,"86,1",null,null,null,"88,6",null,null,null,null,null,null,null,null,null,null,null,null,null,null,null,null,null,null,null,null,null,null,null,null,null,null,null,null,null,8951011603]
[null,null,null,"Hangenergiaszint, LwA [dB(A)]",null,null,null,null,null,null,null,null,null,null,null,null,null,null,null,null,null,null,null,null,null,null,null,null,null,null,null,null,null,null,null,null,null,null,null,null,null,null,8951011596]
[null,null,null,"Vibráció [m/s2]  ","5,4",null,null,null,"5,4",null,null,null,"2,8",null,null,null,null,null,null,null,null,null,null,null,null,null,null,null,null,null,null,null,null,null,null,null,null,null,null,null,null,null,8951011599,null,{"$f":"VLOOKUP(AQ55,Árlista!B:D,3,0)","v":"11 770,-Ft "}]
[null,null,null,"Használati besorolás","4",null,null,null,"3 -igen magas színvonalú",null,null,null,"4",null,null,null,null,null,null,null,null,null,null,null,null,null,null,null,null,null,null,null,null,null,null,null,null,null,null,null,null,null,8951011636,null,{"$f":"VLOOKUP(AQ56,Árlista!B:D,3,0)","v":"19 330,-Ft "}]
[null,null,null,"Cikkszám / Típus / (Listaár) \nNettó ár",8951000021,"2,5 mm",{"$f":"VLOOKUP(E57,Árlista!$B:$D,3,0)","v":"TOPS* 59 100,-Ft"},null,8951000081,"5 mm",{"$f":"VLOOKUP(I57,Árlista!$B:$D,3,0)","v":"TOPS* 58 500,-Ft"},null,8951072212,"RC7691V",{"$f":"VLOOKUP(M57,Árlista!$B:$D,3,0)","v":"122 900,-Ft "},null,null,null,null,null,"Chicago Pneumatic","CP7255",null,null,null,"CP7255",null,null,null,"CP9534",null,null,null,null,null,null,null,null,null,null,null,null,8951011638,null,{"$f":"VLOOKUP(AQ57,Árlista!B:D,3,0)","v":"17 090,-Ft "}]
[null,null,null,null,null,null,null,null,null,null,null,null,null,null,null,null,null,null,null,null,null,"Motorteljesítmény:  210W    Talpméret: 150mm\nFordulatszám: 12 000 RPM    Excentricitás: 5 mm\nAlacsony zaj- és vibrácójú, jól szabályozható készülék",null,null,null,"Motorteljesítmény:  210W    Talpméret: 150mm\nFordulatszám: 12 000 RPM    Excentricitás: 5 mm\nAlacsony zaj- és vibrácójú, jól szabályozható készülék",null,null,null,"Motorteljesítmény:  210W    Talpméret: 150mm\nFordulatszám: 9 000 RPM    Excentricitás: 5 mm\nAlacsony zaj- és vibrácójú, jól szabályozható ipari készülék. Olajozásmentes kivitel.",null,null,null,null,null,null,null,null,null,null,null,null,8951011640]
[null,null,null,"Cikkszám / Típus / (Listaár) \nNettó ár",8951000020,"5 mm",{"$f":"VLOOKUP(E59,Árlista!$B:$D,3,0)","v":"TOPS* 59 100,-Ft"},null,8951000082,"10 mm",{"$f":"VLOOKUP(I59,Árlista!$B:$D,3,0)","v":"TOPS* 58 500,-Ft"},null,null,null,null,null,null,null,null,null,null,null,null,null,null,null,null,null,null,null,null,null,null,null,null,null,null,null,null,null,null,null,8951011569]
[null,null,null,null,null,null,null,null,null,null,null,null,null,null,null,null,null,null,null,null,null,null,null,null,null,null,null,null,null,null,null,null,null,null,null,null,null,null,null,null,null,null,8951011637]
[null,null,null,"Cikkszám / Típus / (Listaár) \nNettó ár",8951000070,"10 mm",{"$f":"VLOOKUP(E61,Árlista!$B:$D,3,0)","v":"TOPS* 72 100,-Ft"},null,null,null,null,null,null,null,null,null,null,null,null,null,null,null,null,null,null,null,null,null,null,null,null,null,null,null,null,null,null,null,null,null,null,null,8951011639]
[null,null,null,null,null,null,null,null,null,null,null,null,null,null,null,null,null,null,null,null,"Cikkszám / Típus / (Listaár) Nettó ár",8941072551,"NV PSA",{"$f":"VLOOKUP(V62,Árlista!$B:$D,3,0)","v":"93 300,-Ft "},null,8941072554,"NV PSA 2H",{"$f":"VLOOKUP(Z62,Árlista!$B:$D,3,0)","v":"117 800,-Ft "},null,6151939534,"CV H&L 2H",{"$f":"VLOOKUP(AD62,Árlista!$B:$D,3,0)","v":"237 200,-Ft "},null,null,null,null,null,null,null,null,null,null,8951011641]
[null,null,null,null,null,null,null,null,null,null,null,null,null,null,null,null,null,null,null,null,"Cikkszám / Típus / (Listaár) Nettó ár",8941272551,"NV H&L",{"$f":"VLOOKUP(V63,Árlista!$B:$D,3,0)","v":"92 300,-Ft "},null,8941272554,"NV H&L 2H",{"$f":"VLOOKUP(Z63,Árlista!$B:$D,3,0)","v":"108 900,-Ft "},null,null,null,null,null,null,null,null,null,null,null,null,null,null,8955000012,null,{"$f":"VLOOKUP(AQ63,Árlista!B:D,3,0)","v":"TOPS* 9 730,-Ft"}]
[null,null,null,null,null,null,null,null,null,null,null,null,null,null,null,null,null,null,null,null,"Cikkszám / Típus / (Listaár) Nettó ár",8941072553,"CV PSA",{"$f":"VLOOKUP(V64,Árlista!$B:$D,3,0)","v":"99 300,-Ft "},null,8941272555,"SV H&L 2H",{"$f":"VLOOKUP(Z64,Árlista!$B:$D,3,0)","v":"117 800,-Ft "},null,null,null,null,null,null,null,null,null,null,null,null,null,null,8951012348,null,{"$f":"VLOOKUP(AQ64,Árlista!B:D,3,0)","v":"13 450,-Ft "}]
[null,null,null,null,null,null,null,null,null,null,null,null,null,null,null,null,null,null,null,null,"Cikkszám / Típus / (Listaár) Nettó ár",8941272553,"CV H&L",{"$f":"VLOOKUP(V65,Árlista!$B:$D,3,0)","v":"STARS* 56 900,-Ft"}]
[]
[null,null,null,null,null,null,null,null,null,null,null,null,null,null,null,null,null,null,null,null,"Cikkszám / Típus / (Listaár) Nettó ár",8941072552,"SV PSA",{"$f":"VLOOKUP(V67,Árlista!$B:$D,3,0)","v":"103 900,-Ft "}]
[null,null,null,null,null,null,null,null,null,null,null,null,null,null,null,null,null,null,null,null,"Cikkszám / Típus / (Listaár) Nettó ár",8941272552,"SV H&L",{"$f":"VLOOKUP(V68,Árlista!$B:$D,3,0)","v":"106 900,-Ft "}]
[]
[]
[]
[]
[]
[]
[null,null,null,"Típus","Rodcraft RC7155",null,null,null,"Rodcraft RC7156",null,null,null,"Rodcraft RC7157",null,null,null,null,null,null,null,null,null,null,null,null,null,null,null,null,null,null,null,null,null,null,null,null,"Típus","Rodcraft RC7155 csiszolóhoz 10x330mm (10db)",null,null,null,"Rodcraft RC7156 csiszolóhoz 20x520mm  (10db)",null,null,null,"Rodcraft RC7157 csiszolóhoz 30x540mm  (10db)"]
[null,null,null,"Motorteljesítmény [W]",null,"10 mm-es szalagcsiszoló. Ideális eszköz szúk helyek és sarkok csiszolásához. Gyorsfeszítő mechanizmussal a gyors szalagcsere végett. Ergonomikus kialakítás, kényelmes fogantyú.\nRendelhető szemcsefinomságú csiszolószalagok: 40, 80, 120, 180, 240\n10 db/csomag\n",null,null,null,"20 mm-es szalagcsiszoló. Ideális eszköz sarkok csiszolásához. Gyorsfeszítő mechanizmussal a gyors szalagcsere végett. Ergonomikus kialakítás, kényelmes fogantyú.\nRendelhető szemcsefinomságú csiszolószalagok: 80, 120, 180, 240\n\n10 db/csomag\n",null,null,null,"30 mm-es szalagcsiszoló. Gyorsfeszítő mechanizmussal a gyors szalagcsere végett. Ergonomikus kialakítás, kényelmes leszerelhető oldalfogantyúval.\nRendelhető szemcsefinomságú csiszolószalagok: 80, 120, 180, 240\n\n10 db/csomag",null,null,null,null,null,null,null,null,null,null,null,null,null,null,null,null,null,null,null,null,null,null,null,"Cikkszám / Típus / (Listaár) Nettó ár",8951011570,80,{"$f":"VLOOKUP(AM76,Árlista!$B:$D,3,0)","v":"TOPS* 4 220,-Ft"},null,8951011580,80,{"$f":"VLOOKUP(AQ76,Árlista!$B:$D,3,0)","v":"12 610,-Ft "},null,8951011592,80,{"$f":"VLOOKUP(AU76,Árlista!$B:$D,3,0)","v":"13 730,-Ft "}]
[null,null,null,"Szalagszélesség [mm]","10",null,null,null,"20",null,null,null,"30",null,null,null,null,null,null,null,null,null,null,null,null,null,null,null,null,null,null,null,null,null,null,null,null,"Cikkszám / Típus / (Listaár) Nettó ár",8951011577,120,{"$f":"VLOOKUP(AM77,Árlista!$B:$D,3,0)","v":"TOPS* 4 220,-Ft"},null,8951011581,120,{"$f":"VLOOKUP(AQ77,Árlista!$B:$D,3,0)","v":"13 730,-Ft "},null,8951011593,120,{"$f":"VLOOKUP(AU77,Árlista!$B:$D,3,0)","v":"13 450,-Ft "}]
[null,null,null,"Szalag hossza [mm]","330",null,null,null,"520",null,null,null,"540",null,null,null,null,null,null,null,"Chicago Pneumatic","CP7220",null,null,null,"CP7225",null,null,null,"CP7225",null,null,null,null,null,null,null,"Cikkszám / Típus / (Listaár) Nettó ár",8951011578,180,{"$f":"VLOOKUP(AM78,Árlista!$B:$D,3,0)","v":"TOPS* 4 220,-Ft"},null,8951011582,180,{"$f":"VLOOKUP(AQ78,Árlista!$B:$D,3,0)","v":"13 730,-Ft "},null,8951011594,180,{"$f":"VLOOKUP(AU78,Árlista!$B:$D,3,0)","v":"19 610,-Ft "}]
[null,null,null,"Üresjárati fordulat [rpm]","18000",null,null,null,"17000",null,null,null,"13000",null,null,null,null,null,null,null,null,"Motorteljesítmény:  210W    Talpméret: 150mm\nFordulatszám: 12 000 RPM    Excentricitás: 2,5 mm\nAlacsony zaj- és vibrácójú, jól szabályozható ipari készülék. Olajozásmentes kivitel.",null,null,null,"Motorteljesítmény:  210W    Talpméret: 75mm\nFordulatszám: 12 000 RPM    Excentricitás: 2,5 mm\nAlacsony zaj- és vibrácójú, jól szabályozható készülék",null,null,null,"Motorteljesítmény:  210W    Talpméret: 150mm\nFordulatszám: 12 000 RPM    Excentricitás: 2,5 mm\nAlacsony zaj- és vibrácójú, jól szabályozható készülék",null,null,null,null,null,null,null,"Cikkszám / Típus / (Listaár) Nettó ár",8951011579,240,{"$f":"VLOOKUP(AM79,Árlista!$B:$D,3,0)","v":"TOPS* 4 220,-Ft"},null,8951011583,240,{"$f":"VLOOKUP(AQ79,Árlista!$B:$D,3,0)","v":"13 730,-Ft "},null,8951011595,240,{"$f":"VLOOKUP(AU79,Árlista!$B:$D,3,0)","v":"19 610,-Ft "}]
[null,null,null,"Tömeg [kg]","0,8",null,null,null,"1,15",null,null,null,"2,2"]
[null,null,null,"Javasolt tömlőméret ø [mm]",8,null,null,null,"8",null,null,null,"8"]
[null,null,null,"Max. nyomás [bar] ","6,3",null,null,null,"6,3",null,null,null,"6,3"]
[null,null,null,"Átlagos levegőfogyasztás [l/min]  ","400",null,null,null,"400",null,null,null,"530",null,null,null,null,null,null,null,"Cikkszám / Típus / (Listaár) Nettó ár",8941272201,"NV PSA",{"$f":"VLOOKUP(V83,Árlista!$B:$D,3,0)","v":"172 000,-Ft "},null,8941072257,"NV PSA",{"$f":"VLOOKUP(Z83,Árlista!$B:$D,3,0)","v":"89 000,-Ft "},null,8941072251,"NV PSA",{"$f":"VLOOKUP(AD83,Árlista!$B:$D,3,0)","v":"94 300,-Ft "}]
[null,null,null,"Folyamatos levegőfogyasztás [l/min]","520",null,null,null,"520",null,null,null,"660",null,null,null,null,null,null,null,"Cikkszám / Típus / (Listaár) Nettó ár",8941272203,"CV H&L",{"$f":"VLOOKUP(V84,Árlista!$B:$D,3,0)","v":"197 900,-Ft "},null,8941272257,"NV H&L",{"$f":"VLOOKUP(Z84,Árlista!$B:$D,3,0)","v":"89 600,-Ft "},null,8941272251,"NV H&L",{"$f":"VLOOKUP(AD84,Árlista!$B:$D,3,0)","v":"106 900,-Ft "}]
[null,null,null,"Levegőcsatlakozás [inch]","1/4 Zoll IG",null,null,null,"1/4 Zoll IG",null,null,null,"1/4 Zoll IG",null,null,null,null,null,null,null,"Cikkszám / Típus / (Listaár) Nettó ár",8941272202,"SV H&L",{"$f":"VLOOKUP(V85,Árlista!$B:$D,3,0)","v":"217 600,-Ft "},null,8941272258,"CV H&L",{"$f":"VLOOKUP(Z85,Árlista!$B:$D,3,0)","v":"93 600,-Ft "},null,8941072253,"CV PSA",{"$f":"VLOOKUP(AD85,Árlista!$B:$D,3,0)","v":"94 300,-Ft "}]
[null,null,null,"Hangnyomásszint LpA  ","79,5",null,null,null,"83,2",null,null,null,"91,6",null,null,null,null,null,null,null,"Cikkszám / Típus / (Listaár) Nettó ár",6151703770,"NV H&L 2H",{"$f":"VLOOKUP(V86,Árlista!$B:$D,3,0)","v":"189 700,-Ft "},null,null,null,null,null,8941272253,"CV H&L",{"$f":"VLOOKUP(AD86,Árlista!$B:$D,3,0)","v":"STARS* 56 900,-Ft"}]
[null,null,null,"Hangenergiaszint, LwA [dB(A)]",null,null,null,null,null,null,null,null,null,null,null,null,null,null,null,null,"Cikkszám / Típus / (Listaár) Nettó ár",6151703790,"CV H&L 2H",{"$f":"VLOOKUP(V87,Árlista!$B:$D,3,0)","v":"194 600,-Ft "},null,null,null,null,null,8941072252,"SV PSA"]
[null,null,null,"Vibráció [m/s2]  ","2,5",null,null,null,"2,4",null,null,null,"4,6",null,null,null,null,null,null,null,"Cikkszám / Típus / (Listaár) Nettó ár",null,null,null,null,null,null,null,null,8941272252,"SV H&L",{"$f":"VLOOKUP(AD88,Árlista!$B:$D,3,0)","v":"105 900,-Ft "}]
[null,null,null,"Használati besorolás","2 -megnövekedett igényekhez",null,null,null,"2 -megnövekedett igényekhez",null,null,null,"2 -megnövekedett igényekhez"]
[null,null,null,"Cikkszám / Típus / (Listaár) \nNettó ár",8951072041,"RC7155",{"$f":"VLOOKUP(E90,Árlista!$B:$D,3,0)","v":"TOPS* 55 700,-Ft"},null,8951072051,"RC7156",{"$f":"VLOOKUP(I90,Árlista!$B:$D,3,0)","v":"TOPS* 78 200,-Ft"},null,8951072061,"RC7157",{"$f":"VLOOKUP(M90,Árlista!$B:$D,3,0)","v":"Kifutó, érdeklődj!"}]
[]
[]
[]
[]
[]
[]
[]
[null,null,null,null,null,null,null,null,null,null,null,null,null,null,null,null,null,null,null,null,"Chicago Pneumatic","CP7263",null,null,null,"CP7266",null,null,null,"CP7264"]
[null,null,null,null,null,null,null,null,null,null,null,null,null,null,null,null,null,null,null,null,null,"Motorteljesítmény:  210W    Talpméret: 74 x 109mm\nFordulatszám: 10 000 RPM    Excentricitás: 2,5 mm\nAlacsony zaj- és vibrácójú, jól szabályozható készülék. ",null,null,null,"Motorteljesítmény:  210W    Talpméret: 80 x 130mm\nFordulatszám: 10 000 RPM    Excentricitás: 2,5 mm\nAlacsony zaj- és vibrácójú, jól szabályozható készülék. ",null,null,null,"Motorteljesítmény:  210W    Talpméret: 70 x 198mm\nFordulatszám: 10 000 RPM    Excentricitás: 2,5 mm\nAlacsony zaj- és vibrácójú, jól szabályozható készülék. "]
[]
[]
[]
[null,null,null,null,null,null,null,null,null,null,null,null,null,null,null,null,null,null,null,null,"Cikkszám / Típus / (Listaár) Nettó ár",8941072650,"NV H&L",{"$f":"VLOOKUP(V103,Árlista!$B:$D,3,0)","v":"97 900,-Ft "},null,8941072660,"NV H&L",{"$f":"VLOOKUP(Z103,Árlista!$B:$D,3,0)","v":"97 900,-Ft "},null,8941072640,"NV H&L",{"$f":"VLOOKUP(AD103,Árlista!$B:$D,3,0)","v":"97 900,-Ft "}]
[null,null,null,null,null,null,null,null,null,null,null,null,null,null,null,null,null,null,null,null,"Cikkszám / Típus / (Listaár) Nettó ár",8941172650,"CV H&L",{"$f":"VLOOKUP(V104,Árlista!$B:$D,3,0)","v":"100 300,-Ft "},null,8941172660,"CV H&L",{"$f":"VLOOKUP(Z104,Árlista!$B:$D,3,0)","v":"100 300,-Ft "},null,8941172640,"CV H&L",{"$f":"VLOOKUP(AD104,Árlista!$B:$D,3,0)","v":"100 300,-Ft "}]
[null,null,null,"Típus","Rodcraft RC7091MBX"]
[null,null,null,"Motorteljesítmény [W]","420","RODCRAFT MBX - KÖRKEFÉS CSISZOLÓ RENDSZER (RC szabadalom) GYORS - BIZTONSÁGOS - TISZTA Rozsda, lakk, alvázvédő, ragasztó eltávolítása. A hidegradírozó segítségével a lakk sérülése és felmelegedése nélkül eltávolíthatók a matricák és egyéb ragasztómaradványok. Speciális élezhető drótkorongok kialakítástól és erősségtől függően hatékony anyagleválasztást tesznek lehetővé. Gép mellé jár:\n4 különféle drótkorong\n1 hidegradírozó korong\n2 adapterkerék",null,null,"DURVA -Döntött szálú, élezett, edzett eszköz, \nhomokfúvó hatékonyság, Ø 0,7 mm vastag rugóacél Eltávolítja a kisebb felületi hibákat, a tömítőanyag maradékot és az előző festékréteget. Kiválóan alkalmas hegesztési területek utánkezelésére, a kontúrok és sarkok kialakítására. BU020-5 (11 mm) és BU015-5 (23 mm) 5db",null,null,null,"FINOM -Egyenes szálú, élezett, edzett eszköz, homokfúvó hatékonyság, Ø 0,5 mm vastag rugóacél. Nagy hatékonyságú rozsdaeltávolítás, tisztítás. Kiváló eszköz öntöttvas tisztításához. BU028-5 (11 mm) és BU017-5 (23 mm) 5db\nAlumíniumhoz nem javasolt!"]
[null,null,null,"Szerszámbefogó méret [mm]","MBX"]
[null,null,null,"Készülék hossza [mm]","275"]
[null,null,null,"Üresjárati fordulat [rpm]","3500"]
[null,null,null,"Tömeg [kg]","1,1"]
[null,null,null,"Javasolt tömlőméret ø [mm]",8]
[null,null,null,"Max. nyomás [bar] ","6,3"]
[null,null,null,"Átlagos levegőfogyasztás [l/min]  ","110",null,null,null,"KÖZEPES -Döntött szálú, élezett, edzett eszköz, homokfúvó hatékonyság, Ø 0,5 mm vastag rugóacél\nNagy hatékonyságú rozsdaeltávolítás, porózus, nehezen hozzáférhető helyekre. BU021-5 (11 mm) és BU022-5 (23 mm) 5db",null,null,null,"SZUPER FINOM -Egyenes és döntött szálú, élezett, edzett eszköz, Ø 0,5 mm vastag rugóacél. Nagy hatékonyságú festékeltávolítás és tisztítás alumínium alkatrészekről, ugyanakkor a szegecseket csavarokat megkíméli. BU018-5 (23 mm) és  BU030-5 (11 mm) BU019-5 (23  mm) 5db"]
[null,null,null,"Folyamatos levegőfogyasztás [l/min]","670"]
[null,null,null,"Levegőcsatlakozás [inch]","1/4 Zoll IG",null,null,null,null,null,null,null,null,null,null,null,null,null,null,null,"Chicago Pneumatic","CP7267 Delta csiszoló",null,null,null,"CP7268",null,null,null,"CP7200"]
[null,null,null,"Hangnyomásszint LpA  ","83,2",null,null,null,null,null,null,null,null,null,null,null,null,null,null,null,null,"Motorteljesítmény:  210W    Talpméret: 100 x 144mm\nFordulatszám: 10 000 RPM    Excentricitás: 2,5 mm\nAlacsony zaj- és vibrácójú, jól szabályozható készülék. ",null,null,null,"Motorteljesítmény:              Talpméret: 50 x 445mm\nLöketszám: 5 000 RPM         Lökethossz:                              \nStrapabírő, két dugattyús működtetésű egyenes sziszoló.",null,null,null,"Motorteljesítmény:  150W    Talpméret: 50 és 75 mm\nFordulatszám: 15 000 RPM    Excentricitás: 2,5 mm\nKönnyű, egykezes használatra tervezett pontcsiszoló."]
[null,null,null,"Hangenergiaszint, LwA [dB(A)]"]
[null,null,null,"Vibráció [m/s2]  ","2,5"]
[null,null,null,"Használati besorolás","3 -igen magas színvonalú",null,null,null,"3 -igen magas színvonalú",null,null,null,"3 -igen magas színvonalú"]
[null,null,null,"Cikkszám / Típus / (Listaár) \nNettó ár",8951176010,"RC7091 készlet",{"$f":"VLOOKUP(E120,Árlista!$B:$D,3,0)","v":"TOPS* 165 000,-Ft"},null,8951011664,"BU020-5 durva korong szimpla 5db",{"$f":"VLOOKUP(I120,Árlista!$B:$D,3,0)","v":"TOPS* 48 160,-Ft"},null,8951011668,"BU028-5 finom korong szimpla 5db",{"$f":"VLOOKUP(M120,Árlista!$B:$D,3,0)","v":"TOPS* 48 160,-Ft"},null,null,null,null,null,"Cikkszám / Típus / (Listaár) Nettó ár",8941072670,"NV H&L",{"$f":"VLOOKUP(V120,Árlista!$B:$D,3,0)","v":"100 600,-Ft "},null,8941072680,"CP7268",{"$f":"VLOOKUP(Z120,Árlista!$B:$D,3,0)","v":"STARS* 56 300,-Ft"},null,8941072001,"CP7200",{"$f":"VLOOKUP(AD120,Árlista!$B:$D,3,0)","v":"STARS* 40 450,-Ft"}]
[null,null,null,null,null,null,null,null,null,null,null,null,null,null,null,null,null,null,null,null,"Cikkszám / Típus / (Listaár) Nettó ár",8941172670,"CV H&L",{"$f":"VLOOKUP(V121,Árlista!$B:$D,3,0)","v":"100 300,-Ft "},null,null,null,null,null,8941172001,"CP7200 KIT",{"$f":"VLOOKUP(AD121,Árlista!$B:$D,3,0)","v":"STARS* 47 030,-Ft"}]
[null,null,null,"Cikkszám / Típus / (Listaár) \nNettó ár","Radír:",null,null,null,8951011663,"BU015-5 durva korong dupla 5db",{"$f":"VLOOKUP(I122,Árlista!$B:$D,3,0)","v":"TOPS* 48 160,-Ft"},null,8951011667,"BU017-5 finom korong dupla 5db",{"$f":"VLOOKUP(M122,Árlista!$B:$D,3,0)","v":"TOPS* 48 160,-Ft"}]
[]
[null,null,null,"Cikkszám / Típus / (Listaár) \nNettó ár",8951011649,"ZU014 5db",{"$f":"VLOOKUP(E124,Árlista!$B:$D,3,0)","v":"TOPS* 72 600,-Ft"},null,8951011666,"BU021-5  közepes korong szimpla 5db",{"$f":"VLOOKUP(I124,Árlista!$B:$D,3,0)","v":"TOPS* 48 160,-Ft"},null,8951011671,"BU018-5 sz. fin. korong szimpla 5db",{"$f":"VLOOKUP(M124,Árlista!$B:$D,3,0)","v":"TOPS* 55 700,-Ft"}]
[]
[null,null,null,"Cikkszám / Típus / (Listaár) Nettó ár",8951011648,"ADAPT 11",{"$f":"VLOOKUP(E126,Árlista!$B:$D,3,0)","v":"12 330,-Ft "},null,8951011665,"BU022-5 közepes korong dupla 5db",{"$f":"VLOOKUP(I126,Árlista!$B:$D,3,0)","v":"TOPS* 48 160,-Ft"},null,8951011670,"BU030-5 sz. fin. korong dupla 5db",{"$f":"VLOOKUP(M126,Árlista!$B:$D,3,0)","v":"TOPS* 55 700,-Ft"}]
[]
[null,null,null,"Cikkszám / Típus / (Listaár) Nettó ár",8951011647,"ADAPT 23",{"$f":"VLOOKUP(E128,Árlista!$B:$D,3,0)","v":"12 330,-Ft "},null,8951011651,"Fenőkő",{"$f":"VLOOKUP(I128,Árlista!$B:$D,3,0)","v":"3 360,-Ft "},null,8951011669,"BU019-5 sz. fin. korong szimpla 5db",{"$f":"VLOOKUP(M128,Árlista!$B:$D,3,0)","v":"TOPS* 55 700,-Ft"}]
[]
[null,null,null,null,null,null,null,null,null,null,null,null,null,null," "]
[null,null,null,null,null,null,null,null,null,null,null,null,null,null,null,null,null,null,null,null,"Chicago Pneumatic","CP5080-3260D12",null,null,null,"CP5080-4200H18",null,null,null,"CP5080-4200D24 "]
[null,null,null,null,null,null,null,null,null,null,null,null,null,null,null,null,null,null,null,null,null,"Motorteljesítmény:  300W    Papírméret: 13 x 305mm\nFordulatszám: 26 000 RPM    \nIpari kivitelű szalagcsiszoló, precíziós felaldatokra.",null,null,null,"Motorteljesítmény:  400W    Papírméret: 13 x 457mm\nFordulatszám: 20 000 RPM    \nIpari kivitelű erős szalagcsiszoló, precíziós felaldatokra.",null,null,null,"Motorteljesítmény:  400W    Papírméret: 13 x 610mm\nFordulatszám: 20 000 RPM    \nIpari kivitelű rendkívül megbízható szalagcsiszoló, precíziós felaldatokra."]
[]
[]
[]
[null,null,null,null,null,null,null,null,null,null,null,null,null,null,null,null,null,null,null,null,"Cikkszám / Típus / (Listaár) Nettó ár",6151620000,"CP5080-3260D12",{"$f":"VLOOKUP(V136,Árlista!$B:$D,3,0)","v":"189 300,-Ft "},null,6151620020,"CP5080-4200H18",{"$f":"VLOOKUP(Z136,Árlista!$B:$D,3,0)","v":"192 600,-Ft "},null,6151620010,"CP5080-4200D24 ",{"$f":"VLOOKUP(AD136,Árlista!$B:$D,3,0)","v":"196 700,-Ft "}]
[null,null,null,null,null,null,null,null,null,null,null,null,null,null,null,null,null,null,null,null,"Cikkszám / Típus / (Listaár) Nettó ár",6151620050,"KIT",{"$f":"VLOOKUP(V137,Árlista!$B:$D,3,0)","v":"217 200,-Ft "},null,6151620040,"KIT",{"$f":"VLOOKUP(Z137,Árlista!$B:$D,3,0)","v":"235 600,-Ft "}]
[]
[]
[]
[]
[]
[]
[]
[]
[]
[null,null,null,null,null,null,null,null,null,null,null,null,null,null,null,null,null,null,null,null,"Chicago Pneumatic","CP5080-5220H18 ",null,null,null," CP5080-3260H19",null,null,null,"CP858"]
[null,null,null,null,null,null,null,null,null,null,null,null,null,null,null,null,null,null,null,null,null,"Motorteljesítmény:  560W    Papírméret: 25 x 457mm\nFordulatszám: 22 000 RPM    \nRobosztus felépítésű, nagyteljesítményű ipari szalagcsiszoló.",null,null,null,"Motorteljesítmény:  300W    Papírméret: 13-25 x 480mm\nFordulatszám: 26 000 RPM    \nIpari kivitelű speciális kialakítású szalagcsiszoló.",null,null,null,"Motorteljesítmény:  300W    Papírméret: 10 x 330mm\nFordulatszám: 18 000 RPM    \nMegbízható szalagcsiszoló, precíziós felaldatokra."]
[]
[]
[]
[null,null,null,null,null,null,null,null,null,null,null,null,null,null,null,null,null,null,null,null,"Cikkszám / Típus / (Listaár) Nettó ár",6151620030,"CP5080-5220H18 ",{"$f":"VLOOKUP(V152,Árlista!$B:$D,3,0)","v":"254 000,-Ft "},null,6151620200," CP5080-3260H19",{"$f":"VLOOKUP(Z152,Árlista!$B:$D,3,0)","v":"179 400,-Ft "},null,"T025179","CP858",{"$f":"VLOOKUP(AD152,Árlista!$B:$D,3,0)","v":"131 600,-Ft "}]
[]
[]
[]
[]
[]
[]
[]
[]
[null,null,null,null,null,null,null,null,null,null,null,null,null,null,null,null,null,null,null,null,"Chicago Pneumatic"," CP9779",null,null,null," CP9780"]
[null,null,null,null,null,null,null,null,null,null,null,null,null,null,null,null,null,null,null,null,null,"Motorteljesítmény:  260W    Papírméret: 10 x 330mm\nFordulatszám: 22 000 RPM    \nRobosztus felépítésű, nagyteljesítményű ipari szalagcsiszoló.",null,null,null,"Motorteljesítmény:  380W    Papírméret: 20 x 520mm\nFordulatszám: 20 000 RPM    \nIpari kivitelű speciális kialakítású szalagcsiszoló."]
[]
[]
[]
[null,null,null,null,null,null,null,null,null,null,null,null,null,null,null,null,null,null,null,null,"Cikkszám / Típus / (Listaár) Nettó ár",6151939779," CP9779",{"$f":"VLOOKUP(V166,Árlista!$B:$D,3,0)","v":"91 300,-Ft "},null,6151939780," CP9780",{"$f":"VLOOKUP(Z166,Árlista!$B:$D,3,0)","v":"117 800,-Ft "}]

{"sheet":"Polír- és fiber csiszolók","index":10,"n_rows":91,"n_cols":35,"rows_kept":91,"cut":false,"hidden":false,"merged":[[75,4,75,7],[76,5,88,7],[89,4,89,7],[90,3,91,3],[90,4,91,4],[90,5,91,5],[90,6,91,6],[90,7,91,7],[54,5,66,7],[54,9,66,11],[54,13,66,15],[67,4,67,7],[67,8,67,11],[67,12,67,15],[17,20,20,20],[17,21,20,24],[17,25,20,28],[17,29,20,32],[68,11,69,11],[34,20,37,20],[34,21,37,24],[34,25,37,28],[34,29,37,32],[68,12,69,12],[68,13,69,13],[68,14,69,14],[68,15,69,15],[32,4,32,7],[32,8,32,11],[32,12,32,15],[53,4,53,7],[53,8,53,11],[53,12,53,15],[33,9,34,9],[33,10,34,10],[33,12,34,12],[33,13,34,13],[33,14,34,14],[33,7,34,7],[33,11,34,11],[33,15,34,15],[18,4,18,7],[18,8,18,11],[18,12,18,15],[19,5,31,7],[19,9,31,11],[19,13,31,15],[33,3,34,3],[33,4,34,4],[33,5,34,5],[33,6,34,6],[33,8,34,8],[68,10,69,10],[68,3,69,3],[68,4,69,4],[68,5,69,5],[68,6,69,6],[68,8,69,8],[68,7,69,7],[68,9,69,9]]}
["RODCRAFT",null,null,null,"Általános karbantartáshoz",null,null,null,null,null,"Ipari karbantartáshoz és gyártáshoz",null,null,null,null,null,null,"CHICAGO PNEUMATIC",null,null,"Általános karbantartáshoz",null,null,"Ipari karbantartáshoz és gyártáshoz",null,null,null,null,"Ipari körülményekhez -sorozatgyártás",null,null,null,null,null,"RODCRAFT"]
["Árlista",null,null,null,null,null,null,null,null,null,null,null,null,null,null,null,null,"Árlista",null,null,null,null,null,null,null,null,null,null,null,null,null,null,null,null,"Árlista"]
["Megrendelő",null,null,null,null,null,null,null,null,null,null,null,null,null,null,null,null,"Megrendelő",null,null,null,null,null,null,null,null,null,null,null,null,null,null,null,null,"Megrendelő"]
["Fúrók",null,null,null,null,null,null,null,null,null,null,null,null,null,null,null,null,"Fúrók",null,null,null,null,null,null,null,null,null,null,null,null,null,null,null,null,"Fúrók"]
["Racsnis kulcsok",null,null,null,null,null,null,null,null,null,null,null,null,null,null,null,null,"Racsnis kulcsok",null,null,null,null,null,null,null,null,null,null,null,null,null,null,null,null,"Racsnis kulcsok"]
["Csavarbehajtók",null,null,null,null,null,null,null,null,null,null,null,null,null,null,null,null,"Csavarbehajtók",null,null,null,null,null,null,null,null,null,null,null,null,null,null,null,null,"Csavarbehajtók"]
["Sarokcsiszolók",null,null,null,null,null,null,null,null,null,null,null,null,null,null,null,null,"Sarokcsiszolók",null,null,null,null,null,null,null,null,null,null,null,null,null,null,null,null,"Sarokcsiszolók"]
["Légkulcsok",null,null,null,null,null,null,null,null,null,null,null,null,null,null,null,null,"Légkulcsok",null,null,null,null,null,null,null,null,null,null,null,null,null,null,null,null,"Légkulcsok"]
["Egyenes csiszolók",null,null,null,null,null,null,null,null,null,null,null,null,null,null,null,null,"Egyenes csiszolók",null,null,null,null,null,null,null,null,null,null,null,null,null,null,null,null,"Egyenes csiszolók"]
["Szalag és excenter csiszolók",null,null,null,null,null,null,null,null,null,null,null,null,null,null,null,null,"Szalag és excenter csiszolók",null,null,null,null,null,null,null,null,null,null,null,null,null,null,null,null,"Szalag és excenter csiszolók"]
["Polír- és fiber csiszolók",null,null,null,null,null,null,null,null,null,null,null,null,null,null,null,null,"Polír- és fiber csiszolók",null,null,null,null,null,null,null,null,null,null,null,null,null,null,null,null,"Polír- és fiber csiszolók"]
["Vésők, leverők …",null,null,null,null,null,null,null,null,null,null,null,null,null,null,null,null,"Vésők, leverők …",null,null,null,null,null,null,null,null,null,null,null,null,null,null,null,null,"Vésők, leverők …"]
["Szóró- és lefúvató pisztolyok",null,null,null,null,null,null,null,null,null,null,null,null,null,null,null,null,"Vágók, fűrészek, szegecshúzók",null,null,null,null,null,null,null,null,null,null,null,null,null,null,null,null,"Szóró- és lefúvató pisztolyok"]
["Vágók, fűrészek, szegecshúzók",null,null,null,null,null,null,null,null,null,null,null,null,null,null,null,null,"Szóró- és lefúvató pisztolyok",null,null,null,null,null,null,null,null,null,null,null,null,null,null,null,null,"Vágók, fűrészek, szegecshúzók"]
["Dugókulcsok",null,null,null,null,null,null,null,null,null,null,null,null,null,null,null,null,"Dugókulcsok",null,null,null,null,null,null,null,null,null,null,null,null,null,null,null,null,"Dugókulcsok"]
["Csatlakozók",null,null,null,null,null,null,null,null,null,null,null,null,null,null,null,null,"Csatlakozók",null,null,null,null,null,null,null,null,null,null,null,null,null,null,null,null,"Csatlakozók"]
["Abroncstöltők",null,null," ",null,null,null,null,null,null,null,null,null,null,null,null,null,"Abroncstöltők",null,null,"Chicago Pneumatic","CP7265P / CP7265S",null,null,null,"CP7269P / CP7269S",null,null,null," CP7201",null,null,null,null,"Abroncstöltők"]
["ABAC Levegős szerszámok",null,null,null,null,null,null,null,null,null,null,null,null,null,null,null,null,"ABAC Levegős szerszámok",null,null,null,"Motorteljesítmény:  500W    \nTalpméret: 205mm  Fordulatszám: 2 100 RPM (P)\nTalpméret: 180mm  Fordulatszám: 5 000 RPM (S)\nStrapabíró, kézreálló kétkezes polírozó",null,null,null,"Motorteljesítmény:  500W    \nTalpméret: 205mm  Fordulatszám: 2 100 RPM (P)\nTalpméret: 180mm  Fordulatszám: 5 000 RPM (S)\nStrapabíró, kézreálló kétkezes polírozó",null,null,null,"Motorteljesítmény:  150W    Talpméret: 75mm\nFordulatszám: 2 500 RPM \nKönnyű, jól kezelhető polírozó.",null,null,null,null,"ABAC Levegős szerszámok"]
["Garázsipari eszközök",null,null,"Típus","Rodcraft RC7016RE",null,null,null,"Rodcraft RC7150",null,null,null,"Rodcraft RC7120",null,null,null,null,"Garázsipari eszközök",null,null,null,null,null,null,null,null,null,null,null,null,null,null,null,null,"Garázsipari eszközök"]
["AKKUMULÁTOROS GÉPEK",null,null,"Motorteljesítmény [W]","300","Mini pisztoly csiszoló 6-os szerszámbefogó patronnal. (rendelhető hozzá 3 mm-es patron is). Kiváló ár / érték arány. Csökkentett zaj és rezgés a komfortosabb használat érdekében. DUS 22 zajcsökkentő rendszerrel. A készlet tartalma: \n1-1 db 50 és 75 mm-es Roloc pad\n5-5 db csiszoló korong\n3 db speciális Roloc Bristle tárcsa különböző finomságban. A készülék külön is megvásárolható RC7015RE. ",null,null,"400","Gyors pisztolycsiszoló ø 115 mm fiber tárcsával. Sebességszabályozó, a fogantyún elhelyezett nyomógomb révén. Vágótárcsa használatára nem alkalmas!\nA készülékhez rendelhető fibertárcsa: 75x22, 105x22, 125x22, valamint adapter M14x2 mérethez.",null,null,"500","Ergonomikus kialakítású sarokcsiszoló. Elsődlegesen fém felületek csiszolására alkalmas. Hátsó levegőelvezetéssel és zajcsökkentővel. Oldalfogantyúja áthelyezhető. Könnyű karbantartás a kúpkerekeknél lévő zsírzógomb révén. M14x2 kihajtással is rendelhető.\n",null,null,null,"AKKUMULÁTOROS GÉPEK",null,null,null,null,null,null,null,null,null,null,null,null,null,null,null,null,"AKKUMULÁTOROS GÉPEK"]
["Tömlők, tömlődobok",null,null,"Kihajtási méret","6-os patron",null,null,null,"7/16\"-22 AG",null,null,null,"5/8\"",null,null,null,null,"Tömlők, tömlődobok",null,null,null,null,null,null,null,null,null,null,null,null,null,null,null,null,"Tömlők, tömlődobok"]
["Szűrők, szabályozók",null,null,"Tárcsaméret [mm]","50-75",null,null,null,"75-115",null,null,null,"180",null,null,null,null,"Szűrők, szabályozók",null,null,"Cikkszám / Típus / (Listaár) Nettó ár",6151939166,"CP7265P",{"$f":"VLOOKUP(V22,Árlista!$B:$D,3,0)","v":"184 700,-Ft "},null,8941078691,"CP7269P",{"$f":"VLOOKUP(Z22,Árlista!$B:$D,3,0)","v":"149 800,-Ft "},null,8941072014,"CP7201",{"$f":"VLOOKUP(AD22,Árlista!$B:$D,3,0)","v":"STARS* 40 450,-Ft"},null,null,"Szűrők, szabályozók"]
["Balancerek",null,null,"Üresjárati fordulat [rpm]","17000",null,null,null,"18000",null,null,null,"4500",null,null,null,null,"Balancerek",null,null,"Cikkszám / Típus / (Listaár) Nettó ár",8941008650,"CP7265S",{"$f":"VLOOKUP(V23,Árlista!$B:$D,3,0)","v":"142 200,-Ft "},null,8941078690,"CP7269S",{"$f":"VLOOKUP(Z23,Árlista!$B:$D,3,0)","v":"136 900,-Ft "},null,8941172014,"CP7201 KIT",{"$f":"VLOOKUP(AD23,Árlista!$B:$D,3,0)","v":"STARS* 45 330,-Ft"},null,null,"Balancerek"]
[null,null,null,"Tömeg [kg]","0,4",null,null,null,"1,15",null,null,null,"2"]
[{"$f":"Fúrók!$A25","v":"A feltüntett árak a 2020.02.01.-től "},null,null,"Javasolt tömlőméret ø [mm]","8",null,null,null,"8",null,null,null,8,null,null,null,null,{"$f":"Fúrók!$A25","v":"A feltüntett árak a 2020.02.01.-től "},null,null,null,null,null,null,null,null,null,null,null,null,null,null,null,null,{"$f":"Fúrók!$A25","v":"A feltüntett árak a 2020.02.01.-től "}]
[{"$f":"Fúrók!$A26","v":"érvényes listaárak."},null,null,"Max. nyomás [bar] ","6,3",null,null,null,"6,3",null,null,null,"6,3",null,null,null,null,{"$f":"Fúrók!$A26","v":"érvényes listaárak."},null,null,null,null,null,null,null,null,null,null,null,null,null,null,null,null,{"$f":"Fúrók!$A26","v":"érvényes listaárak."}]
[{"$f":"Fúrók!$A27","v":"* jelöléssel ellátott termékek a "},null,null,"Átlagos levegőfogyasztás [l/min]  ","385",null,null,null,"410",null,null,null,"525",null,null,null,null,{"$f":"Fúrók!#REF!","v":{"$error":"#REF!"}},null,null,null,null,null,null,null,null,null,null,null,null,null,null,null,null,{"$f":"Fúrók!$A27","v":"* jelöléssel ellátott termékek a "}]
[{"$f":"Fúrók!$A28","v":"RC TOPS és CP STAR akciós"},null,null,"Folyamatos levegőfogyasztás [l/min]","420",null,null,null,"570",null,null,null,"700",null,null,null,null,{"$f":"Fúrók!$A27","v":"* jelöléssel ellátott termékek a "},null,null,null,null,null,null,null,null,null,null,null,null,null,null,null,null,{"$f":"Fúrók!$A28","v":"RC TOPS és CP STAR akciós"}]
[{"$f":"Fúrók!$A29","v":"kiadvány árai"},null,null,"Levegőcsatlakozás [inch]","1/4 Zoll IG",null,null,null,"1/4 Zoll IG",null,null,null,"1/4 Zoll IG",null,null,null,null,{"$f":"Fúrók!$A28","v":"RC TOPS és CP STAR akciós"},null,null,null,null,null,null,null,null,null,null,null,null,null,null,null,null,{"$f":"Fúrók!$A29","v":"kiadvány árai"}]
[{"$f":"Fúrók!$A30","v":"SP jelöléssel ellátott termékekre"},null,null,"Hangnyomásszint LpA  ","85,8",null,null,null,"81",null,null,null,"81",null,null,null,null,{"$f":"Fúrók!$A29","v":"kiadvány árai"},null,null,null,null,null,null,null,null,null,null,null,null,null,null,null,null,{"$f":"Fúrók!$A30","v":"SP jelöléssel ellátott termékekre"}]
[{"$f":"Fúrók!$A31","v":"speciális viszonteladói árkézés"},null,null,"Hangenergiaszint, LwA [dB(A)]",null,null,null,null,null,null,null,null,null,null,null,null,null,{"$f":"Fúrók!$A30","v":"SP jelöléssel ellátott termékekre"},null,null,null,null,null,null,null,null,null,null,null,null,null,null,null,null,{"$f":"Fúrók!$A31","v":"speciális viszonteladói árkézés"}]
[{"$f":"Fúrók!$A32","v":"vonatkozik. Az Extra árak"},null,null,"Vibráció [m/s2]  ","1,46",null,null,null,"<3,2 m/s²",null,null,null,"2,7",null,null,null,null,{"$f":"Fúrók!$A31","v":"speciális viszonteladói árkézés"},null,null,null,null,null,null,null,null,null,null,null,null,null,null,null,null,{"$f":"Fúrók!$A32","v":"vonatkozik. Az Extra árak"}]
[{"$f":"Fúrók!$A33","v":"a készlet erejéig, illetve"},null,null,"Használati besorolás","3 -igen magas színvonalú",null,null,null,"3 -igen magas színvonalú",null,null,null,"3 -igen magas színvonalú",null,null,null,null,{"$f":"Fúrók!$A32","v":"vonatkozik. Az Extra árak"},null,null,null,null,null,null,null,null,null,null,null,null,null,null,null,null,{"$f":"Fúrók!$A33","v":"a készlet erejéig, illetve"}]
[{"$f":"Fúrók!$A34","v":"visszavonásig érvényesek."},null,null,"Cikkszám / Típus / (Listaár) Nettó ár",8951175011,"RC7016RE",null,null,8951000019,"RC7150",{"$f":"VLOOKUP(I34,Árlista!$B:$D,3,0)","v":"TOPS* 42 490,-Ft"},null,8951072001,"RC7120",{"$f":"VLOOKUP(M34,Árlista!$B:$D,3,0)","v":"104 000,-Ft "},null,null,null,null,null,"Chicago Pneumatic"," CP7202",null,null,null,"CP3070-120G",null,null,null,"CP9778 ",null,null,null,null,{"$f":"Fúrók!$A34","v":"visszavonásig érvényesek."}]
[{"$f":"Fúrók!$A35","v":"Az árista a Techtomat Kft és"},null,null,null,null,null,null,null,null,null,null,null,null,null,null,null,null,{"$f":"Fúrók!$A35","v":"Az árista a Techtomat Kft és"},null,null,null,"Motorteljesítmény:  150W    Talpméret: 75mm\nFordulatszám: 15 000 RPM \nKönnyű, jól kezelhető Roloc rendszerű csíszoló.",null,null,null,"Motorteljesítmény:  375W    Talpméret: 125mm\nFordulatszám: 12 000 RPM   \nIpari, nagy megízhatóságú csiszoló.",null,null,null,"Motorteljesítmény:  375W    Talpméret: 125mm\nFordulatszám: 14 000 RPM   \nMagas fordulatú csiszoló.",null,null,null,null,{"$f":"Fúrók!$A35","v":"Az árista a Techtomat Kft és"}]
[{"$f":"Fúrók!$A36","v":"Kapitár Kft közös gondozásában"},null,null,"Cikkszám / Típus / (Listaár) Nettó ár",8951075111,"RC7015RE",null,null,8951011544,"75x22",{"$f":"VLOOKUP(I36,Árlista!$B:$D,3,0)","v":"1 960,-Ft "},null,8951011546,"180 Fiber",null,null,null,{"$f":"Fúrók!$A36","v":"Kapitár Kft közös gondozásában"},null,null,null,null,null,null,null,null,null,null,null,null,null,null,null,null,{"$f":"Fúrók!$A36","v":"Kapitár Kft közös gondozásában"}]
[{"$f":"Fúrók!$A37","v":" jelent meg."},null,null,"Cikkszám / Típus / (Listaár) Nettó ár",8951011557,"5db/50",{"$f":"VLOOKUP(E37,Árlista!$B:$D,3,0)","v":"6 720,-Ft "},null,8951011545,"105x22",{"$f":"VLOOKUP(I37,Árlista!$B:$D,3,0)","v":"1 960,-Ft "},null,8951011605,"150 Velcro",{"$f":"VLOOKUP(M37,Árlista!$B:$D,3,0)","v":"4 480,-Ft "},null,null,{"$f":"Fúrók!$A37","v":" jelent meg."},null,null,null,null,null,null,null,null,null,null,null,null,null,null,null,null,{"$f":"Fúrók!$A37","v":" jelent meg."}]
[{"$f":"Fúrók!$A38","v":"Minden jog fenntartva."},null,null,"Cikkszám / Típus / (Listaár) Nettó ár",8951011558,"5db/75",{"$f":"VLOOKUP(E38,Árlista!$B:$D,3,0)","v":"10 090,-Ft "},null,8951011548,"115x22",{"$f":"VLOOKUP(I38,Árlista!$B:$D,3,0)","v":"1 400,-Ft "},null,null,null,null,null,null,{"$f":"Fúrók!$A38","v":"Minden jog fenntartva."},null,null,null,null,null,null,null,null,null,null,null,null,null,null,null,null,{"$f":"Fúrók!$A38","v":"Minden jog fenntartva."}]
[null,null,null,null,null,null,null,null,null,null,null,null,null,null,null,null,null,null,null,null,"Cikkszám / Típus / (Listaár) Nettó ár",8941072021,"CP7202",{"$f":"VLOOKUP(V39,Árlista!$B:$D,3,0)","v":"52 790,-Ft "},null,6151620090,"3070-120G",{"$f":"VLOOKUP(Z39,Árlista!$B:$D,3,0)","v":"215 100,-Ft "},null,6151939778,"CP9778",{"$f":"VLOOKUP(AD39,Árlista!$B:$D,3,0)","v":"53 120,-Ft "}]
[{"$f":"Fúrók!$A40","v":"Bővebb információ:"},null,null,null,null,null,null,null,null,null,null,null,null,null,null,null,null,{"$f":"Fúrók!$A40","v":"Bővebb információ:"},null,null,"Cikkszám / Típus / (Listaár) Nettó ár",8941172021,"CP7202 KIT",{"$f":"VLOOKUP(V40,Árlista!$B:$D,3,0)","v":"STARS* 43 630,-Ft"},null,null,null,null,null,null,null,null,null,null,{"$f":"Fúrók!$A40","v":"Bővebb információ:"}]
[{"$f":"Fúrók!$A41","v":"Szabó Attila"},null,null,null,null,null,null,null,null,null,null,null,null,null,null,null,null,{"$f":"Fúrók!$A41","v":"Szabó Attila"},null,null,null,null,null,null,null,null,null,null,null,null,null,null,null,null,{"$f":"Fúrók!$A41","v":"Szabó Attila"}]
[{"$f":"Fúrók!$A42","v":"30/201-4931 vagy 30/626-8687"},null,null,null,null,null,null,null,null,null,null,null,null,null,null,null,null,{"$f":"Fúrók!$A42","v":"30/201-4931 vagy 30/626-8687"},null,null,null,null,null,null,null,null,null,null,null,null,null,null,null,null,{"$f":"Fúrók!$A42","v":"30/201-4931 vagy 30/626-8687"}]
[{"$f":"Fúrók!$A43","v":"e-mail"},null,null,null,null,null,null,null,null,null,null,null,null,null,null,null,null,null,null,null,null,null,null,null,null,null,null,null,null,null,null,null,null,null,{"$f":"Fúrók!$A43","v":"e-mail"}]
[{"$f":"Fúrók!$A44","v":"Tóth Tamás"},null,null,null,null,null,null,null,null,null,null,null,null,null,null,null,null,{"$f":"Fúrók!$A44","v":"Tóth Tamás"},null,null,null,null,null,null,null,null,null,null,null,null,null,null,null,null,{"$f":"Fúrók!$A44","v":"Tóth Tamás"}]
[{"$f":"Fúrók!$A45","v":"30/603-1596"},null,null,null,null,null,null,null,null,null,null,null,null,null,null,null,null,{"$f":"Fúrók!$A45","v":"30/603-1596"},null,null,null,null,null,null,null,null,null,null,null,null,null,null,null,null,{"$f":"Fúrók!$A45","v":"30/603-1596"}]
[]
[]
[]
[]
[]
[]
[]
[]
[null,null,null,"Típus","Rodcraft RC7683K",null,null,null,"Rodcraft RC7681K",null,null,null,"Rodcraft RC7130"]
[null,null,null,"Motorteljesítmény [W]","150","Mini polírozó szett, zajcsökkentővel 75mm-es velcro paddal. Ideális karosszárián lévő kisebb felületek, plexik, lámpabúrák polírozására. A készlet tartalma: \n1db polírozó szivacs (fehér)\n1db polírozó szivacs (sárga)\n1db polírozó gyapjú tárcsa.",null,null,"150","Direkthajtásos \"sarokcsiszoló\" SET. Kis felületű hibák javítására. Könnyű, kompozitházas, kézreálló az egykezes használat érdekében. 3M Roloc rendszerű 50 és 75-ös paddal, vágó és csiszolótárcsákkal.",null,null,"500","Ergonomikus kialakítású polírozó. Hátsó levegőelvezetéssel és zajcsökkentővel. Oldalfogantyúja áthelyezhető. Könnyű karbantartás a kúpkerekeknél lévő zsírzógomb révén.  M14x2 kihajtással is rendelhető. 170 mm-es szivacspárnás tárcsával, gyapjú borítással. 150-es tárcsa is rendelhető!\n"]
[null,null,null,"Kihajtási méret","5/16\"",null,null,null,"1/4\" AG",null,null,null,"5/8\""]
[null,null,null,"Tárcsaméret [mm]","50-75",null,null,null,"180",null,null,null,"180"]
[null,null,null,"Üresjárati fordulat [rpm]","5500",null,null,null,"15000",null,null,null,"2500"]
[null,null,null,"Tömeg [kg]","0,6",null,null,null,"0,4",null,null,null,"0,55"]
[null,null,null,"Javasolt tömlőméret ø [mm]","8",null,null,null,8,null,null,null,8]
[null,null,null,"Max. nyomás [bar] ","6,3",null,null,null,"6,3",null,null,null,"6,3"]
[null,null,null,"Átlagos levegőfogyasztás [l/min]  ","360",null,null,null,null,null,null,null,"525"]
[null,null,null,"Folyamatos levegőfogyasztás [l/min]","480",null,null,null,null,null,null,null,"700"]
[null,null,null,"Levegőcsatlakozás [inch]","1/4 Zoll IG",null,null,null,"1/4 Zoll IG",null,null,null,"1/4 Zoll IG"]
[null,null,null,"Hangnyomásszint LpA  ","78,5",null,null,null,null,null,null,null,"88"]
[null,null,null,"Hangenergiaszint, LwA [dB(A)]"]
[null,null,null,"Vibráció [m/s2]  ","3,8",null,null,null,null,null,null,null,"3"]
[null,null,null,"Használati besorolás","2 -megnövekedett igényekhez",null,null,null,"3 -igen magas színvonalú",null,null,null,"3 -igen magas színvonalú"]
[null,null,null,"Cikkszám / Típus / (Listaár) Nettó ár",8951000017,"RC7683K",{"$f":"VLOOKUP(E69,Árlista!$B:$D,3,0)","v":"TOPS* 47 590,-Ft"},null,8951000019,"RC7681K",{"$f":"VLOOKUP(I69,Árlista!$B:$D,3,0)","v":"TOPS* 42 490,-Ft"},null,8951072004,"RC7130",{"$f":"VLOOKUP(M69,Árlista!$B:$D,3,0)","v":"TOPS* 98 500,-Ft"}]
[]
[null,null,null,"Cikkszám / Típus / (Listaár) Nettó ár",null,null,null,null,null,null,null,null,8951011549,"170-es pad",{"$f":"VLOOKUP(M71,Árlista!$B:$D,3,0)","v":"14 850,-Ft "}]
[null,null,null,"Cikkszám / Típus / (Listaár) Nettó ár",null,null,null,null,null,null,null,null,8951011550,"Gyapjú",{"$f":"VLOOKUP(M72,Árlista!$B:$D,3,0)","v":"8 400,-Ft "}]
[]
[]
[]
[null,null,null,"Típus","Rodcraft RC7210"]
[null,null,null,"Motorteljesítmény [W]","150","RC7682 Excenter csiszoló, valamint RC7683 Mini polírozó 75mm-es velcro paddal. Ideális karosszárián lévő kisebb felületek, plexik, lámpabúrák polírozására. \nKönnyű kompozitházas, kézreálló kialakítás az egykezes munkavégzés érdekében.\n- 6X10 db különböző finomságú csiszolópapír\n- 1 db puhacsiszoló\n- 2 db polírkorong\n- Polírozó krém fényszóróhoz és festékhez\n- 2 db  Ø75mm  1db Ø50mm  csiszolópad\n- 1 db micro fiber kendő"]
[null,null,null,"Kihajtási méret","5/16\""]
[null,null,null,"Tárcsaméret [mm]","50-75"]
[null,null,null,"Üresjárati fordulat [rpm]","5500"]
[null,null,null,"Tömeg [kg]","0,6"]
[null,null,null,"Javasolt tömlőméret ø [mm]","8"]
[null,null,null,"Max. nyomás [bar] ","6,3"]
[null,null,null,"Átlagos levegőfogyasztás [l/min]  ","360"]
[null,null,null,"Folyamatos levegőfogyasztás [l/min]","480"]
[null,null,null,"Levegőcsatlakozás [inch]","1/4 Zoll IG"]
[null,null,null,"Hangnyomásszint LpA  ","78,5"]
[null,null,null,"Hangenergiaszint, LwA [dB(A)]"]
[null,null,null,"Vibráció [m/s2]  ","3,8"]
[null,null,null,"Használati besorolás","2 -megnövekedett igényekhez"]
[null,null,null,"Cikkszám / Típus / (Listaár) Nettó ár",8951000296,"RC7683K",{"$f":"VLOOKUP(E91,Árlista!$B:$D,3,0)","v":"TOPS* 122 500,-Ft"}]

{"sheet":"Légkulcsok","index":11,"n_rows":358,"n_cols":35,"rows_kept":358,"cut":false,"hidden":false,"merged":[[353,21,356,24],[357,21,358,21],[357,22,358,22],[357,23,358,23],[357,24,358,24],[313,29,313,32],[240,4,240,7],[240,8,240,11],[240,12,240,15],[267,4,268,7],[267,8,268,11],[267,12,268,15],[241,13,249,15],[357,32,358,32],[339,32,340,32],[320,24,321,24],[320,25,321,25],[320,26,321,26],[300,21,301,21],[300,22,301,22],[300,23,301,23],[300,24,301,24],[300,25,301,25],[300,26,301,26],[182,4,182,7],[182,8,182,11],[182,12,182,15],[212,4,212,7],[212,8,212,11],[212,12,212,15],[154,5,162,7],[154,9,162,11],[154,13,162,15],[183,5,191,7],[183,9,191,11],[183,13,191,15],[194,15,195,15],[164,4,164,7],[164,8,164,11],[193,4,193,7],[194,13,195,13],[194,14,195,14],[167,8,168,8],[167,9,168,9],[193,12,193,15],[167,11,168,11],[96,12,96,15],[110,7,111,7],[124,4,124,7],[124,8,124,11],[124,12,124,15],[97,5,105,7],[97,9,105,11],[108,4,109,4],[153,4,153,7],[153,8,153,11],[153,12,153,15],[83,13,84,13],[83,14,84,14],[83,15,84,15],[42,4,42,7],[42,8,42,11],[42,12,42,15],[69,4,69,7],[69,8,69,11],[69,12,69,15],[83,7,84,7],[43,5,51,7],[43,9,51,11],[43,13,51,15],[70,5,78,7],[70,9,78,11],[83,4,84,4],[83,5,84,5],[83,6,84,6],[83,8,84,8],[83,9,84,9],[83,10,84,10],[83,11,84,11],[83,12,84,12],[236,32,237,32],[238,32,239,32],[238,20,239,20],[238,21,239,21],[238,22,239,22],[238,23,239,23],[238,24,239,24],[238,25,239,25],[238,26,239,26],[238,27,239,27],[238,28,239,28],[236,28,237,28],[236,29,237,29],[236,30,237,30],[236,31,237,31],[234,23,235,23],[234,25,235,25],[238,29,239,29],[238,30,239,30],[238,31,239,31],[357,20,358,20],[357,25,358,25],[357,26,358,26],[357,27,358,27],[357,28,358,28],[357,29,358,29],[357,30,358,30],[357,31,358,31],[339,30,340,30],[339,31,340,31],[339,23,340,23],[339,24,340,24],[339,25,340,25],[339,26,340,26],[339,27,340,27],[339,28,340,28],[339,29,340,29],[320,29,321,29],[293,29,293,32],[232,21,233,21],[232,22,233,22],[232,23,233,23],[232,24,233,24],[232,25,233,25],[232,26,233,26],[232,27,233,27],[232,28,233,28],[112,20,113,20],[112,21,113,21],[112,22,113,22],[112,23,113,23],[112,24,113,24],[190,28,191,28],[169,27,170,27],[169,28,170,28],[169,24,170,24],[125,20,128,20],[144,20,147,20],[165,20,168,20],[186,20,189,20],[232,20,233,20],[190,24,191,24],[169,23,170,23],[232,29,233,29],[232,30,233,30],[236,21,237,21],[339,21,340,21],[339,22,340,22],[320,30,321,30],[320,31,321,31],[320,32,321,32],[337,20,338,20],[337,21,338,21],[337,22,338,22],[337,23,338,23],[337,24,338,24],[337,25,338,25],[337,26,338,26],[337,27,338,27],[337,28,338,28],[337,29,338,29],[337,30,338,30],[337,31,338,31],[337,32,338,32],[320,20,321,20],[320,21,321,21],[320,22,321,22],[300,27,301,27],[300,28,301,28],[320,27,321,27],[320,28,321,28],[318,21,319,21],[318,22,319,22],[318,23,319,23],[318,24,319,24],[318,25,319,25],[318,26,319,26],[318,27,319,27],[318,28,319,28],[314,21,317,24],[314,25,317,28],[320,23,321,23],[298,28,299,28],[298,29,299,29],[298,30,299,30],[298,31,299,31],[298,32,299,32],[260,21,261,21],[260,22,261,22],[260,23,261,23],[260,24,261,24],[260,25,261,25],[260,26,261,26],[260,27,261,27],[260,28,261,28],[278,25,279,25],[278,26,279,26],[278,27,279,27],[278,28,279,28],[274,21,277,24],[274,25,277,28],[274,29,277,32],[278,32,279,32],[278,23,279,23],[278,24,279,24],[298,27,299,27],[234,27,235,27],[214,20,215,20],[214,21,215,21],[214,22,215,22],[214,23,215,23],[214,24,215,24],[214,25,215,25],[214,26,215,26],[280,20,281,20],[280,21,281,21],[280,22,281,22],[280,23,281,23],[236,22,237,22],[236,23,237,23],[236,24,237,24],[236,25,237,25],[236,26,237,26],[236,27,237,27],[280,24,281,24],[280,25,281,25],[280,26,281,26],[280,27,281,27],[214,27,215,27],[234,24,235,24],[214,32,215,32],[256,20,257,20],[256,21,257,21],[256,22,257,22],[256,23,257,23],[256,24,257,24],[256,25,257,25],[256,26,257,26],[256,27,257,27],[256,28,257,28],[256,29,257,29],[256,30,257,30],[256,31,257,31],[256,32,257,32],[232,31,233,31],[232,32,233,32],[234,20,235,20],[234,21,235,21],[234,22,235,22],[234,28,235,28],[234,29,235,29],[234,30,235,30],[234,31,235,31],[234,32,235,32],[210,32,211,32],[212,20,213,20],[212,21,213,21],[212,22,213,22],[212,23,213,23],[212,24,213,24],[212,25,213,25],[212,26,213,26],[212,27,213,27],[212,28,213,28],[212,29,213,29],[212,30,213,30],[212,31,213,31],[212,32,213,32],[210,20,211,20],[210,21,211,21],[210,22,211,22],[210,23,211,23],[210,24,211,24],[280,28,281,28],[280,29,281,29],[280,30,281,30],[280,31,281,31],[280,32,281,32],[190,32,191,32],[192,20,193,20],[192,21,193,21],[192,22,193,22],[192,23,193,23],[192,24,193,24],[192,25,193,25],[192,26,193,26],[192,27,193,27],[192,28,193,28],[192,29,193,29],[192,30,193,30],[192,31,193,31],[192,32,193,32],[190,20,191,20],[190,21,191,21],[190,22,191,22],[190,23,191,23],[190,27,191,27],[278,21,279,21],[278,22,279,22],[190,29,191,29],[190,30,191,30],[190,31,191,31],[210,25,211,25],[210,26,211,26],[210,27,211,27],[210,28,211,28],[278,29,279,29],[278,30,279,30],[278,31,279,31],[258,29,259,29],[258,30,259,30],[258,31,259,31],[214,28,215,28],[214,29,215,29],[210,29,211,29],[210,30,211,30],[210,31,211,31],[214,30,215,30],[214,31,215,31],[234,26,235,26],[228,25,231,28],[169,29,170,29],[169,30,170,30],[169,31,170,31],[171,27,172,27],[171,28,172,28],[171,29,172,29],[171,30,172,30],[171,31,172,31],[148,29,149,29],[148,30,149,30],[148,31,149,31],[148,32,149,32],[150,20,151,20],[150,21,151,21],[150,22,151,22],[150,23,151,23],[150,24,151,24],[150,25,151,25],[150,26,151,26],[150,27,151,27],[150,28,151,28],[150,29,151,29],[150,30,151,30],[150,31,151,31],[150,32,151,32],[148,20,149,20],[148,21,149,21],[148,22,149,22],[148,23,149,23],[131,31,132,31],[131,32,132,32],[129,20,130,20],[129,21,130,21],[129,23,130,23],[129,24,130,24],[131,22,132,22],[131,23,132,23],[131,24,132,24],[131,25,132,25],[131,28,132,28],[131,29,132,29],[131,30,132,30],[93,20,94,20],[93,21,94,21],[93,22,94,22],[93,23,94,23],[93,24,94,24],[93,25,94,25],[93,26,94,26],[93,27,94,27],[93,28,94,28],[95,20,96,20],[95,21,96,21],[95,22,96,22],[95,23,96,23],[95,24,96,24],[95,25,96,25],[95,26,96,26],[95,27,96,27],[95,28,96,28],[91,32,92,32],[129,25,130,25],[129,26,130,26],[129,27,130,27],[129,28,130,28],[93,29,94,29],[93,30,94,30],[93,31,94,31],[93,32,94,32],[95,29,96,29],[95,30,96,30],[95,31,96,31],[95,32,96,32],[108,25,111,28],[112,25,113,25],[112,26,113,26],[112,27,113,27],[112,28,113,28],[112,29,113,29],[112,30,113,30],[112,31,113,31],[112,32,113,32],[91,27,92,27],[91,28,92,28],[91,29,92,29],[91,30,92,30],[91,31,92,31],[21,21,22,21],[21,22,22,22],[21,23,22,23],[21,24,22,24],[91,22,92,22],[91,23,92,23],[91,24,92,24],[91,25,92,25],[91,26,92,26],[55,21,56,21],[55,22,56,22],[55,23,56,23],[55,24,56,24],[55,25,56,25],[55,26,56,26],[55,27,56,27],[55,28,56,28],[38,21,39,21],[38,22,39,22],[38,23,39,23],[38,24,39,24],[38,25,39,25],[38,26,39,26],[38,27,39,27],[226,12,227,12],[167,4,168,4],[97,13,105,15],[125,5,133,7],[125,9,133,11],[125,13,133,15],[110,10,111,10],[110,11,111,11],[108,5,109,5],[108,6,109,6],[108,7,109,7],[108,8,109,8],[108,9,109,9],[136,10,137,10],[136,11,137,11],[136,12,137,12],[136,13,137,13],[164,12,164,15],[167,7,168,7],[68,21,71,24],[68,25,71,28],[68,29,71,32],[74,30,75,30],[72,21,73,21],[72,22,73,22],[74,28,75,28],[72,25,73,25],[72,26,73,26],[72,27,73,27],[72,28,73,28],[74,21,75,21],[74,22,75,22],[74,23,75,23],[74,24,75,24],[74,25,75,25],[74,26,75,26],[74,27,75,27],[87,20,90,20],[87,21,90,24],[91,20,92,20],[91,21,92,21],[55,29,56,29],[55,30,56,30],[55,31,56,31],[55,32,56,32],[72,29,73,29],[72,30,73,30],[72,31,73,31],[72,32,73,32],[74,29,75,29],[74,31,75,31],[74,32,75,32],[72,23,73,23],[72,24,73,24],[87,25,90,28],[87,29,90,32],[144,29,147,32],[125,21,128,24],[125,25,128,28],[206,20,209,20],[206,21,209,24],[206,25,209,28],[148,27,149,27],[148,28,149,28],[129,29,130,29],[129,30,130,30],[129,31,130,31],[129,32,130,32],[131,20,132,20],[131,21,132,21],[171,32,172,32],[169,20,170,20],[169,21,170,21],[169,22,170,22],[131,26,132,26],[131,27,132,27],[260,29,261,29],[260,30,261,30],[260,31,261,31],[260,32,261,32],[258,20,259,20],[258,21,259,21],[258,22,259,22],[258,23,259,23],[258,24,259,24],[258,25,259,25],[258,26,259,26],[258,27,259,27],[258,28,259,28],[252,21,255,24],[169,25,170,25],[169,26,170,26],[252,25,255,28],[252,29,255,32],[228,20,231,20],[228,21,231,24],[27,4,27,7],[74,20,75,20],[70,13,78,15],[28,14,29,14],[28,15,29,15],[54,10,55,10],[54,11,55,11],[54,12,55,12],[54,13,55,13],[54,14,55,14],[54,15,55,15],[28,12,29,12],[28,13,29,13],[28,10,29,10],[28,11,29,11],[72,20,73,20],[228,29,231,32],[16,4,16,7],[16,8,16,11],[16,12,16,15],[17,5,25,7],[17,9,25,11],[17,13,25,15],[34,20,37,20],[51,20,54,20],[68,20,71,20],[55,20,56,20],[21,20,22,20],[51,21,54,24],[38,20,39,20],[17,21,20,24],[17,25,20,28],[17,29,20,32],[51,25,54,28],[51,29,54,32],[21,29,22,29],[21,30,22,30],[21,31,22,31],[21,32,22,32],[34,21,37,24],[34,25,37,28],[34,29,37,32],[38,29,39,29],[38,30,39,30],[38,31,39,31],[38,32,39,32],[21,25,22,25],[38,28,39,28],[17,20,20,20],[21,26,22,26],[21,27,22,27],[21,28,22,28],[352,33,352,36],[294,21,297,24],[294,25,297,28],[294,29,297,32],[353,25,356,28],[353,29,356,32],[353,33,356,36],[333,21,336,24],[333,25,336,28],[333,29,336,32],[300,29,301,29],[300,30,301,30],[300,31,301,31],[300,32,301,32],[318,29,319,29],[318,30,319,30],[318,31,319,31],[318,32,319,32],[298,21,299,21],[298,22,299,22],[298,23,299,23],[298,24,299,24],[298,25,299,25],[298,26,299,26],[314,29,317,32],[125,29,128,32],[165,21,168,24],[165,25,168,28],[165,29,168,32],[144,21,147,24],[144,25,147,28],[258,32,259,32],[129,22,130,22],[206,29,209,32],[186,25,189,28],[186,29,189,32],[148,24,149,24],[148,25,149,25],[148,26,149,26],[169,32,170,32],[171,21,172,21],[171,22,172,22],[171,23,172,23],[171,24,172,24],[171,25,172,25],[171,26,172,26],[190,25,191,25],[190,26,191,26],[108,20,111,20],[108,21,111,24],[108,29,111,32],[186,21,189,24],[81,10,82,10],[81,11,82,11],[81,12,82,12],[81,13,82,13],[81,14,82,14],[81,15,82,15],[108,12,109,12],[108,13,109,13],[108,14,109,14],[108,15,109,15],[165,12,166,12],[165,13,166,13],[165,14,166,14],[165,15,166,15],[108,10,109,10],[108,11,109,11],[171,20,172,20],[136,15,137,15],[167,12,168,12],[167,10,168,10],[28,3,29,3],[28,5,29,5],[54,3,55,3],[54,4,55,4],[54,5,55,5],[54,6,55,6],[54,7,55,7],[54,8,55,8],[54,9,55,9],[28,4,29,4],[28,6,29,6],[28,7,29,7],[28,8,29,8],[28,9,29,9],[83,3,84,3],[81,3,82,3],[81,4,82,4],[81,5,82,5],[81,6,82,6],[81,7,82,7],[81,8,82,8],[81,9,82,9],[110,3,111,3],[110,4,111,4],[110,5,111,5],[110,6,111,6],[110,8,111,8],[110,9,111,9],[108,3,109,3],[96,4,96,7],[96,8,96,11],[252,3,253,3],[252,4,253,4],[252,5,253,5],[252,6,253,6],[252,7,253,7],[252,8,253,8],[252,9,253,9],[252,10,253,10],[252,11,253,11],[138,3,139,3],[138,4,139,4],[138,5,139,5],[136,3,137,3],[136,4,137,4],[136,5,137,5],[136,6,137,6],[136,7,137,7],[136,8,137,8],[138,7,139,7],[241,5,249,7],[241,9,249,11],[167,3,168,3],[167,5,168,5],[252,12,253,12],[252,13,253,13],[252,14,253,14],[252,15,253,15],[110,12,111,12],[110,14,111,14],[110,15,111,15],[110,13,111,13],[138,12,139,12],[138,13,139,13],[138,14,139,14],[138,15,139,15],[167,13,168,13],[167,14,168,14],[167,15,168,15],[226,13,227,13],[226,14,227,14],[226,15,227,15],[135,12,135,15],[136,14,137,14],[223,12,223,15],[213,5,221,7],[213,13,221,15],[194,12,195,12],[224,3,225,3],[224,4,225,4],[224,5,225,5],[224,6,225,6],[224,7,225,7],[224,8,225,8],[224,9,225,9],[224,10,225,10],[224,11,225,11],[224,12,225,12],[224,13,225,13],[224,14,225,14],[224,15,225,15],[165,3,166,3],[165,4,166,4],[165,5,166,5],[165,6,166,6],[165,7,166,7],[165,8,166,8],[165,9,166,9],[165,10,166,10],[165,11,166,11],[226,3,227,3],[226,4,227,4],[226,5,227,5],[226,6,227,6],[226,8,227,8],[226,9,227,9],[226,10,227,10],[226,11,227,11],[194,8,195,8],[194,9,195,9],[194,10,195,10],[194,11,195,11],[226,7,227,7],[213,9,221,11],[194,3,195,3],[194,4,195,4],[194,5,195,5],[194,6,195,6],[194,7,195,7],[223,4,223,7],[223,8,223,11],[251,4,251,7],[251,8,251,11],[251,12,251,15],[27,8,27,11],[27,12,27,15],[53,4,53,7],[53,8,53,11],[53,12,53,15],[80,4,80,7],[80,8,80,11],[80,12,80,15],[107,4,107,7],[107,8,107,11],[107,12,107,15],[138,6,139,6],[138,8,139,8],[138,9,139,9],[138,10,139,10],[138,11,139,11],[135,4,135,7],[135,8,135,11],[193,8,193,11],[136,9,137,9],[167,6,168,6],[274,20,277,20],[294,20,297,20],[314,20,317,20],[333,20,336,20],[353,20,356,20],[278,20,279,20],[236,20,237,20],[298,20,299,20],[300,20,301,20],[318,20,319,20],[339,20,340,20],[252,20,255,20],[260,20,261,20]]}
["RODCRAFT",null,null,null,"Általános karbantartáshoz",null,null,null,null,null,"Ipari karbantartáshoz és gyártáshoz",null,null,null,null,null,null,"CHICAGO PNEUMATIC",null,null,"Általános karbantartáshoz",null,null,"Ipari karbantartáshoz és gyártáshoz",null,null,null,null,"Ipari körülményekhez -sorozatgyártás",null,null,null,null,null,"RODCRAFT"]
["Árlista",null,null,null,null,null,null,null,null,null,null,null,null,null,null,null,null,"Árlista",null,null,null,null,null,null,null,null,null,null,null,null,null,null,null,null,"Árlista"]
["Megrendelő",null,null,null,null,null,null,null,null,null,null,null,null,null,null,null,null,"Megrendelő",null,null,null,null,null,null,null,null,null,null,null,null,null,null,null,null,"Megrendelő"]
["Fúrók",null,null,null,null,null,null,null,null,null,null,null,null,null,null,null,null,"Fúrók",null,null,null,null,null,null,null,null,null,null,null,null,null,null,null,null,"Fúrók"]
["Racsnis kulcsok",null,null,null,null,null,null,null,null,null,null,null,null,null,null,null,null,"Racsnis kulcsok",null,null,null,null,null,null,null,null,null,null,null,null,null,null,null,null,"Racsnis kulcsok"]
["Csavarbehajtók",null,null,null,null,null,null,null,null,null,null,null,null,null,null,null,null,"Csavarbehajtók",null,null,null,null,null,null,null,null,null,null,null,null,null,null,null,null,"Csavarbehajtók"]
["Sarokcsiszolók",null,null,null,null,null,null,null,null,null,null,null,null,null,null,null,null,"Sarokcsiszolók",null,null,null,null,null,null,null,null,null,null,null,null,null,null,null,null,"Sarokcsiszolók"]
["Légkulcsok",null,null,null,null,null,null,null,null,null,null,null,null,null,null,null,null,"Légkulcsok",null,null,null,null,null,null,null,null,null,null,null,null,null,null,null,null,"Légkulcsok"]
["Egyenes csiszolók",null,null,null,null,null,null,null,null,null,null,null,null,null,null,null,null,"Egyenes csiszolók",null,null,null,null,null,null,null,null,null,null,null,null,null,null,null,null,"Egyenes csiszolók"]
["Szalag és excenter csiszolók",null,null,null,null,null,null,null,null,null,null,null,null,null,null,null,null,"Szalag és excenter csiszolók",null,null,null,null,null,null,null,null,null,null,null,null,null,null,null,null,"Szalag és excenter csiszolók"]
["Polír- és fiber csiszolók",null,null,null,null,null,null,null,null,null,null,null,null,null,null,null,null,"Polír- és fiber csiszolók",null,null,null,null,null,null,null,null,null,null,null,null,null,null,null,null,"Polír- és fiber csiszolók"]
["Vésők, leverők …",null,null,null,null,null,null,null,null,null,null,null,null,null,null,null,null,"Vésők, leverők …",null,null,null,null,null,null,null,null,null,null,null,null,null,null,null,null,"Vésők, leverők …"]
["Szóró- és lefúvató pisztolyok",null,null,null,null,null,null,null,null,null,null,null,null,null,null,null,null,"Vágók, fűrészek, szegecshúzók",null,null,null,null,null,null,null,null,null,null,null,null,null,null,null,null,"Szóró- és lefúvató pisztolyok"]
["Vágók, fűrészek, szegecshúzók",null,null,null,null,null,null,null,null,null,null,null,null,null,null,null,null,"Szóró- és lefúvató pisztolyok",null,null,null,null,null,null,null,null,null,null,null,null,null,null,null,null,"Vágók, fűrészek, szegecshúzók"]
["Dugókulcsok",null,null,null,null,null,null,null,null,null,null,null,null,null,null,null,null,"Dugókulcsok",null,null,null,null,null,null,null,null,null,null,null,null,null,null,null,null,"Dugókulcsok"]
["Csatlakozók",null,null,null,null,null,null,null,null,null,null,null,null,null,null,null,null,"Csatlakozók",null,null,null,null,null,null,null,null,null,null,null,null,null,null,null,null,"Csatlakozók"]
["Abroncstöltők",null,null,"Típus","Rodcraft RC2202",null,null,null,"Rodcraft RC2077",null,null,null,"Rodcraft RC2003",null,null,null,null,"Abroncstöltők",null,null,"Chicago Pneumatic"," CP6728-P05R",null,null,null,"CP7711",null,null,null," CP721",null,null,null,null,"Abroncstöltők"]
["ABAC Levegős szerszámok",null,null,"Kihajtási méret  [inch]","□ 1/2\"","Rendkívül rövid 112 mm, ugyanakkor tiszteletet parancsoló erő 610Nm\nDupla kalapácsos  olajos ütőművel, magas ütésszámmal\nNyomatékállítási és irányváltási lehetőséggel.",null,null,"□ 1/4\"","1/4\"-os könnyű, kompozitházas ütvecsavarozó. Több fokozatban állítható. Egykezes irányváltóval 40Nm max meghúzási, és 60Nm max oldási nyomatékkal.\n",null,null,"□ 1/4\"","Kicsi, marok készülék. Csak 140 mm hosszú. Mindenféle csavarozási munkára. Kellő erő a duplakalapácsos ütőműnek köszönhetően.",null,null,null,"ABAC Levegős szerszámok",null,null,null,"Kihajtási méret:  3/8\"  Ütőmű: Twin hammer\nNyomaték: 110-350 Nm    Max nyomaték: 475 Nm\nÜresjárati fordulatszám: 11 500 RPM\nKönnyű, rövid ipari légkulcs 175 mm/1,7kg.",null,null,null,"Kihajtási méret:  1/4\"  Ütőmű:  Rocking dog clutch\nNyomaték:  9-80 Nm    Max nyomaték:  110 Nm\nÜresjárati fordulatszám: 10 500 RPM\nKönnyű, rövid aluházas légkulcs. 15% kisebb mint a CP7722",null,null,null,"Kihajtási méret:  3/8\"  Ütőmű: Rocking dog\nNyomaték: 7 - 68 Nm    Max nyomaték: 102 Nm\nÜresjárati fordulatszám: 11 000 RPM\n",null,null,null,null,"ABAC Levegős szerszámok"]
["Garázsipari eszközök",null,null,"Nyomaték [Nm]","420",null,null,null,"40",null,null,null,null,null,null,null,null,"Garázsipari eszközök",null,null,null,null,null,null,null,null,null,null,null,null,null,null,null,null,"Garázsipari eszközök"]
["AKKUMULÁTOROS GÉPEK",null,null,"Max nyomaték. [Nm] ","610",null,null,null,"60",null,null,null,"110",null,null,null,null,"AKKUMULÁTOROS GÉPEK",null,null,null,null,null,null,null,null,null,null,null,null,null,null,null,null,"AKKUMULÁTOROS GÉPEK"]
["Tömlők, tömlődobok",null,null,"Üresjárati fordulat [rpm]","9000",null,null,null,"1400",null,null,null,"15000",null,null,null,null,"Tömlők, tömlődobok",null,null,null,null,null,null,null,null,null,null,null,null,null,null,null,null,"Tömlők, tömlődobok"]
["Szűrők, szabályozók",null,null,"Tömeg [kg]","1,3",null,null,null,"0,96",null,null,null,"0,53",null,null,null,null,"Szűrők, szabályozók",null,null,"Cikkszám / Típus / (Listaár) \nNettó ár",6151590550," CP6728-P05R",{"$f":"VLOOKUP(V22,Árlista!$B:$D,3,0)","v":"177 300,-Ft "},null,8941077110,"CP7711",{"$f":"VLOOKUP(Z22,Árlista!$B:$D,3,0)","v":"STARS* 59 100,-Ft"},null,"T021963"," CP721",{"$f":"VLOOKUP(AD22,Árlista!$B:$D,3,0)","v":"119 100,-Ft "},null,null,"Szűrők, szabályozók"]
["Balancerek",null,null,"Javasolt tömlőméret ø [mm]","8",null,null,null,"6",null,null,null,"6",null,null,null,null,"Balancerek",null,null,null,null,null,null,null,null,null,null,null,null,null,null,null,null,"Balancerek"]
[null,null,null,"Max. nyomás [bar] ","6,3",null,null,null,"6,3",null,null,null,"6,3"]
[{"$f":"Fúrók!$A25","v":"A feltüntett árak a 2020.02.01.-től "},null,null,"Átlagos levegőfogyasztás [l/min]  ","125",null,null,null,"228",null,null,null,"42",null,null,null,null,{"$f":"Fúrók!$A25","v":"A feltüntett árak a 2020.02.01.-től "},null,null,null,null,null,null,null,null,null,null,null,null,null,null,null,null,{"$f":"Fúrók!$A25","v":"A feltüntett árak a 2020.02.01.-től "}]
[{"$f":"Fúrók!$A26","v":"érvényes listaárak."},null,null,"Folyamatos levegőfogyasztás [l/min]","420",null,null,null,"390",null,null,null,"174",null,null,null,null,{"$f":"Fúrók!$A26","v":"érvényes listaárak."},null,null,null,null,null,null,null,null,null,null,null,null,null,null,null,null,{"$f":"Fúrók!$A26","v":"érvényes listaárak."}]
[{"$f":"Fúrók!$A27","v":"* jelöléssel ellátott termékek a "},null,null,"Ütőmű rendszer","Jumbo",null,null,null,"Ein-Hammer  ",null,null,null,null,"Double rocking dog ",null,null,null,{"$f":"Fúrók!#REF!","v":{"$error":"#REF!"}},null,null,null,null,null,null,null,null,null,null,null,null,null,null,null,null,{"$f":"Fúrók!$A27","v":"* jelöléssel ellátott termékek a "}]
[{"$f":"Fúrók!$A28","v":"RC TOPS és CP STAR akciós"},null,null,"Használati besorolás","2 -megnövekedett igényekhez",null,null,null,"1 -általános használatra",null,null,null,"2 -megnövekedett igényekhez",null,null,null,null,{"$f":"Fúrók!$A27","v":"* jelöléssel ellátott termékek a "},null,null,null,null,null,null,null,null,null,null,null,null,null,null,null,null,{"$f":"Fúrók!$A28","v":"RC TOPS és CP STAR akciós"}]
[{"$f":"Fúrók!$A29","v":"kiadvány árai"},null,null,"Cikkszám / Típus / (Listaár) \nNettó ár",8951000123,"RC2202",{"$f":"VLOOKUP(E29,Árlista!$B:$D,3,0)","v":"TOPS* 46 600,-Ft"},null,8951000117,"RC2077",{"$f":"VLOOKUP(I29,Árlista!$B:$D,3,0)","v":",-Ft "},null,8951000195,"RC2003",{"$f":"VLOOKUP(M29,Árlista!$B:$D,3,0)","v":"72 200,-Ft "},null,null,{"$f":"Fúrók!$A28","v":"RC TOPS és CP STAR akciós"},null,null,null,null,null,null,null,null,null,null,null,null,null,null,null,null,{"$f":"Fúrók!$A29","v":"kiadvány árai"}]
[{"$f":"Fúrók!$A30","v":"SP jelöléssel ellátott termékekre"},null,null,null,null,null,null,null,null,null,null,null,null,null,null,null,null,{"$f":"Fúrók!$A29","v":"kiadvány árai"},null,null,null,null,null,null,null,null,null,null,null,null,null,null,null,null,{"$f":"Fúrók!$A30","v":"SP jelöléssel ellátott termékekre"}]
[{"$f":"Fúrók!$A31","v":"speciális viszonteladói árkézés"},null,null,null,null,null,null,null,null,null,null,null,null,null,null,null,null,{"$f":"Fúrók!$A30","v":"SP jelöléssel ellátott termékekre"},null,null,null,null,null,null,null,null,null,null,null,null,null,null,null,null,{"$f":"Fúrók!$A31","v":"speciális viszonteladói árkézés"}]
[{"$f":"Fúrók!$A32","v":"vonatkozik. Az Extra árak"},null,null,null,null,null,null,null,null,null,null,null,null,null,null,null,null,{"$f":"Fúrók!$A31","v":"speciális viszonteladói árkézés"},null,null,null,null,null,null,null,null,null,null,null,null,null,null,null,null,{"$f":"Fúrók!$A32","v":"vonatkozik. Az Extra árak"}]
[{"$f":"Fúrók!$A33","v":"a készlet erejéig, illetve"},null,null,null,null,null,null,null,null,null,null,null,null,null,null,null,null,{"$f":"Fúrók!$A32","v":"vonatkozik. Az Extra árak"},null,null,null,null,null,null,null,null,null,null,null,null,null,null,null,null,{"$f":"Fúrók!$A33","v":"a készlet erejéig, illetve"}]
[{"$f":"Fúrók!$A34","v":"visszavonásig érvényesek."},null,null,null,null,null,null,null,null,null,null,null,null,null,null,null,null,null,null,null,"Chicago Pneumatic","CP6300 RSR",null,null,null,"CP724H",null,null,null," CP7727",null,null,null,null,{"$f":"Fúrók!$A34","v":"visszavonásig érvényesek."}]
[{"$f":"Fúrók!$A35","v":"Az árista a Techtomat Kft és"},null,null,null,null,null,null,null,null,null,null,null,null,null,null,null,null,{"$f":"Fúrók!$A35","v":"Az árista a Techtomat Kft és"},null,null,null,"Kihajtási méret:  3/8\"  Ütőmű: Single dog clutch\nNyomaték: 54- 203 Nm    Max nyomaték: 243 Nm\nÜresjárati fordulatszám: 6 800 RPM\nAlu- és acél házas ipari kivitelű légkulcs. ",null,null,null,"Kihajtási méret:  3/8\"  Ütőmű: Pin clutch\nNyomaték: 92-257 Nm    Max nyomaték:  271 Nm\nÜresjárati fordulatszám: 9 600 RPM     Rövid, jól kezelhető légkulcs karbantartásra és szerelésre.",null,null,null,"Kihajtási méret:  3/8\"  Ütőmű: Jumbo hammer\nNyomaték: 26-192 Nm    Max nyomaték: 250 Nm\nÜresjárati fordulatszám: 8510 RPM\nSzuper ipari kivitelű sarok ütvecsavarozó.",null,null,null,null,{"$f":"Fúrók!$A35","v":"Az árista a Techtomat Kft és"}]
[{"$f":"Fúrók!$A36","v":"Kapitár Kft közös gondozásában"},null,null,null,null,null,null,null,null,null,null,null,null,null,null,null,null,{"$f":"Fúrók!$A36","v":"Kapitár Kft közös gondozásában"},null,null,null,null,null,null,null,null,null,null,null,null,null,null,null,null,{"$f":"Fúrók!$A36","v":"Kapitár Kft közös gondozásában"}]
[{"$f":"Fúrók!$A37","v":" jelent meg."},null,null,null,null,null,null,null,null,null,null,null,null,null,null,null,null,{"$f":"Fúrók!$A37","v":" jelent meg."},null,null,null,null,null,null,null,null,null,null,null,null,null,null,null,null,{"$f":"Fúrók!$A37","v":" jelent meg."}]
[{"$f":"Fúrók!$A38","v":"Minden jog fenntartva."},null,null,null,null,null,null,null,null,null,null,null,null,null,null,null,null,{"$f":"Fúrók!$A38","v":"Minden jog fenntartva."},null,null,null,null,null,null,null,null,null,null,null,null,null,null,null,null,{"$f":"Fúrók!$A38","v":"Minden jog fenntartva."}]
[null,null,null,null,null,null,null,null,null,null,null,null,null,null,null,null,null,null,null,null,"Cikkszám / Típus / (Listaár) \nNettó ár","T025285","CP6300 RSR",{"$f":"VLOOKUP(V39,Árlista!$B:$D,3,0)","v":"148 400,-Ft "},null,8941007240,"CP724H",null,null,8941077270," CP7727  -3/8\"",{"$f":"VLOOKUP(AD39,Árlista!$B:$D,3,0)","v":"123 700,-Ft "}]
[{"$f":"Fúrók!$A40","v":"Bővebb információ:"},null,null,null,null,null,null,null,null,null,null,null,null,null,null,null,null,{"$f":"Fúrók!$A40","v":"Bővebb információ:"},null,null,null,null,null,null,null,null,null,null,null,null,null,null,null,null,{"$f":"Fúrók!$A40","v":"Bővebb információ:"}]
[{"$f":"Fúrók!$A41","v":"Szabó Attila"},null,null,null,null,null,null,null,null,null,null,null,null,null,null,null,null,{"$f":"Fúrók!$A41","v":"Szabó Attila"},null,null,null,null,null,null,null,null,null,null,null,null,null,null,null,null,{"$f":"Fúrók!$A41","v":"Szabó Attila"}]
[{"$f":"Fúrók!$A42","v":"30/201-4931 vagy 30/626-8687"},null,null,null,null,null,null,null,null,null,null,null,null,null,null,null,null,{"$f":"Fúrók!$A42","v":"30/201-4931 vagy 30/626-8687"},null,null,null,null,null,null,null,null,null,null,null,null,null,null,null,null,{"$f":"Fúrók!$A42","v":"30/201-4931 vagy 30/626-8687"}]
[{"$f":"Fúrók!$A43","v":"e-mail"},null,null,"Típus","Rodcraft RC2177",null,null,null,"Rodcraft RC2235",null,null,null,"Rodcraft RC2101",null,null,null,null,null,null,null,null,null,null,null,null,null,null,null,null,null,null,null,null,null,{"$f":"Fúrók!$A43","v":"e-mail"}]
[{"$f":"Fúrók!$A44","v":"Tóth Tamás"},null,null,"Kihajtási méret  [inch]","□ 3/8\"","Ergonomikus és jól kiegyensúlyozott szerszám, kimagasló erő és tömegaránnyal. Csak 1,25kg, ugyanakkor erős, alacsony levegőfogyasztás jellemzi. DUOPACT ütőműve hosszú életartamot garantál. Zsirzógomb gyors karbantartást, a TPR szigetelés jó tapadást és könnyű használatot biztosít. 3 pozíciós erő és irányválás szabályozás, 580 Nm max. nyomaték. Felszerelhető - DUS35 zajcsökkentő rendszerrel.",null,null,"□ 1/2\"","Max. nyomatéka 300 Nm \nHossz 341mm . Ultra kompakt fej -csak 50 mm.   Tartósság, ergonómikus markolat, könnyű  nyomaték választás,\negyszerű irányváltás.",null,null,"□ 3/8\"","Kicsi, marok készülék. Csak 140 mm hosszú. Mindenféle csavarozási munkára. Kellő erő a duplakalapácsos ütőműnek köszönhetően.",null,null,null,{"$f":"Fúrók!$A44","v":"Tóth Tamás"},null,null,null,null,null,null,null,null,null,null,null,null,null,null,null,null,{"$f":"Fúrók!$A44","v":"Tóth Tamás"}]
[{"$f":"Fúrók!$A45","v":"30/603-1596"},null,null,"Nyomaték [Nm]","420",null,null,null,"220",null,null,null,null,null,null,null,null,{"$f":"Fúrók!$A45","v":"30/603-1596"},null,null,null,null,null,null,null,null,null,null,null,null,null,null,null,null,{"$f":"Fúrók!$A45","v":"30/603-1596"}]
[null,null,null,"Max nyomaték. [Nm] ","580",null,null,null,"300",null,null,null,"110"]
[null,null,null,"Üresjárati fordulat [rpm]","8200",null,null,null,"7400",null,null,null,"15000"]
[null,null,null,"Tömeg [kg]","1",null,null,null,"1,85",null,null,null,"0,53"]
[null,null,null,"Javasolt tömlőméret ø [mm]",8,null,null,null,"6",null,null,null,"6"]
[null,null,null,"Max. nyomás [bar] ","6,3",null,null,null,"6,3",null,null,null,"6,3"]
[null,null,null,"Átlagos levegőfogyasztás [l/min]  ","160",null,null,null,"140",null,null,null,"42",null,null,null,null,null,null,null,"Chicago Pneumatic","CP7722",null,null,null,"CP7721",null,null,null,"CP7731"]
[null,null,null,"Folyamatos levegőfogyasztás [l/min]","470",null,null,null,370,null,null,null,"174",null,null,null,null,null,null,null,null,"Kihajtási méret:  3/8\"  Ütőmű:  Rocking dog clutch\nNyomaték:  7-88 Nm    Max nyomaték:  122 Nm\nÜresjárati fordulatszám: 9 500 RPM\nKönnyű, rövid légkulcs.",null,null,null,"Kihajtási méret:  3/8\"  Ütőmű:  Rocking dog clutch\nNyomaték:  9-80 Nm    Max nyomaték:  110 Nm\nÜresjárati fordulatszám: 10 500 RPM\nKönnyű, rövid aluházas légkulcs. 15% kisebb mint a CP7722",null,null,null,"Kihajtási méret:  3/8\"  Ütőmű: Jumbo hammer\nNyomaték: 96-328 Nm    Max nyomaték:  415 Nm\nÜresjárati fordulatszám: 6 400 RPM\nMegbízható ultra rövid (112mm), de erős légkulcs."]
[null,null,null,"Ütőmű rendszer","Duopact ",null,null,null,"Jumbo",null,null,null,null,"Double rocking dog "]
[null,null,null,"Használati besorolás","3 -igen magas színvonalú",null,null,null,"3 -igen magas színvonalú",null,null,null,"2 -megnövekedett igényekhez"]
[null,null,null,"Cikkszám / Típus / (Listaár) \nNettó ár",8951000043,"RC2177",{"$f":"VLOOKUP(E55,Árlista!$B:$D,3,0)","v":"TOPS* 68 100,-Ft"},null,8951000286,"RC2235",{"$f":"VLOOKUP(I55,Árlista!$B:$D,3,0)","v":"TOPS* 80 600,-Ft"},null,8951000196,"RC2101",{"$f":"VLOOKUP(M55,Árlista!$B:$D,3,0)","v":"72 200,-Ft "}]
[null,null,null,null,null,null,null,null,null,null,null,null,null,null,null,null,null,null,null,null,"Cikkszám / Típus / (Listaár) \nNettó ár",8941077220,"CP7722",{"$f":"VLOOKUP(V56,Árlista!$B:$D,3,0)","v":"75 400,-Ft "},null,8941077210,"CP7721",{"$f":"VLOOKUP(Z56,Árlista!$B:$D,3,0)","v":"STARS* 59 100,-Ft"},null,8941077310,"CP7731",{"$f":"VLOOKUP(AD56,Árlista!$B:$D,3,0)","v":"79 300,-Ft "}]
[]
[]
[]
[]
[]
[]
[]
[]
[]
[]
[]
[null,null,null,null,null,null,null,null,null,null,null,null,null,null,null,null,null,null,null,null,"Chicago Pneumatic","CP8222",null,null,null,"CP7729 ",null,null,null,"CP6031 HABAD"]
[null,null,null,null,null,null,null,null,null,null,null,null,null,null,null,null,null,null,null,null,null,"Kihajtási méret:  3/8\"  Ütőmű:  Rocking dog clutch\nNyomaték:  80-400 Nm    Max nyomaték:  450 Nm\nÜresjárati fordulatszám: 11 500 RPM\nErőteljes, de alacsony zaj- és vibrációs szintű készülék.",null,null,null,"Kihajtási méret:  3/8\"  Ütőmű: Twin hammer\nNyomaték: 68-407 Nm    Max nyomaték:   563 Nm\nÜresjárati fordulatszám: 9 400 RPM     Extém könnyű, jól kiegyensúlyozott kompozitházas légkulcs.",null,null,null,"Kihajtási méret:  3/8\" 1/2\"  Ütőmű: 2-jaw clutch\nNyomaték: 30-102 Nm    Max nyomaték:   176 Nm\nÜresjárati fordulatszám: 10 000 RPM\n"]
[null,null,null,"Típus","Rodcraft RC2267",null,null,null,"Rodcraft RC2268",null,null,null,"Rodcraft RC2227"]
[null,null,null,"Kihajtási méret  [inch]","□ 1/2\"","Kompozit házas szerszám kimagasló erő és tömegaránnyal. Csak 1,25kg. Erős, alacsony levegőfogyasztású, gyorsan szerelhető a duplakalapácsos\n DUOPACT ütőműve hosszú életartamot garantál. Zsirzógomb gyors karbantartást, a TPR  szigetelés jó tapadást és könnyű használatot biztosít.\n3 pozíciós erő és irányválás szabályozás, 660 Nm max. nyomaték. Felszerelhető - DUS35 zajcsillapító rendszerrel.",null,null,"□ 1/2\"","900 Nm-es ütvecsavarozó univerzális használatra. Gyor és egydülállóan magas nyomaték a DUOPACT mechanizmus révén, amely hosszú életartamot garantál. Könnyű – csak 2,1 kg. 3 pozíciós erő és irányválás. Szabályozás a szerszám hátlapján.",null,null,"□ 1/2\"","Univerzális eszköz autószerelő műhelyek részére. Kialakítása gyor, egykezes használatot tesz lehetővé.\nNyomaték és irányváltó gombja 3 fokozatú állítást tesz lehetővé minkét irányban. Robosztus fémháza alkalmas mindennapi ipari felhasználásra. Hatékony szerszám: a kimagasló erő és alacsony levegőfogyasztás. Gyors olajfürdős ütőműve nagy nyomatékot és alacsony vibrációt garantál. Opciósan DUS36 zajcsökkentő rendszer"]
[null,null,null,"Nyomaték [Nm]","480",null,null,null,"750",null,null,null,"680"]
[null,null,null,"Max nyomaték. [Nm] ","660",null,null,null,"900",null,null,null,"950",null,null,null,null,null,null,null,"Cikkszám / Típus / (Listaár) \nNettó ár",6151590180,"CP8222-P",{"$f":"VLOOKUP(V73,Árlista!$B:$D,3,0)","v":"156 700,-Ft "},null,8941077290,"CP7729 ",{"$f":"VLOOKUP(Z73,Árlista!$B:$D,3,0)","v":"122 700,-Ft "},null,"T021884","CP6031"]
[null,null,null,"Üresjárati fordulat [rpm]","10200",null,null,null,"10000",null,null,null,"8700"]
[null,null,null,"Tömeg [kg]","1,25",null,null,null,"2,1",null,null,null,"2",null,null,null,null,null,null,null,"Cikkszám / Típus / (Listaár) \nNettó ár",6151590230,"CP8222-R",{"$f":"VLOOKUP(V75,Árlista!$B:$D,3,0)","v":"156 700,-Ft "}]
[null,null,null,"Javasolt tömlőméret ø [mm]","8",null,null,null,"8",null,null,null,"8"]
[null,null,null,"Max. nyomás [bar] ","6",null,null,null,"6,3",null,null,null,"6"]
[null,null,null,"Átlagos levegőfogyasztás [l/min]  ","180",null,null,null,"245",null,null,null,"190",null,null,null,null,null,null,null,null,null,null,null,null,null,null,null,null,null,null,null,"CP749-2\""]
[null,null,null,"Folyamatos levegőfogyasztás [l/min]","510",null,null,null,"600",null,null,null,"570"]
[null,null,null,"Ütőmű rendszer","Duopact ",null,null,null,"Duopact ",null,null,null,"Rod-A-Matic"]
[null,null,null,"Használati besorolás","4 -a legmagasabb igényekhez",null,null,null,"3 -igen magas színvonalú",null,null,null,"3 -igen magas színvonalú"]
[null,null,null,"Cikkszám / Típus / (Listaár) \nNettó ár",8951000044,"RC2267",{"$f":"VLOOKUP(E82,Árlista!$B:$D,3,0)","v":"TOPS* 68 100,-Ft"},null,8951000344,"RC2268",{"$f":"VLOOKUP(I82,Árlista!$B:$D,3,0)","v":"TOPS* 42 900,-Ft"},null,8951000036,"RC2227",{"$f":"VLOOKUP(M82,Árlista!$B:$D,3,0)","v":"Kifutó, érdeklődj!"}]
[null,null,null,null,8955000015,"DUS35",{"$f":"VLOOKUP(E83,Árlista!$B:$D,3,0)","v":{"$error":"#N/A"}},null,8955000015,"DUS35",{"$f":"VLOOKUP(I83,Árlista!$B:$D,3,0)","v":{"$error":"#N/A"}},null,"8955000027","DUS36"]
[null,null,null,"Cikkszám / Típus / (Listaár) \nNettó ár",null,null,null,null,null,null,null,null,8951000089,"SZETT",{"$f":"VLOOKUP(M84,Árlista!$B:$D,3,0)","v":",-Ft "}]
[]
[null,null,null,null,null,null,null,null,null,null,null,null,null,null,null,null,null,null,null,null,null,null,null,"14, 16, 17, 19, 22mm"]
[null,null,null,null,null,null,null,null,null,null,null,null,null,null,null,null,null,null,null,null,"Chicago Pneumatic","CP734H",null,null,null,"CP7620",null,null,null," CP749"]
[null,null,null,null,null,null,null,null,null,null,null,null,null,null,null,null,null,null,null,null,null,"Kihajtási méret:  1/2\"  Ütőmű:  Pin clutch\nNyomaték:  34-420 Nm    Max nyomaték:  576 Nm\nÜresjárati fordulatszám: 8 400 RPM\nClassic légkulcs, amely évtizedek óta bizonyít!",null,null,null,"Kihajtási méret:  1/2\"  Ütőmű:  Pin clutch\nNyomaték:  34-420 Nm    Max nyomaték:  576 Nm\nÜresjárati fordulatszám: 8 400 RPM\nClassic légkulcs, amely évtizedek óta bizonyít!",null,null,null,"Kihajtási méret:  1/2\"  Ütőmű: Double dog\nNyomaték: 68-610 Nm    Max nyomaték:    827 Nm\nÜresjárati fordulatszám: 6 400 RPM\nErős, sokoldalú gép autó- és gumiszervizek számára"]
[]
[]
[]
[null,null,null,null,null,null,null,null,null,null,null,null,null,null,null,null,null,null,null,null,"Cikkszám / Típus / (Listaár) \nNettó ár","T024351","CP734H",{"$f":"VLOOKUP(V92,Árlista!$B:$D,3,0)","v":"STARS* 48 160,-Ft"},null,8941076200,"CP7620",{"$f":"VLOOKUP(Z92,Árlista!$B:$D,3,0)","v":",-Ft "},null,"T024587"," CP749",{"$f":"VLOOKUP(AD92,Árlista!$B:$D,3,0)","v":"STARS* 82 300,-Ft"}]
[]
[null,null,null,null,null,null,null,null,null,null,null,null,null,null,null,null,null,null,null,null,"Cikkszám / Típus / (Listaár) \nNettó ár","T025164"," CP734H KIT",{"$f":"VLOOKUP(V94,Árlista!$B:$D,3,0)","v":"113 200,-Ft "},null,null,null,null,null,"T025194","CP749 KIT"]
[]
[null,null,null,null,null,null,null,null,null,null,null,null,null,null,null,null,null,null,null,null,"Cikkszám / Típus / (Listaár) \nNettó ár",null,null,null,null,null,null,null,null,"T024673","CP749-2",{"$f":"VLOOKUP(AD96,Árlista!$B:$D,3,0)","v":"147 500,-Ft "}]
[null,null,null,"Típus","Rodcraft RC2209 SZETT",null,null,null,"Rodcraft RC2277 D NEW    -2018",null,null,null,"Rodcraft RC2257 és RC2257 SZETT"]
[null,null,null,"Kihajtási méret  [inch]","□ 1/2\"","4 lépcsős nyomatékállítás a finommunkákhoz és teljes erő oldásnál.\nROD-A-MATIC pin clutch ütőmű  -  növelt sebességet eredményez\nEgykezes irányváltás\nJól kiegyensúlyozott és ergonómikus konstrukció\nGumikupakkal védve a sérülésektől. \nA készlet tartalma 10 db dugókulcs + 1b hosszabító",null,null,"□ 1/2\"","1300 Nm Bestiális erő 1/2\" kompozit ütvecsavarozó univerzális használatra. Új könnyűfém motor, erősített kihajtás. Gyors és egydülállóan magas nyomaték a DUOPACT mechanizmus révén, amely hosszú életartamot garantál. Könnyű, egykezes használat. Bőröndben, 17/19/21 mm-es könnyűfém felnikhez való dugókucsokkal is.",null,null,"□ 1/2\"","Professzionáli szerszám gumis- és javító műhelyek részére. Gyors, egykezes használatot tesz lehetővé. Praktikus nyomaték és irányváltó gombja 3 fokozatú állítást tesz lehtővé minkét irányban. Robosztus fémháza alkalmas mindennapi ipari felhasználásra. Hatékony szerszám: a kimagasló erő és alacsony levegőfogyasztás. Szett tartalma: 14db dugókulcs (10-27mm), DUS36 zajcsökkentővel.",null,null,null,null,null,null,null,null,null,null,null,null,"108 mm"]
[null,null,null,"Nyomaték [Nm]",406,null,null,null,"900",null,null,null,"680"]
[null,null,null,"Max nyomaték. [Nm] ",580,null,null,null,"1300",null,null,null,"950"]
[null,null,null,"Üresjárati fordulat [rpm]",7800,null,null,null,"8200",null,null,null,"8950"]
[null,null,null,"Tömeg [kg]",2,null,null,null,"2",null,null,null,"2"]
[null,null,null,"Javasolt tömlőméret ø [mm]",8,null,null,null,"8",null,null,null,"8"]
[null,null,null,"Max. nyomás [bar] ",6,null,null,null,"6,3",null,null,null,"6"]
[null,null,null,"Átlagos levegőfogyasztás [l/min]  ",130,null,null,null,"245",null,null,null,"200"]
[null,null,null,"Folyamatos levegőfogyasztás [l/min]",350,null,null,null,"700",null,null,null,"610"]
[null,null,null,"Ütőmű rendszer","Rod-A-Matic  ",null,null,null,"Duopact ",null,null,null,"Duopact "]
[null,null,null,"Használati besorolás","2 -megnövekedett igényekhez",null,null,null,"4 -a legmagasabb igényekhez",null,null,null,"3 -igen magas színvonalú",null,null,null,null,null,null,null,"Chicago Pneumatic","CP7732",null,null,null,"CP7732C",null,null,null,"CP7736"]
[null,null,null,"Cikkszám / Típus / (Listaár) \nNettó ár",8951177000,"RC2205 + RS413WP",null,null,8951000349,"RC2277 New",{"$f":"VLOOKUP(I109,Árlista!$B:$D,3,0)","v":"TOPS* 57 500,-Ft"},null,8951000037,"RC2257",{"$f":"VLOOKUP(M109,Árlista!$B:$D,3,0)","v":",-Ft "},null,null,null,null,null,null,"Kihajtási méret:  1/2\"  Ütőmű:  Pin clutch\nNyomaték:  138-420 Nm    Max nyomaték:  610 Nm\nÜresjárati fordulatszám: 9 000 RPM\nSzuper kompakt, 112 mm-es légkulcs",null,null,null,"Kihajtási méret:  1/2\"  Ütőmű: Jumbo hammer\nNyomaték:  138-420 Nm    Max nyomaték:  625 Nm\nÜresjárati fordulatszám: 9 000 RPM\nSikerült a CP7732 méretéből 20%-ot lefaragni!",null,null,null,"Kihajtási méret:  1/2\"  Ütőmű:  Pin clutch\nNyomaték:  69-770 Nm    Max nyomaték:  900 Nm\nÜresjárati fordulatszám: 10 020 RPM\nAlu ütőműházas légkucs 3 fokozatú behajtással."]
[null,null,null,null,null,null,null,null,8955000015,"DUS35",{"$f":"VLOOKUP(I110,Árlista!$B:$D,3,0)","v":{"$error":"#N/A"}}]
[null,null,null,"Cikkszám / Típus / (Listaár) \nNettó ár",8951000085,"RC2205",{"$f":"VLOOKUP(E111,Árlista!$B:$D,3,0)","v":"TOPS* 40 230,-Ft"},null,8951000358,"RC2277 New KIT",{"$f":"VLOOKUP(I111,Árlista!$B:$D,3,0)","v":"93 800,-Ft "},null,8951000089,"SZETT",{"$f":"VLOOKUP(M111,Árlista!$B:$D,3,0)","v":",-Ft "}]
[null,null,null,null,8955000015,"DUS35",null,null,null,"DUS35"]
[null,null,null,null,null,null,null,null,null,null,null,null,null,null,null,null,null,null,null,null,"Cikkszám / Típus / (Listaár) \nNettó ár",8941077320,"CP7732",{"$f":"VLOOKUP(V113,Árlista!$B:$D,3,0)","v":"79 300,-Ft "},null,8941077321,"CP7732C",{"$f":"VLOOKUP(Z113,Árlista!$B:$D,3,0)","v":"STARS* 63 000,-Ft"},null,8941077360,"CP7736",{"$f":"VLOOKUP(AD113,Árlista!$B:$D,3,0)","v":"STARS* 59 700,-Ft"}]
[]
[]
[]
[]
[]
[]
[]
[]
[]
[]
[]
[null,null,null,"Típus","Rodcraft RC2315",null,null,null,"Rodcraft RC2350/Rodcraft RC2355",null,null,null,"Rodcraft RC2377/Rodcraft RC2387",null,null,null,null,null,null,null,"Chicago Pneumatic"," CP7737",null,null,null,"CP7748",null,null,null,"CP7748 TL"]
[null,null,null,"Kihajtási méret  [inch]","□ 3/4\"","Jól kiegyensúlyozott és praktikus szerszám. Duplakalapácsos DUOPACT ütőművel - a fokozott tartósságért. Rövid (242 mm), alacsony vibrációjú a gumírozott fogantyúnak köszönhetően. Automatikusan teljes nyomaték oldáskor (max. 1.500 Nm) és három fokozatban állítható nyomaték húzáskor (max. 1.100 Nm) Irányváltás a hátlapon lévő nyomógombbal, a működtető gombja pedig sebességszabályozást tesz lehetővé.\n\n\n",null,null,"□ 3/4\"","Duplakalapácsos DUOPACT ütőművel - a fokozott tartósságért. Alacsony levegőfogyasztás pl. a gyorsszervizek részére.\nRövid, és hosszú kihajtással is rendelhető! Automatikusan teljes nyomaték oldáskor (max. 1.800 Nm) és hat fokozatban állítható nyomaték húzáskor (max. 1.400 Nm)\nIrányváltás az oldalt lévő nyomógombbal.\n",null,null,"□ 3/4\"","3/4\" kompozit ütve csavarozó univerzális használatra. Gyor és egyedülállóan magas nyomaték a DUOPACT mechanizmus révén, amely hosszú élettartamot garantál. Könnyű – csak 3,74 kg. Zsirzógomb gyors karbantartást, a TPR (thermo-plastic gumi) szigetelés jó tapadást és könnyű használatot biztosít. 3 pozíciós erő és irányválás szabályozás a szerszám hátlapján. Rövid és hosszú kihajtással is rendelhető.",null,null,null,null,null,null,null,"Kihajtási méret:  1/2\"  Ütőmű: Jumbo hammer\nNyomaték: 34-224 Nm    Max nyomaték: 300 Nm\nÜresjárati fordulatszám: 9030 RPM\nSzuper ipari kivitelű sarok ütvecsavarozó.",null,null,null,"Kihajtási méret:  1/2\"  Ütőmű: Twin hammer\nNyomaték:  102-786 Nm    Max nyomaték: 1250 Nm\nÜresjárati fordulatszám: 8 200 RPM     RC2277-ből megismert bestiális erő ",null,null,null,"Kihajtási méret:  1/2\"  Ütőmű: Twin hammer\nNyomaték:  90-96 Nm    Max nyomaték: 1250 Nm\nÜresjárati fordulatszám: 8 200 RPM    Nyomatékhatárolt légkulcs gumisműhelyek részére. Elkerülhető a túlhúzás!"]
[null,null,null,"Nyomaték [Nm]","1100",null,null,null,"1400",null,null,null,"1300"]
[null,null,null,"Max nyomaték. [Nm] ","1500",null,null,null,"1800",null,null,null,"1950"]
[null,null,null,"Üresjárati fordulat [rpm]","5600",null,null,null,"5000",null,null,null,"6000"]
[null,null,null,"Tömeg [kg]","4,7",null,null,null,"5,9",null,null,null,"3,38/3,74",null,null,null,null,null,null,null,"Cikkszám / Típus / (Listaár) \nNettó ár",8941077370," CP7737  -1/2\"",{"$f":"VLOOKUP(V130,Árlista!$B:$D,3,0)","v":"STARS* 87 800,-Ft"},null,8941077480,"CP7748",{"$f":"VLOOKUP(Z130,Árlista!$B:$D,3,0)","v":",-Ft "},null,8941077484,"CP7748 TL",{"$f":"VLOOKUP(AD130,Árlista!$B:$D,3,0)","v":"106 900,-Ft "}]
[null,null,null,"Javasolt tömlőméret ø [mm]","8",null,null,null,"13",null,null,null,"13"]
[null,null,null,"Max. nyomás [bar] ","6,3",null,null,null,"6,3",null,null,null,"6,3",null,null,null,null,null,null,null,"Cikkszám / Típus / (Listaár) \nNettó ár",null,null,null,null,8941077482,"CP7748-2",{"$f":"VLOOKUP(Z132,Árlista!$B:$D,3,0)","v":",-Ft "},null,8941077485,"CP7748-TL2",{"$f":"VLOOKUP(AD132,Árlista!$B:$D,3,0)","v":"111 200,-Ft "}]
[null,null,null,"Átlagos levegőfogyasztás [l/min]  ","340",null,null,null,"280",null,null,null,"225"]
[null,null,null,"Folyamatos levegőfogyasztás [l/min]","990",null,null,null,"780",null,null,null,"972"]
[null,null,null,"Ütőmű rendszer","Duopact ",null,null,null,"Duopact ",null,null,null,"Duopact "]
[null,null,null,"Használati besorolás","2 -megnövekedett igényekhez",null,null,null,"3 -igen magas színvonalú",null,null,null,"4 -a legmagasabb igényekhez"]
[null,null,null,"Cikkszám / Típus / (Listaár) \nNettó ár",8951077130,"RC2315",{"$f":"VLOOKUP(E137,Árlista!$B:$D,3,0)","v":"TOPS* 83 200,-Ft"},null,8951077160,"RC2350",{"$f":"VLOOKUP(I137,Árlista!$B:$D,3,0)","v":{"$error":"#N/A"}},null,8951000045,"RC2377",{"$f":"VLOOKUP(M137,Árlista!$B:$D,3,0)","v":"TOPS* 149 300,-Ft"}]
[]
[null,null,null,"Cikkszám / Típus / (Listaár) \nNettó ár",null,null,null,null,null,null,null,null,8951000074,"Hosszú",{"$f":"VLOOKUP(M139,Árlista!$B:$D,3,0)","v":{"$error":"#N/A"}}]
[]
[]
[]
[]
[null,null,null,null,null,null,null,null,null,null,null,null,null,null,null,null,null,null,null,null,"Chicago Pneumatic","CP7739",null,null,null," CP7749",null,null,null,"CP6738-P05R"]
[null,null,null,null,null,null,null,null,null,null,null,null,null,null,null,null,null,null,null,null,null,"Kihajtási méret:  1/2\"  Ütőmű:   Twin hammer\nNyomaték:   68-414 Nm    Max nyomaték:  610 Nm\nÜresjárati fordulatszám: 9 900 RPM   Extém könnyű, jól kiegyensúlyozott kompozitházas légkulcs.",null,null,null,"Kihajtási méret:  1/2\"  Ütőmű: Twin hammer\nNyomaték:  135-704 Nm    Max nyomaték: 1300 Nm\nÜresjárati fordulatszám: 7 000 RPM    Extrém nyomaték, kompakt, gyors, egykezes használat.",null,null,null,"Kihajtási méret:  1/2\"  Ütőmű: Twin hammer\nNyomaték: 110-350 Nm    Max nyomaték: 475 Nm\nÜresjárati fordulatszám: 11 500 RPM\nKönnyű, rövid ipari légkulcs 175 mm/1,7kg."]
[]
[]
[]
[null,null,null,null,null,null,null,null,null,null,null,null,null,null,null,null,null,null,null,null,"Cikkszám / Típus / (Listaár) \nNettó ár",8941077390,"CP7739",{"$f":"VLOOKUP(V149,Árlista!$B:$D,3,0)","v":"130 300,-Ft "},null,8941077491,"CP7749",{"$f":"VLOOKUP(Z149,Árlista!$B:$D,3,0)","v":"STARS* 78 200,-Ft"},null,6151590560,"CP6738-P05R",{"$f":"VLOOKUP(AD149,Árlista!$B:$D,3,0)","v":"181 400,-Ft "}]
[]
[null,null,null,null,null,null,null,null,null,null,null,null,null,null,null,null,null,null,null,null,"Cikkszám / Típus / (Listaár) \nNettó ár",null,null,null,null,8941077493,"CP7749-2",{"$f":"VLOOKUP(Z151,Árlista!$B:$D,3,0)","v":"132 600,-Ft "}]
[]
[]
[null,null,null,"Típus","Rodcraft RC2345",null,null,null,"Rodcraft RC2425/Rodcraft RC2426",null,null,null,"Rodcraft RC2466/Rodcraft RC2476"]
[null,null,null,"Kihajtási méret  [inch]","□ 3/4\"","3/4\" jól kiegyensúlyozott légkulcs. Prémium modell, extra rövid első kialakítással a szűk helyen történő munkavégzéshez. 2 fokozatú teljesítményállítás, gyors irányváltás.",null,null,"□ 1\"","Jól kiegyensúlyozott szerszám tehergépkocsi szervizek részére. Megbízható, egykalapácsos ütőművel.\nA ház elején gumi védőburkolattal  valamint vibrációcsökkentő gumibetétes oldalfogantyúval ellátva. Rövid és hosszú kihajtással is rendelhető. Max nyomatéka 2.450 Nm. Hátlapon lévő 3 fokozatú nyomatékváltási mód mindkét irányban rendelkezésre áll.\n\n\n\n",null,null,"□ 1\"","Erős, teljes egészében fémből készült szerszám, teherautókhoz és buszokhoz. ”Zárt ütőrendszerű“ tehát szinte teljesen karbantartásmentes készülék. A rendkívül magas nyomaték alkalmas nagyméretű anyák és csavarok meglazítására is. A stabil oldalsófogantyúnak köszönhetően alkalmas a kétkezes használatra. A 3 fokozatú nyomatékváltási mód mindkét irányban rendelkezésre áll. Rövid és hosszú kihajtással is rendelhető.\n\n"]
[null,null,null,"Nyomaték [Nm]","1300",null,null,null,"1757",null,null,null,"2000"]
[null,null,null,"Max nyomaték. [Nm] ","1700",null,null,null,"2450",null,null,null,"2900"]
[null,null,null,"Üresjárati fordulat [rpm]","6050",null,null,null,"3200",null,null,null,"5150"]
[null,null,null,"Tömeg [kg]","4,8",null,null,null,"9,2",null,null,null,"11"]
[null,null,null,"Javasolt tömlőméret ø [mm]","13",null,null,null,"13",null,null,null,"13"]
[null,null,null,"Max. nyomás [bar] ","6,3",null,null,null,"6,3",null,null,null,"6,3"]
[null,null,null,"Átlagos levegőfogyasztás [l/min]  ","210",null,null,null,"370",null,null,null,"370"]
[null,null,null,"Folyamatos levegőfogyasztás [l/min]","1000",null,null,null,"1020",null,null,null,"1130"]
[null,null,null,"Ütőmű rendszer","Pin clutch - Oil bath ",null,null,null,"Ein-Hammer",null,null,null,"Closed Hammer "]
[null,null,null,"Használati besorolás","2 -megnövekedett igényekhez",null,null,null,"2 -megnövekedett igényekhez",null,null,null,"3 -igen magas színvonalú",null,null,null,null,null,null,null,"Chicago Pneumatic","CP8242-P",null,null,null,"CP8252-P",null,null,null,"CP6500-RS"]
[null,null,null,"Cikkszám / Típus / (Listaár) \nNettó ár",8951077150,"RC2345",{"$f":"VLOOKUP(E166,Árlista!$B:$D,3,0)","v":{"$error":"#N/A"}},null,8951077190,"RC2425",{"$f":"VLOOKUP(I166,Árlista!$B:$D,3,0)","v":"TOPS* 190 700,-Ft"},null,8951000047,"RC2466",{"$f":"VLOOKUP(M166,Árlista!$B:$D,3,0)","v":"TOPS* 193 800,-Ft"},null,null,null,null,null,null,"Kihajtási méret:  1/2\"  Ütőmű:   Twin hammer\nNyomaték:  80-400 Nm    Max nyomaték:  550 Nm\nÜresjárati fordulatszám: 11 500 RPM\nAlacsony zaj- és vibrációs szintű ipari készülék.",null,null,null,"Kihajtási méret:  1/2\"  Ütőmű: Twin hammer\nNyomaték:  150-750 Nm    Max nyomaték: 950 Nm\nÜresjárati fordulatszám: 9 000 RPM    Erőteljes, de alacsony zaj- és vibrációs szintű ipari készülék.",null,null,null,"Kihajtási méret:  1/2\"  Ütőmű: Double dog\nNyomaték:   170-680 Nm    Max nyomaték:  850 Nm\nÜresjárati fordulatszám: 6 400 RPM   Ipari légkulcs, maximális komfort nagy nyomaték."]
[]
[null,null,null,"Cikkszám / Típus / (Listaár) \nNettó ár",null,null,null,null,8951077032,"RC2426",{"$f":"VLOOKUP(I168,Árlista!$B:$D,3,0)","v":"336 000,-Ft "},null,8951000048,"RC2476",{"$f":"VLOOKUP(M168,Árlista!$B:$D,3,0)","v":"TOPS* 185 500,-Ft"}]
[]
[null,null,null,null,null,null,null,null,null,null,null,null,null,null,null,null,null,null,null,null,"Cikkszám / Típus / (Listaár) \nNettó ár",6151590200,"CP8242-P",{"$f":"VLOOKUP(V170,Árlista!$B:$D,3,0)","v":"158 800,-Ft "},null,6151590210,"CP8252-P",{"$f":"VLOOKUP(Z170,Árlista!$B:$D,3,0)","v":"169 100,-Ft "},null,"T025214","CP6500-RS",{"$f":"VLOOKUP(AD170,Árlista!$B:$D,3,0)","v":"189 700,-Ft "}]
[]
[null,null,null,null,null,null,null,null,null,null,null,null,null,null,null,null,null,null,null,null,"Cikkszám / Típus / (Listaár) \nNettó ár",6151590240,"CP8242-R",{"$f":"VLOOKUP(V172,Árlista!$B:$D,3,0)","v":"158 800,-Ft "},null,6151590250,"CP8252-R",{"$f":"VLOOKUP(Z172,Árlista!$B:$D,3,0)","v":"169 100,-Ft "},null,"T025216","CP6500-RSR",{"$f":"VLOOKUP(AD172,Árlista!$B:$D,3,0)","v":"189 700,-Ft "}]
[]
[]
[]
[]
[]
[]
[]
[]
[]
[]
[null,null,null,"Típus","Rodcraft RC2437Xi",null,null,null,"Rodcraft RC2447Xi",null,null,null,"Rodcraft RC2405"]
[null,null,null,"Kihajtási méret  [inch]","□ 1\"","Kiemelkedően könnyű súlyú prémium készülék  7,2 kg. ERŐTELJES - 2700 Nm. A kovácsolt DUO PACT mechanizmusnak köszönhetően rendkívül erős és különösen tartós. Kis elülső méretének köszönhetően olyan csavarokhoz is hozzáférhetünk, amihez egy hagyományos kulcs nem ér be.  Pisztoly kialakítású, extra oldalsó fogantyúja 360 fokban elforgatható, .\n\n",null,null,"□ 1\"","Kiemelkedően könnyű súlyú prémium készülék  8,1 kg. ERŐTELJES - 2700 Nm. A kovácsolt DUO PACT mechanizmusnak köszönhetően rendkívül erős és különösen tartós. Kis elülső méretének köszönhetően olyan csavarokhoz is hozzáférhetünk, amihez egy hagyományos kulcs nem ér be. Kihajtási hossz 180 mm. Pisztoly kialakítású, extra oldalsó fogantyúja 360 fokban elforgatható.\n",null,null,"□ 1\"","1\" kompozit ütve csavarozó univerzális használatra. Gyors és egyedülállóan magas nyomaték a DUOPACT mechanizmus révén, amely hosszú élettartamot garantál. Könnyű – csak 3,74 kg. Zsirzógomb gyors karbantartást, a TPR (thermo-plastic gumi) szigetelés jó tapadást és könnyű használatot biztosít.\n3 pozíciós erő és irányválás szabályozás a szerszám hátlapján."]
[null,null,null,"Nyomaték [Nm]","1900",null,null,null,"1900",null,null,null,"1300"]
[null,null,null,"Max nyomaték. [Nm] ","2700",null,null,null,"2700",null,null,null,"1950",null,null,null,null,null,null,null,"Chicago Pneumatic","CP9541",null,null,null," CP6748EX-P11R ATEX ",null,null,null,"CP9561"]
[null,null,null,"Üresjárati fordulat [rpm]","5900",null,null,null,"5900",null,null,null,"6000",null,null,null,null,null,null,null,null,"Kihajtási méret:  1/2\"  Ütőmű:    Pin clutch\nNyomaték:  34-434 Nm    Max nyomaték:   610 Nm\nÜresjárati fordulatszám: 8 900 RPM    Alacsony vibrációjú ipari légkulcs gyártáshoz, összereléshez.",null,null,null,"Kihajtási méret:  1/2\"  Ütőmű: Twin hammer\nNyomaték:  180-760  Nm    Max nyomaték: 1085 Nm\nÜresjárati fordulatszám: 8 400 RPM    Kimagasló minőség és erő robbanásveszélyes környezetbe",null,null,null,"Kihajtási méret:  3/4\"  Ütőmű:  Pin clutch\nNyomaték:  200-950 Nm    Max nyomaték: 1250 Nm\nÜresjárati fordulatszám: 5 500 RPM    Alacsony vibrációjú ipari légkulcs gyártáshoz, összereléshez."]
[null,null,null,"Tömeg [kg]","8",null,null,null,"8",null,null,null,"3,6"]
[null,null,null,"Javasolt tömlőméret ø [mm]","13",null,null,null,"13",null,null,null,"13"]
[null,null,null,"Max. nyomás [bar] ","6,3",null,null,null,"6,3",null,null,null,"6,3"]
[null,null,null,"Átlagos levegőfogyasztás [l/min]  ","300",null,null,null,"300",null,null,null,"225",null,null,null,null,null,null,null,"Cikkszám / Típus / (Listaár) \nNettó ár",6151909541,"CP9541",{"$f":"VLOOKUP(V191,Árlista!$B:$D,3,0)","v":"132 000,-Ft "},null,6151590570,"CP6748EX",{"$f":"VLOOKUP(Z191,Árlista!$B:$D,3,0)","v":"193 800,-Ft "},null,6151909561,"CP9561",{"$f":"VLOOKUP(AD191,Árlista!$B:$D,3,0)","v":"303 200,-Ft "}]
[null,null,null,"Folyamatos levegőfogyasztás [l/min]","920",null,null,null,"920",null,null,null,"972"]
[null,null,null,"Ütőmű rendszer","DUO PACT",null,null,null,"DUO PACT",null,null,null,"Duopact ",null,null,null,null,null,null,null,"Cikkszám / Típus / (Listaár) \nNettó ár",6151909542,"CP9542",{"$f":"VLOOKUP(V193,Árlista!$B:$D,3,0)","v":"132 000,-Ft "}]
[null,null,null,"Használati besorolás","3 -igen magas színvonalú",null,null,null,"3 -igen magas színvonalú",null,null,null,"4 -a legmagasabb igényekhez"]
[null,null,null,"Cikkszám / Típus / (Listaár) \nNettó ár",8951000068,"RC2437",{"$f":"VLOOKUP(E195,Árlista!$B:$D,3,0)","v":"TOPS* 252 800,-Ft"},null,8951000069,"RC2447",{"$f":"VLOOKUP(I195,Árlista!$B:$D,3,0)","v":"TOPS* 271 700,-Ft"},null,8951000075,"RC2405",{"$f":"VLOOKUP(M195,Árlista!$B:$D,3,0)","v":"TOPS* 149 300,-Ft"}]
[]
[]
[]
[null,null,null,null,null,null,null,null,null,null,null,null,null,null,null,null,null,null,null,null,"CP772H-6\""]
[]
[]
[]
[]
[]
[]
[null,null,null,null,null,null,null,null,null,null,null,null,null,null,null,null,null,null,null,null,"Chicago Pneumatic","CP772H",null,null,null," CP7763",null,null,null,"CP8272-D "]
[null,null,null,null,null,null,null,null,null,null,null,null,null,null,null,null,null,null,null,null,null,"Kihajtási méret: 3/4\"  Ütőmű:  Pin clutch\nNyomaték:  203-949 Nm    Max nyomaték:  1356 Nm\nÜresjárati fordulatszám: 4 200 RPM\nClassic légkulcs, amely évtizedek óta bizonyít!",null,null,null,"Kihajtási méret: 3/4\" / 1\"  Ütőmű:   Twin hammer\nNyomaték: 136-1288 Nm  Max nyomaték: 1630 Nm\nÜresjárati fordulatszám: 6 300 RPM  Erőteljes, megbízható motor és ütőmű karbantartáshoz.",null,null,null,"Kihajtási méret:  3/4\"  Ütőmű:   Twin hammer\nNyomaték: 250-1250 Nm  Max nyomaték: 1650 Nm\nÜresjárati fordulatszám: 6 500 RPM  Erőteljes, de alacsony zaj- és vibrációs szintű ipari készülék."]
[]
[]
[]
[null,null,null,null,null,null,null,null,null,null,null,null,null,null,null,null,null,null,null,null,"Cikkszám / Típus / (Listaár) \nNettó ár","T024598","CP772H",{"$f":"VLOOKUP(V211,Árlista!$B:$D,3,0)","v":"STARS* 144 800,-Ft"},null,8941077630," CP7763 3/4\"",{"$f":"VLOOKUP(Z211,Árlista!$B:$D,3,0)","v":"STARS* 152 100,-Ft"},null,6151590260,"CP8272-D",{"$f":"VLOOKUP(AD211,Árlista!$B:$D,3,0)","v":"311 400,-Ft "}]
[]
[null,null,null,"Típus","Rodcraft RC2477Xi",null,null,null,"Rodcraft RC2444",null,null,null,"Rodcraft RC2490/Rodcraft RC2491",null,null,null,null,null,null,null,"Cikkszám / Típus / (Listaár) \nNettó ár","T024757","CP772H-6",{"$f":"VLOOKUP(V213,Árlista!$B:$D,3,0)","v":"269 400,-Ft "},null,8941077636," CP7763-6",{"$f":"VLOOKUP(Z213,Árlista!$B:$D,3,0)","v":"258 300,-Ft "},null,6151590220,"CP8272-P",{"$f":"VLOOKUP(AD213,Árlista!$B:$D,3,0)","v":"311 400,-Ft "}]
[null,null,null,"Kihajtási méret  [inch]","□ 1\"","Kiemelkedően könnyű súlyú prémium készülék  8,1 kg. ERŐTELJES - 2900 Nm. magasabb az összes ebbe a kategóriába eső készüléknél. A kovácsolt DUO PACT mechanizmusnak köszönhetően rendkívül erős és különösen tartós. Kis elülső méretének köszönhetően (89 mm) olyan csavarokhoz is hozzáférhetünk, amihez egy hagyományos kulcs nem ér be. Kihajtási hossz 180 mm. Az extra oldalsó fogantyú 360 fokban elforgatható.\n\n",null,null,"□ 1\"","Nagyon erős és robosztus szerszám, alacsony karbantartási igényű ”zárt ütőmű” -vel. Levegőelvezetés a fogantyún keresztül. Max. nyomatéka 3.500 Nm. Erőszabályozása 4 fokozatú, amely mindkét irányban rendelkezésre áll. \n\n\n\n",null,null,"□ 1\"","Nagy, nehéz légkulcs a legnehezebb ipari felhasználásra is. Duplakalapácsos ütőművel. Max. nyomatéka 3.500 Nm \nRövid és hosszú kihajtással (200mm) is rendelhető. Erőszabályozása 4 fokozatú, amely mindkét irányban rendelkezésre áll. \n\n\n\n"]
[null,null,null,"Nyomaték [Nm]","2100",null,null,null,"2450",null,null,null,"2450",null,null,null,null,null,null,null,"Cikkszám / Típus / (Listaár) \nNettó ár","T025162","CP772H KIT",{"$f":"VLOOKUP(V215,Árlista!$B:$D,3,0)","v":"298 600,-Ft "},null,8941077730,"CP7773 1\"",{"$f":"VLOOKUP(Z215,Árlista!$B:$D,3,0)","v":"250 100,-Ft "}]
[null,null,null,"Max nyomaték. [Nm] ","2900",null,null,null,"3500",null,null,null,"3500"]
[null,null,null,"Üresjárati fordulat [rpm]","5900",null,null,null,"2700",null,null,null,"3400"]
[null,null,null,"Tömeg [kg]","8",null,null,null,"14,6",null,null,null,"17,9"]
[null,null,null,"Javasolt tömlőméret ø [mm]","13",null,null,null,"13",null,null,null,"19"]
[null,null,null,"Max. nyomás [bar] ","6,3",null,null,null,"6,3",null,null,null,"6,3"]
[null,null,null,"Átlagos levegőfogyasztás [l/min]  ","300",null,null,null,"400",null,null,null,"330"]
[null,null,null,"Folyamatos levegőfogyasztás [l/min]","920",null,null,null,"1120",null,null,null,"930"]
[null,null,null,"Ütőmű rendszer","Duopact ",null,null,null,"Closed Hammer ",null,null,null,"Duopact "]
[null,null,null,"Használati besorolás","4 -a legmagasabb igényekhez",null,null,null,"4 -a legmagasabb igényekhez",null,null,null,"3 -igen magas színvonalú"]
[null,null,null,"Cikkszám / Típus / (Listaár) \nNettó ár",8951000046,"RC2477Xi",{"$f":"VLOOKUP(E225,Árlista!$B:$D,3,0)","v":"TOPS* 221 700,-Ft"},null,8951077210,"RC2444",{"$f":"VLOOKUP(I225,Árlista!$B:$D,3,0)","v":"C #: 481 000,-Ft "},null,8951077250,"Rövid",{"$f":"VLOOKUP(M225,Árlista!$B:$D,3,0)","v":{"$error":"#N/A"}}]
[]
[null,null,null,"Cikkszám / Típus / (Listaár) Nettó ár",8951000135,"RC2457Xi",{"$f":"VLOOKUP(E227,Árlista!$B:$D,3,0)","v":"TOPS* 205 200,-Ft"}]
[null,null,null,null,null,null,null,null,null,null,null,null,null,null,null,null,null,null,null,null,"Chicago Pneumatic","CP7769/CP7779",null,null,null," CP6763 & CP6773",null,null,null,"CP6060 SASAB "]
[null,null,null,null,null,null,null,null,null,null,null,null,null,null,null,null,null,null,null,null,null,"Kihajtási méret: 3/4\"  Ütőmű:  Twin hammer\nNyomaték: 407-1,464 Nm  Max nyomaték: 1950 Nm\nÜresjárati fordulatszám: 7 000 RPM Erős, könnyű, kiegyensúlyozott légkulcs, alacsony levegőigénnyel.",null,null,null,"Kihajtási méret:  3/4\" / 1\"  Ütőmű:   Twin hammer\nNyomaték: 350-1290 Nm  Max: 1630-1760 Nm\nÜresjárati fordulatszám: 6 300 RPM  Erőteljes, megbízható motor és ütőmű karbantartáshoz.",null,null,null,"Kihajtási méret:  1/2\"  Ütőmű: 2-Jaw\nNyomaték:   265-880 Nm  Max nyomaték:  1350 Nm\nÜresjárati fordulatszám: 3 500 RPM   Super industrial légkulcs, maximális komfort, kellő nyomaték."]
[]
[]
[]
[null,null,null,null,null,null,null,null,null,null,null,null,null,null,null,null,null,null,null,null,"Cikkszám / Típus / (Listaár) \nNettó ár",8941077690,"CP7769 3/4\"",{"$f":"VLOOKUP(V233,Árlista!$B:$D,3,0)","v":",-Ft "},null,6151590400," CP6763 3/4\"",{"$f":"VLOOKUP(Z233,Árlista!$B:$D,3,0)","v":"249 900,-Ft "},null,"T024059","SASAB 3/4\""]
[]
[null,null,null,null,null,null,null,null,null,null,null,null,null,null,null,null,null,null,null,null,"Cikkszám / Típus / (Listaár) \nNettó ár",8941077696,"CP7769-6","172 000 Ft",null,6151590410," CP6773 1\"","172 000 Ft",null,"T024058","SASAR 3/4\"","686 100 Ft"]
[]
[null,null,null,null,null,null,null,null,null,null,null,null,null,null,null,null,null,null,null,null,"Cikkszám / Típus / (Listaár) \nNettó ár",8941077790,"CP7779 1\"",{"$f":"VLOOKUP(V237,Árlista!$B:$D,3,0)","v":",-Ft "},null,null,null,null,null,"T024060","SASAK 1\""]
[]
[null,null,null,null,null,null,null,null,null,null,null,null,null,null,null,null,null,null,null,null,"Cikkszám / Típus / (Listaár) \nNettó ár",null,null,null,null,null,null,null,null,"T024063","ZASAK 1\"","686 100 Ft"]
[]
[null,null,null,"Típus","Rodcraft RC2585",null,null,null,"Rodcraft RC2530",null,null,null,"Chicago Pneumatic CP6240-T120"]
[null,null,null,"Kihajtási méret  [inch]","□ 1 1/2\"","Gigantikus erejű (3 500 Nm) 1 1/2\" légkulcs.\nErőszabályozása 4 fokozatú, amely mindkét irányban rendelkezésre áll. \nA szimmetrikus ütőművének köszönhetően alacsony vibrációjú és levegőfogyasztású készülék.\n\n\n",null,null,"□ 1 1/2\"","Gigantikus erejű (5 500 Nm) 1 1/2\" légkulcs.\nErőszabályozása 4 fokozatú, amely mindkét irányban rendelkezésre áll. \nA szimmetrikus ütőművének köszönhetően alacsony vibrációjú és levegőfogyasztású készülék.\n\n\n",null,null,"□ 2 1/2\"","Nagy, nehéz légkulcs a legnehezebb ipari felhasználásra is. Duplakalapácsos ütőművel. Max. nyomatéka 3.500 Nm \nRövid és hosszú kihajtással (200mm) is rendelhető. Erőszabályozása 4 fokozatú, amely mindkét irányban rendelkezésre áll. \n\n\n\n"]
[null,null,null,"Nyomaték [Nm]","2450",null,null,null,"4200",null,null,null,"12400"]
[null,null,null,"Max nyomaték. [Nm] ","3500",null,null,null,"5500",null,null,null,"25000"]
[null,null,null,"Üresjárati fordulat [rpm]","3400",null,null,null,"3600",null,null,null,"4000"]
[null,null,null,"Tömeg [kg]","16,6",null,null,null,"17,7",null,null,null,"17,7"]
[null,null,null,"Javasolt tömlőméret ø [mm]","19",null,null,null,"19",null,null,null,"60"]
[null,null,null,"Max. nyomás [bar] ","6,3",null,null,null,"6,3",null,null,null,"6,3"]
[null,null,null,"Átlagos levegőfogyasztás [l/min]  ","330",null,null,null,"600",null,null,null,"2100"]
[null,null,null,"Folyamatos levegőfogyasztás [l/min]","930",null,null,null,"1800"]
[null,null,null,"Ütőmű rendszer","\nRod-A-Matic  ",null,null,null,"\nRod-A-Matic  ",null,null,null,"Double Rocking Dog"]
[null,null,null,"Használati besorolás","3 -igen magas színvonalú",null,null,null,"3 -igen magas színvonalú",null,null,null,"4 -a legmagasabb igényekhez",null,null,null,null,null,null,null,"Chicago Pneumatic"," CP6060-P15H",null,null,null,"CP7630",null,null,null,"CP7762"]
[null,null,null,"Cikkszám / Típus / (Listaár) \nNettó ár",8951077270,"RC2585",{"$f":"VLOOKUP(E253,Árlista!$B:$D,3,0)","v":{"$error":"#N/A"}},null,8951077260,"RC2530",{"$f":"VLOOKUP(I253,Árlista!$B:$D,3,0)","v":"C #: 986 000,-Ft "},null,null,null,"Kérje ajánlatunkat!",null,null,null,null,null,null,"Kihajtási méret: 3/4\" / 1\"  Ütőmű: 2-Jaw\nNyomaték: 270-1220 Nm  Max nyomaték: 1490 Nm\nÜresjárati fordulatszám: 4 000 RPM   Super industrial légkulcs, maximális komfort, könnyű, nagy nyomaték.",null,null,null,"Kihajtási méret: 3/4\"  Ütőmű: Twin hamme\nNyomaték: 200-1300 Nm  Max nyomaték: 1500 Nm\nÜresjárati fordulatszám: 5 000 RPM ",null,null,null,"Kihajtási méret:  3/4\"  Ütőmű:   Twin hammer \nNyomaték: 200-900 Nm  Max nyomaték: 1420Nm\nÜresjárati fordulatszám: 4850 RPM  Az első törpelégkulcs a nagyok között. 158 mm hosszú, 2,9 kg "]
[]
[]
[]
[null,null,null,null,null,null,null,null,null,null,null,null,null,null,null,null,null,null,null,null,"Cikkszám / Típus / (Listaár) \nNettó ár",6151590090,"6060-P15H",{"$f":"VLOOKUP(V257,Árlista!$B:$D,3,0)","v":"C #: 762 000,-Ft"},null,8941076300,"CP7630",{"$f":"VLOOKUP(Z257,Árlista!$B:$D,3,0)","v":"STARS* 124 200,-Ft"},null,8941077620,"CP7762",{"$f":"VLOOKUP(AD257,Árlista!$B:$D,3,0)","v":"STARS* 128 100,-Ft"}]
[]
[null,null,null,null,null,null,null,null,null,null,null,null,null,null,null,null,null,null,null,null,"Cikkszám / Típus / (Listaár) \nNettó ár",6151590100,"6060-P15R",{"$f":"VLOOKUP(V259,Árlista!$B:$D,3,0)","v":"C #: 762 000,-Ft"},null,8941076306,"CP7630-6 hosszú",{"$f":"VLOOKUP(Z259,Árlista!$B:$D,3,0)","v":"176 200,-Ft "}]
[]
[null,null,null,null,null,null,null,null,null,null,null,null,null,null,null,null,null,null,null,null,"Cikkszám / Típus / (Listaár) \nNettó ár",6151590110,"6070-P15H",{"$f":"VLOOKUP(V261,Árlista!$B:$D,3,0)","v":"C #: 770 000,-Ft"}]
[]
[]
[]
[]
[]
[]
[null,null,null,"Rodcraft","Kecskebőr-Neoprene® kesztyű. Ütéselnyelő zselés töltettel.  AVHCT",null,null,null,"Tartós Spandex ® ujjakon és a tenyéren párnázva. MHS",null,null,null,"Free Flex ® Airprene védelemmel ellátott tartós Spandex ® anyagból. Ütéselnyelő zselés töltettel. SFA"]
[null,null,null,null,null,null,null,null,null,null,null,null,null,null,null,null,null,null,null,null,null,null,null,null,"CP6763"]
[null,null,null,"Cikkszám / Típus / (Listaár) Nettó ár",8951011014,"SM 8",{"$f":"VLOOKUP(E270,Árlista!$B:$D,3,0)","v":{"$error":"#N/A"}},null,8951011005,"SM 8",{"$f":"VLOOKUP(I270,Árlista!$B:$D,3,0)","v":{"$error":"#N/A"}},null,8951011004,"SM 8",{"$f":"VLOOKUP(M270,Árlista!$B:$D,3,0)","v":"Kifutó, érdeklődj!"}]
[null,null,null,"Cikkszám / Típus / (Listaár) Nettó ár",8951011013,"MD 8,5",{"$f":"VLOOKUP(E271,Árlista!$B:$D,3,0)","v":{"$error":"#N/A"}},null,8951011009,"MD 8,5",{"$f":"VLOOKUP(I271,Árlista!$B:$D,3,0)","v":{"$error":"#N/A"}},null,8951011003,"MD 8,5",{"$f":"VLOOKUP(M271,Árlista!$B:$D,3,0)","v":"Kifutó, érdeklődj!"}]
[null,null,null,"Cikkszám / Típus / (Listaár) Nettó ár",8951011012,"LG 9",{"$f":"VLOOKUP(E272,Árlista!$B:$D,3,0)","v":"Kifutó, érdeklődj!"},null,8951011008,"LG 9",{"$f":"VLOOKUP(I272,Árlista!$B:$D,3,0)","v":{"$error":"#N/A"}},null,8951011002,"LG 9",{"$f":"VLOOKUP(M272,Árlista!$B:$D,3,0)","v":"Kifutó, érdeklődj!"}]
[null,null,null,"Cikkszám / Típus / (Listaár) Nettó ár",8951011011,"XL 9,5",{"$f":"VLOOKUP(E273,Árlista!$B:$D,3,0)","v":"Kifutó, érdeklődj!"},null,8951011007,"XL 9,5",{"$f":"VLOOKUP(I273,Árlista!$B:$D,3,0)","v":{"$error":"#N/A"}},null,8951011001,"XL 9,5",{"$f":"VLOOKUP(M273,Árlista!$B:$D,3,0)","v":"Kifutó, érdeklődj!"}]
[null,null,null,"Cikkszám / Típus / (Listaár) Nettó ár",8951011010,"XXL 10",{"$f":"VLOOKUP(E274,Árlista!$B:$D,3,0)","v":{"$error":"#N/A"}},null,8951011006,"XXL 10",{"$f":"VLOOKUP(I274,Árlista!$B:$D,3,0)","v":{"$error":"#N/A"}},null,8951011000,"XXL 10",{"$f":"VLOOKUP(M274,Árlista!$B:$D,3,0)","v":"Kifutó, érdeklődj!"},null,null,null,null,null,"Chicago Pneumatic","CP6763 és CP6773",null,null,null,"CP7776",null,null,null,"CP6920-D24"]
[null,null,null,null,null,null,null,null,null,null,null,null,null,null,null,null,null,null,null,null,null,"Kihajtási méret:  3/4\" / 1\"  Ütőmű:   Twin hammer\nNyomaték: 340-1450 Nm  Max nyomaték: 1760 Nm\nÜresjárati fordulatszám: 6 300 RPM  Erőteljes, megbízható motor és ütőmű ipari felhasználásra.",null,null,null,"Kihajtási méret:  1\"  Ütőmű: Pinless close rocking dog\nNyomaték:  955 -2073 Nm  Max nyomaték: 2400 Nm\nÜresjárati fordulatszám: 5 000 RPM    Erőteljes, nagy nyomatékú megbízható biztonságos gép.",null,null,null,"Kihajtási méret: 1\"  Ütőmű:  Pinless Rocking Dog\nNyomaték: 500-2100 Nm   Max nyomaték: 2600 Nm\nÜresjárati fordulatszám: 5 000 RPM    Ergonómikus ipari légkulcs gyártáshoz, összereléshez."]
[]
[]
[]
[null,null,null,null,null,null,null,null,null,null,null,null,null,null,null,null,null,null,null,null,"Cikkszám / Típus / (Listaár) \nNettó ár",6151590640,"CP6763-D18D",{"$f":"VLOOKUP(V279,Árlista!$B:$D,3,0)","v":"387 000,-Ft "},null,8941077760,"CP7776",{"$f":"VLOOKUP(Z279,Árlista!$B:$D,3,0)","v":"372 000,-Ft "},null,6151590070," CP6920-P24",{"$f":"VLOOKUP(AD279,Árlista!$B:$D,3,0)","v":"493 000,-Ft "}]
[]
[null,null,null,null,null,null,null,null,null,null,null,null,null,null,null,null,null,null,null,null,"Cikkszám / Típus / (Listaár) \nNettó ár",6151590650,"CP6773-D18D",{"$f":"VLOOKUP(V281,Árlista!$B:$D,3,0)","v":"391 000,-Ft "},null,8941077766,"CP7776-6",{"$f":"VLOOKUP(Z281,Árlista!$B:$D,3,0)","v":"381 000,-Ft "},null,6151590080," CP6920-D24",{"$f":"VLOOKUP(AD281,Árlista!$B:$D,3,0)","v":"C #: 509 000,-Ft"}]
[]
[]
[]
[]
[]
[]
[]
[]
[]
[]
[]
[]
[null,null,null,null,null,null,null,null,null,null,null,null,null,null,null,null,null,null,null,null,"Chicago Pneumatic","CP0611",null,null,null,"CP7778",null,null,null,"CP7763D CP7763D-6 és CP7773D CP7773D-6"]
[null,null,null,null,null,null,null,null,null,null,null,null,null,null,null,null,null,null,null,null,null,"Kihajtási méret:  1\"  Ütőmű: 2-Jaw\nNyomaték: 1220-2440 Nm  Max nyomaték: 3790 Nm\nÜresjárati fordulatszám: 4 000 RPM   Super industrial légkulcs, maximális komfort, könnyű, nagy nyomaték.",null,null,null,"Kihajtási méret:  1\"  Ütőmű:  Pinless rocking dog\nNyomaték: 400 - 1800 Nm  Max nyomaték: 2200 Nm\nÜresjárati fordulatszám: 5 000 RPM    Erőteljes, nagy nyomatékú megbízható biztonságos gép.",null,null,null,"Kihajtási méret: 3/4\" / 1\"  Ütőmű:   Twin hammer\nNyomaték: 340-1450 Nm  Max nyomaték: 1760 Nm\nÜresjárati fordulatszám: 6 300 RPM  Erőteljes, megbízható motor és ütőmű karbantartáshoz."]
[]
[]
[]
[null,null,null,null,null,null,null,null,null,null,null,null,null,null,null,null,null,null,null,null,"Cikkszám / Típus / (Listaár) \nNettó ár",6151590050,"CP0611P RS",{"$f":"VLOOKUP(V299,Árlista!$B:$D,3,0)","v":"C #: 1 516 000,-Ft"},null,8941077780,"CP7778",{"$f":"VLOOKUP(Z299,Árlista!$B:$D,3,0)","v":"C #: 505 000,-Ft"},null,8941077731,"CP7763D/CP7773D",{"$f":"VLOOKUP(AD299,Árlista!$B:$D,3,0)","v":"252 700,-Ft "}]
[]
[null,null,null,null,null,null,null,null,null,null,null,null,null,null,null,null,null,null,null,null,"Cikkszám / Típus / (Listaár) \nNettó ár","T022580","GASED ",null,null,8941077786,"CP7778-6",{"$f":"VLOOKUP(Z301,Árlista!$B:$D,3,0)","v":"C #: 341 000,-Ft "},null,8941077737,"...63D-6/...73D-6",{"$f":"VLOOKUP(AD301,Árlista!$B:$D,3,0)","v":"270 400,-Ft "}]
[]
[]
[]
[]
[]
[]
[]
[]
[]
[]
[]
[]
[null,null,null,null,null,null,null,null,null,null,null,null,null,null,null,null,null,null,null,null,"Chicago Pneumatic"," CP7782",null,null,null,"CP797",null,null,null,"Ütőmű nélküli légkulcsok"]
[null,null,null,null,null,null,null,null,null,null,null,null,null,null,null,null,null,null,null,null,null,"Kihajtási méret: 1\"  Ütőmű:  Pin less closed rocking dog\nNyomaték: 500 - 2000 Nm  Max nyomaték: 2600 Nm\nÜresjárati fordulatszám: 5 200 RPM   Könnyű erősebb légkulcs, alacsony vibrációval karbantartáshoz.",null,null,null,"Kihajtási méret:  1\"  Ütőmű:  Double rocking dog\nNyomaték: 203-1220 Nm  Max nyomaték: 1898 Nm\nÜresjárati fordulatszám: 4 200 RPM    Piacvezető megbízható, strapabíró légkulcs.",null,null,null,"Blue Tork termékek 550-900 Nm közötti pontos meghúzás\nStall Torque termékek     3/4\" 320-1300 Nm\n1\" 700-2600 Nm és 1000-4100 Nm meghúzáshoz"]
[]
[]
[]
[null,null,null,null,null,null,null,null,null,null,null,null,null,null,null,null,null,null,null,null,"Cikkszám / Típus / (Listaár) \nNettó ár",8941077820," CP7782",{"$f":"VLOOKUP(V319,Árlista!$B:$D,3,0)","v":"STARS* 211 000,-Ft"},null,"T019139","CP797",{"$f":"VLOOKUP(Z319,Árlista!$B:$D,3,0)","v":"C #: 578 000,-Ft"},null,null,"Árajánlat alapján"]
[]
[null,null,null,null,null,null,null,null,null,null,null,null,null,null,null,null,null,null,null,null,"Cikkszám / Típus / (Listaár) \nNettó ár",8941077826,"CP7782-6",{"$f":"VLOOKUP(V321,Árlista!$B:$D,3,0)","v":"STARS* 217 000,-Ft"},null,"T013901"," CP797-6",{"$f":"VLOOKUP(Z321,Árlista!$B:$D,3,0)","v":"C #: 578 000,-Ft"},null,null,"Árajánlat alapján"]
[]
[]
[]
[]
[]
[]
[]
[]
[]
[]
[]
[null,null,null,null,null,null,null,null,null,null,null,null,null,null,null,null,null,null,null,null,"Chicago Pneumatic"," CP6120 GASED",null,null,null," CP6930-D35",null,null,null," CP6135-D80"]
[null,null,null,null,null,null,null,null,null,null,null,null,null,null,null,null,null,null,null,null,null,"Kihajtási méret: 1 1/2\"  Ütőmű:   2-Jaw \nNyomaték:  815-2710 Nm  Max nyomaték: 4740 Nm\nÜresjárati fordulatszám: 3 000 RPM   Super industrial, megbízható, strababíró légkulcs.",null,null,null,"Kihajtási méret:  1 1/2\"  Ütőmű:  Twin hammer oil bath\nNyomaték: 600-2650 Nm  Max nyomaték: 3900 Nm\nÜresjárati fordulatszám: 4 300 RPM    Megbízható, strapabíró ipari légkulcs.",null,null,null,"Kihajtási méret: 1 1/2\"  Ütőmű: Pinless rocking dog \nNyomaték: 1000-5500 Nm  Max nyomaték: 8000 Nm\nÜresjárati fordulatszám: 2 800 RPM   A legerősebb 1 1/2\"-os légkulcs. Prémium minőség, ördögi erő."]
[]
[]
[]
[null,null,null,null,null,null,null,null,null,null,null,null,null,null,null,null,null,null,null,null,"Cikkszám / Típus / (Listaár) \nNettó ár","T018237","GASED ",{"$f":"VLOOKUP(V338,Árlista!$B:$D,3,0)","v":",-Ft "},null,6151590390," CP6930",{"$f":"VLOOKUP(Z338,Árlista!$B:$D,3,0)","v":"C #: 1 516 000,-Ft"},null,6151590380,"CP6135-D80",{"$f":"VLOOKUP(AD338,Árlista!$B:$D,3,0)","v":"C #: 3 304 000,-Ft"}]
[]
[null,null,null,null,null,null,null,null,null,null,null,null,null,null,null,null,null,null,null,null,"Cikkszám / Típus / (Listaár) \nNettó ár","T018841","PASED"]
[]
[]
[]
[]
[]
[]
[]
[]
[]
[]
[]
[]
[null,null,null,null,null,null,null,null,null,null,null,null,null,null,null,null,null,null,null,null,"Chicago Pneumatic"," CP5000",null,null,null,"CP6130-T70",null,null,null," CP6240-T120"]
[null,null,null,null,null,null,null,null,null,null,null,null,null,null,null,null,null,null,null,null,null,"Kihajtási méret: 1\"  Ütőmű: Pinless rocking dog \nNyomaték: 240-2800 Nm   Max nyomaték: 3390 Nm\nÜresjárati fordulatszám: 3 700 RPM   Az egyik legerősebb 1\"-os légkulcs kamion- és busszervizekbe.",null,null,null,"Kihajtási méret: 2 1/2\"  Ütőmű:  Double Rocking Dog\nNyomaték: 3300-7100 Nm  Max: 12500 Nm\nÜresjárati fordulatszám: 4 000 RPM   Super industrial, megbízható, strababíró légkulcs.",null,null,null,"Kihajtási méret: 2 1/2\"  Ütőmű:  Double Rocking Dog\nNyomaték:  5100-12400 Nm  Max: 25000 Nm\nÜresjárati fordulatszám: 3 000 RPM   Super industrial, megbízható, strababíró légkulcs."]
[]
[]
[]
[null,null,null,null,null,null,null,null,null,null,null,null,null,null,null,null,null,null,null,null,"Cikkszám / Típus / (Listaár) \nNettó ár","T024585"," CP5000",{"$f":"VLOOKUP(V358,Árlista!$B:$D,3,0)","v":"C #: 441 000,-Ft "},null,6151590010,"CP6130",{"$f":"VLOOKUP(Z358,Árlista!$B:$D,3,0)","v":"C #: 4 645 000,-Ft"},null,6151590020," CP6240",{"$f":"VLOOKUP(AD358,Árlista!$B:$D,3,0)","v":"C #: 6 492 000,-Ft"}]

{"sheet":"Dugókulcsok","index":12,"n_rows":117,"n_cols":15,"rows_kept":117,"cut":false,"hidden":false,"merged":[[109,5,110,7],[31,5,32,7],[31,9,32,11],[45,4,45,7],[45,8,45,11],[46,5,47,7],[82,9,83,11],[94,5,95,7],[81,4,81,7],[64,4,64,7],[64,8,64,11],[46,9,47,11],[64,12,64,15],[65,5,66,7],[108,4,108,7],[93,4,93,7],[82,13,83,15],[65,13,66,15],[65,9,66,11],[81,8,81,11],[81,12,81,15],[82,5,83,7],[46,13,47,15],[14,8,14,11],[14,12,14,15],[15,9,16,11],[15,13,16,15],[30,4,30,7],[30,8,30,11],[14,4,14,7],[15,5,16,7],[45,12,45,15]]}
["RODCRAFT",null,null,null,"Általános karbantartáshoz",null,null,null,null,null,"Ipari karbantartáshoz és gyártáshoz"]
["Árlista"]
["Megrendelő"]
["Fúrók"]
["Racsnis kulcsok"]
["Csavarbehajtók"]
["Sarokcsiszolók"]
["Légkulcsok"]
["Egyenes csiszolók"]
["Szalag és excenter csiszolók"]
["Polír- és fiber csiszolók"]
["Vésők, leverők …"]
["Szóró- és lefúvató pisztolyok"]
["Vágók, fűrészek, szegecshúzók"]
["Dugókulcsok",null,null,"Rodcraft","Dugókulcs szett ütvecsavarozóhoz 1/4\"",null,null,null,"Dugókulcs szett ütvecsavarozóhoz 3/8\"-HEX",null,null,null,"Dugókulcs szett ütvecsavarozóhoz 3/8\"-HEX"]
["Csatlakozók",null,null,"Típus","RS2116","7 / 8 / 9 / 10 / 11 / 12 mm Dugók, T15-T20-T25-T30-T40 Torx, 5 / 6 / 8 /10 HEX Bit, Bit tartó",null,null,"RS3113","Méretek: 7 / 8 / 9 / 10 / 11 / 12 / 13 / 14 / 15 / 16 / 17 / 18 / 19 mm.",null,null,"RS3113D","Méretek: 7 / 8 / 9 / 10 / 11 / 12 / 13 / 14 / 15 / 16 / 17 / 18 / 19 mm."]
["Abroncstöltők",null,null,"Méret","□ 1/4\"",null,null,null,"□ 3/8\"",null,null,null,"□ 3/8\""]
["ABAC Levegős szerszámok",null,null,"Cikkszám / Típus / (Listaár) Nettó ár",8951000146,"Rövid",{"$f":"VLOOKUP(E18,Árlista!$B:$D,3,0)","v":"9 250,-Ft "},null,8951012354,"Rövid",{"$f":"VLOOKUP(I18,Árlista!$B:$D,3,0)","v":"TOPS* 9 120,-Ft"},null,8951012355,"Hosszú",{"$f":"VLOOKUP(M18,Árlista!$B:$D,3,0)","v":"Kifutó, érdeklődj!"}]
["Garázsipari eszközök"]
["AKKUMULÁTOROS GÉPEK"]
["Tömlők, tömlődobok"]
["Szűrők, szabályozók"]
["Balancerek"]
[]
[{"$f":"Fúrók!$A25","v":"A feltüntett árak a 2020.02.01.-től "}]
[{"$f":"Fúrók!$A26","v":"érvényes listaárak."}]
[{"$f":"Fúrók!$A27","v":"* jelöléssel ellátott termékek a "}]
[{"$f":"Fúrók!$A28","v":"RC TOPS és CP STAR akciós"}]
[{"$f":"Fúrók!$A29","v":"kiadvány árai"}]
[{"$f":"Fúrók!$A30","v":"SP jelöléssel ellátott termékekre"}]
[{"$f":"Fúrók!$A31","v":"speciális viszonteladói árkézés"},null,null,"Rodcraft","Dugókulcs szett ütvecsavarozóhoz 1/2\"-HEX"]
[{"$f":"Fúrók!$A32","v":"vonatkozik. Az Extra árak"},null,null,"Típus","RS4114","Méretek: 10 / 11 / 12 / 13 / 14 / 15 / 16 / 17 / 18 / 19 / 21 / 22 / 26 / 27mm\n"]
[{"$f":"Fúrók!$A33","v":"a készlet erejéig, illetve"},null,null,"Méret","□ 1/2\""]
[{"$f":"Fúrók!$A34","v":"visszavonásig érvényesek."},null,null,"Cikkszám / Típus / (Listaár) Nettó ár",8951012356,"Rövid",{"$f":"VLOOKUP(E34,Árlista!$B:$D,3,0)","v":"TOPS* ,-Ft"}]
[{"$f":"Fúrók!$A35","v":"Az árista a Techtomat Kft és"}]
[{"$f":"Fúrók!$A36","v":"Kapitár Kft közös gondozásában"}]
[{"$f":"Fúrók!$A37","v":" jelent meg."}]
[{"$f":"Fúrók!$A38","v":"Minden jog fenntartva."}]
[]
[{"$f":"Fúrók!$A40","v":"Bővebb információ:"}]
[{"$f":"Fúrók!$A41","v":"Szabó Attila"}]
[{"$f":"Fúrók!$A42","v":"30/201-4931 vagy 30/626-8687"}]
[{"$f":"Fúrók!$A43","v":"e-mail"}]
[{"$f":"Fúrók!$A44","v":"Tóth Tamás"}]
[{"$f":"Fúrók!$A45","v":"30/603-1596"}]
[null,null,null,"Rodcraft","Dugókulcs szett ütvecsavarozóhoz 1/2\"-HEX",null,null,null,"Dugókulcs szett ütvecsavarozóhoz 1/2\"-HEX",null,null,null,"Dugókulcs szett ütvecsavarozóhoz 1/2\"-HEX"]
[null,null,null,"Típus","RS4114D","Méretek: 10 / 11 / 12 / 13 / 14 / 15 / 16 / 17 / 18 / 19 / 21 / 22 / 26 / 27mm\n",null,null,"RS4114TWD","Méretek: 17 / 19 / 21mm szett, illetve 17, 19, 21 Darabonként is rendelhető!\n",null,null,"RS413WP","Méretek: 17 / 19 / 21mm illetve  \nRS414WP 17 / 19 / 21 / 22mm\n"]
[null,null,null,"Méret","□ 1/2\"",null,null,null,"□ 1/2\"",null,null,null,"□ 1/2\""]
[null,null,null,"Cikkszám / Típus / (Listaár) Nettó ár",8951012357,"Hosszú",{"$f":"VLOOKUP(E49,Árlista!$B:$D,3,0)","v":"TOPS* 25 090,-Ft"},null,8951012353,"Hosszú",{"$f":"VLOOKUP(I49,Árlista!$B:$D,3,0)","v":"17 090,-Ft "},null,8951012362,"RS413WP",{"$f":"VLOOKUP(M49,Árlista!$B:$D,3,0)","v":"TOPS* 8 550,-Ft"}]
[null,null,null,"Cikkszám / Típus / (Listaár) Nettó ár",null,null,null,null,8951012364,"R417MD",{"$f":"VLOOKUP(I50,Árlista!$B:$D,3,0)","v":"2 520,-Ft "},null,8951012363,"RS414WP",{"$f":"VLOOKUP(M50,Árlista!$B:$D,3,0)","v":"TOPS* 12 550,-Ft"}]
[null,null,null,"Cikkszám / Típus / (Listaár) Nettó ár",null,null,null,null,8951012365,"R419MD",{"$f":"VLOOKUP(I51,Árlista!$B:$D,3,0)","v":"1 960,-Ft "},null,8951012372,"RS417MWP",{"$f":"VLOOKUP(M51,Árlista!$B:$D,3,0)","v":"4 200,-Ft "}]
[null,null,null,"Cikkszám / Típus / (Listaár) Nettó ár",null,null,null,null,8951012366,"R421MD",{"$f":"VLOOKUP(I52,Árlista!$B:$D,3,0)","v":"2 520,-Ft "},null,8951012373,"RS419MWP",{"$f":"VLOOKUP(M52,Árlista!$B:$D,3,0)","v":"4 480,-Ft "}]
[null,null,null,"Cikkszám / Típus / (Listaár) Nettó ár",null,null,null,null,null,null,null,null,8951012374,"RS421MWP",{"$f":"VLOOKUP(M53,Árlista!$B:$D,3,0)","v":"4 760,-Ft "}]
[null,null,null,"Cikkszám / Típus / (Listaár) Nettó ár",null,null,null,null,null,null,null,null,8951012375,"RS422MWP",{"$f":"VLOOKUP(M54,Árlista!$B:$D,3,0)","v":{"$error":"#N/A"}}]
[]
[]
[]
[]
[]
[]
[]
[]
[]
[]
[null,null,null,"Rodcraft","Dugókulcs inbus szett 1/2\"-TORX",null,null,null,"Dugókulcs inbus szett 1/2\"-HEX",null,null,null,"Torziós szár szett 1/2\""]
[null,null,null,"Típus","RS438T","Méretek: T25 / T27 / T30 / T40 / T45 / T50 / T55 / T60",null,null,"RS438A","Méretek: H6 / H7 / H8 / H10 / H12 / H14 / H17 / H19 mm.",null,null,"RS435B","Hossz: 1940mm Nyomaték: 100 / 110 / 120 / 135 / 150Nm\n"]
[null,null,null,"Méret","□ 1/2\"",null,null,null,"□ 1/2\"",null,null,null,"□ 1/2\""]
[null,null,null,"Cikkszám / Típus / (Listaár) Nettó ár",8951012377,null,{"$f":"VLOOKUP(E68,Árlista!$B:$D,3,0)","v":"TOPS* 16 540,-Ft"},null,8951012376,null,{"$f":"VLOOKUP(I68,Árlista!$B:$D,3,0)","v":"TOPS* 17 110,-Ft"},null,8951012378,"Rövid",{"$f":"VLOOKUP(M68,Árlista!$B:$D,3,0)","v":"38 140,-Ft "}]
[]
[]
[]
[]
[]
[]
[]
[]
[]
[]
[]
[]
[]
[null,null,null,"Rodcraft","Dugókulcs szett ütvecsavarozóhoz 3/4\"-HEX",null,null,null,"Dugókulcs szett ütvecsavarozóhoz 3/4\"-HEX",null,null,null,"Dugókulcs szett ütvecsavarozóhoz 1\"-HEX"]
[null,null,null,"Típus","RS618","Méretek: 26 / 27 / 29 / 30 / 32 / 35 / 36 / 38mm",null,null,"RS618D","Méretek: 26 / 27 / 29 / 30 / 32 / 35 / 36 / 38mm",null,null,"RS818","Méretek: 27 / 30 / 32 / 33 / 35 / 36 / 38 / 41 mm\n"]
[null,null,null,"Méret","□ 3/4\"",null,null,null,"□ 3/4\"",null,null,null,"□ 1\""]
[null,null,null,"Cikkszám / Típus / (Listaár) Nettó ár",8951012358,"Rövid",{"$f":"VLOOKUP(E85,Árlista!$B:$D,3,0)","v":"TOPS* 27 760,-Ft"},null,8951012359,"Hosszú",{"$f":"VLOOKUP(I85,Árlista!$B:$D,3,0)","v":"TOPS* 37 960,-Ft"},null,8951012360,"Rövid",{"$f":"VLOOKUP(M85,Árlista!$B:$D,3,0)","v":"TOPS* 49 290,-Ft"}]
[]
[]
[]
[]
[]
[]
[]
[]
[null,null,null,"Rodcraft","Dugókulcs szett ütvecsavarozóhoz 1\"-HEX"]
[null,null,null,"Típus","RS814D","Méretek: 27 /32 / 33 / 36mm illetve  \n27, 30, 32, 33, 36mm dugókulcsok\n"]
[null,null,null,"Méret","□ 1\""]
[null,null,null,"Cikkszám / Típus / (Listaár) Nettó ár",8951012361,"RS814D",{"$f":"VLOOKUP(E97,Árlista!$B:$D,3,0)","v":"TOPS* 37 960,-Ft"}]
[null,null,null,"Cikkszám / Típus / (Listaár) Nettó ár",8951012367,"RS827MD"]
[null,null,null,"Cikkszám / Típus / (Listaár) Nettó ár",8951012368,"RS830MD"]
[null,null,null,"Cikkszám / Típus / (Listaár) Nettó ár",8951012369,"RS832MD"]
[null,null,null,"Cikkszám / Típus / (Listaár) Nettó ár",8951012370,"RS833MD",{"$f":"VLOOKUP(E101,Árlista!$B:$D,3,0)","v":"12 610,-Ft "}]
[null,null,null,"Cikkszám / Típus / (Listaár) Nettó ár",8951012371,"RS836MD"]
[]
[]
[]
[]
[]
[]
[null,null,null,"Chicago Pneumatic","CP Átalakító"]
[null,null,null,"Típus",null,"Átalakítók ütvecsavarozók kihajtásához, O gyűrűs rögzítéssel."]
[null,null,null,"Méret"]
[null,null,null,"Cikkszám / Típus / Nettó ár    A308",8940165984,"3/8-1/2",{"$f":"VLOOKUP(E112,Árlista!$B:$D,3,0)","v":"2 760,-Ft "}]
[null,null,null,"Cikkszám / Típus / Nettó ár    A406",8940165992,"1/2-3/8",{"$f":"VLOOKUP(E113,Árlista!$B:$D,3,0)","v":"2 760,-Ft "}]
[null,null,null,"Cikkszám / Típus / Nettó ár    A4012",8940165993,"1/2-3/4",{"$f":"VLOOKUP(E114,Árlista!$B:$D,3,0)","v":"3 450,-Ft "}]
[null,null,null,"Cikkszám / Típus / Nettó ár    A608",8940166001,"3/4-1/2",{"$f":"VLOOKUP(E115,Árlista!$B:$D,3,0)","v":"6 510,-Ft "}]
[null,null,null,"Cikkszám / Típus / Nettó ár    A616",8940166002,"3/4-1,0",{"$f":"VLOOKUP(E116,Árlista!$B:$D,3,0)","v":"7 560,-Ft "}]
[null,null,null,"Cikkszám / Típus / Nettó ár    A812",8940166009,"1,0-3/4",{"$f":"VLOOKUP(E117,Árlista!$B:$D,3,0)","v":"13 060,-Ft "}]

{"sheet":"Vésők, leverők ...","index":13,"n_rows":180,"n_cols":49,"rows_kept":180,"cut":false,"hidden":false,"merged":[[114,4,114,7],[114,8,114,11],[76,12,76,15],[76,8,76,11],[76,4,76,7],[100,4,100,7],[101,7,102,7],[40,5,46,7],[40,9,46,11],[40,13,46,15],[63,5,75,7],[63,9,75,11],[62,4,62,7],[101,13,102,13],[101,14,102,14],[101,15,102,15],[48,13,49,13],[48,14,49,14],[48,15,49,15],[90,4,90,7],[90,8,90,11],[90,12,90,15],[100,8,100,11],[100,12,100,15],[91,5,99,7],[91,9,99,11],[91,13,99,15],[77,8,78,8],[77,9,78,9],[77,10,78,10],[77,11,78,11],[77,12,78,12],[77,7,78,7],[77,13,78,13],[77,14,78,14],[77,15,78,15],[77,6,78,6],[15,4,15,7],[15,8,15,11],[15,12,15,15],[62,8,62,11],[62,12,62,15],[23,4,23,7],[23,8,23,11],[23,12,23,15],[39,4,39,7],[39,8,39,11],[47,4,47,7],[47,8,47,11],[47,12,47,15],[16,5,22,7],[16,9,22,11],[16,13,22,15],[39,12,39,15],[24,5,25,5],[24,6,25,6],[24,7,25,7],[24,13,25,13],[24,14,25,14],[24,15,25,15],[48,12,49,12],[176,21,178,24],[176,25,178,28],[158,21,160,24],[158,25,160,28],[158,29,160,32],[65,25,67,28],[65,29,67,32],[98,21,100,24],[98,25,100,28],[140,25,142,28],[140,29,142,32],[124,21,126,24],[124,25,126,28],[124,29,126,32],[110,21,112,24],[110,25,112,28],[63,13,75,15],[19,21,21,24],[19,25,21,28],[19,29,21,32],[24,21,26,24],[24,25,26,28],[24,29,26,32],[37,25,39,28],[37,29,39,32],[51,21,53,24],[51,25,53,28],[51,29,53,32],[37,21,39,24],[115,5,127,7],[115,9,127,11],[128,4,128,7],[128,8,128,11],[144,4,144,7],[144,8,144,11],[131,8,132,8],[144,12,144,15],[145,13,157,15],[115,13,127,15],[128,12,128,15],[131,12,132,12],[131,13,132,13],[131,14,132,14],[131,15,132,15],[129,7,130,7],[133,7,134,7],[48,3,49,3],[48,4,49,4],[48,5,49,5],[48,6,49,6],[48,7,49,7],[48,8,49,8],[48,9,49,9],[48,10,49,10],[48,11,49,11],[24,8,25,8],[24,9,25,9],[24,10,25,10],[24,11,25,11],[24,12,25,12],[24,3,25,3],[24,4,25,4],[103,3,104,3],[103,4,104,4],[103,5,104,5],[103,6,104,6],[103,7,104,7],[101,3,102,3],[101,4,102,4],[101,5,102,5],[101,6,102,6],[101,8,102,8],[101,9,102,9],[101,10,102,10],[101,11,102,11],[101,12,102,12],[77,3,78,3],[77,4,78,4],[77,5,78,5],[131,3,132,3],[131,4,132,4],[131,5,132,5],[131,6,132,6],[131,7,132,7],[103,13,104,13],[103,14,104,14],[103,15,104,15],[129,3,130,3],[129,4,130,4],[129,5,130,5],[129,6,130,6],[129,8,130,8],[129,9,130,9],[129,10,130,10],[129,11,130,11],[129,12,130,12],[129,13,130,13],[129,14,130,14],[129,15,130,15],[103,8,104,8],[103,9,104,9],[103,10,104,10],[103,11,104,11],[159,3,160,3],[159,4,160,4],[159,5,160,5],[159,6,160,6],[159,7,160,7],[133,11,134,11],[133,12,134,12],[133,13,134,13],[133,14,134,14],[133,3,134,3],[133,4,134,4],[133,5,134,5],[133,6,134,6],[133,8,134,8],[133,9,134,9],[133,10,134,10],[159,13,160,13],[159,14,160,14],[145,5,157,7],[145,9,157,11],[158,4,158,7],[158,8,158,11],[158,12,158,15],[159,15,160,15],[35,37,37,37],[49,37,51,37],[60,37,62,37],[159,8,160,8],[159,9,160,9],[159,10,160,10],[159,11,160,11],[159,12,160,12],[133,15,134,15],[103,12,104,12],[131,9,132,9],[131,10,132,10],[131,11,132,11],[98,29,100,32],[81,25,83,28],[81,29,83,32],[86,25,88,28],[86,29,88,32],[65,21,67,24],[81,21,83,24],[86,21,88,24],[114,12,114,15],[110,29,112,32],[140,21,142,24]]}
["RODCRAFT",null,null,null,"Általános karbantartáshoz",null,null,null,null,null,"Ipari karbantartáshoz és gyártáshoz",null,null,null,null,null,null,"CHICAGO PNEUMATIC",null,null,"Általános karbantartáshoz",null,null,"Ipari karbantartáshoz és gyártáshoz",null,null,null,null,"Ipari körülményekhez -sorozatgyártás",null,null,null,null,null,"RODCRAFT"]
["Árlista",null,null,null,null,null,null,null,null,null,null,null,null,null,null,null,null,"Árlista",null,null,null,null,null,null,null,null,null,null,null,null,null,null,null,null,"Árlista"]
["Megrendelő",null,null,null,null,null,null,null,null,null,null,null,null,null,null,null,null,"Megrendelő",null,null,null,null,null,null,null,null,null,null,null,null,null,null,null,null,"Megrendelő"]
["Fúrók",null,null,null,null,null,null,null,null,null,null,null,null,null,null,null,null,"Fúrók",null,null,null,null,null,null,null,null,null,null,null,null,null,null,null,null,"Fúrók"]
["Racsnis kulcsok",null,null,null,null,null,null,null,null,null,null,null,null,null,null,null,null,"Racsnis kulcsok",null,null,null,null,null,null,null,null,null,null,null,null,null,null,null,null,"Racsnis kulcsok"]
["Csavarbehajtók",null,null,null,null,null,null,null,null,null,null,null,null,null,null,null,null,"Csavarbehajtók",null,null,null,null,null,null,null,null,null,null,null,null,null,null,null,null,"Csavarbehajtók"]
["Sarokcsiszolók",null,null,null,null,null,null,null,null,null,null,null,null,null,null,null,null,"Sarokcsiszolók",null,null,null,null,null,null,null,null,null,null,null,null,null,null,null,null,"Sarokcsiszolók"]
["Légkulcsok",null,null,null,null,null,null,null,null,null,null,null,null,null,null,null,null,"Légkulcsok",null,null,null,null,null,null,null,null,null,null,null,null,null,null,null,null,"Légkulcsok"]
["Egyenes csiszolók",null,null,null,null,null,null,null,null,null,null,null,null,null,null,null,null,"Egyenes csiszolók",null,null,null,null,null,null,null,null,null,null,null,null,null,null,null,null,"Egyenes csiszolók"]
["Szalag és excenter csiszolók",null,null,null,null,null,null,null,null,null,null,null,null,null,null,null,null,"Szalag és excenter csiszolók",null,null,null,null,null,null,null,null,null,null,null,null,null,null,null,null,"Szalag és excenter csiszolók"]
["Polír- és fiber csiszolók",null,null,null,null,null,null,null,null,null,null,null,null,null,null,null,null,"Polír- és fiber csiszolók",null,null,null,null,null,null,null,null,null,null,null,null,null,null,null,null,"Polír- és fiber csiszolók"]
["Vésők, leverők …",null,null,null,null,null,null,null,null,null,null,null,null,null,null,null,null,"Vésők, leverők …",null,null,null,null,null,null,null,null,null,null,null,null,null,null,null,null,"Vésők, leverők …"]
["Szóró- és lefúvató pisztolyok",null,null,null,null,null,null,null,null,null,null,null,null,null,null,null,null,"Vágók, fűrészek, szegecshúzók",null,null,null,null,null,null,null,null,null,null,null,null,null,null,null,null,"Szóró- és lefúvató pisztolyok"]
["Vágók, fűrészek, szegecshúzók",null,null," ",null,null,null,null,null,null,null,null,null,null,null,null,null,"Szóró- és lefúvató pisztolyok",null,null,null,null,null,null,null,null,null,null,null,null,null,null,null,null,"Vágók, fűrészek, szegecshúzók"]
["Dugókulcsok",null,null,null,null,null,null,null,null,null,null,null,null,null,null,null,null,"Dugókulcsok",null,null,null,null,null,null,null,null,null,null,null,null,null,null,null,null,"Dugókulcsok"]
["Csatlakozók",null,null,"Típus","Rodcraft RC5615",null,null,null,"RC5610 / CP7120",null,null,null,"Rodcraft RC5625",null,null,null,null,"Csatlakozók",null,null,null,null,null,null,null,null,null,null,null,null,null,null,null,null,"Csatlakozók"]
["Abroncstöltők",null,null,"Tűméret [mm] x Mennyiség  [db]","12 x 3","Felnik, és egyéb kis felületek tisztítására, tűkészlettel:\n12 x 3 mm (5615ST ) (tűhossz 120 mm)",null,null,"19 x 3","Kombinált szerszám. 19x3 mm-es tűs leverővel és 30 mm-es lapos vésőszárral. Ideális vastagabb rozsda és festékrétegek eltávolítására, majd azt követően, tűs leverőként annak utómunkálására.",null,null,"29x2; 19x3","Univerzális eszköz nagyobb felületek tisztítására, 2 különböző tűkészlettel:\n29 x 2 mm (5625ST2) és\n19 x 3 mm (5625ST3)",null,null,null,"Abroncstöltők",null,null,null,null,null,null,null,null,null,null,null,null,null,null,null,null,"Abroncstöltők"]
["ABAC Levegős szerszámok",null,null,"Ütésszám [1 / min]","4000",null,null,null,"4000",null,null,null,"3000",null,null,null,null,"ABAC Levegős szerszámok",null,null,null,null,null,null,null,null,null,null,null,null,null,null,null,null,"ABAC Levegős szerszámok"]
["Garázsipari eszközök",null,null,"Tömeg [kg]","1,3",null,null,null,"2,55",null,null,null,"2,7",null,null,null,null,"Garázsipari eszközök",null,null,"Chicago Pneumatic","CP B15B",null,null,null,"CP B18B",null,null,null,"B19B",null,null,null,null,"Garázsipari eszközök"]
["AKKUMULÁTOROS GÉPEK",null,null,"Javasolt tömlőméret ø [mm]","8",null,null,null,"8",null,null,null,"8",null,null,null,null,"AKKUMULÁTOROS GÉPEK",null,null,null,"Ütési energia:  2,9 Joule   Ütésszám: 2 900\nBefogás: HL 12,7 mm Nettó tömeg: 1,6 kg\nKönnyű, egykezes, egyenes vágó.",null,null,null,"Ütési energia:  5,8 Joule   Ütésszám: 3 000\nBefogás: HL 12,7 mm Nettó tömeg: 2 kg\nKönnyű pisztoly kialakítású vágó.",null,null,null,"Ütési energia:  9,5 Joule   Ütésszám: 2 200\nBefogás: HL 12,7 mm Nettó tömeg: 3 kg\nRobosztus felépítésű és erejű vágó.",null,null,null,null,"AKKUMULÁTOROS GÉPEK"]
["Tömlők, tömlődobok",null,null,"Max. nyomás [bar] ","6,3",null,null,null,"6,3",null,null,null,"6,3",null,null,null,null,"Tömlők, tömlődobok",null,null,null,null,null,null,null,null,null,null,null,null,null,null,null,null,"Tömlők, tömlődobok",null,null,"Cikkszám / Típus / (Listaár) Nettó ár",8940159860,"19x3x180 tű",{"$f":"VLOOKUP(AM21,Árlista!$B:$D,3,0)","v":"STARS* 3 200,-Ft"},null,8951011498,"12x3x120 tű",null,null,8951011501,"14x4x180",{"$f":"VLOOKUP(AU21,Árlista!$B:$D,3,0)","v":"6 440,-Ft "}]
["Szűrők, szabályozók",null,null,"Átlagos levegőfogyasztás [l/min]  ","120",null,null,null,"190",null,null,null,"120",null,null,null,null,"Szűrők, szabályozók",null,null,null,null,null,null,null,null,null,null,null,null,null,null,null,null,"Szűrők, szabályozók",null,null,"Cikkszám / Típus / (Listaár) Nettó ár",8951011510,"Befogó 19x3",{"$f":"VLOOKUP(AM22,Árlista!$B:$D,3,0)","v":"8 400,-Ft "},null,8951011511,"Befogó 12/3",null,null,8951011500,"28x3x180",{"$f":"VLOOKUP(AU22,Árlista!$B:$D,3,0)","v":"9 530,-Ft "}]
["Balancerek",null,null,"Folyamatos levegőfogyasztás [l/min]","180",null,null,null,"280",null,null,null,"170",null,null,null,null,"Balancerek",null,null,"Cikkszám / Típus / (Listaár) Nettó ár",6151740230,"B15B",{"$f":"VLOOKUP(V23,Árlista!$B:$D,3,0)","v":"167 000,-Ft "},null,6151740270,"B18B",{"$f":"VLOOKUP(Z23,Árlista!$B:$D,3,0)","v":"174 400,-Ft "},null,6151740300,"B19B",{"$f":"VLOOKUP(AD23,Árlista!$B:$D,3,0)","v":"187 200,-Ft "},null,null,"Balancerek",null,null,"Cikkszám / Típus / (Listaár) Nettó ár",8951011497,"Véső",{"$f":"VLOOKUP(AM23,Árlista!$B:$D,3,0)","v":"8 400,-Ft "},null,8940159860,"19x3x180 tű",{"$f":"VLOOKUP(AQ23,Árlista!$B:$D,3,0)","v":"STARS* 3 200,-Ft"},null,8951011503,"Befogó 14x4",{"$f":"VLOOKUP(AU23,Árlista!$B:$D,3,0)","v":"15 410,-Ft "}]
[null,null,null,"Használati besorolás","2 -megnövekedett igényekhez",null,null,null,"2 -megnövekedett igényekhez",null,null,null,"2 -megnövekedett igényekhez",null,null,null,null,null,null,null,"Chicago Pneumatic","CP B16B",null,null,null,"CP B18BV",null,null,null,"B19B1",null,null,null,null,null,null,null,"Cikkszám / Típus / (Listaár) Nettó ár",null,null,null,null,8951011504,"29x2x180 tű",{"$f":"VLOOKUP(AQ24,Árlista!$B:$D,3,0)","v":"20 450,-Ft "},null,8951011502,"Befogó 28x3",{"$f":"VLOOKUP(AU24,Árlista!$B:$D,3,0)","v":"17 650,-Ft "}]
[{"$f":"Fúrók!$A25","v":"A feltüntett árak a 2020.02.01.-től "},null,null,"Cikkszám / Típus / (Listaár) \nNettó ár",8951076002,"RC5615",{"$f":"VLOOKUP(E25,Árlista!$B:$D,3,0)","v":"TOPS* 37 960,-Ft"},null,8951076001,"RC5610",{"$f":"VLOOKUP(I25,Árlista!$B:$D,3,0)","v":"TOPS* 103 600,-Ft"},null,8951076004,"RC5625",{"$f":"VLOOKUP(M25,Árlista!$B:$D,3,0)","v":"TOPS* 65 900,-Ft"},null,null,{"$f":"Fúrók!$A25","v":"A feltüntett árak a 2020.02.01.-től "},null,null,null,"Ütési energia:  5,8 Joule   Ütésszám: 3 000\nBefogás: HL 12,7 mm Nettó tömeg: 2 kg\nKönnyű, egykezes, egyenes vágó.",null,null,null,"Ütési energia:  1,8 Joule   Ütésszám: 2 400\nBefogás: HL 12,7 mm Nettó tömeg: 3,1 kg\nKönnyű, egykezes, egyenes vágó.",null,null,null,"Ütési energia:  9,5 Joule   Ütésszám: 2 200\nBefogás: HL 15,9 mm Nettó tömeg: 3 kg\nRobosztus felépítésű és erejű vágó.",null,null,null,null,{"$f":"Fúrók!$A25","v":"A feltüntett árak a 2020.02.01.-től "},null,null,"Cikkszám / Típus / (Listaár) Nettó ár",null,null,null,null,8951011513,"Befogó 19x3"]
[{"$f":"Fúrók!$A26","v":"érvényes listaárak."},null,null,null,null,null,null,null,null,null,null,null,null,null,null,null,null,{"$f":"Fúrók!$A26","v":"érvényes listaárak."},null,null,null,null,null,null,null,null,null,null,null,null,null,null,null,null,{"$f":"Fúrók!$A26","v":"érvényes listaárak."},null,null,"Cikkszám / Típus / (Listaár) Nettó ár",null,null,null,null,8951011512,"Befogó 29x2"]
[{"$f":"Fúrók!$A27","v":"* jelöléssel ellátott termékek a "},null,null,null,null,null,null,null,null,null,null,null,null,null,null,null,null,{"$f":"Fúrók!#REF!","v":{"$error":"#REF!"}},null,null,null,null,null,null,null,null,null,null,null,null,null,null,null,null,{"$f":"Fúrók!$A27","v":"* jelöléssel ellátott termékek a "}]
[{"$f":"Fúrók!$A28","v":"RC TOPS és CP STAR akciós"},null,null,null,null,null,null,null,null,null,null,null,null,null,null,null,null,{"$f":"Fúrók!$A27","v":"* jelöléssel ellátott termékek a "},null,null,"Cikkszám / Típus / (Listaár) Nettó ár",6151740250,"B16B",{"$f":"VLOOKUP(V28,Árlista!$B:$D,3,0)","v":"187 200,-Ft "},null,6151740530,"B18BV",{"$f":"VLOOKUP(Z28,Árlista!$B:$D,3,0)","v":"251 200,-Ft "},null,6151740310,"B19B1",{"$f":"VLOOKUP(AD28,Árlista!$B:$D,3,0)","v":"187 200,-Ft "},null,null,{"$f":"Fúrók!$A28","v":"RC TOPS és CP STAR akciós"}]
[{"$f":"Fúrók!$A29","v":"kiadvány árai"},null,null,null,null,null,null,null,null,null,null,null,null,null,null,null,null,{"$f":"Fúrók!$A28","v":"RC TOPS és CP STAR akciós"},null,null,null,null,null,null,null,null,null,null,null,null,null,null,null,null,{"$f":"Fúrók!$A29","v":"kiadvány árai"}]
[{"$f":"Fúrók!$A30","v":"SP jelöléssel ellátott termékekre"},null,null,null,null,null,null,null,null,null,null,null,null,null,null,null,null,{"$f":"Fúrók!$A29","v":"kiadvány árai"},null,null,null,null,null,null,null,null,null,null,null,null,null,null,null,null,{"$f":"Fúrók!$A30","v":"SP jelöléssel ellátott termékekre"}]
[{"$f":"Fúrók!$A31","v":"speciális viszonteladói árkézés"},null,null,null,null,null,null,null,null,null,null,null,null,null,null,null,null,{"$f":"Fúrók!$A30","v":"SP jelöléssel ellátott termékekre"},null,null,null,null,null,null,null,null,null,null,null,null,null,null,null,null,{"$f":"Fúrók!$A31","v":"speciális viszonteladói árkézés"}]
[{"$f":"Fúrók!$A32","v":"vonatkozik. Az Extra árak"},null,null,null,null,null,null,null,null,null,null,null,null,null,null,null,null,{"$f":"Fúrók!$A31","v":"speciális viszonteladói árkézés"},null,null,null,null,null,null,null,null,null,null,null,null,null,null,null,null,{"$f":"Fúrók!$A32","v":"vonatkozik. Az Extra árak"}]
[{"$f":"Fúrók!$A33","v":"a készlet erejéig, illetve"},null,null,null,null,null,null,null,null,null,null,null,null,null,null,null,null,{"$f":"Fúrók!$A32","v":"vonatkozik. Az Extra árak"},null,null,null,null,null,null,null,null,null,null,null,null,null,null,null,null,{"$f":"Fúrók!$A33","v":"a készlet erejéig, illetve"}]
[{"$f":"Fúrók!$A34","v":"visszavonásig érvényesek."},null,null,null,null,null,null,null,null,null,null,null,null,null,null,null,null,null,null,null,null,null,null,null,null,null,null,null,null,null,null,null,null,null,{"$f":"Fúrók!$A34","v":"visszavonásig érvényesek."}]
[{"$f":"Fúrók!$A35","v":"Az árista a Techtomat Kft és"},null,null,null,null,null,null,null,null,null,null,null,null,null,null,null,null,{"$f":"Fúrók!$A35","v":"Az árista a Techtomat Kft és"},null,null,null,null,null,null,null,null,null,null,null,null,null,null,null,null,{"$f":"Fúrók!$A35","v":"Az árista a Techtomat Kft és"}]
[{"$f":"Fúrók!$A36","v":"Kapitár Kft közös gondozásában"},null,null,null,null,null,null,null,null,null,null,null,null,null,null,null,null,{"$f":"Fúrók!$A36","v":"Kapitár Kft közös gondozásában"},null,null,null,null,null,null,null,null,null,null,null,null,null,null,null,null,{"$f":"Fúrók!$A36","v":"Kapitár Kft közös gondozásában"},null,null,"Fémmegmunkáló \nszerszámok"]
[{"$f":"Fúrók!$A37","v":" jelent meg."},null,null,null,null,null,null,null,null,null,null,null,null,null,null,null,null,{"$f":"Fúrók!$A37","v":" jelent meg."},null,null,"Chicago Pneumatic","B19BV",null,null,null," B21B",null,null,null,"CP714",null,null,null,null,{"$f":"Fúrók!$A37","v":" jelent meg."}]
[{"$f":"Fúrók!$A38","v":"Minden jog fenntartva."},null,null,null,null,null,null,null,null,null,null,null,null,null,null,null,null,{"$f":"Fúrók!$A38","v":"Minden jog fenntartva."},null,null,null,"Ütési energia:  7 Joule   Ütésszám: 3 000\nBefogás: HL 12,7 mm Nettó tömeg: 4,1 kg\nAlacsony vibrációjú vágó, hosszú használathoz.",null,null,null,"Ütési energia:  15,9 Joule   Ütésszám: 2 200\nBefogás: HL 12,7 mm Nettó tömeg: 4 kg\nSzükséges erő a legkeményebb alkalmazásokhoz.",null,null,null,"Ütési energia:  4,7 Joule   Ütésszám: 2 000\nBefogás: D 10,2 mm Nettó tömeg: 1,51 kg\nMegbizható, sokoldalú véső.",null,null,null,null,{"$f":"Fúrók!$A38","v":"Minden jog fenntartva."}]
[null,null,null,null,null,null,null,null,null,null,null,null,null,null,null,null,null,null,null,null,null,null,null,null,null,null,null,null,null,null,null,null,null,null,null,null,null,"Cikkszám / Típus / (Listaár) Nettó ár",8951011928,"RC22S",{"$f":"VLOOKUP(AM39,Árlista!$B:$D,3,0)","v":"6 440,-Ft "},null,8951011930,"RC60S",{"$f":"VLOOKUP(AQ39,Árlista!$B:$D,3,0)","v":"11 490,-Ft "},null,8951011923,"RC14S",{"$f":"VLOOKUP(AU39,Árlista!$B:$D,3,0)","v":"6 440,-Ft "}]
[{"$f":"Fúrók!$A40","v":"Bővebb információ:"},null,null,"Típus","Rodcraft RC5620",null,null,null,"Rodcraft RC5630",null,null,null,"Rodcraft RC5175 / Rodcraft RC5605",null,null,null,null,{"$f":"Fúrók!$A40","v":"Bővebb információ:"},null,null,null,null,null,null,null,null,null,null,null,null,null,null,null,null,{"$f":"Fúrók!$A40","v":"Bővebb információ:"},null,null,"Cikkszám / Típus / (Listaár) Nettó ár",8951011926,"RC19S",{"$f":"VLOOKUP(AM40,Árlista!$B:$D,3,0)","v":"6 440,-Ft "},null,8951011927,"RC20S",{"$f":"VLOOKUP(AQ40,Árlista!$B:$D,3,0)","v":"6 440,-Ft "},null,8951011924,"RC16S",{"$f":"VLOOKUP(AU40,Árlista!$B:$D,3,0)","v":"15 690,-Ft "}]
[{"$f":"Fúrók!$A41","v":"Szabó Attila"},null,null,"Tűméret [mm] x Mennyiség  [db]","28 x 3; 14 x 4","Gyors és hatékony eszköz 2 teljes készlet tűvel, a durva munkálatokhoz is.\nA két tűkészlet:\n28 x 3 mm (5620ST3) és\n14 x 4 mm (5620ST4)",null,null,"49 x 3; 35 x 4","Hatékony eszköz vastag rozsdarétegre és nagyobb felületekre.\nA készlet 35 x 4 tűvel szerelve.\nRendelhető: 49 x 3 mm (5630ST3) és\n",null,null,"3 x 19","Extrahosszú löketű kalapács.  11 mm-es hatszögbefogással, 9J ütőenergiával. Csatlakoztathatók hozzá az RC5120, RC5160, RC5150 szerszámai, valamint az RC5605 tűs leverő adapter.",null,null,null,{"$f":"Fúrók!$A41","v":"Szabó Attila"},null,null,"Cikkszám / Típus / (Listaár) Nettó ár",6151740550,"B19BV",{"$f":"VLOOKUP(V41,Árlista!$B:$D,3,0)","v":"265 900,-Ft "},null,6151740400," B21B",{"$f":"VLOOKUP(Z41,Árlista!$B:$D,3,0)","v":"252 000,-Ft "},null,"T012735","CP714",{"$f":"VLOOKUP(AD41,Árlista!$B:$D,3,0)","v":"221 900,-Ft "},null,null,{"$f":"Fúrók!$A41","v":"Szabó Attila"},null,null,"Cikkszám / Típus / (Listaár) Nettó ár",8951011925,"RC18S",{"$f":"VLOOKUP(AM41,Árlista!$B:$D,3,0)","v":"6 440,-Ft "}]
[{"$f":"Fúrók!$A42","v":"30/201-4931 vagy 30/626-8687"},null,null,"Ütésszám [1 / min]","4500",null,null,null,"2300",null,null,null,"2100",null,null,null,null,{"$f":"Fúrók!$A42","v":"30/201-4931 vagy 30/626-8687"},null,null,"Cikkszám / Típus / (Listaár) Nettó ár",null,null,null,null,null,null,null,null,"T025364","CP714 KIT",{"$f":"VLOOKUP(AD42,Árlista!$B:$D,3,0)","v":"255 000,-Ft "},null,null,{"$f":"Fúrók!$A42","v":"30/201-4931 vagy 30/626-8687"}]
[{"$f":"Fúrók!$A43","v":"e-mail"},null,null,"Tömeg [kg]","3,6",null,null,null,"6",null,null,null,"2,05",null,null,null,null,null,null,null,null,null,null,null,null,null,null,null,null,null,null,null,null,null,{"$f":"Fúrók!$A43","v":"e-mail"}]
[{"$f":"Fúrók!$A44","v":"Tóth Tamás"},null,null,"Javasolt tömlőméret ø [mm]","10",null,null,null,8,null,null,null,8,null,null,null,null,{"$f":"Fúrók!$A44","v":"Tóth Tamás"},null,null,null,null,null,null,null,null,null,null,null,null,null,null,null,null,{"$f":"Fúrók!$A44","v":"Tóth Tamás"}]
[{"$f":"Fúrók!$A45","v":"30/603-1596"},null,null,"Max. nyomás [bar] ","6,3",null,null,null,"6,3",null,null,null,"6,3",null,null,null,null,{"$f":"Fúrók!$A45","v":"30/603-1596"},null,null,null,null,null,null,null,null,null,null,null,null,null,null,null,null,{"$f":"Fúrók!$A45","v":"30/603-1596"}]
[null,null,null,"Átlagos levegőfogyasztás [l/min]  ","200",null,null,null,"200",null,null,null,"260"]
[null,null,null,"Folyamatos levegőfogyasztás [l/min]","300",null,null,null,"300",null,null,null,"380"]
[null,null,null,"Használati besorolás","3 -igen magas színvonalú",null,null,null,"3 -igen magas színvonalú",null,null,null,"3 -igen magas színvonalú"]
[null,null,null,"Cikkszám / Típus / (Listaár) \nNettó ár",8951076003,"RC5620",{"$f":"VLOOKUP(E49,Árlista!$B:$D,3,0)","v":"TOPS* 116 300,-Ft"},null,8951076005,"RC5630",null,null,8951071042,"RC5175",{"$f":"VLOOKUP(M49,Árlista!$B:$D,3,0)","v":"48 160,-Ft "}]
[null,null,null,null,null,null,null,null,null,null,null,null,null,null,null,null,null,null,null,null,null,null,null,null,null,null,null,null,null,null,null,null,null,null,null,null,null,"Szerszámok \nbetonhoz"]
[null,null,null,null,null,null,null,null,null,null,null,null,null,null,null,null,null,null,null,null,"Chicago Pneumatic","CP716",null,null,null,"CP7111",null,null,null,"CP717"]
[null,null,null,null,null,null,null,null,null,null,null,null,null,null,null,null,null,null,null,null,null,"Ütési energia:  6,2 Joule   Ütésszám: 3 500\nBefogás: D 10,2 mm Nettó tömeg: 1,59 kg\nJól kontrolálható, megbízható véső.",null,null,null,"Ütési energia:  7,2 Joule   Ütésszám: 3 000\nBefogás: D 10,2 mm Nettó tömeg: 1,6 kg\nÁltalános vágási és vésési feladatokhoz.",null,null,null,"Ütési energia:  4,7 Joule   Ütésszám: 1 800\nBefogás: D 12,7 mm Nettó tömeg: 2,15 kg\nErő és precízió. Ideális vágáshoz, szegecsléshez.."]
[null,null,null,null,null,null,null,null,null,null,null,null,null,null,null,null,null,null,null,null,null,null,null,null,null,null,null,null,null,null,null,null,null,null,null,null,null,"Cikkszám / Típus / (Listaár) Nettó ár",8951011932,"SS10",{"$f":"VLOOKUP(AM53,Árlista!$B:$D,3,0)","v":"TOPS* 5 700,-Ft"},null,8951011934,"SS20",{"$f":"VLOOKUP(AQ53,Árlista!$B:$D,3,0)","v":"TOPS* 2 850,-Ft"},null,8951011937,"SS30K",{"$f":"VLOOKUP(AU53,Árlista!$B:$D,3,0)","v":"8 400,-Ft "}]
[null,null,null,null,null,null,null,null,null,null,null,null,null,null,null,null,null,null,null,null,null,null,null,null,null,null,null,null,null,null,null,null,null,null,null,null,null,"Cikkszám / Típus / (Listaár) Nettó ár",8951011933,"SS10K",{"$f":"VLOOKUP(AM54,Árlista!$B:$D,3,0)","v":"8 400,-Ft "},null,8951011935,"SS20K",{"$f":"VLOOKUP(AQ54,Árlista!$B:$D,3,0)","v":"8 400,-Ft "},null,8951011938,"SS40",{"$f":"VLOOKUP(AU54,Árlista!$B:$D,3,0)","v":"TOPS* 6 270,-Ft"}]
[null,null,null,null,null,null,null,null,null,null,null,null,null,null,null,null,null,null,null,null,"Cikkszám / Típus / (Listaár) Nettó ár","T025348","CP716",{"$f":"VLOOKUP(V55,Árlista!$B:$D,3,0)","v":"72 200,-Ft "},null,8941171110,"CP7111K",{"$f":"VLOOKUP(Z55,Árlista!$B:$D,3,0)","v":"STARS* 30 600,-Ft"},null,"T020120","CP717",{"$f":"VLOOKUP(AD55,Árlista!$B:$D,3,0)","v":"349 000,-Ft "},null,null,null,null,null,"Cikkszám / Típus / (Listaár) Nettó ár",8951011929,"RC30S",{"$f":"VLOOKUP(AM55,Árlista!$B:$D,3,0)","v":"14 290,-Ft "},null,8951011936,"SS30",{"$f":"VLOOKUP(AQ55,Árlista!$B:$D,3,0)","v":"7 840,-Ft "},null,8951011939,"SS40K",{"$f":"VLOOKUP(AU55,Árlista!$B:$D,3,0)","v":"8 400,-Ft "}]
[null,null,null,null,null,null,null,null,null,null,null,null,null,null,null,null,null,null,null,null,"Cikkszám / Típus / (Listaár) Nettó ár",null,null,null,null,8941171101,"CP7110 K",{"$f":"VLOOKUP(Z56,Árlista!$B:$D,3,0)","v":"56 100,-Ft "},null,"T025365","CP717 KIT",{"$f":"VLOOKUP(AD56,Árlista!$B:$D,3,0)","v":"382 000,-Ft "},null,null,null,null,null,"Cikkszám / Típus / (Listaár) Nettó ár"]
[]
[null,null,null,{"$f":"AW105","v":"14 850,-Ft "}]
[]
[]
[null,null,null,null,null,null,null,null,null,null,null,null,null,null,null,null,null,null,null,null,null,null,null,null,null,null,null,null,null,null,null,null,null,null,null,null,null,"Szerszámok \nszegecseléshez"]
[]
[null,null,null,"Típus","Rodcraft RC5120",null,null,null,"Rodcraft RC5160",null,null,null,"Rodcraft RC5150"]
[null,null,null,"Ütési energia [J]","6","VÉSŐKALAPÁCS KÉSZLET FÉMHEZ \nKomplett készlet kofferben mely tartalmazza:\nRC 5100 típusú levegős vésőkalapácsot\n11 mm-es hatszögbefogással,\n5 véső fémek vágáshoz,\nbiztonsági rugós rögzítéssel RC70 \n\nÉRDEMES RC5120 KÉSZLET MELLÉ MEGVÁSROLNI AZ RC 5160/RC5150 SZERSZÁMAIT VAGY AZ RC5605 TŰS ADAPTERT!",null,null,"6","KALAPÁCS KÉSZLET SZEGECSEKHEZ\nKamionok fékbetétjeinek szegecseléshez, illetve azok eltávolításához. Komplett készlet kofferben mely tartalmazza:\nRC 5100 típusú levegős vésőkalapácsot\n11 mm-es hatszögbefogással,\n3 db-os 8 mm-es szegecselő készlettel (Rendelhető 6 /10 mm-es készlet is!)\n1 biztonsági acél tartó RC76-1\n\n",null,null,"6","VÉSŐKALAPÁCS KÉSZLET KŐHÖZ ÉS BETONHOZ \nKomplett készlet kofferben mely tartalmazza:\nRC 5100 típusú levegős vésőkalapácsot\n11 mm-es hatszögbefogással,\n5 véső kőhöz és betonhoz,\n1 biztonsági acél tartó RC76-1\n\nSzerszámhossz: 210 mm (rendelhető 140 mm-es szerszámhosszban is)",null,null,null,null,null,null,null,null,null,null,null,null,null,null,null,null,null,null,null,null,null,null,null,"Cikkszám / Típus / (Listaár) Nettó ár",8951011942,"RC40-S6",{"$f":"VLOOKUP(AM64,Árlista!$B:$D,3,0)","v":"7 840,-Ft "},null,8951011945,"RC41-S8",{"$f":"VLOOKUP(AQ64,Árlista!$B:$D,3,0)","v":"6 440,-Ft "},null,8951011947,"RC42-S6",{"$f":"VLOOKUP(AU64,Árlista!$B:$D,3,0)","v":"6 720,-Ft "}]
[null,null,null,"Ütésszám [1 / min]","3000",null,null,null,"3000",null,null,null,"3000",null,null,null,null,null,null,null,"Chicago Pneumatic"," GV5",null,null,null,"RA1",null,null,null,"RA2C",null,null,null,null,null,null,null,"Cikkszám / Típus / (Listaár) Nettó ár",8951011943,"RC40-S8",{"$f":"VLOOKUP(AM65,Árlista!$B:$D,3,0)","v":"7 840,-Ft "},null,8951011944,"RC41-S10",{"$f":"VLOOKUP(AQ65,Árlista!$B:$D,3,0)","v":"16 250,-Ft "},null,8951011948,"RC42S-8",{"$f":"VLOOKUP(AU65,Árlista!$B:$D,3,0)","v":"5 880,-Ft "}]
[null,null,null,"Dugattyú löket / átmérő [mm]","60/19",null,null,null,"60/19",null,null,null,"60/19",null,null,null,null,null,null,null,null,"Ütési energia:  12,2 Joule   Ütésszám: 2 400\nBefogás: HL 19 mm Nettó tömeg: 5,1 kg\nEgyszerű felépítésű, ipari véső.",null,null,null,"Ütési energia:  2,3 Joule   Ütésszám: 4 000\nBefogás: D 9,5 mm Nettó tömeg: 1,1kg\nKicsi, könnyű, ugyanakkor masszív véső.",null,null,null,"Ütési energia:  5,6 Joule   Ütésszám: 3 500\nBefogás: D 15 mm Nettó tömeg: 2 kg\nErő és precízió. Ideális vágászoz, szegecsléshez..",null,null,null,null,null,null,null,"Cikkszám / Típus / (Listaár) Nettó ár",8951011941,"RC40-S10",{"$f":"VLOOKUP(AM66,Árlista!$B:$D,3,0)","v":"16 250,-Ft "},null,null,null,null,null,8951011946,"RC42-S810",{"$f":"VLOOKUP(AU66,Árlista!$B:$D,3,0)","v":"Kifutó, érdeklődj!"}]
[null,null,null,"Szerszám befogás [mm]","HEX 11,01",null,null,null,"HEX 11,01",null,null,null,"HEX 11,01"]
[null,null,null,"Tömeg [kg]","1,5",null,null,null,"1,5",null,null,null,"1,5"]
[null,null,null,"Javasolt tömlőméret ø [mm]",8,null,null,null,8,null,null,null,8,null,null,null,null,null,null,null,"Cikkszám / Típus / (Listaár) Nettó ár",6151740170," GV5",{"$f":"VLOOKUP(V69,Árlista!$B:$D,3,0)","v":"C #: 547 000,-Ft"},null,6151740180,"RA1",{"$f":"VLOOKUP(Z69,Árlista!$B:$D,3,0)","v":"380 000,-Ft "},null,6151740200," RA2C",{"$f":"VLOOKUP(AD69,Árlista!$B:$D,3,0)","v":"388 000,-Ft "}]
[null,null,null,"Max. nyomás [bar] ","6,3",null,null,null,"6,3",null,null,null,"6,3",null,null,null,null,null,null,null,"Cikkszám / Típus / (Listaár) Nettó ár",null,null,null,null,6151740190,"RA1BL",{"$f":"VLOOKUP(Z70,Árlista!$B:$D,3,0)","v":"380 000,-Ft "},null,6151740210,"RA2H",{"$f":"VLOOKUP(AD70,Árlista!$B:$D,3,0)","v":"388 000,-Ft "}]
[null,null,null,"Átlagos levegőfogyasztás [l/min]  ","270",null,null,null,"270",null,null,null,"270"]
[null,null,null,"Folyamatos levegőfogyasztás [l/min]","400",null,null,null,"400",null,null,null,"400"]
[null,null,null,"Levegőcsatlakozás [inch]","1/4 Zoll IG",null,null,null,"1/4 Zoll IG",null,null,null,"1/4 Zoll IG"]
[null,null,null,"Hangnyomásszint LpA  ","94,8",null,null,null,"94,8",null,null,null,"94,8"]
[null,null,null,"Hangenergiaszint, LwA [dB(A)]"]
[null,null,null,"Vibráció [m/s2]  ","13,2",null,null,null,"13,2",null,null,null,"13,2",null,null,null,null,null,null,null,null,null,null,null,null,null,null,null,null,null,null,null,null,null,null,null,null,"Cikkszám / Típus / (Listaár) Nettó ár",8951011949,"RC51S",{"$f":"VLOOKUP(AM76,Árlista!$B:$D,3,0)","v":"TOPS* 5 700,-Ft"},null,8951011951,"RC53S",{"$f":"VLOOKUP(AQ76,Árlista!$B:$D,3,0)","v":"7 840,-Ft "}]
[null,null,null,"Használati besorolás","2 -megnövekedett igényekhez",null,null,null,"2 -megnövekedett igényekhez",null,null,null,"2 -megnövekedett igényekhez",null,null,null,null,null,null,null,null,null,null,null,null,null,null,null,null,null,null,null,null,null,null,null,null,"Cikkszám / Típus / (Listaár) Nettó ár",8951011950,"RC52S",{"$f":"VLOOKUP(AM77,Árlista!$B:$D,3,0)","v":"TOPS* 6 990,-Ft"},null,8951011952,"RC54S",{"$f":"VLOOKUP(AQ77,Árlista!$B:$D,3,0)","v":"7 840,-Ft "}]
[null,null,null,"Cikkszám / Típus / (Listaár) \nNettó ár",8951171013,"RC5120",{"$f":"VLOOKUP(E78,Árlista!$B:$D,3,0)","v":"TOPS* 28 330,-Ft"},null,8951171033,"RC5160",{"$f":"VLOOKUP(I78,Árlista!$B:$D,3,0)","v":"52 060,-Ft "},null,8951171023,"RC5150",{"$f":"VLOOKUP(M78,Árlista!$B:$D,3,0)","v":"TOPS* 54 600,-Ft"}]
[]
[]
[null,null,null,null,null,null,null,null,null,null,null,null,null,null,null,null,null,null,null,null,"Chicago Pneumatic","CP  B16M",null,null,null,"CP B18M",null,null,null,"B19M"]
[null,null,null,null,null,null,null,null,null,null,null,null,null,null,null,null,null,null,null,null,null,"Ütési energia:  5,8 Joule   Ütésszám: 3 000\nTű méret: 19 x 3 mm Nettó tömeg: 2,6 kg\nKönnyű, egykezes, egyenes leverő.",null,null,null,"Ütési energia:  5,8 Joule   Ütésszám: 3 000\nTű méret: 19 x 3 mm (Opc: 51 x 2) Nettó tömeg: 2,6 kg\nKönnyű pisztoly kialakítású leverő.",null,null,null,"Ütési energia:  9,5 Joule   Ütésszám: 2 200\nTű méret: 28 x 3 mm (Opc: 19x4; 65x2)  Nettó tömeg: 3,7 kg Robosztus felépítésű és erejű leverő."]
[]
[]
[null,null,null,null,null,null,null,null,null,null,null,null,null,null,null,null,null,null,null,null,"Cikkszám / Típus / (Listaár) Nettó ár",6151740260,"B16M",{"$f":"VLOOKUP(V85,Árlista!$B:$D,3,0)","v":"174 400,-Ft "},null,6151740280,"B18M",{"$f":"VLOOKUP(Z85,Árlista!$B:$D,3,0)","v":"171 500,-Ft "},null,6151740320,"B19M",{"$f":"VLOOKUP(AD85,Árlista!$B:$D,3,0)","v":"187 200,-Ft "}]
[null,null,null,null,null,null,null,null,null,null,null,null,null,null,null,null,null,null,null,null,"Chicago Pneumatic","CP B16MV",null,null,null,"CP B18MV",null,null,null,"B19MV"]
[null,null,null,null,null,null,null,null,null,null,null,null,null,null,null,null,null,null,null,null,null,"Ütési energia:  1,8 Joule   Ütésszám: 2 400\nTű méret: 19 x 3 mm Nettó tömeg: 2,4 kg\nVibrációcsökkentett egykezes leverő.",null,null,null,"Ütési energia:  1,8 Joule   Ütésszám: 2 400\nTű méret: 19 x 3 mm Nettó tömeg: 2,7 kg\nVibrációcsökkentett pisztoly leverő.",null,null,null,"Ütési energia:  7 Joule   Ütésszám: 3 000\nTű méret: 28 x 3 mm (Opc: 19x4; 65x2)  \n Vibrációcsökkentett, robosztus leverő.",null,null,null,null,null,null,null,"Cikkszám / Típus / (Listaár) Nettó ár",8951011953,"RC92",{"$f":"VLOOKUP(AM87,Árlista!$B:$D,3,0)","v":"TOPS* 6 840,-Ft"},null,8951011957,null,{"$f":"VLOOKUP(AQ87,Árlista!$B:$D,3,0)","v":"TOPS* 28 330,-Ft"}]
[null,null,null,null,null,null,null,null,null,null,null,null,null,null,null,null,null,null,null,null,null,null,null,null,null,null,null,null,null,null,null,null,null,null,null,null,null,"Cikkszám / Típus / (Listaár) Nettó ár",8951011954,"RC93",{"$f":"VLOOKUP(AM88,Árlista!$B:$D,3,0)","v":"TOPS* 6 840,-Ft"}]
[]
[null,null,null,null,null,null,null,null,null,null,null,null,null,null,null,null,null,null,null,null,"Cikkszám / Típus / (Listaár) Nettó ár",6151740500,"B16MV",{"$f":"VLOOKUP(V90,Árlista!$B:$D,3,0)","v":"244 200,-Ft "},null,6151740520,"B18MV",{"$f":"VLOOKUP(Z90,Árlista!$B:$D,3,0)","v":"251 200,-Ft "},null,6151740540,"B19MV",{"$f":"VLOOKUP(AD90,Árlista!$B:$D,3,0)","v":"265 900,-Ft "}]
[null,null,null,"Típus","Rodcraft RC5176",null,null,null,"Rodcraft RC5180",null,null,null,"Rodcraft RC5305 / Rodcraft RC5310"]
[null,null,null,"Ütési energia [J]","9","Extrahosszú löketű kalapács.  11 mm-es hatszögbefogással, 9J ütőenergiával. Csatlakoztathatók hozzá az RC5120, RC5160, RC5150 szerszámai, valamint az RC5605 tűs leverő adapter. \nAz RC5176 SET tartalmaz egy lapos és egy hegyes vésőt kőhöz és betonhoz.",null,null,"8","Csökkentett vibrációjú, ergonomikus kialakítású kalapács.  11 mm-es hatszögbefogással, 8J ütőenergiával. A készülék egyaránt használható kőhöz és fémhez. Csatlakoztathatók hozzá az RC5120, RC5160, RC5150 szerszámai, valamint az RC5605 tűs leverő adapter. \n",null,null,"6","EGYENES VÉSŐKALAPÁCS KÉSZLET KŐHÖZ ÉS BETONHOZ \nKomplett készlet kofferben mely tartalmazza:\nRC 5305 típusú levegős vésőkalapácsot\n12 mm-es hatszögbefogással,\n4 véső kőhöz és betonhoz,\n1 biztonsági acél tartó RC76-3"]
[null,null,null,"Ütésszám [1 / min]","2100",null,null,null,"2000",null,null,null,"3000"]
[null,null,null,"Dugattyú löket / átmérő [mm]","94/19",null,null,null,"81/19",null,null,null,"50/20"]
[null,null,null,"Szerszám befogás [mm]","HEX 11,01",null,null,null,"HEX 11,01",null,null,null,"HEX 12,01"]
[null,null,null,"Tömeg [kg]","2,05",null,null,null,"2,4",null,null,null,"2,55"]
[null,null,null,"Javasolt tömlőméret ø [mm]",8,null,null,null,8,null,null,null,8]
[null,null,null,"Max. nyomás [bar] ","6,3",null,null,null,"6,3",null,null,null,"6,3",null,null,null,null,null,null,null,"Chicago Pneumatic"," B15M",null,null,null,"CP0456-LASAN",null,null,null," B21M"]
[null,null,null,"Átlagos levegőfogyasztás [l/min]  ","270",null,null,null,"250",null,null,null,"260",null,null,null,null,null,null,null,null,"Ütési energia:  5,8 Joule   Ütésszám: 3 800\nTű méret: 12 x 3 mm Nettó tömeg: 1,6 kg\nKönnyű, egykezes, egyenes leverő.",null,null,null,"Ütési energia:  4,3 Joule   Ütésszám: 4 300\nTű méret: 19 x 3 mm Nettó tömeg: 2,7kg\nIpari, masszív felépítésű véső.",null,null,null,"Ütési energia: 15,9 Joule   Ütésszám: 2 200\nTű méret: 35 x 5 mm (Opc: 49x3)  Nettó tömeg: 5,6 kg Robosztus felépítésű és erejű leverő."]
[null,null,null,"Folyamatos levegőfogyasztás [l/min]","400",null,null,null,"362",null,null,null,"380"]
[null,null,null,"Használati besorolás","3 -igen magas színvonalú",null,null,null,"3 -igen magas színvonalú",null,null,null,"3 -igen magas színvonalú"]
[null,null,null,"Cikkszám / Típus / (Listaár) \nNettó ár",8951171043,"RC5176 SET",{"$f":"VLOOKUP(E102,Árlista!$B:$D,3,0)","v":"TOPS* 60 200,-Ft"},null,8951071052,"RC5180",{"$f":"VLOOKUP(I102,Árlista!$B:$D,3,0)","v":"71 900,-Ft "},null,8951071065,"RC5305",{"$f":"VLOOKUP(M102,Árlista!$B:$D,3,0)","v":"132 200,-Ft "},null,null,null,null,null,"Cikkszám / Típus / (Listaár) Nettó ár",6151740240," B15M",{"$f":"VLOOKUP(V102,Árlista!$B:$D,3,0)","v":"151 700,-Ft "},null,"T013049","CP0456",{"$f":"VLOOKUP(Z102,Árlista!$B:$D,3,0)","v":"474 000,-Ft "},null,6151740410,"B21M",{"$f":"VLOOKUP(AD102,Árlista!$B:$D,3,0)","v":"252 000,-Ft "}]
[null,null,null,null,null,null,null,null,null,null,null,null,null,null,null,null,null,null,null,null,null,null,null,null,null,null,null,null,null,null,null,null,null,null,null,null,null,"Cikkszám / Típus / (Listaár) Nettó ár",8951011958,"RC70",{"$f":"VLOOKUP(AM103,Árlista!$B:$D,3,0)","v":"560,-Ft "},null,8951011962,"RC76-1",{"$f":"VLOOKUP(AQ103,Árlista!$B:$D,3,0)","v":"11 490,-Ft "},null,8951011963,"RC79",{"$f":"VLOOKUP(AU103,Árlista!$B:$D,3,0)","v":"2 520,-Ft "}]
[null,null,null,"Cikkszám / Típus / (Listaár) \nNettó ár",8951071042,"RC5175",{"$f":"VLOOKUP(E104,Árlista!$B:$D,3,0)","v":"48 160,-Ft "},null,null,null,null,null,8951171053,"RC5310 SET",{"$f":"VLOOKUP(M104,Árlista!$B:$D,3,0)","v":"TOPS* 131 600,-Ft"},null,null,null,null,null,null,null,null,null,null,null,null,null,null,null,null,null,null,null,null,null,null,"Cikkszám / Típus / (Listaár) Nettó ár",8951011961,"RC76",{"$f":"VLOOKUP(AM104,Árlista!$B:$D,3,0)","v":"5 040,-Ft "},null,8951011964,"RC76-3",{"$f":"VLOOKUP(AQ104,Árlista!$B:$D,3,0)","v":"17 650,-Ft "},null,8951011956,"RC95",{"$f":"VLOOKUP(AU104,Árlista!$B:$D,3,0)","v":"1 960,-Ft "}]
[null,null,null,null,null,null,null,null,null,null,null,null,null,null,null,null,null,null,null,null,null,null,null,null,null,null,null,null,null,null,null,null,null,null,null,null,null,"Cikkszám / Típus / (Listaár) Nettó ár",null,null,null,null,8951011955,"RC94",{"$f":"VLOOKUP(AQ105,Árlista!$B:$D,3,0)","v":"58 900,-Ft "},null,8951076000,"RC5605",{"$f":"VLOOKUP(AU105,Árlista!$B:$D,3,0)","v":"14 850,-Ft "}]
[null,null,null,null,null,null,null,null,null,null,null,null,null,null,null,null,null,null,null,null,null,null,null,null,null,null,null,null,null,null,null,null,null,null,null,null,null,null,null,null,null,null,8951011960,"RC73",{"$f":"VLOOKUP(AQ106,Árlista!$B:$D,3,0)","v":"6 160,-Ft "}]
[]
[]
[]
[null,null,null,null,null,null,null,null,null,null,null,null,null,null,null,null,null,null,null,null,"Chicago Pneumatic","CP7125",null,null,null," CP7115",null,null,null,"CP7120"]
[null,null,null,null,null,null,null,null,null,null,null,null,null,null,null,null,null,null,null,null,null,"Ütési energia:  5 Joule   Ütésszám: 4 000\nTű méret: 19x3 és 29x2 mm Nettó tömeg: 2,8 kg\nLeverő általános karbantartási munkákra.",null,null,null,"Ütési energia:  2,2 Joule   Ütésszám: 4 000\nTű méret: 12 x 3 mm Nettó tömeg: 1,3kg\nKönnyű, egykezes, egyenes leverő karbantartáshoz.",null,null,null,"Ütési energia: 5,3 Joule   Ütésszám: 4 800\nTű méret: 19 x 3 mm  Befogás o 12,7 mm \nNettó tömeg: 2,8 kg      2 in 1 véső és leverő."]
[]
[]
[null,null,null,null,null,null,null,null,null,null,null,null,null,null,null,null,null,null,null,null,"Cikkszám / Típus / (Listaár) Nettó ár",8941071250,"CP7125",{"$f":"VLOOKUP(V114,Árlista!$B:$D,3,0)","v":"STARS* 74 300,-Ft"},null,"T013049"," CP7115",{"$f":"VLOOKUP(Z114,Árlista!$B:$D,3,0)","v":"474 000,-Ft "},null,8941071200,"CP7120",{"$f":"VLOOKUP(AD114,Árlista!$B:$D,3,0)","v":"STARS* 59 700,-Ft"}]
[null,null,null,"Típus","Rodcraft RC5400",null,null,null,"Rodcraft RC5185",null,null,null,"Rodcraft RC5195"]
[null,null,null,"Ütési energia [J]","22","NAGY EGYENES VÉSŐKALAPÁCS\nEgyaránt használható kőhöz, betonhoz, fémhez, falak bontásához. 14,7 mm-es hatszögbefogással. Elérhető a következő szerszámokkal: \nRC92 lapos 30x190 mm\nRC93 hegyes 185 mm",null,null,"9","Csillapított rezgésű kalapács rendkívül ergonomikus kialakítással és nagy ütőerővel. Gyorstokmánnyal felszerelve. Ívelt gumibetétes fogantyú a szoros fogás érdekében.",null,null,"12","Csillapított rezgésű kalapács rendkívül ergonomikus kialakítással és nagy ütőerővel. Gyorstokmánnyal felszerelve. Ívelt gumibetétes fogantyú a szoros fogás érdekében."]
[null,null,null,"Ütésszám [1 / min]","1700",null,null,null,"3000",null,null,null,"2200"]
[null,null,null,"Dugattyú löket / átmérő [mm]","76/29",null,null,null,"70/19",null,null,null,"95/19"]
[null,null,null,"Szerszám befogás [mm]","HEX 14,71",null,null,null,"HEX 11",null,null,null,"HEX 11"]
[null,null,null,"Tömeg [kg]","7,5",null,null,null,"1,7",null,null,null,"2,0"]
[null,null,null,"Javasolt tömlőméret ø [mm]","10",null,null,null,8,null,null,null,8]
[null,null,null,"Max. nyomás [bar] ","6,3",null,null,null,"6,3",null,null,null,"6,3"]
[null,null,null,"Átlagos levegőfogyasztás [l/min]  ","480",null,null,null,"250",null,null,null,"250"]
[null,null,null,"Folyamatos levegőfogyasztás [l/min]","720",null,null,null,"372",null,null,null,"372",null,null,null,null,null,null,null,"Chicago Pneumatic","CP0951",null,null,null," CP0952",null,null,null,"CP9160"]
[null,null,null,"Levegőcsatlakozás [inch]","3/8 Zoll IG",null,null,null,"1/4 Zoll IG",null,null,null,"1/4 Zoll IG",null,null,null,null,null,null,null,null,"Ütési energia:  4,8 Joule   Ütésszám: 4 000\nTű méret: 12x3 mm Nettó tömeg: 2,7 kg\nEgykezes leverő ipari felhasználásra.",null,null,null,"Ütési energia:  4,8 Joule   Ütésszám: 4 000\nTű méret: 23x3 mm Nettó tömeg: 2,4 kg\nPisztoly leverő ipari felhasználásra.",null,null,null,"Ütési energia: -- Joule   Ütésszám: 32 400\nTű méret: ----  Befogás: ---- mm  Nettó tömeg: 0,12 kg\nVéső-gravírozó."]
[null,null,null,"Hangnyomásszint LpA  ","99",null,null,null,"87,5",null,null,null,"87,5"]
[null,null,null,"Hangenergiaszint, LwA [dB(A)]"]
[null,null,null,"Vibráció [m/s2]  ","13,8",null,null,null,"15,9",null,null,null,"15,9",null,null,null,null,null,null,null,"Cikkszám / Típus / (Listaár) Nettó ár","T022306","CP0951",{"$f":"VLOOKUP(V128,Árlista!$B:$D,3,0)","v":"276 200,-Ft "},null,"T019191"," CP0952",{"$f":"VLOOKUP(Z128,Árlista!$B:$D,3,0)","v":"366 000,-Ft "},null,6151979160,"CP9160",{"$f":"VLOOKUP(AD128,Árlista!$B:$D,3,0)","v":"STARS* 39 270,-Ft"}]
[null,null,null,"Használati besorolás","3 -igen magas színvonalú",null,null,null,"2 -megnövekedett igényekhez",null,null,null,"2 -megnövekedett igényekhez"]
[null,null,null,"Cikkszám / Típus / (Listaár) \nNettó ár",8951071076,"RC5400",{"$f":"VLOOKUP(E130,Árlista!$B:$D,3,0)","v":"TOPS* 151 000,-Ft"},null,8951000152,"RC5185",{"$f":"VLOOKUP(I130,Árlista!$B:$D,3,0)","v":"TOPS* 59 100,-Ft"},null,8951000154,"RC5195",{"$f":"VLOOKUP(M130,Árlista!$B:$D,3,0)","v":"TOPS* 59 100,-Ft"}]
[]
[null,null,null,"Cikkszám / Típus / (Listaár) \nNettó ár",8951011953,"RC92",{"$f":"VLOOKUP(E132,Árlista!$B:$D,3,0)","v":"TOPS* 6 840,-Ft"},null,8951000153,"RC5185FÉM",{"$f":"VLOOKUP(I132,Árlista!$B:$D,3,0)","v":"TOPS* 81 800,-Ft"},null,8951000155,"RC5195FÉM",{"$f":"VLOOKUP(M132,Árlista!$B:$D,3,0)","v":"TOPS* 81 800,-Ft"}]
[]
[null,null,null,"Cikkszám / Típus / (Listaár) \nNettó ár",8951011954,"RC93",{"$f":"VLOOKUP(E134,Árlista!$B:$D,3,0)","v":"TOPS* 6 840,-Ft"},null,8951000208,"RC5185BET",{"$f":"VLOOKUP(I134,Árlista!$B:$D,3,0)","v":"TOPS* 81 800,-Ft"},null,8951000209,"RC5195BET",{"$f":"VLOOKUP(M134,Árlista!$B:$D,3,0)","v":"TOPS* 81 800,-Ft"}]
[]
[]
[]
[]
[]
[null,null,null,null,null,null,null,null,null,null,null,null,null,null,null,null,null,null,null,null,"Chicago Pneumatic","B14A",null,null,null," B20 ",null,null,null,"B20-1"]
[null,null,null,null,null,null,null,null,null,null,null,null,null,null,null,null,null,null,null,null,null,"Ütési energia:  5,7 Joule   Ütésszám: 2,800\nNettó tömeg: 2,5 kg\nPneumatikus kalapács ipari felhasználásra.",null,null,null,"Ütési energia:  9,5 Joule   Ütésszám: 2,800\nBefogás: HL 15,9  Nettó tömeg: 5,5 kg Hossz: 1400, 1100, 710 Pneumatikus szersz: vágás, vésés, döngölés.",null,null,null,"Ütési energia:  6,5 Joule   Ütésszám: 2,800\nBefogás: HL 15,9  Nettó tömeg: 6,1 kg Hossz: 1700, 1410, 1710 Pneumatikus szersz: vágás, vésés, döngölés."]
[]
[]
[null,null,null,null,null,null,null,null,null,null,null,null,null,null,null,null,null,null,null,null,"Cikkszám / Típus / (Listaár) Nettó ár",6151740220,"B14A",{"$f":"VLOOKUP(V144,Árlista!$B:$D,3,0)","v":"129 100,-Ft "},null,6151740340," B20",{"$f":"VLOOKUP(Z144,Árlista!$B:$D,3,0)","v":"241 700,-Ft "},null,6151740370," B20-1",{"$f":"VLOOKUP(AD144,Árlista!$B:$D,3,0)","v":"229 500,-Ft "}]
[null,null,null,"Típus","Rodcraft RC5030",null,null,null,"Chicago Pneumatic CP9361",null,null,null,"Rodcraft RC5550 / Rodcraft RC5551",null,null,null,null,null,null,null,"Cikkszám / Típus / (Listaár) Nettó ár",6151740420," B23",{"$f":"VLOOKUP(V145,Árlista!$B:$D,3,0)","v":"254 400,-Ft "},null,6151740350,"B20-0",{"$f":"VLOOKUP(Z145,Árlista!$B:$D,3,0)","v":"241 700,-Ft "},null,6151740380,"B20L",{"$f":"VLOOKUP(AD145,Árlista!$B:$D,3,0)","v":"276 600,-Ft "}]
[null,null,null,"Ütési energia [J]",null,"VÉSŐ-GRAVÍROZÓ keményfém heggyel. Gravírozás mindenféle anyagra, acélra is! Csúszásgátló felülettel a kényelmes fogás érdekében. Tartalék keményfém tű rendelhető hozzá.",null,null,null,"VÉSŐ-GRAVÍROZÓ keményfém heggyel. Ipari kivitel, prémium minőségi anyagok felhasználásával. Gravírozás mindenféle anyagra, acélra is! Csúszásgátló felülettel a kényelmes fogás érdekében. Csatlakozó tömlővel (2,4 m) szerelve. ",null,null,null,"Egyenes vésőkalapács különböző felületek és rétegek, mint a csempe és a bitumen  eltávolítása\ntartályok, padlók és falak felületéről. Véső betétek állnak rendelkezésre: a hegyes véső valamint 100 mm-es lapos véső RC510\nAz eszköz két változatban kapható, hosszú típusú padlóhoz RC5550 és kétrészes rövid RC5551 változat.\n",null,null,null,null,null,null,"Cikkszám / Típus / (Listaár) Nettó ár",null,null,null,null,6151740360,"B20-00",{"$f":"VLOOKUP(Z146,Árlista!$B:$D,3,0)","v":"206 200,-Ft "},null,6151740390,"B20L-1",{"$f":"VLOOKUP(AD146,Árlista!$B:$D,3,0)","v":"276 600,-Ft "}]
[null,null,null,"Ütésszám [1 / min]","10000",null,null,null,"13500",null,null,null,"2200"]
[null,null,null,"Dugattyú löket / átmérő [mm]","0,05",null,null,null,null,null,null,null,"40/19"]
[null,null,null,"Szerszám befogás [mm]","HEX 3,2",null,null,null,"HEX 3",null,null,null,"HEX 14,71"]
[null,null,null,"Tömeg [kg]","0,2",null,null,null,"0,1",null,null,null,"5,75"]
[null,null,null,"Javasolt tömlőméret ø [mm]","8",null,null,null,8,null,null,null,8]
[null,null,null,"Max. nyomás [bar] ","6,3",null,null,null,"6,3",null,null,null,"6,3"]
[null,null,null,"Átlagos levegőfogyasztás [l/min]  ","4",null,null,null,null,null,null,null,"100"]
[null,null,null,"Folyamatos levegőfogyasztás [l/min]","5",null,null,null,"6",null,null,null,"160"]
[null,null,null,"Levegőcsatlakozás [inch]","1/4 Zoll AG",null,null,null,"1/4 Zoll IG",null,null,null,"1/4 Zoll IG"]
[null,null,null,"Hangnyomásszint LpA  ","70,7",null,null,null,"79",null,null,null,"87,5"]
[null,null,null,"Hangenergiaszint, LwA [dB(A)]"]
[null,null,null,"Vibráció [m/s2]  ","3,8",null,null,null,"2,4",null,null,null,"15,9",null,null,null,null,null,null,null,"Chicago Pneumatic","CP0200B18",null,null,null,"CP0200B22",null,null,null,"CP0200B25"]
[null,null,null,"Használati besorolás","2 -megnövekedett igényekhez",null,null,null,"4 -a legmagasabb igényekhez",null,null,null,"2 -megnövekedett igényekhez",null,null,null,null,null,null,null,null,"Lökethossz: 50 mm   Ütésszám: 1,800\nNettó tömeg: 1,5 kg  Hossz: 280, 558, \nPneumatikus döngölő öntödei felhasználásra.",null,null,null,"Lökethossz: 64 mm   Ütésszám: 1 020\nNettó tömeg: 3 kg  Hossz: 350, 633, \nPneumatikus döngölő öntödei felhasználásra.",null,null,null,"Lökethossz: 83 mm   Ütésszám: 780\nNettó tömeg: 5,5 kg  Hossz: 506, 1044, \nPneumatikus döngölő öntödei felhasználásra."]
[null,null,null,"Cikkszám / Típus / (Listaár) \nNettó ár",8951071010,"RC5030",{"$f":"VLOOKUP(E160,Árlista!$B:$D,3,0)","v":"TOPS* 52 400,-Ft"},null,"T012644","CP9161",{"$f":"VLOOKUP(I160,Árlista!$B:$D,3,0)","v":"156 300,-Ft "},null,8951076018,"RC5550"]
[]
[null,null,null,null,null,null,null,null,null,null,null,null,null,null,null,null,null,null,null,null,"Cikkszám / Típus / (Listaár) Nettó ár",6151618010,"B18",{"$f":"VLOOKUP(V162,Árlista!$B:$D,3,0)","v":"220 800,-Ft "},null,6151618030,"B22",{"$f":"VLOOKUP(Z162,Árlista!$B:$D,3,0)","v":"262 200,-Ft "},null,6151618050,"B25",{"$f":"VLOOKUP(AD162,Árlista!$B:$D,3,0)","v":"474 000,-Ft "}]
[null,null,null,null,null,null,null,null,null,null,null,null,null,null,null,null,null,null,null,null,"Cikkszám / Típus / (Listaár) Nettó ár",6151618020," B18-2F",{"$f":"VLOOKUP(V163,Árlista!$B:$D,3,0)","v":"231 500,-Ft "},null,6151618040," B22-2F",{"$f":"VLOOKUP(Z163,Árlista!$B:$D,3,0)","v":"281 900,-Ft "},null,6151618060," B25-2F",{"$f":"VLOOKUP(AD163,Árlista!$B:$D,3,0)","v":"474 000,-Ft "}]
[null,null,null,null,null,null,null,null,null,null,null,null,null,null,null,null,null,null,null,null,"Cikkszám / Típus / (Listaár) Nettó ár",6151618080,"B18L",{"$f":"VLOOKUP(V164,Árlista!$B:$D,3,0)","v":"231 500,-Ft "},null,6151618100,"B22L",{"$f":"VLOOKUP(Z164,Árlista!$B:$D,3,0)","v":"281 900,-Ft "},null,6151618120,"B25L",{"$f":"VLOOKUP(AD164,Árlista!$B:$D,3,0)","v":"474 000,-Ft "}]
[null,null,null,null,null,null,null,null,null,null,null,null,null,null,null,null,null,null,null,null,"Cikkszám / Típus / (Listaár) Nettó ár",6151618090,"B18-2F",{"$f":"VLOOKUP(V165,Árlista!$B:$D,3,0)","v":"231 500,-Ft "},null,6151618110,"B22-2F",{"$f":"VLOOKUP(Z165,Árlista!$B:$D,3,0)","v":"288 900,-Ft "},null,6151618130,"B25-2F",{"$f":"VLOOKUP(AD165,Árlista!$B:$D,3,0)","v":"474 000,-Ft "}]
[]
[]
[]
[]
[]
[]
[]
[]
[]
[]
[null,null,null,null,null,null,null,null,null,null,null,null,null,null,null,null,null,null,null,null,"Chicago Pneumatic","CP9705",null,null,null," CP9710"]
[null,null,null,null,null,null,null,null,null,null,null,null,null,null,null,null,null,null,null,null,null,"Löketszám:  12 000 SPM  Löket: 5 mm Nettó tömeg: 0,56 kg reszelő. Ideális eszköz sorjázáshoz, egyengetéshez. Lapos, félkör- és háromszög valamint kerek reszelővel. ",null,null,null,"Löketszám: 8 000 SPM  Löket: 10 mm Nettó tömeg: 0,59 kg reszelő. Ideális eszköz sorjázáshoz, egyengetéshez. Lapos, félkör- és háromszög valamint kerek reszelővel. "]
[]
[]
[null,null,null,null,null,null,null,null,null,null,null,null,null,null,null,null,null,null,null,null,"Cikkszám / Típus / (Listaár) Nettó ár",6151939705,"CP9705",{"$f":"VLOOKUP(V180,Árlista!$B:$D,3,0)","v":"98 300,-Ft "},null,6151939710," CP9710",{"$f":"VLOOKUP(Z180,Árlista!$B:$D,3,0)","v":"101 900,-Ft "}]

{"sheet":"Vágók, fűrészek, szegecshúzók","index":14,"n_rows":161,"n_cols":49,"rows_kept":161,"cut":false,"hidden":false,"merged":[[131,12,137,15],[160,3,161,3],[160,4,161,4],[160,5,161,5],[160,6,161,6],[160,7,161,7],[86,38,86,41],[118,3,119,3],[118,4,119,4],[118,5,119,5],[118,6,119,6],[118,7,119,7],[118,8,119,8],[118,9,119,9],[118,10,119,10],[118,11,119,11],[97,3,98,3],[97,4,98,4],[97,5,98,5],[97,6,98,6],[97,7,98,7],[97,8,98,8],[97,9,98,9],[97,10,98,10],[78,3,79,3],[78,4,79,4],[78,5,79,5],[78,6,79,6],[78,7,79,7],[78,8,79,8],[78,9,79,9],[78,10,79,10],[78,11,79,11],[76,3,77,3],[76,4,77,4],[76,5,77,5],[76,6,77,6],[76,8,77,8],[76,9,77,9],[76,10,77,10],[76,11,77,11],[76,12,77,12],[76,7,77,7],[141,3,142,3],[141,4,142,4],[141,5,142,5],[141,6,142,6],[141,7,142,7],[141,8,142,8],[141,9,142,9],[141,10,142,10],[141,11,142,11],[139,3,140,3],[139,4,140,4],[139,5,140,5],[139,6,140,6],[139,8,140,8],[139,9,140,9],[139,10,140,10],[139,11,140,11],[139,12,140,12],[139,7,140,7],[159,4,159,7],[153,4,153,7],[154,5,158,7],[96,4,96,7],[96,8,96,11],[68,42,68,45],[68,38,68,41],[96,12,96,15],[117,8,117,11],[117,12,117,15],[130,4,130,7],[130,8,130,11],[139,13,140,13],[139,14,140,14],[139,15,140,15],[141,12,142,12],[141,13,142,13],[141,14,142,14],[141,15,142,15],[76,13,77,13],[76,14,77,14],[110,5,116,7],[97,12,98,12],[97,13,98,13],[45,13,51,15],[27,8,28,8],[27,9,28,9],[27,10,28,10],[27,11,28,11],[27,12,28,12],[44,42,44,45],[44,46,44,49],[27,46,27,49],[27,38,27,41],[44,38,44,41],[44,8,44,11],[44,12,44,15],[45,9,51,11],[27,42,27,45],[34,21,36,24],[18,4,18,7],[18,8,18,11],[18,12,18,15],[19,5,25,7],[19,9,25,11],[19,13,25,15],[26,4,26,7],[26,8,26,11],[26,12,26,15],[68,46,68,49],[131,5,137,7],[131,9,137,11],[138,4,138,7],[52,4,52,7],[52,8,52,11],[52,12,52,15],[68,5,74,7],[68,9,74,11],[68,13,74,15],[75,4,75,7],[75,8,75,11],[90,4,90,7],[90,8,90,11],[90,12,90,15],[91,5,95,7],[91,9,95,11],[91,13,95,15],[67,4,67,7],[67,8,67,11],[67,12,67,15],[138,12,138,15],[97,14,98,14],[130,12,130,15],[19,21,21,24],[19,25,21,28],[19,29,21,32],[34,25,36,28],[34,29,36,32],[49,21,51,24],[49,25,51,28],[49,29,51,32],[138,8,138,11],[27,13,28,13],[27,14,28,14],[27,15,28,15],[53,12,54,12],[53,13,54,13],[53,14,54,14],[53,15,54,15],[110,9,116,11],[110,13,116,15],[75,12,75,15],[53,8,54,8],[53,9,54,9],[53,10,54,10],[53,11,54,11],[109,8,109,11],[27,3,28,3],[27,4,28,4],[27,5,28,5],[27,6,28,6],[27,7,28,7],[45,5,51,7],[53,3,54,3],[53,4,54,4],[53,5,54,5],[53,6,54,6],[53,7,54,7],[44,4,44,7],[117,4,117,7],[76,15,77,15],[78,12,79,12],[78,13,79,13],[78,14,79,14],[78,15,79,15],[97,15,98,15],[118,12,119,12],[118,13,119,13],[118,14,119,14],[118,15,119,15],[109,4,109,7],[109,12,109,15],[97,11,98,11]]}
["RODCRAFT",null,null,null,"Általános karbantartáshoz",null,null,null,null,null,"Ipari karbantartáshoz és gyártáshoz",null,null,null,null,null,null,"CHICAGO PNEUMATIC",null,null,"Általános karbantartáshoz",null,null,"Ipari karbantartáshoz és gyártáshoz",null,null,null,null,"Ipari körülményekhez -sorozatgyártás",null,null,null,null,null,"RODCRAFT"]
["Árlista",null,null,null,null,null,null,null,null,null,null,null,null,null,null,null,null,"Árlista",null,null,null,null,null,null,null,null,null,null,null,null,null,null,null,null,"Árlista"]
["Megrendelő",null,null,null,null,null,null,null,null,null,null,null,null,null,null,null,null,"Megrendelő",null,null,null,null,null,null,null,null,null,null,null,null,null,null,null,null,"Megrendelő"]
["Fúrók",null,null,null,null,null,null,null,null,null,null,null,null,null,null,null,null,"Fúrók",null,null,null,null,null,null,null,null,null,null,null,null,null,null,null,null,"Fúrók"]
["Racsnis kulcsok",null,null,null,null,null,null,null,null,null,null,null,null,null,null,null,null,"Racsnis kulcsok",null,null,null,null,null,null,null,null,null,null,null,null,null,null,null,null,"Racsnis kulcsok"]
["Csavarbehajtók",null,null,null,null,null,null,null,null,null,null,null,null,null,null,null,null,"Csavarbehajtók",null,null,null,null,null,null,null,null,null,null,null,null,null,null,null,null,"Csavarbehajtók"]
["Sarokcsiszolók",null,null,null,null,null,null,null,null,null,null,null,null,null,null,null,null,"Sarokcsiszolók",null,null,null,null,null,null,null,null,null,null,null,null,null,null,null,null,"Sarokcsiszolók"]
["Légkulcsok",null,null,null,null,null,null,null,null,null,null,null,null,null,null,null,null,"Légkulcsok",null,null,null,null,null,null,null,null,null,null,null,null,null,null,null,null,"Légkulcsok"]
["Egyenes csiszolók",null,null,null,null,null,null,null,null,null,null,null,null,null,null,null,null,"Egyenes csiszolók",null,null,null,null,null,null,null,null,null,null,null,null,null,null,null,null,"Egyenes csiszolók"]
["Szalag és excenter csiszolók",null,null,null,null,null,null,null,null,null,null,null,null,null,null,null,null,"Szalag és excenter csiszolók",null,null,null,null,null,null,null,null,null,null,null,null,null,null,null,null,"Szalag és excenter csiszolók"]
["Polír- és fiber csiszolók",null,null,null,null,null,null,null,null,null,null,null,null,null,null,null,null,"Polír- és fiber csiszolók",null,null,null,null,null,null,null,null,null,null,null,null,null,null,null,null,"Polír- és fiber csiszolók"]
["Vésők, leverők …",null,null,null,null,null,null,null,null,null,null,null,null,null,null,null,null,"Vésők, leverők …",null,null,null,null,null,null,null,null,null,null,null,null,null,null,null,null,"Vésők, leverők …",null,null,null,null,null,null,null,"v"]
["Szóró- és lefúvató pisztolyok",null,null,null,null,null,null,null,null,null,null,null,null,null,null,null,null,"Vágók, fűrészek, szegecshúzók",null,null,null,null,null,null,null,null,null,null,null,null,null,null,null,null,"Szóró- és lefúvató pisztolyok"]
["Vágók, fűrészek, szegecshúzók",null,null,null,null,null,null,null,null,null,null,null,null,null,null,null,null,"Szóró- és lefúvató pisztolyok",null,null,null,null,null,null,null,null,null,null,null,null,null,null,null,null,"Vágók, fűrészek, szegecshúzók"]
["Dugókulcsok",null,null,null,null,null,null,null,null,null,null,null,null,null,null,null,null,"Dugókulcsok",null,null,null,null,null,null,null,null,null,null,null,null,null,null,null,null,"Dugókulcsok"]
["Csatlakozók",null,null,null,null,null,null,null,null,null,null,null,null,null,null,null,null,"Csatlakozók",null,null,null,null,null,null,null,null,null,null,null,null,null,null,null,null,"Csatlakozók"]
["Abroncstöltők",null,null," ",null,null,null,null,null,null,null,null,null,null,null,null,null,"Abroncstöltők",null,null,null,null,null,null,null,null,null,null,null,null,null,null,null,null,"Abroncstöltők"]
["ABAC Levegős szerszámok",null,null,null,null,null,null,null,null,null,null,null,null,null,null,null,null,"ABAC Levegős szerszámok",null,null,null,null,null,null,null,null,null,null,null,null,null,null,null,null,"ABAC Levegős szerszámok"]
["Garázsipari eszközök",null,null,"Típus","Rodcraft RC6700",null,null,null,"Rodcraft RC6710",null,null,null,"Rodcraft RC6715",null,null,null,null,"Garázsipari eszközök",null,null,"Chicago Pneumatic","CP9882",null,null,null," CP9883",null,null,null," CP9884",null,null,null,null,"Garázsipari eszközök"]
["AKKUMULÁTOROS GÉPEK",null,null,"Szegecsméret  [mm]","2,4-5,4","Réz-, alumínium-, standard popszegecsekhez.\nCsekély levegőigényének köszönhetően kis kompresszorral is használható. A készülék mellé jár 2,0 / 2,4 / 3,0 / 3,4 befogó",null,null,"2,4-6,4","Méretében és kialakításában az RC6700-ra hasonlít, de erősített befogással. Elsődlegesen réz-, alumínium-, standard popszegecsekhez.\nA készülék mellé jár 2,0 / 2,4 / 3,0 / 4,0 / 4,4 befogó.",null,null,"3,2-6,4","Robosztus popszegecs húzó, gumírozott fogantyúval, univerzális használatra. Lágy anyagok mellett acél szegecsekhez is.\nCsekély levegőigényének köszönhetően kis kompresszorral is használható. A készülék mellé jár 2,0 / 2,8 / 3,2 / 4,5 befogó",null,null,null,"AKKUMULÁTOROS GÉPEK",null,null,null,"Huzóerő:  10 000 N    Nettó tömeg: 1,5 kg\nPopszegecs húzó lágy anyagok szegecseléséhez.\nA készülék mellé jár 2,4 / 3,2 / 4,0 / 4,8 befogó",null,null,null,"Huzóerő:  8 650 N    Nettó tömeg: 1,46 kg\nPopszegecs húzó lágy anyagok szegecseléséhez.\nA készülék mellé jár 2,4 / 3,2 / 4,0 / 4,8 befogó",null,null,null,"Huzóerő:  16 000 N    Nettó tömeg: 1,9 kg\nErős popszegecs húzó.\nA készülék mellé jár 4,8 / 6,4 befogó.",null,null,null,null,"AKKUMULÁTOROS GÉPEK"]
["Tömlők, tömlődobok",null,null,"Húzóerő [N]","12000",null,null,null,"19000",null,null,null,"15000",null,null,null,null,"Tömlők, tömlődobok",null,null,null,null,null,null,null,null,null,null,null,null,null,null,null,null,"Tömlők, tömlődobok"]
["Szűrők, szabályozók",null,null,"Tömeg [kg]","1,6",null,null,null,"1,8",null,null,null,"1,8",null,null,null,null,"Szűrők, szabályozók",null,null,null,null,null,null,null,null,null,null,null,null,null,null,null,null,"Szűrők, szabályozók"]
["Balancerek",null,null,"Javasolt tömlőméret ø [mm]","8",null,null,null,"8",null,null,null,"8",null,null,null,null,"Balancerek",null,null,"Cikkszám / Típus / (Listaár) Nettó ár",8941098820,"CP9882",{"$f":"VLOOKUP(V23,Árlista!$B:$D,3,0)","v":"STARS* 39 100,-Ft"},null,8941098830," CP9883",{"$f":"VLOOKUP(Z23,Árlista!$B:$D,3,0)","v":"STARS* 130 000,-Ft"},null,8941098840," CP9884",{"$f":"VLOOKUP(AD23,Árlista!$B:$D,3,0)","v":"286 200,-Ft "},null,null,"Balancerek"]
[null,null,null,"Levegőfogyasztás [l/ütem]","1,2",null,null,null,"1,8",null,null,null,"1,1"]
[{"$f":"Fúrók!$A25","v":"A feltüntett árak a 2020.02.01.-től "},null,null,"Levegőcsatlakozás [inch]","1/4 Zoll IG",null,null,null,"1/4 Zoll IG",null,null,null,"1/4 Zoll IG",null,null,null,null,{"$f":"Fúrók!$A25","v":"A feltüntett árak a 2020.02.01.-től "},null,null,null,null,null,null,null,null,null,null,null,null,null,null,null,null,{"$f":"Fúrók!$A25","v":"A feltüntett árak a 2020.02.01.-től "}]
[{"$f":"Fúrók!$A26","v":"érvényes listaárak."},null,null,"Hangnyomásszint LpA  ","86,5",null,null,null,"64,1",null,null,null,"77,3",null,null,null,null,{"$f":"Fúrók!$A26","v":"érvényes listaárak."},null,null,null,null,null,null,null,null,null,null,null,null,null,null,null,null,{"$f":"Fúrók!$A26","v":"érvényes listaárak."}]
[{"$f":"Fúrók!$A27","v":"* jelöléssel ellátott termékek a "},null,null,"Használati besorolás","2 -megnövekedett igényekhez",null,null,null,"2 -megnövekedett igényekhez",null,null,null,"3 -igen magas színvonalú",null,null,null,null,{"$f":"Fúrók!#REF!","v":{"$error":"#REF!"}},null,null,null,null,null,null,null,null,null,null,null,null,null,null,null,null,{"$f":"Fúrók!$A27","v":"* jelöléssel ellátott termékek a "}]
[{"$f":"Fúrók!$A28","v":"RC TOPS és CP STAR akciós"},null,null,"Cikkszám / Típus / (Listaár) \nNettó ár",8951074001,"RC6700",{"$f":"VLOOKUP(E28,Árlista!$B:$D,3,0)","v":"TOPS* 36 260,-Ft"},null,8951074002,"RC6710",{"$f":"VLOOKUP(I28,Árlista!$B:$D,3,0)","v":"TOPS* 154 700,-Ft"},null,8951074003,"RC6715",{"$f":"VLOOKUP(M28,Árlista!$B:$D,3,0)","v":"TOPS* 107 900,-Ft"},null,null,{"$f":"Fúrók!$A27","v":"* jelöléssel ellátott termékek a "},null,null,null,null,null,null,null,null,null,null,null,null,null,null,null,null,{"$f":"Fúrók!$A28","v":"RC TOPS és CP STAR akciós"},null,null,null,"Fűrészlapok NORMÁL (5db) 93/68 mm",null,null,null,"Fűrészlapok SIG típus (5db) 96/77 mm",null,null,null,"Fűrészlapok HOSSZÚ (5db) 160/135 mm"]
[{"$f":"Fúrók!$A29","v":"kiadvány árai"},null,null,null,null,null,null,null,null,null,null,null,null,null,null,null,null,{"$f":"Fúrók!$A28","v":"RC TOPS és CP STAR akciós"},null,null,null,null,null,null,null,null,null,null,null,null,null,null,null,null,{"$f":"Fúrók!$A29","v":"kiadvány árai"},null,null,"Cikkszám / Típus / (Listaár) Nettó ár",8951011514,"6051 32",{"$f":"VLOOKUP(AM29,Árlista!$B:$D,3,0)","v":"TOPS* 3 990,-Ft"},null,8951011523,"H18",{"$f":"VLOOKUP(AQ29,Árlista!$B:$D,3,0)","v":"TOPS* 7 410,-Ft"},null,8951011521,"H32",{"$f":"VLOOKUP(AU29,Árlista!$B:$D,3,0)","v":"TOPS* 7 410,-Ft"}]
[{"$f":"Fúrók!$A30","v":"SP jelöléssel ellátott termékekre"},null,null,null,null,null,null,null,null,null,null,null,null,null,null,null,null,{"$f":"Fúrók!$A29","v":"kiadvány árai"},null,null,null,null,null,null,null,null,null,null,null,null,null,null,null,null,{"$f":"Fúrók!$A30","v":"SP jelöléssel ellátott termékekre"},null,null,"Cikkszám / Típus / (Listaár) Nettó ár",8951011515,"6052 24",{"$f":"VLOOKUP(AM30,Árlista!$B:$D,3,0)","v":"TOPS* 3 990,-Ft"},null,8951011517,"H32",{"$f":"VLOOKUP(AQ30,Árlista!$B:$D,3,0)","v":"6 440,-Ft "},null,8951011522,"H24",{"$f":"VLOOKUP(AU30,Árlista!$B:$D,3,0)","v":"TOPS* 7 410,-Ft"}]
[{"$f":"Fúrók!$A31","v":"speciális viszonteladói árkézés"},null,null,null,null,null,null,null,null,null,null,null,null,null,null,null,null,{"$f":"Fúrók!$A30","v":"SP jelöléssel ellátott termékekre"},null,null,null,null,null,null,null,null,null,null,null,null,null,null,null,null,{"$f":"Fúrók!$A31","v":"speciális viszonteladói árkézés"},null,null,"Cikkszám / Típus / (Listaár) Nettó ár",8951011520,"6058 18",{"$f":"VLOOKUP(AM31,Árlista!$B:$D,3,0)","v":"TOPS* 3 990,-Ft"},null,8951011516,"H24",{"$f":"VLOOKUP(AQ31,Árlista!$B:$D,3,0)","v":"6 440,-Ft "}]
[{"$f":"Fúrók!$A32","v":"vonatkozik. Az Extra árak"},null,null,null,null,null,null,null,null,null,null,null,null,null,null,null,null,{"$f":"Fúrók!$A31","v":"speciális viszonteladói árkézés"},null,null,null,null,null,null,null,null,null,null,null,null,null,null,null,null,{"$f":"Fúrók!$A32","v":"vonatkozik. Az Extra árak"},null,null,"Cikkszám / Típus / (Listaár) Nettó ár",8951011519,"6058 14",{"$f":"VLOOKUP(AM32,Árlista!$B:$D,3,0)","v":"TOPS* 3 420,-Ft"},null,8951011518,"H14",{"$f":"VLOOKUP(AQ32,Árlista!$B:$D,3,0)","v":"6 440,-Ft "}]
[{"$f":"Fúrók!$A33","v":"a készlet erejéig, illetve"},null,null,null,null,null,null,null,null,null,null,null,null,null,null,null,null,{"$f":"Fúrók!$A32","v":"vonatkozik. Az Extra árak"},null,null,null,null,null,null,null,null,null,null,null,null,null,null,null,null,{"$f":"Fúrók!$A33","v":"a készlet erejéig, illetve"}]
[{"$f":"Fúrók!$A34","v":"visszavonásig érvényesek."},null,null,null,null,null,null,null,null,null,null,null,null,null,null,null,null,null,null,null,"Chicago Pneumatic","CP881",null,null,null,"CP7900",null,null,null," CP7901",null,null,null,null,{"$f":"Fúrók!$A34","v":"visszavonásig érvényesek."}]
[{"$f":"Fúrók!$A35","v":"Az árista a Techtomat Kft és"},null,null,null,null,null,null,null,null,null,null,null,null,null,null,null,null,{"$f":"Fúrók!$A35","v":"Az árista a Techtomat Kft és"},null,null,null,"Löket:  10 000 SPM    Lökethossz: 10 mm\nNettó tömeg: 0,74 kg Erőteljes, megbizható fürész. A készülékhez 1db 32-es fűrészlap jár.",null,null,null,"Löket:  10 000 SPM    Lökethossz: 10 mm\nNettó tömeg: 0,59 kg Könnyű, kics megbizható fürész. A készülékhez 1-1 db 18, 28 és 32-es fűrészlap jár.",null,null,null,"Löket:  10 000 SPM    Lökethossz: 10 mm\nNettó tömeg: 0,86 kg Erőteljes, alacsony vibrációjú prémium fürész.",null,null,null,null,{"$f":"Fúrók!$A35","v":"Az árista a Techtomat Kft és"}]
[{"$f":"Fúrók!$A36","v":"Kapitár Kft közös gondozásában"},null,null,null,null,null,null,null,null,null,null,null,null,null,null,null,null,{"$f":"Fúrók!$A36","v":"Kapitár Kft közös gondozásában"},null,null,null,null,null,null,null,null,null,null,null,null,null,null,null,null,{"$f":"Fúrók!$A36","v":"Kapitár Kft közös gondozásában"}]
[{"$f":"Fúrók!$A37","v":" jelent meg."},null,null,null,null,null,null,null,null,null,null,null,null,null,null,null,null,{"$f":"Fúrók!$A37","v":" jelent meg."},null,null,null,null,null,null,null,null,null,null,null,null,null,null,null,null,{"$f":"Fúrók!$A37","v":" jelent meg."}]
[{"$f":"Fúrók!$A38","v":"Minden jog fenntartva."},null,null,null,null,null,null,null,null,null,null,null,null,null,null,null,null,{"$f":"Fúrók!$A38","v":"Minden jog fenntartva."},null,null,"Cikkszám / Típus / (Listaár) Nettó ár","T023916","CP881",{"$f":"VLOOKUP(V38,Árlista!$B:$D,3,0)","v":"148 800,-Ft "},null,8941079000,"CP7900",{"$f":"VLOOKUP(Z38,Árlista!$B:$D,3,0)","v":"64 700,-Ft "},null,8941079011," CP7901",{"$f":"VLOOKUP(AD38,Árlista!$B:$D,3,0)","v":"82 300,-Ft "},null,null,{"$f":"Fúrók!$A38","v":"Minden jog fenntartva."}]
[]
[{"$f":"Fúrók!$A40","v":"Bővebb információ:"},null,null,null,null,null,null,null,null,null,null,null,null,null,null,null,null,{"$f":"Fúrók!$A40","v":"Bővebb információ:"},null,null,null,null,null,null,null,null,null,null,null,null,null,null,null,null,{"$f":"Fúrók!$A40","v":"Bővebb információ:"}]
[{"$f":"Fúrók!$A41","v":"Szabó Attila"},null,null,null,null,null,null,null,null,null,null,null,null,null,null,null,null,{"$f":"Fúrók!$A41","v":"Szabó Attila"},null,null,null,null,null,null,null,null,null,null,null,null,null,null,null,null,{"$f":"Fúrók!$A41","v":"Szabó Attila"}]
[{"$f":"Fúrók!$A42","v":"30/201-4931 vagy 30/626-8687"},null,null,null,null,null,null,null,null,null,null,null,null,null,null,null,null,{"$f":"Fúrók!$A42","v":"30/201-4931 vagy 30/626-8687"},null,null,null,null,null,null,null,null,null,null,null,null,null,null,null,null,{"$f":"Fúrók!$A42","v":"30/201-4931 vagy 30/626-8687"}]
[{"$f":"Fúrók!$A43","v":"e-mail"},null,null,null,null,null,null,null,null,null,null,null,null,null,null,null,null,null,null,null,null,null,null,null,null,null,null,null,null,null,null,null,null,null,{"$f":"Fúrók!$A43","v":"e-mail"}]
[{"$f":"Fúrók!$A44","v":"Tóth Tamás"},null,null,null,null,null,null,null,null,null,null,null,null,null,null,null,null,{"$f":"Fúrók!$A44","v":"Tóth Tamás"},null,null,null,null,null,null,null,null,null,null,null,null,null,null,null,null,{"$f":"Fúrók!$A44","v":"Tóth Tamás"}]
[{"$f":"Fúrók!$A45","v":"30/603-1596"},null,null,"Típus","Rodcraft RC6720",null,null,null,"Rodcraft RC6703Xi",null,null,null,"Rodcraft RC6718Xi",null,null,null,null,{"$f":"Fúrók!$A45","v":"30/603-1596"},null,null,null,null,null,null,null,null,null,null,null,null,null,null,null,null,{"$f":"Fúrók!$A45","v":"30/603-1596"},null,null,null,"Reszelők",null,null,null,"Reszelők",null,null,null,"Reszelők"]
[null,null,null,"Szegecsméret  [mm]","4,8-8","Robosztus, hidropneumatikus popszegecs húzó, gumírozott fogantyúval, univerzális használatra. Lágy anyagok mellett acél és saválló anyagokhoz is. Standard, BOLT és BULB szegecsekhez is. A készülék mellé jár 3,1 / 4,3 / 5,0 / 4,2 \"BOLT befogó.",null,null,"2,4-4,8","Prémium, hidropneumatikus popszegecs húzó, ergonomikus fogantyúval és nyomógombbal valamint zajcsökkentővel. Univerzális használatra: Lágy anyagok mellett acél szegecsekhez is.  A készülék mellé jár 2,4 / 3,2 / 4,0 befogó.",null,null,"2,4-6,4","Prémium, hidropneumatikus popszegecs húzó, ergonomikus fogantyúval és nyomógombbal valamint zajcsökkentővel. Univerzális használatra: Lágy anyagok mellett acél szegecsekhez is.  A készülék mellé jár 2,0 / 2,4 / 4,3 befogó.",null,null,null,null,null,null,null,null,null,null,null,null,null,null,null,null,null,null,null,null,null,null,null,"Cikkszám / Típus / (Listaár) Nettó ár",8951011532,"Lapos",{"$f":"VLOOKUP(AM46,Árlista!$B:$D,3,0)","v":"2 800,-Ft "},null,8951011534,"Félkör",{"$f":"VLOOKUP(AQ46,Árlista!$B:$D,3,0)","v":"3 080,-Ft "},null,8951011529,"Reszelő 4db",{"$f":"VLOOKUP(AU46,Árlista!$B:$D,3,0)","v":"9 810,-Ft "}]
[null,null,null,"Húzóerő [N]","17000",null,null,null,"10900",null,null,null,"15200",null,null,null,null,null,null,null,null,null,null,null,null,null,null,null,null,null,null,null,null,null,null,null,null,"Cikkszám / Típus / (Listaár) Nettó ár",8951011533,"Kör",{"$f":"VLOOKUP(AM47,Árlista!$B:$D,3,0)","v":"2 800,-Ft "},null,8951011535,"Hároszög",{"$f":"VLOOKUP(AQ47,Árlista!$B:$D,3,0)","v":"2 800,-Ft "},null,8951011535,"Adapter",{"$f":"VLOOKUP(AU47,Árlista!$B:$D,3,0)","v":"2 800,-Ft "}]
[null,null,null,"Tömeg [kg]","2,6",null,null,null,"1,5",null,null,null,"1,9"]
[null,null,null,"Javasolt tömlőméret ø [mm]","8",null,null,null,"8",null,null,null,"8",null,null,null,null,null,null,null,"Chicago Pneumatic"," CP785S",null,null,null,"CP835",null,null,null," CP861"]
[null,null,null,"Levegőfogyasztás [l/ütem]","2,0",null,null,null,"2,1",null,null,null,"170",null,null,null,null,null,null,null,null,"Löket:  2 400 SPM  \nNettó tömeg: 0,86 kg Erőteljes, megbizható lemezolló 1,1mm lemezvastagságig. Erőteljes 370W motor.",null,null,null,"Löket:  2 750 SPM \nNettó tömeg: 0,59 kg Erőteljes, megbizható lyukasztó vágó.",null,null,null,"Fordulatszám:  20 000 RPM  Motorteljesítmény: 370 W  75mm-es várótárcsa. Nettó tömeg: 0,74 kg Starapabíró egyenes vágó. Erő és megbízhatóság"]
[null,null,null,"Levegőcsatlakozás [inch]","1/4 Zoll IG",null,null,null,"1/4 Zoll IG",null,null,null,"1/4 Zoll IG"]
[null,null,null,"Hangnyomásszint LpA  ","66,2",null,null,null,"71",null,null,null,"94"]
[null,null,null,"Használati besorolás","3 -igen magas színvonalú",null,null,null,"3 -igen magas színvonalú",null,null,null,"3 -igen magas színvonalú",null,null,null,null,null,null,null,"Cikkszám / Típus / (Listaár) Nettó ár","T023200"," CP785S",{"$f":"VLOOKUP(V53,Árlista!$B:$D,3,0)","v":"126 700,-Ft "},null,"T022550","CP835",{"$f":"VLOOKUP(Z53,Árlista!$B:$D,3,0)","v":"STARS* 98 800,-Ft"},null,"T022039"," CP861",{"$f":"VLOOKUP(AD53,Árlista!$B:$D,3,0)","v":"73 000,-Ft "}]
[null,null,null,"Cikkszám / Típus / (Listaár) \nNettó ár",8951074004,"RC6720",{"$f":"VLOOKUP(E54,Árlista!$B:$D,3,0)","v":"TOPS* 210 000,-Ft"},null,8951074007,"RC6703Xi",null,null,8951074008,"RC6718Xi",{"$f":"VLOOKUP(M54,Árlista!$B:$D,3,0)","v":"TOPS* 200 200,-Ft"}]
[]
[]
[]
[]
[]
[]
[]
[]
[]
[]
[]
[]
[]
[null,null,null,"Típus","Rodcraft RC6040RE",null,null,null,"Rodcraft RC6050 / Rodcraft RC6051 SZETT",null,null,null,"Rodcraft RC6067 / Rodcraft RC6068 SZETT"]
[null,null,null,"Löket hossz  [mm]","5","Mini karosszéria fűrész gumiborítással és zajcsökkentővel szerelve.",null,null,"10","Gyors és kézreálló karosszéria fűrész gumiborítással. Ideális karosszérián történő vágáshoz. 10 mm-es lökettel. \nSZETT: 5db fürészlap 32 fog \n5db fürészlap 24 fog\nElforgó csatlakozó DG1\nNapi olajozó GK1",null,null,"10","Elegáns kinézető, erőteljes, kompozitházas karosszériafűrész és reszelő. Ideális karosszérián történő vágáshoz, valamint reszeléshez. 10 mm-es lökettel.",null,null,null,null,null,null,null,null,null,null,null,null,null,null,null,null,null,null,null,null,null,null,null,"Cikkszám / Típus / (Listaár) Nettó ár","Egyenes pengék (2db)",null,null,null,"Fűrészlap tárcsa",null,null,null,"U-alakú pengék (2db)"]
[null,null,null,"Löketszám [1/min]","5000",null,null,null,"9500",null,null,null,"10000",null,null,null,null,null,null,null,null,null,null,null,null,null,null,null,null,null,null,null,null,null,null,null,null,"Cikkszám / Típus / (Listaár) Nettó ár",8951010207,"G35-25PB",null,null,8951010177,"U24PB",null,null,8951010177,"U24PB"]
[null,null,null,"Tömeg [kg]","0,5",null,null,null,"0,65",null,null,null,"0,51",null,null,null,null,null,null,null,null,null,null,null,null,null,null,null,null,null,null,null,null,null,null,null,null,"Cikkszám / Típus / (Listaár) Nettó ár",8951010256,"G90-58PB",null,null,null,null,null,null,8951010184,"U36PB"]
[null,null,null,"Javasolt tömlőméret ø [mm]","8",null,null,null,"8",null,null,null,"8",null,null,null,null,null,null,null,null,null,null,null,null,null,null,null,null,null,null,null,null,null,null,null,null,"Cikkszám / Típus / (Listaár) Nettó ár",8951010259,"G90-70PB",null,null,8951010227,"G57",null,null,8951010185,"U40PB"]
[null,null,null,"Levegőfogyasztás [l/min]","140",null,null,null,"220",null,null,null,"150",null,null,null,null,null,null,null,null,null,null,null,null,null,null,null,null,null,null,null,null,null,null,null,null,"Cikkszám / Típus / (Listaár) Nettó ár",8951010258,"G90-70PB",null,null,null,null,null,null,8951010187,"U42PB"]
[null,null,null,"Levegőcsatlakozás [inch]","1/4 Zoll IG",null,null,null,"1/4 Zoll IG",null,null,null,"1/4 Zoll IG",null,null,null,null,null,null,null,null,null,null,null,null,null,null,null,null,null,null,null,null,null,null,null,null,"Cikkszám / Típus / (Listaár) Nettó ár","Univ pengekészlet",null,null,null,8951010247,"S63PB",{"$f":"VLOOKUP(AQ74,Árlista!$B:$D,3,0)","v":"Kifutó, érdeklődj!"},null,8951010193,"U60PB"]
[null,null,null,"Hangnyomásszint LpA  ","74",null,null,null,"79,9",null,null,null,"79,9",null,null,null,null,null,null,null,null,null,null,null,null,null,null,null,null,null,null,null,null,null,null,null,null,"Cikkszám / Típus / (Listaár) Nettó ár",8951010214,"Szett",null,null,8951010252,"S80PB",{"$f":"VLOOKUP(AQ75,Árlista!$B:$D,3,0)","v":"Kifutó, érdeklődj!"},null,8951010195,"U90PB-1db"]
[null,null,null,"Használati besorolás","2 -megnövekedett igényekhez",null,null,null,"2 -megnövekedett igényekhez",null,null,null,"4 -a legmagasabb igényekhez"]
[null,null,null,"Cikkszám / Típus / (Listaár) \nNettó ár",8951079041,"RC6040RE",null,null,8951079001,"RC6050",{"$f":"VLOOKUP(I77,Árlista!$B:$D,3,0)","v":"TOPS* 35 130,-Ft"},null,8951079011,"RC6067",{"$f":"VLOOKUP(M77,Árlista!$B:$D,3,0)","v":"TOPS* 97 900,-Ft"}]
[]
[null,null,null,"Cikkszám / Típus / (Listaár) \nNettó ár",null,null,null,null,8951179000,"SZETT",{"$f":"VLOOKUP(I79,Árlista!$B:$D,3,0)","v":"TOPS* 60 700,-Ft"},null,8951179020,"SZETT"]
[]
[]
[]
[]
[]
[]
[]
[null,null,null,null,null,null,null,null,null,null,null,null,null,null,null,null,null,null,null,null,null,null,null,null,null,null,null,null,null,null,null,null,null,null,null,null,null,null,"Reszelők"]
[null,null,null,null,null,null,null,null,null,null,null,null,null,null,null,null,null,null,null,null,null,null,null,null,null,null,null,null,null,null,null,null,null,null,null,null,null,"Cikkszám / Típus / (Listaár) Nettó ár",8951011536,"75 mm",{"$f":"VLOOKUP(AM88,Árlista!$B:$D,3,0)","v":"560,-Ft "}]
[null,null,null,null,null,null,null,null,null,null,null,null,null,null,null,null,null,null,null,null,null,null,null,null,null,null,null,null,null,null,null,null,null,null,null,null,null,"Cikkszám / Típus / (Listaár) Nettó ár",8951011539,"115 mm",{"$f":"VLOOKUP(AM89,Árlista!$B:$D,3,0)","v":",-Ft "}]
[]
[null,null,null,"Típus","Rodcraft RC6900",null,null,null,"Rodcraft  RC6301",null,null,null,"Rodcraft RC6220"]
[null,null,null,"Tömeg [kg]","1,1","Kicsi, kézreálló reszelő, 4 különböző szerszámmal: 6 mm-es körkeresztmetszetű, 10 x 3 lapos, 10 x 3,8 félkör és 7 x 7 x 7 háromszög profillal L: 115mm",null,null,"1,0","Lyulasztó- peremező max 1,2mm lemezvastagságig. Lyukasztási méret: D5 Peremezés 22 x 12 x 1,2 mm",null,null,"0,65","Levegős metszőolló. Minimális levegőigény. Ágak, oltványok, és műanyag vágásához."]
[null,null,null,"Javasolt tömlőméret ø [mm]","8",null,null,null,"8",null,null,null,"8"]
[null,null,null,"Levegőfogyasztás [l]","170",null,null,null,"0,8l/löket",null,null,null,"0,5l/löket"]
[null,null,null,"Levegőcsatlakozás [inch]","1/4 Zoll IG",null,null,null,"1/4 Zoll IG",null,null,null,"1/4 Zoll IG"]
[null,null,null,"Hangnyomásszint LpA  ","84,5",null,null,null,"87,2",null,null,null,"65,2"]
[null,null,null,"Használati besorolás","2 -megnövekedett igényekhez",null,null,null,"2 -megnövekedett igényekhez",null,null,null,"2 -megnövekedett igényekhez"]
[null,null,null,"Cikkszám / Típus / (Listaár) \nNettó ár",8951075000,"RC6900",{"$f":"VLOOKUP(E98,Árlista!$B:$D,3,0)","v":"61 400,-Ft "},null,8951076011,"RC6301",{"$f":"VLOOKUP(I98,Árlista!$B:$D,3,0)","v":"TOPS* 48 160,-Ft"},null,8951076010,"RC6220",{"$f":"VLOOKUP(M98,Árlista!$B:$D,3,0)","v":",-Ft "}]
[]
[]
[]
[]
[]
[]
[]
[]
[]
[]
[]
[null,null,null,"Típus","Rodcraft RC6210",null,null,null,"Rodcraft RC6212",null,null,null,"Rodcraft RC6100"]
[null,null,null,"Vágási sebesség  [m/min]","2","LEMEZVÁGÓ OLLÓ -Egyenes, tiszta vágás. Max anyagvastagság 1,5 mm. Kivágott anyagszélesség 5mm",null,null,"2","LEMEZVÁGÓ OLLÓ -Kompozitházas kivitel. Egyenes, tiszta vágás. Max anyagvastagság 1,5 mm. Kivágott anyagszélesség 5mm",null,null,"2,6","LYUKASZTÓ VÁGÓ -Egyenes, tiszta vágás. Max anyagvastagság 1 mm. Kivágott anyagszélesség 4mm"]
[null,null,null,"Anyagvastagság / Vágási szélesség [mm]","1,5 / 5",null,null,null,"1,5 / 5",null,null,null,"1 / 4"]
[null,null,null,"Tömeg [kg]","1,2",null,null,null,"0,51",null,null,null,"0,65"]
[null,null,null,"Javasolt tömlőméret ø [mm]","8",null,null,null,"8",null,null,null,"8"]
[null,null,null,"Levegőfogyasztás [l]","360-540",null,null,null,"360-540",null,null,null,"360-540"]
[null,null,null,"Levegőcsatlakozás [inch]","1/4 Zoll IG",null,null,null,"1/4 Zoll IG",null,null,null,"1/4 Zoll IG"]
[null,null,null,"Hangnyomásszint LpA  ","87,2",null,null,null,"87,2",null,null,null,"87,2"]
[null,null,null,"Használati besorolás","2 -megnövekedett igényekhez",null,null,null,"2 -megnövekedett igényekhez",null,null,null,"4 -a legmagasabb igényekhez"]
[null,null,null,"Cikkszám / Típus / (Listaár) \nNettó ár",8951076009,"RC6210",{"$f":"VLOOKUP(E119,Árlista!$B:$D,3,0)","v":",-Ft "},null,8951076020,"RC6212",{"$f":"VLOOKUP(I119,Árlista!$B:$D,3,0)","v":"54 200,-Ft "},null,8951076008,"RC6100",{"$f":"VLOOKUP(M119,Árlista!$B:$D,3,0)","v":"TOPS* 37 960,-Ft"}]
[]
[]
[]
[]
[]
[]
[]
[]
[]
[]
[]
[null,null,null,"Típus","Rodcraft RC6605RE / Rodcraft RC6606RE",null,null,null,"Rodcraft RC6610",null,null,null,"UG-SETPB"]
[null,null,null,"Oszcillációs sebesség  [1/min]","20000","UNIVERZÁLIS fűrész és vágókés rendszer, zajcsökkentővel szerelve. Ideális eszköz szélvédők javításához. A SET tartalmaz 1-1 db U24 és G35-25 kést .",null,null,"20000","UNIVERZÁLIS fűrész és vágókés rendszer. Erősebb kivitel. Ideális eszköz buszok és kamionok szélvédőinek javításához. A SET tartalmaz 1-1 db U24 és G35-25 kést .",null,null,"7 darab autóüveg vágáshoz ajánlott speciális penge. RODCRAFT készülékekhez: RC6605RE, RC6606RE és RC6610. A következő pengéket tartalmazza:\nU24 (24 mm élhossz) U36 (36 mm élhossz)\nU63 (63 mm élhossz) G35-25 (25 mm élhossz)\nG57 (49 mm élhossz)\nG90-58 (60 mm élhossz, tengelyhossz 100 mm)"]
[null,null,null,"Kihajtás: hatlap 19/21,9 [mm]","1,5 / 5",null,null,null,"1,5 / 5"]
[null,null,null,"Tömeg [kg]","0,8",null,null,null,"1,3"]
[null,null,null,"Javasolt tömlőméret ø [mm]","8",null,null,null,"8"]
[null,null,null,"Levegőfogyasztás [l]","370-530",null,null,null,"500-800"]
[null,null,null,"Levegőcsatlakozás [inch]","1/4 Zoll IG",null,null,null,"1/4 Zoll IG"]
[null,null,null,"Hangnyomásszint LpA  ","79,8",null,null,null,"86,9"]
[null,null,null,"Használati besorolás","3 -igen magas színvonalú",null,null,null,"3 -igen magas színvonalú"]
[null,null,null,"Cikkszám / Típus / (Listaár) \nNettó ár",8951074005,"RC6605RE",{"$f":"VLOOKUP(E140,Árlista!$B:$D,3,0)","v":"TOPS* 66 400,-Ft"},null,8951074000,"RC6610",{"$f":"VLOOKUP(I140,Árlista!$B:$D,3,0)","v":"114 100,-Ft "},null,8951010214,"SZETT"]
[]
[null,null,null,"Cikkszám / Típus / (Listaár) \nNettó ár",8951174000,"RC6606RE",{"$f":"VLOOKUP(E142,Árlista!$B:$D,3,0)","v":"104 900,-Ft "}]
[]
[]
[]
[]
[]
[]
[]
[]
[]
[]
[]
[null,null,null,"Típus","Rodcraft RC7190"]
[null,null,null,"Tömeg [kg]","0,8","Mini vágó gép 75mm-es vágótárcsával.\nFordulatszá 20.000 /min"]
[null,null,null,"Javasolt tömlőméret ø [mm]","8"]
[null,null,null,"Levegőfogyasztás [l]","430-580"]
[null,null,null,"Levegőcsatlakozás [inch]","1/4 Zoll IG"]
[null,null,null,"Hangnyomásszint LpA  ","89,5"]
[null,null,null,"Használati besorolás","2 -megnövekedett igényekhez"]
[null,null,null,"Cikkszám / Típus / (Listaár) \nNettó ár",8951075101,"RC7190",{"$f":"VLOOKUP(E161,Árlista!$B:$D,3,0)","v":"TOPS* 21 670,-Ft"}]

{"sheet":"Szóró- és lefúvató pisztolyok","index":15,"n_rows":172,"n_cols":15,"rows_kept":172,"cut":false,"hidden":false,"merged":[[155,8,155,11],[155,12,155,15],[92,12,92,15],[92,8,92,11],[92,4,92,7],[111,4,111,7],[111,8,111,11],[151,12,151,15],[112,5,114,7],[112,9,114,11],[93,5,95,7],[93,9,95,11],[93,13,95,15],[131,4,131,7],[131,8,131,11],[131,12,131,15],[25,4,25,7],[25,8,25,11],[25,12,25,15],[48,4,48,7],[48,8,48,11],[48,12,48,15],[17,4,17,7],[18,5,24,7],[18,9,24,11],[17,8,17,11],[17,12,17,15],[18,13,24,15],[49,9,55,11],[49,13,55,15],[56,4,56,7],[56,8,56,11],[56,12,56,15],[49,5,55,7],[132,5,134,7],[132,9,134,11],[132,13,134,15],[74,4,74,7],[74,8,74,11],[74,12,74,15],[75,13,79,15],[75,9,79,11],[75,5,79,7],[112,13,114,15],[111,12,111,15],[96,8,96,11],[96,4,96,7],[152,5,154,7],[152,9,154,11],[152,13,154,15],[155,4,155,7],[80,4,80,7],[80,8,80,11],[80,12,80,15],[96,12,96,15],[151,4,151,7],[151,8,151,11],[135,4,135,7],[135,8,135,11],[135,12,135,15],[115,4,115,7],[115,8,115,11],[115,12,115,15],[169,4,170,7],[169,8,170,11],[169,12,170,15],[168,4,168,7],[168,8,168,11],[168,12,168,15]]}
["RODCRAFT",null,null,null,"Általános karbantartáshoz",null,null,null,null,null,"Ipari karbantartáshoz és gyártáshoz"]
["Árlista"]
["Megrendelő"]
["Fúrók"]
["Racsnis kulcsok"]
["Csavarbehajtók"]
["Sarokcsiszolók"]
["Légkulcsok"]
["Egyenes csiszolók"]
["Szalag és excenter csiszolók"]
["Polír- és fiber csiszolók"]
["Vésők, leverők …"]
["Szóró- és lefúvató pisztolyok"]
["Vágók, fűrészek, szegecshúzók"]
["Dugókulcsok"]
["Csatlakozók",null,null," "]
["Abroncstöltők"]
["ABAC Levegős szerszámok",null,null,"Típus","Rodcraft RC8103",null,null,null,"Rodcraft RC8102",null,null,null,"Rodcraft RC8106"]
["Garázsipari eszközök",null,null,"Fúvókaméret [mm]","0,5 / 0,8","125 ml-e felsőtartályos szórópisztoly 0,5 és 0,8-es fúvókával. Precíz szórásállítás, és festékadagolás.",null,null,"1,4...2,5","600 ml-e felsőtartályos szórópisztoly 1,4 - 1,7 - 2,0 és 2,5-es fúvókával. Precíz szórásállítás, és festékadagolás.",null,null,"1,3/ 1,7/ 2,0","600 ml-e felsőtartályos HVLP szórópisztoly 1,3 - 1,7  és 2,0-es fúvókával. Precíz szórásállítás, és festékadagolás."]
["AKKUMULÁTOROS GÉPEK",null,null,"Tartályméret [l]","0,125",null,null,null,"0,6",null,null,null,"0,6"]
["Tömlők, tömlődobok",null,null,"Tömeg [kg]","0,45",null,null,null,"0,75",null,null,null,"0,75"]
["Szűrők, szabályozók",null,null,"Javasolt tömlőméret ø [mm]","8",null,null,null,"8",null,null,null,"8"]
["Balancerek",null,null,"Max. nyomás [bar] ","2",null,null,null,"2-4",null,null,null,"2"]
[null,null,null,"Levegőfogyasztás [l/min]  ","100-140",null,null,null,"260-370",null,null,null,"210-300"]
[{"$f":"Fúrók!$A25","v":"A feltüntett árak a 2020.02.01.-től "},null,null,"Levegőcsatlakozás [inch]","1/4 Zoll AG",null,null,null,"1/4 Zoll AG",null,null,null,"1/4 Zoll AG"]
[{"$f":"Fúrók!$A26","v":"érvényes listaárak."},null,null,"Használati besorolás","2 -megnövekedett igényekhez",null,null,null,"2 -megnövekedett igényekhez",null,null,null,"2 -megnövekedett igényekhez"]
[{"$f":"Fúrók!$A27","v":"* jelöléssel ellátott termékek a "},null,null,"Cikkszám / Típus / (Listaár) Nettó ár",8951070062,"RC8103/05",null,null,8951070002,"RC8102/14",{"$f":"VLOOKUP(I27,Árlista!$B:$D,3,0)","v":"TOPS* 32 860,-Ft"},null,8951070011,"RC8106/13",{"$f":"VLOOKUP(M27,Árlista!$B:$D,3,0)","v":"78 600,-Ft "}]
[{"$f":"Fúrók!$A28","v":"RC TOPS és CP STAR akciós"},null,null,"Cikkszám / Típus / (Listaár) Nettó ár",8951070012,"RC8103/08",{"$f":"VLOOKUP(E28,Árlista!$B:$D,3,0)","v":"TOPS* 36 260,-Ft"},null,8951070032,"RC8102/17",{"$f":"VLOOKUP(I28,Árlista!$B:$D,3,0)","v":"58 900,-Ft "},null,8951070031,"RC8106/17"]
[{"$f":"Fúrók!$A29","v":"kiadvány árai"},null,null,"Cikkszám / Típus / (Listaár) Nettó ár",8951011708,"Fúvóka 0,5",{"$f":"VLOOKUP(E29,Árlista!$B:$D,3,0)","v":"19 330,-Ft "},null,8951070042,"RC8102/20",{"$f":"VLOOKUP(I29,Árlista!$B:$D,3,0)","v":"58 900,-Ft "},null,8951070041,"RC8106/20",{"$f":"VLOOKUP(M29,Árlista!$B:$D,3,0)","v":"78 600,-Ft "}]
[{"$f":"Fúrók!$A30","v":"SP jelöléssel ellátott termékekre"},null,null,"Cikkszám / Típus / (Listaár) Nettó ár",8951011709,"Fúvóka 0,8",{"$f":"VLOOKUP(E30,Árlista!$B:$D,3,0)","v":"19 330,-Ft "},null,8951070052,"RC8102/25",{"$f":"VLOOKUP(I30,Árlista!$B:$D,3,0)","v":"58 900,-Ft "},null,8951011713,"Fúvóka 1,3",{"$f":"VLOOKUP(M30,Árlista!$B:$D,3,0)","v":"31 740,-Ft "}]
[{"$f":"Fúrók!$A31","v":"speciális viszonteladói árkézés"},null,null,"Cikkszám / Típus / (Listaár) Nettó ár",8951011710,"Fúvóka 1,0",{"$f":"VLOOKUP(E31,Árlista!$B:$D,3,0)","v":"19 330,-Ft "},null,8951011703,"Fúvóka 1,4",{"$f":"VLOOKUP(I31,Árlista!$B:$D,3,0)","v":"19 330,-Ft "},null,8951011714,"Fúvóka 1,7",{"$f":"VLOOKUP(M31,Árlista!$B:$D,3,0)","v":"31 740,-Ft "}]
[{"$f":"Fúrók!$A32","v":"vonatkozik. Az Extra árak"},null,null,"Cikkszám / Típus / (Listaár) Nettó ár",null,null,null,null,8951011705,"Fúvóka 2,0",{"$f":"VLOOKUP(I32,Árlista!$B:$D,3,0)","v":"19 330,-Ft "},null,8951011715,"Fúvóka 2,0",{"$f":"VLOOKUP(M32,Árlista!$B:$D,3,0)","v":"31 740,-Ft "}]
[{"$f":"Fúrók!$A33","v":"a készlet erejéig, illetve"}]
[{"$f":"Fúrók!$A34","v":"visszavonásig érvényesek."}]
[{"$f":"Fúrók!$A35","v":"Az árista a Techtomat Kft és"}]
[{"$f":"Fúrók!$A36","v":"Kapitár Kft közös gondozásában"}]
[{"$f":"Fúrók!$A37","v":" jelent meg."}]
[{"$f":"Fúrók!$A38","v":"Minden jog fenntartva."}]
[]
[{"$f":"Fúrók!$A40","v":"Bővebb információ:"}]
[{"$f":"Fúrók!$A41","v":"Szabó Attila"}]
[{"$f":"Fúrók!$A42","v":"30/201-4931 vagy 30/626-8687"}]
[{"$f":"Fúrók!$A43","v":"e-mail"}]
[{"$f":"Fúrók!$A44","v":"Tóth Tamás"}]
[{"$f":"Fúrók!$A45","v":"30/603-1596"}]
[]
[]
[]
[null,null,null,"Típus","Rodcraft RC8107",null,null,null,"AM8089",null,null,null,"ABAC feslsőtartályos festékszórók"]
[null,null,null,"Fúvókaméret [mm]","1,4/1,7/2,0","600 ml-e állítható felső tartályú HVLP szórópisztoly 1,4 - 1,7  és 2,0-es fúvókával. Precíz szórásállítás, és festékadagolás.",null,null,"1,4","600 ml-e felsőtartályos szórópisztoly 1,4-es fúvókával. Kialakítása megegyezik az RC8102 típussal. Precíz szórásállítás, és festékadagolás.",null,null,"1,5  / 2,5","Szórópisztoly 1,5 mm-es fúvókával lakkozáshoz és hígabb festékekhez\nSzórópisztoly 2,5 mm-es fúvókával sűrűbb anyagokhoz és ragasztókhoz"]
[null,null,null,"Tartályméret [l]","0,6",null,null,null,"0,6",null,null,null,"0,5"]
[null,null,null,"Tömeg [kg]","1,0"]
[null,null,null,"Javasolt tömlőméret ø [mm]","8",null,null,null,"8",null,null,null,"8"]
[null,null,null,"Max. nyomás [bar] ","3",null,null,null,"3",null,null,null,"3"]
[null,null,null,"Levegőfogyasztás [l/min]  ","150-380",null,null,null,"60",null,null,null,"180-320"]
[null,null,null,"Levegőcsatlakozás [inch]","1/4 Zoll AG"]
[null,null,null,"Használati besorolás","2 -megnövekedett igényekhez",null,null,null,"1 -általános használatra",null,null,null,"1 -általános használatra"]
[null,null,null,"Cikkszám / Típus / (Listaár) Nettó ár",8951070021,"RC8107/14",{"$f":"VLOOKUP(E58,Árlista!$B:$D,3,0)","v":"TOPS* 55 700,-Ft"},null,8951270002,null,{"$f":"VLOOKUP(I58,Árlista!$B:$D,3,0)","v":"TOPS* 7 500,-Ft"},null,8973005877,"D 1,5",{"$f":"VLOOKUP(M58,Árlista!$B:$D,3,0)","v":"3 430,-Ft "}]
[null,null,null,"Cikkszám / Típus / (Listaár) Nettó ár",8951011717,"Fúvóka 1,4"]
[null,null,null,"Cikkszám / Típus / (Listaár) Nettó ár",8951011718,"Fúvóka 1,7",{"$f":"VLOOKUP(E60,Árlista!$B:$D,3,0)","v":"45 940,-Ft "},null,null,null,null,null,8973005874,"D 2,5",{"$f":"VLOOKUP(M60,Árlista!$B:$D,3,0)","v":"3 180,-Ft "}]
[null,null,null,"Cikkszám / Típus / (Listaár) Nettó ár",8951011719,"Fúvóka 2,0",{"$f":"VLOOKUP(E61,Árlista!$B:$D,3,0)","v":"45 940,-Ft "}]
[]
[]
[]
[]
[]
[]
[]
[]
[]
[]
[]
[]
[]
[null,null,null,"Típus",{"$f":"\"ABAC - \"&E82","v":"ABAC - 8973005904"},null,null,null,{"$f":"\"ABAC - \"&I82","v":"ABAC - 8973005905"},null,null,null,{"$f":"\"ABAC - \"&M82","v":"ABAC - 8973005884"}]
[null,null,null,"Fúvókaméret [mm]","0,5","Mini szórópisztoly 0,5 mm-es fúvókával. Általános használatra modellezéshez, finom munkákhoz",null,null,"1,5","Alsótartályos szórópisztoly 1,8 mm-es fúvókával.",null,null,"0,4","Hobby air brush pisztoly 0,4 mm-es fúvókával."]
[null,null,null,"Tartályméret [l]","0,25",null,null,null,"1",null,null,null,"0,05"]
[null,null,null,"Javasolt tömlőméret ø [mm]","6",null,null,null,"8",null,null,null,"6"]
[null,null,null,"Max. nyomás [bar] ","3,5",null,null,null,"3,5",null,null,null,"3"]
[null,null,null,"Levegőfogyasztás [l/min]  ","60",null,null,null,"300",null,null,null,"15"]
[null,null,null,"Használati besorolás","1 -általános használatra",null,null,null,"2 -megnövekedett igényekhez",null,null,null,"1 -általános használatra"]
[null,null,null,"Cikkszám / Típus / (Listaár) Nettó ár",8973005904,"ABF02505",{"$f":"VLOOKUP(E82,Árlista!$B:$D,3,0)","v":"5 370,-Ft "},null,8973005905,"ABA1015",{"$f":"VLOOKUP(I82,Árlista!$B:$D,3,0)","v":"7 260,-Ft "},null,8973005884,"ABA0504",{"$f":"VLOOKUP(M82,Árlista!$B:$D,3,0)","v":"3 580,-Ft "}]
[]
[]
[]
[]
[]
[]
[]
[]
[]
[]
[null,null,null,"Típus","Rodcraft RC8120",null,null,null,"Rodcraft RC8125",null,null,null,"Rodcraft RC8240 / Rodcraft RC8241"]
[null,null,null,"Fúvókaméret [mm]","2","Rövid alumínium lefúvató pisztoly, 2 mm-es fúvókával, ugyan ez olcsóbban festett kivitelben",null,null,"3","Műanyag borítású lefúvató pisztoly, 3 mm-es fúvókával. Precíz átfolyás szabályozással.",null,null,"2","Kompozit lefúvató, minőségi anyagokból. Magas átfolyási képesség."]
[null,null,null,"Levegőfogyasztás [l/min]  ","130-190",null,null,null,"250-350",null,null,null,"290-430"]
[null,null,null,"Levegőcsatlakozás [inch]","1/4\" IG",null,null,null,"1/4\" IG",null,null,null,"1/4\" IG"]
[null,null,null,"Használati besorolás","1 -általános használatra",null,null,null,"2 -megnövekedett igényekhez",null,null,null,"2 -megnövekedett igényekhez"]
[null,null,null,"Cikkszám / Típus / (Listaár) Nettó ár",8951070014,"RC8120",{"$f":"VLOOKUP(E98,Árlista!$B:$D,3,0)","v":"4 480,-Ft "},null,8951070024,"RC8125",{"$f":"VLOOKUP(I98,Árlista!$B:$D,3,0)","v":"3 640,-Ft "},null,8955000026,"Rövid",{"$f":"VLOOKUP(M98,Árlista!$B:$D,3,0)","v":"TOPS* 3 420,-Ft"}]
[null,null,null,"Cikkszám / Típus / (Listaár) Nettó ár","KO-PA130001D",null,{"$f":"VLOOKUP(E99,Árlista!$B:$D,3,0)","v":"1 339,-Ft "},null,null,null,null,null,8955000010,"Hosszú",{"$f":"VLOOKUP(M99,Árlista!$B:$D,3,0)","v":"TOPS* 3 990,-Ft"}]
[]
[]
[]
[]
[]
[]
[]
[]
[]
[]
[]
[]
[null,null,null,"Típus","Rodcraft RC8240S / Rodcraft RC8241S",null,null,null,"ABAC",null,null,null,"Rodcraft RC8502 / Rodcraft RC8505"]
[null,null,null,"Fúvókaméret [mm]","2","Rövid alumínium lefúvató pisztoly, 2 mm-es fúvókával",null,null,"3","Lefúvató pisztolyok rövid és hosszú kivitelben.",null,null,"2","Lefúvató zsebtollak."]
[null,null,null,"Levegőfogyasztás [l/min]  ","220-390",null,null,null,"250-350",null,null,null,"290-430"]
[null,null,null,"Levegőcsatlakozás [inch]","1/4\" IG",null,null,null,"1/4\" IG",null,null,null,"1/4\" IG"]
[null,null,null,"Használati besorolás","3 -igen magas színvonalú",null,null,null,"1 -általános használatra",null,null,null,"2 -megnövekedett igényekhez"]
[null,null,null,"Cikkszám / Típus / (Listaár) Nettó ár",8955000009,"Rövid",{"$f":"VLOOKUP(E117,Árlista!$B:$D,3,0)","v":"TOPS* 3 990,-Ft"},null,8973005865,"Rövid",{"$f":"VLOOKUP(I117,Árlista!$B:$D,3,0)","v":"890,-Ft "},null,8951011024,"ALU",{"$f":"VLOOKUP(M117,Árlista!$B:$D,3,0)","v":"5 320,-Ft "}]
[null,null,null,"Cikkszám / Típus / (Listaár) Nettó ár",8955000011,"Hosszú",{"$f":"VLOOKUP(E118,Árlista!$B:$D,3,0)","v":"TOPS* 5 130,-Ft"},null,8973005867,"Hosszú",{"$f":"VLOOKUP(I118,Árlista!$B:$D,3,0)","v":"1 120,-Ft "},null,8951011027,"Gumi"]
[]
[]
[]
[]
[]
[]
[]
[]
[]
[]
[]
[]
[]
[null,null,null,"Típus","Rodcraft RC8132",null,null,null,"Rodcraft RC8142",null,null,null,"Rodcraft RC8135"]
[null,null,null,"Be és kimeneti nyomás max [bar]","8 / 170","Szakaszos üzemű zsírzó. Max kilépő nyomás 170bar.",null,null,"8 / 250","Folyamatos üzemű zsírzó. Max kilépő nyomás 250bar.",null,null,"10 / 440","Ipari kivitelű, folyamatos üzemű zsírzó. Max kilépő nyomás 440bar. "]
[null,null,null,"Levegőfogyasztás [l/min]  ","3 l / ütem",null,null,null,"100-140",null,null,null,"230-300"]
[null,null,null,"Levegőcsatlakozás [inch]","1/4\" IG",null,null,null,"1/4\" IG",null,null,null,"1/4\" IG"]
[null,null,null,"Használati besorolás","2 -megnövekedett igényekhez",null,null,null,"2 -megnövekedett igényekhez",null,null,null,"3 -igen magas színvonalú"]
[null,null,null,"Cikkszám / Típus / (Listaár) Nettó ár",8951000059,"Szakaszos",{"$f":"VLOOKUP(E137,Árlista!$B:$D,3,0)","v":"TOPS* 11 980,-Ft"},null,8951000060,"Folyamatos",{"$f":"VLOOKUP(I137,Árlista!$B:$D,3,0)","v":"Kifutó, érdeklődj!"},null,8951070070,"Folyamatos",{"$f":"VLOOKUP(M137,Árlista!$B:$D,3,0)","v":"73 900,-Ft "}]
[]
[]
[]
[]
[]
[]
[]
[]
[]
[]
[]
[]
[]
[]
[null,null,null,"Típus","Rodcraft RC8000",null,null,null,"Rodcraft RC8011",null,null,null,"Rodcraft RC8035"]
[null,null,null,null,null,"Népszerű, megbízható kartuskinyomó. Befogadó méret 220x50",null,null,null,"Alvázvédő-pisztoly szett, 1l-es alvázvédőhöz.",null,null,null,"4 az 1-ben. Alvázvédő-, üregvédő-, tisztítópisztoly 1l tartállyal. Fertőtlenítő pisztoly szórótömlővel."]
[null,null,null,"Levegőfogyasztás [l/min]  ","0,8 l / ütem",null,null,null,"210-300",null,null,null,"195-280"]
[null,null,null,"Levegőcsatlakozás [inch]","1/4\" IG",null,null,null,"1/4\" IG",null,null,null,"1/4\" IG"]
[null,null,null,"Használati besorolás","1 -általános használatra",null,null,null,"1 -általános használatra",null,null,null,"1 -általános használatra"]
[null,null,null,"Cikkszám / Típus / (Listaár) Nettó ár",8951070000,"RC8000",{"$f":"VLOOKUP(E157,Árlista!$B:$D,3,0)","v":"TOPS* 13 120,-Ft"},null,8951070040,"RC8011",{"$f":"VLOOKUP(I157,Árlista!$B:$D,3,0)","v":"TOPS* 11 410,-Ft"},null,8951070050,"RC8035",{"$f":"VLOOKUP(M157,Árlista!$B:$D,3,0)","v":"TOPS* 20 530,-Ft"}]
[]
[]
[]
[]
[]
[]
[]
[]
[]
[]
[]
[null,null,null,"Típus","Rodcraft HOMOKSZÓRÓ",null,null,null,"Rodcraft HOMOKSZÓRÓ",null,null,null,"FÚJÓ- ÉS SZÍVÓPISZTOLY"]
[null,null,null,null,"Pisztollyal, 5 m tömlovel és 10 literes tartállyal. Szemcsenagyság 0,4 - 0,8 mm Kerámia pótfúvóka (5-ös csomagban) 8951011682.",null,null,null,"Kézi, tartályos homokszóró szett, 0,8 kg szemcsével.",null,null,null,"Egyszerű, de robosztus elszívó fémporhoz,\ntörmelékhez, gumimaradékhoz, stb.\nfújópisztolyként magas átfolyási rátával"]
[]
[null,null,null,"Cikkszám / Típus / (Listaár) Nettó ár",8951070003,"RC8112",{"$f":"VLOOKUP(E172,Árlista!$B:$D,3,0)","v":"TOPS* 25 090,-Ft"},null,8951070023,"RC8113",{"$f":"VLOOKUP(I172,Árlista!$B:$D,3,0)","v":"40 090,-Ft "},null,8951070004,"RC8116",{"$f":"VLOOKUP(M172,Árlista!$B:$D,3,0)","v":"TOPS* 14 830,-Ft"}]

{"sheet":"ABAC termékek","index":16,"n_rows":168,"n_cols":11,"rows_kept":168,"cut":false,"hidden":false,"merged":[]}
[" ",null,null,null,"Általános karbantartáshoz",null,null,null,null,null,"Ipari karbantartáshoz és gyártáshoz"]
["Árlista"]
["Megrendelő"]
["Fúrók"]
["Racsnis kulcsok"]
["Csavarbehajtók"]
["Sarokcsiszolók"]
["Légkulcsok"]
["Egyenes csiszolók"]
["Szalag és excenter csiszolók"]
["Polír- és fiber csiszolók"]
["Vésők, leverők …"]
["Szóró- és lefúvató pisztolyok"]
["Vágók, fűrészek, szegecshúzók"]
["Dugókulcsok"]
["Csatlakozók"]
["Abroncstöltők"]
["ABAC Levegős szerszámok"]
["Garázsipari eszközök"]
["AKKUMULÁTOROS GÉPEK"]
["Tömlők, tömlődobok"]
["Szűrők, szabályozók"]
["Balancerek",null,null,null,"Cikkszám","Megnevezés",null,"Megnevezés","(Régi) Új nettó ár"]
[null,null,null,null,8973005414,"Ratchet wrench 1/4\"","TA","1/4\" Racsniskulcs 27Nm",{"$f":"VLOOKUP(E24,Árlista!B:J,3,0)","v":"9 650,-Ft "}]
[null,null,null,null,8973005415,"Ratchet wrench 1/2\" (Standard + set)","TA","1/2\" Racsniskulcs 60Nm + dugókulcs készlet",{"$f":"VLOOKUP(E25,Árlista!B:J,3,0)","v":"12 390,-Ft "}]
[null,null,null,null,8973005416,"Ratchet wrench 1/2\" Heavy duty","TA","1/2\" Racsniskulcs 80Nm",{"$f":"VLOOKUP(E26,Árlista!B:J,3,0)","v":"11 540,-Ft "}]
[null,null,null,null,8973005411,"Impact wrench 1/2\" standard + set","TA","1/2\" Ütvescsavarozó 310Nm + 10db dugókulcs",{"$f":"VLOOKUP(E27,Árlista!B:J,3,0)","v":"14 720,-Ft "}]
[null,null,null,null,8973005412,"Impact wrench 1/2\" Heavy Duty","TA","1/2\" Ütvescsavarozó 515Nm",{"$f":"VLOOKUP(E28,Árlista!B:J,3,0)","v":"24 650,-Ft "}]
[null,null,null,null,8973005417,"Impact wrench 3/4\" standard + set","TA","3/4\" Ütvescsavarozó 680Nm + 8db dugókulcs",{"$f":"VLOOKUP(E29,Árlista!B:J,3,0)","v":"40 810,-Ft "}]
[null,null,null,null,8973005413,"Impact wrench 3/4\" Heavy Duty","TA","3/4\" Ütvescsavarozó 1015Nm",{"$f":"VLOOKUP(E30,Árlista!B:J,3,0)","v":"67 370,-Ft "}]
[null,null,null,null,8973005437,"1/2\" Sockets set","TA","1/2\"-os dugókulcs lészlet ütvecsavarozókhoz",{"$f":"VLOOKUP(E31,Árlista!B:J,3,0)","v":"5 100,-Ft "}]
[null,null,null,null,8973005418,"Screwdriver","TA","Csavarbehajtó 5-13Nm pisztoly",{"$f":"VLOOKUP(E32,Árlista!B:J,3,0)","v":"18 310,-Ft "}]
[null,null,null,null,8973005419,"Screwdriver + set","TA","Csavarbehajtó 5-13Nm egyenes",{"$f":"VLOOKUP(E33,Árlista!B:J,3,0)","v":"19 980,-Ft "}]
[null,null,null,null,8973005420,"Air Drill","TA","Fúró 1800 1/min irányváltós D10",{"$f":"VLOOKUP(E34,Árlista!B:J,3,0)","v":"13 760,-Ft "}]
[null,null,null,null,"Cikkszám","Megnevezés",null,"Megnevezés","Nettó ár"]
[null,null,null,null,8973005421,"Hammer Kit + set","TA","Vésőgép 2,7kg hosszú löketű KIT 5db 175mm szerszám",{"$f":"VLOOKUP(E36,Árlista!B:J,3,0)","v":"11 280,-Ft "}]
[null,null,null,null,8973005927,"Spring","TA","Szerszám rögzítő rugó",{"$f":"VLOOKUP(E37,Árlista!B:J,3,0)","v":"570,-Ft "}]
[null,null,null,null,8973005928,"Chisels Set (9 Pcs)","TA","Véső szett 9 db-os",{"$f":"VLOOKUP(E38,Árlista!B:J,3,0)","v":"6 130,-Ft "}]
[null,null,null,null,8973005929,"Maintenance Kit","TA","Karbantartási KIT",{"$f":"VLOOKUP(E39,Árlista!B:J,3,0)","v":"1 150,-Ft "}]
[null,null,null,null,8973005422,"Hammer Kit (Heavy Duty) + set","TA","Vésőgép 4,4kg  hosszú löketű KIT 5db 250mm szerszám",{"$f":"VLOOKUP(E40,Árlista!B:J,3,0)","v":"18 670,-Ft "}]
[null,null,null,null,8973005927,"Spring","TA","Szerszám rögzítő rugó",{"$f":"VLOOKUP(E41,Árlista!B:J,3,0)","v":"570,-Ft "}]
[null,null,null,null,8973005930,"Pointed Chisel 250 mm","TA","Hegyes véső 250mm",{"$f":"VLOOKUP(E42,Árlista!B:J,3,0)","v":"1 150,-Ft "}]
[null,null,null,null,8973005931,"Flat Chisel 250mm","TA","Lapos véső 250mm",{"$f":"VLOOKUP(E43,Árlista!B:J,3,0)","v":"2 030,-Ft "}]
[null,null,null,null,8973005932,"Rivet Chisel 250mm","TA","Rivet Chisel 250mm",{"$f":"VLOOKUP(E44,Árlista!B:J,3,0)","v":"2 030,-Ft "}]
[null,null,null,null,8973005933,"Separating Chisel 250mm","TA","Separating Chisel 250mm",{"$f":"VLOOKUP(E45,Árlista!B:J,3,0)","v":"2 030,-Ft "}]
[null,null,null,null,8973005934,"Hollow Chisel 250mm","TA","Hollow Chisel 250mm",{"$f":"VLOOKUP(E46,Árlista!B:J,3,0)","v":"2 030,-Ft "}]
[null,null,null,null,8973005935,"Maintenance Kit","TA","Karbantartási KIT",{"$f":"VLOOKUP(E47,Árlista!B:J,3,0)","v":"2 800,-Ft "}]
[null,null,null,null,8973005433,"Pistol needler scaler (used for hammer)","TA","Tűs leverő adapter",{"$f":"VLOOKUP(E48,Árlista!B:J,3,0)","v":"6 000,-Ft "}]
[null,null,null,null,8973005423,"0,5  lbs Chipping Hammer (Medium) + 2 chisels","TA","Bontókalapács 3kg 2dbszerszám 200mm",{"$f":"VLOOKUP(E49,Árlista!B:J,3,0)","v":"46 550,-Ft "}]
[null,null,null,null,8973005936,"Flat Chisel 200mm","TA","Lapos véső 200mm",{"$f":"VLOOKUP(E50,Árlista!B:J,3,0)","v":"2 430,-Ft "}]
[null,null,null,null,8973005937,"Pointed Chisel 200 mm","TA","Hegyes véső 200mm",{"$f":"VLOOKUP(E51,Árlista!B:J,3,0)","v":"2 430,-Ft "}]
[null,null,null,null,8973005938,"Spring","TA","Szerszám rögzítő rugó",{"$f":"VLOOKUP(E52,Árlista!B:J,3,0)","v":"1 780,-Ft "}]
[null,null,null,null,8973005424,"13 lbs Chipping Hammer + 3 chisels","TA","Bontókalapács 6kg 3dbszerszám",{"$f":"VLOOKUP(E53,Árlista!B:J,3,0)","v":"65 700,-Ft "}]
[null,null,null,null,8973005939,"Pointed Chisel 170mm","TA","Hegyes véső 170 mm",{"$f":"VLOOKUP(E54,Árlista!B:J,3,0)","v":"4 080,-Ft "}]
[null,null,null,null,8973005940,"Flat Chisel 170mm","TA","Lapos véső 170 mm",{"$f":"VLOOKUP(E55,Árlista!B:J,3,0)","v":"4 460,-Ft "}]
[null,null,null,null,8973005941,"Pointed Chisel 305mm","TA","Hegyes véső 305 mm",{"$f":"VLOOKUP(E56,Árlista!B:J,3,0)","v":"5 490,-Ft "}]
[null,null,null,null,8973005943,"Heavy duty quick change retainer","TA","Szerszám befogó",{"$f":"VLOOKUP(E57,Árlista!B:J,3,0)","v":"15 320,-Ft "}]
[null,null,null,null,8973005955,"Needle scalar (Heavy Duty) 19 needles","TA","Tűs leverő",{"$f":"VLOOKUP(E58,Árlista!B:J,3,0)","v":"39 250,-Ft "}]
[null,null,null,null,8973005804,"Set of 19 Needles","TA","Tű szett 19X3",{"$f":"VLOOKUP(E59,Árlista!B:J,3,0)","v":"3 790,-Ft "}]
[null,null,null,null,"Cikkszám","Megnevezés",null,"Megnevezés","Nettó ár"]
[null,null,null,null,8973005425,"Air Nibbler","TA","Levegős kivágó 1,6/2 mm",{"$f":"VLOOKUP(E61,Árlista!B:J,3,0)","v":"19 870,-Ft "}]
[null,null,null,null,8973005944,"Punch + Die Set","TA","Punch + Die Set",{"$f":"VLOOKUP(E62,Árlista!B:J,3,0)","v":"4 860,-Ft "}]
[null,null,null,null,8973005426,"Air Body Saw","TA","Levegős karosszéria fürész és reszelő",{"$f":"VLOOKUP(E63,Árlista!B:J,3,0)","v":"35 780,-Ft "}]
[null,null,null,null,8973005945,"5 Pcs Saw Pack 24T","TA","5db fűrészlap 24 fog",{"$f":"VLOOKUP(E64,Árlista!B:J,3,0)","v":"2 550,-Ft "}]
[null,null,null,null,8973005946,"5 Pcs Saw Pack 32T","TA","5db fűrészlap 32 fog",{"$f":"VLOOKUP(E65,Árlista!B:J,3,0)","v":"2 550,-Ft "}]
[null,null,null,null,8973005947,"5 Pcs File Pack","TA","5db-os reszelő készlet",{"$f":"VLOOKUP(E66,Árlista!B:J,3,0)","v":"7 000,-Ft "}]
[null,null,null,null,"Cikkszám","Megnevezés",null,"Megnevezés","(Régi) Új nettó ár"]
[null,null,null,null,8973005434,"Riveter Kit + set","TA","Popszegecs húzó (2,4 3,2 4,0 4,8)",{"$f":"VLOOKUP(E68,Árlista!B:J,3,0)","v":"22 620,-Ft "}]
[null,null,null,null,8973005427,"Palm sander 74x145 mm","TA","Rezgőcsiszoló 74x145mm",{"$f":"VLOOKUP(E69,Árlista!B:J,3,0)","v":"33 150,-Ft "}]
[null,null,null,null,8973005948,"7 Holes velcro Pad, Size: 74X145 mm","TA","7 Holes velcro Pad, Size: 74X145 mm",{"$f":"VLOOKUP(E70,Árlista!B:J,3,0)","v":"5 860,-Ft "}]
[null,null,null,null,8973005428,"Orbital sander 93x176 mm","TA","Rezgőcsiszoló 93x176mm",{"$f":"VLOOKUP(E71,Árlista!B:J,3,0)","v":"53 490,-Ft "}]
[null,null,null,null,8973005949,"8 holes velcro pad size: 93x176mm","TA","8 holes velcro pad size: 93x176mm",{"$f":"VLOOKUP(E72,Árlista!B:J,3,0)","v":"7 380,-Ft "}]
[null,null,null,null,8973005969,"Dual effect Orbital sander 150 mm","TA","Excenter csiszoló D150 Verco",{"$f":"VLOOKUP(E73,Árlista!B:J,3,0)","v":"33 750,-Ft "}]
[null,null,null,null,8973005950,"150 mm Velcro pad, with 6 holes","TA","150 mm Velcro pad, with 6 holes",{"$f":"VLOOKUP(E74,Árlista!B:J,3,0)","v":"3 450,-Ft "}]
[null,null,null,null,8973005429,"Die grinder kit","TA","Egyenes csiszoló D3; D6+ 10db csiszolófej",{"$f":"VLOOKUP(E75,Árlista!B:J,3,0)","v":"9 380,-Ft "}]
[null,null,null,null,8973005951,"Grinding stones - 10 pcs kit","TA","Grinding stones - 10 pcs kit",{"$f":"VLOOKUP(E76,Árlista!B:J,3,0)","v":"1 400,-Ft "}]
[null,null,null,null,8973005430,"Extended Die Grinder","TA","Egyenes csiszoló D6mm",{"$f":"VLOOKUP(E77,Árlista!B:J,3,0)","v":"25 370,-Ft "}]
[null,null,null,null,8973005431,"Angle Grinder","TA","Sarokcsiszoló D125",{"$f":"VLOOKUP(E78,Árlista!B:J,3,0)","v":"29 200,-Ft "}]
[null,null,null,null,8973005432,"Belt Sander","TA","Szalagcsiszoló 12 mm-es",{"$f":"VLOOKUP(E79,Árlista!B:J,3,0)","v":"29 320,-Ft "}]
[null,null,null,null,8973005952,"Belt 12,7X610mm Grain 80 (5pcs)","TA","Csiszoló szalag 12,7X610mm P80 (5pcs)",{"$f":"VLOOKUP(E80,Árlista!B:J,3,0)","v":"3 310,-Ft "}]
[null,null,null,null,8973005953,"Belt 12,7X610mm Grain 100 (5pcs)","TA","Csiszoló szalag 12,7X610mm P100 (5pcs)",{"$f":"VLOOKUP(E81,Árlista!B:J,3,0)","v":"3 310,-Ft "}]
[null,null,null,null,8973005954,"Belt 12,7X610mm Grain 1200 (5pcs)","TA","Csiszoló szalag 12,7X610mm P120 (5pcs)",{"$f":"VLOOKUP(E82,Árlista!B:J,3,0)","v":"3 310,-Ft "}]
[null,null,null,null,"Cikkszám","Megnevezés",null,"Megnevezés","Nettó ár"]
[null,null,null,null,8973005956,"Staple Gun","TA","Tűzőgép 10-26mm",{"$f":"VLOOKUP(E84,Árlista!B:J,3,0)","v":"18 670,-Ft "}]
[null,null,null,null,8973005957,"Staples 18mm (5000 pcs)","TA","Kapocs 18mm (5000db)",{"$f":"VLOOKUP(E85,Árlista!B:J,3,0)","v":"2 310,-Ft "}]
[null,null,null,null,8973005958,"Staples 23mm (5000 pcs)","TA","Kapocs 23mm (5000db)",{"$f":"VLOOKUP(E86,Árlista!B:J,3,0)","v":"2 680,-Ft "}]
[null,null,null,null,8973005959,"Staples 26mm (5000 pcs)","TA","Kapocs 26mm (5000db)",{"$f":"VLOOKUP(E87,Árlista!B:J,3,0)","v":"3 200,-Ft "}]
[null,null,null,null,8973005960,"Nail Gun","TA","Szegbelövő 15-50mm",{"$f":"VLOOKUP(E88,Árlista!B:J,3,0)","v":"11 790,-Ft "}]
[null,null,null,null,8973005961,"Nails 19mm (5000 pcs)","TA","Szeg 19mm (5000db)",{"$f":"VLOOKUP(E89,Árlista!B:J,3,0)","v":"1 400,-Ft "}]
[null,null,null,null,8973005962,"Nails 25mm (5000 pcs)","TA","Szeg 25mm (5000db)",{"$f":"VLOOKUP(E90,Árlista!B:J,3,0)","v":"1 910,-Ft "}]
[null,null,null,null,8973005963,"Nails 32mm (5000 pcs)","TA","Szeg 32mm (5000db)",{"$f":"VLOOKUP(E91,Árlista!B:J,3,0)","v":"2 430,-Ft "}]
[null,null,null,null,8973005978,"Nails 30mm (5000 pcs)","TA","Szeg 30mm (5000db)",{"$f":"VLOOKUP(E92,Árlista!B:J,3,0)","v":"3 060,-Ft "}]
[null,null,null,null,8973005964,"Staple/Nail Gun","TA","Tűző és szegbelövő 10-40, 20-50mm",{"$f":"VLOOKUP(E93,Árlista!B:J,3,0)","v":"25 130,-Ft "}]
[null,null,null,null,8973005965,"Staples 30mm","TA","Kapocs 30mm (5000db)",{"$f":"VLOOKUP(E94,Árlista!B:J,3,0)","v":"4 090,-Ft "}]
[null,null,null,null,8973005966,"Staples 32mm","TA","Kapocs 32mm (5000db)",{"$f":"VLOOKUP(E95,Árlista!B:J,3,0)","v":"4 340,-Ft "}]
[]
[]
[null,null,null,null,8973005917,"Stapler/Nailer Staples From 10-32mm","TA","Tűző és szegbelövő 10-32mm",{"$f":"VLOOKUP(E98,Árlista!B:J,3,0)","v":"11 900,-Ft "}]
[null,null,null,null,8973005847,"Staples 10mm (2400 pcs)","TA","Kapocs 10mm (2400 pcs)",{"$f":"VLOOKUP(E99,Árlista!B:J,3,0)","v":"950,-Ft "}]
[null,null,null,null,8973005848,"Staples 13mm (1800 pcs)","TA","Kapocs 13mm (1800 pcs)",{"$f":"VLOOKUP(E100,Árlista!B:J,3,0)","v":"730,-Ft "}]
[null,null,null,null,8973005845,"Staples 22mm (800 pcs)","TA","Kapocs 22mm (800 pcs)",{"$f":"VLOOKUP(E101,Árlista!B:J,3,0)","v":"680,-Ft "}]
[null,null,null,null,8973005849,"Nails 15mm (1200 pcs)","TA","Szeg 15mm (1200 pcs)",{"$f":"VLOOKUP(E102,Árlista!B:J,3,0)","v":"490,-Ft "}]
[null,null,null,null,8973005846,"Nails 25mm (800 pcs)","TA","Szeg 25mm (800 pcs)",{"$f":"VLOOKUP(E103,Árlista!B:J,3,0)","v":"610,-Ft "}]
[null,null,null,null,8973005435,"Air Caulking Gun","TA","Kartus kinyomó",{"$f":"VLOOKUP(E104,Árlista!B:J,3,0)","v":"7 000,-Ft "}]
[null,null,null,null,8973005436,"Grease Gun","TA","Zsírzó pisztoly",{"$f":"VLOOKUP(E105,Árlista!B:J,3,0)","v":"8 260,-Ft "}]
[null,null,null,null,"Cikkszám","Megnevezés",null,"Megnevezés","(Régi) Új nettó ár"]
[null,null,null,null,8973005547,"Kit 5 pcs - box","TA","Szóró, fújató KIT 4db Doboz",{"$f":"VLOOKUP(E107,Árlista!B:J,3,0)","v":"7 620,-Ft "}]
[null,null,null,null,8973005546,"Kit 5 pcs - box","TA","Szóró, fújató KIT 5db Doboz",{"$f":"VLOOKUP(E108,Árlista!B:J,3,0)","v":"6 500,-Ft "}]
[null,null,null,null,"Cikkszám","Megnevezés",null,"Megnevezés","Nettó ár"]
[null,null,null,null,8973005189,"Kit 5 pcs - Blister","TA","Szóró, fújató KIT 5db MÜA",{"$f":"VLOOKUP(E110,Árlista!B:J,3,0)","v":"7 000,-Ft "}]
[null,null,null,null,8973005156,"Air Tool kit - 34 pcs","TA","Csavarozó és gravirozó KIT 34 db",{"$f":"VLOOKUP(E111,Árlista!B:J,3,0)","v":"26 690,-Ft "}]
[null,null,null,null,8973005055,"Air Tool kit - 63 pcs","TA","Csavarozó és gravirozó KIT 63 db",{"$f":"VLOOKUP(E112,Árlista!B:J,3,0)","v":"34 510,-Ft "}]
[null,null,null,null,"Cikkszám","Megnevezés",null,"Megnevezés","Nettó ár"]
[null,null,null,null,8973005871,"Impact wrench 1/2\" with 4 sockets","TA","1/2\" Ütvescsavarozó 345Nm + 4db dugó",{"$f":"VLOOKUP(E114,Árlista!B:J,3,0)","v":"9 650,-Ft "}]
[null,null,null,null,8973005919,"Ratchet wrench 1/2\"","TA","1/2\" Racsniskulcs 40Nm",{"$f":"VLOOKUP(E115,Árlista!B:J,3,0)","v":"6 260,-Ft "}]
[null,null,null,null,8973005901,"Reversible drill with keyless chuck","TA","Fúró 1400 1/min",{"$f":"VLOOKUP(E116,Árlista!B:J,3,0)","v":"7 910,-Ft "}]
[null,null,null,null,8973005872,"Pneumatic Hammer with 4 hex fitting chisels","TA","Levegős véső 4db vésőszárral",{"$f":"VLOOKUP(E117,Árlista!B:J,3,0)","v":"3 960,-Ft "}]
[null,null,null,null,8973005850,"SET 4 SCALPELLI ESAGON.","TA","Véső szerszám KIT 4db HEX",{"$f":"VLOOKUP(E118,Árlista!B:J,3,0)","v":"810,-Ft "}]
[null,null,null,null,"Cikkszám","Megnevezés",null,"Megnevezés","(Régi) Új nettó ár"]
[null,null,null,null,8973005902,"Dual orbital sander","TA","Excenter csiszoló",{"$f":"VLOOKUP(E120,Árlista!B:J,3,0)","v":"9 020,-Ft "}]
[null,null,null,null,8973005578,"Orbital vibrating sander 90x80mm","TA","Rezgőcsiszoló",{"$f":"VLOOKUP(E121,Árlista!B:J,3,0)","v":"8 890,-Ft "}]
[null,null,null,null,8973005911,"Die grinder with 5 grinding wheels - 20000 RPM","TA","Egyenes csiszoló + 5db csiszolófej",{"$f":"VLOOKUP(E122,Árlista!B:J,3,0)","v":"3 580,-Ft "}]
[null,null,null,null,"Cikkszám","Megnevezés",null,"Megnevezés","Nettó ár"]
[null,null,null,null,8973005884,"Air brush kit 0,4mm","TA","Hobby Air brush KIT",{"$f":"VLOOKUP(E124,Árlista!B:J,3,0)","v":"3 580,-Ft "}]
[null,null,null,null,8973005904,"Precision Spray Gun 0,25 Litres","TA","Felsőtartályos festékszóró 0,25l preciziós",{"$f":"VLOOKUP(E125,Árlista!B:J,3,0)","v":"5 370,-Ft "}]
[null,null,null,null,8973005903,"Suction Spray Gun with 1 Litre pot 1,4mm","TA","Alsótartályos festékszóró 1l-D1,4",{"$f":"VLOOKUP(E126,Árlista!B:J,3,0)","v":"3 580,-Ft "}]
[null,null,null,null,8973005877,"Gravity Spray Gun 0,5 Litres Nylon Cup 1m5mm","TA","Felsőtartályos festékszóró 0,5l-D1,5",{"$f":"VLOOKUP(E127,Árlista!B:J,3,0)","v":"3 430,-Ft "}]
[null,null,null,null,8973005874,"Primer Gravity Spray Gun 0,5 Litre cup 2,5mm","TA","Felsőtartályos festékszóró 0,5l-D2,5",{"$f":"VLOOKUP(E128,Árlista!B:J,3,0)","v":"3 180,-Ft "}]
[null,null,null,null,8973005906,"Low Pressure Spray Gun 1 Litre 1,4mm","TA","Alsótartályos festékszóró 1l-D1,4 kisnyomású",{"$f":"VLOOKUP(E129,Árlista!B:J,3,0)","v":"4 570,-Ft "}]
[null,null,null,null,8973005905,"Professional Spray Gun Cllamp Type 1 Litre Cup 1,8mm","TA","Alsótartályos festékszóró 1l-D1,8 professional",{"$f":"VLOOKUP(E130,Árlista!B:J,3,0)","v":"7 260,-Ft "}]
[null,null,null,null,"Cikkszám","Megnevezés",null,"Megnevezés","Nettó ár"]
[null,null,null,null,8973005894,"Nozzle 1,5mm","TA","Fúvóka szett 1,5 mm",{"$f":"VLOOKUP(E132,Árlista!B:J,3,0)","v":"3 830,-Ft "}]
[null,null,null,null,8973005896,"Nozzle 2,5mm","TA","Fúvóka szett 2,5 mm",{"$f":"VLOOKUP(E133,Árlista!B:J,3,0)","v":"3 830,-Ft "}]
[null,null,null,null,8973005863,"Protective masks not EPI (4 pcs)","TA","Száj maszk 4db",{"$f":"VLOOKUP(E134,Árlista!B:J,3,0)","v":"1 010,-Ft "}]
[null,null,null,null,8973005885,"Professional mask with 2 filters (CE)","TA","Festő maszk 1db",{"$f":"VLOOKUP(E135,Árlista!B:J,3,0)","v":"2 150,-Ft "}]
[null,null,null,null,8973005858,"Mask Filter, Class A, Type 1 (Organic Gas)","TA","Szűrő betét A osztály",{"$f":"VLOOKUP(E136,Árlista!B:J,3,0)","v":"1 440,-Ft "}]
[null,null,null,null,8973005859,"Mask Filter, class B, Type 2 (Organic Gas, Alogen)","TA","Szűrő betét B osztály",{"$f":"VLOOKUP(E137,Árlista!B:J,3,0)","v":"1 260,-Ft "}]
[null,null,null,null,"Cikkszám","Megnevezés",null,"Megnevezés","(Régi) Új nettó ár"]
[null,null,null,null,8973005442,"Vacuum Cleaner","TA","Vákuum elszívó",{"$f":"VLOOKUP(E139,Árlista!B:J,3,0)","v":"2 800,-Ft "}]
[null,null,null,null,8973005909,"Air Dusting Gun with variable air flow","TA","Lefúvató pisztoly hosszú MÜA",{"$f":"VLOOKUP(E140,Árlista!B:J,3,0)","v":"910,-Ft "}]
[null,null,null,null,8973005865,"Air Dusting Gun","TA","Lefúvató pisztoly rövid Max 4 bar",{"$f":"VLOOKUP(E141,Árlista!B:J,3,0)","v":"890,-Ft "}]
[null,null,null,null,8973005867,"Air Dusting Gun","TA","Lefúvató pisztoly hosszú Max 4 bar",{"$f":"VLOOKUP(E142,Árlista!B:J,3,0)","v":"1 120,-Ft "}]
[null,null,null,null,8973005525,"Air Gun for blockage clearance","TA","Kifúvató pisztoly",{"$f":"VLOOKUP(E143,Árlista!B:J,3,0)","v":"1 400,-Ft "}]
[null,null,null,null,8973005918,"Air/Water Washing Gun","TA","Levegős mosópisztoly",{"$f":"VLOOKUP(E144,Árlista!B:J,3,0)","v":"1 910,-Ft "}]
[null,null,null,null,8973005880,"Spray Nozzle - 1 Litre","TA","Levegős tisztító pisztoly 1l",{"$f":"VLOOKUP(E145,Árlista!B:J,3,0)","v":"2 030,-Ft "}]
[null,null,null,null,8973005914,"Sandblasting Gun","TA","Homokszóró pisztoly tartályos",{"$f":"VLOOKUP(E146,Árlista!B:J,3,0)","v":"3 060,-Ft "}]
[null,null,null,null,8973005878,"Professional Sandblasting Gun","TA","Homokszóró pisztoly",{"$f":"VLOOKUP(E147,Árlista!B:J,3,0)","v":"2 940,-Ft "}]
[null,null,null,null,8973005907,"Underbody Coating Gun","TA","Alvázvédő pisztoly",{"$f":"VLOOKUP(E148,Árlista!B:J,3,0)","v":"8 380,-Ft "}]
[null,null,null,null,8973005459,"Pneumatic Grease Dispenser","TA","Pneumatikus zsírzó",{"$f":"VLOOKUP(E149,Árlista!B:J,3,0)","v":"5 360,-Ft "}]
[null,null,null,null,8973005910,"Inflating Gun","TA","Tömlőfújató",{"$f":"VLOOKUP(E150,Árlista!B:J,3,0)","v":"2 800,-Ft "}]
[null,null,null,null,8973005883,"Inflating Gun (Homologated)","TA","Tömlőfújató hitelesíthető",{"$f":"VLOOKUP(E151,Árlista!B:J,3,0)","v":"5 830,-Ft "}]
[null,null,null,null,8973005854,"Inflating Kit (3 pcs)","TA","Szelep KIT 3db",{"$f":"VLOOKUP(E152,Árlista!B:J,3,0)","v":"540,-Ft "}]
[null,null,null,null,8973005842,"Inflating nozzle for Michelin tyres","TA","Csiptetős tömlőfúvató csatlakozó",{"$f":"VLOOKUP(E153,Árlista!B:J,3,0)","v":"360,-Ft "}]
[null,null,null,null,"Cikkszám","Megnevezés",null,"Megnevezés","(Régi) Új nettó ár"]
[null,null,null,null,8973005473,"Spiral Hose Connector + Univ. Quick Coupling (5 m)","TA","Spirál tömlő (6x8) 5m",{"$f":"VLOOKUP(E155,Árlista!B:J,3,0)","v":"1 950,-Ft "}]
[null,null,null,null,8973005519,"Spiral Hose 6x8 Connector + Univ. Quick Coupling (10 m)","TA","Spirál tömlő (6x8) 10m",{"$f":"VLOOKUP(E156,Árlista!B:J,3,0)","v":"2 550,-Ft "}]
[null,null,null,null,8973005520,"Spiral Hose 6x8 Connector + Univ. Quick Coupling (15 m)","TA","Spirál tömlő (6x8) 15m",{"$f":"VLOOKUP(E157,Árlista!B:J,3,0)","v":"3 180,-Ft "}]
[null,null,null,null,8973005477,"Hose 6x11mm + Univ. Quick Coupling (7,5 m)","TA","Szerelt PVC tömlő 6X11 7,5 m",{"$f":"VLOOKUP(E158,Árlista!B:J,3,0)","v":"2 170,-Ft "}]
[null,null,null,null,8973005521,"Hose 6x11mm + Univ. Quick Coupling (10 m)","TA","Szerelt PVC tömlő (6x11) 10m",{"$f":"VLOOKUP(E159,Árlista!B:J,3,0)","v":"3 300,-Ft "}]
[null,null,null,null,8973005479,"Hose 6x11mm without fittings(15 m)","TA","PVC tömlő (6x11) 15m",{"$f":"VLOOKUP(E160,Árlista!B:J,3,0)","v":"2 820,-Ft "}]
[null,null,null,null,8973005522,"Hose 6x11mm + Univ. Quick Coupling (20 m)","TA","Szerelt PVC tömlő (6x11) 20m",{"$f":"VLOOKUP(E161,Árlista!B:J,3,0)","v":"4 980,-Ft "}]
[null,null,null,null,8973005026,"Hose 8x13mm Connector + Univ. Quick Coupling (7,5 m)","TA","Szerelt PVC tömlő (8x13) 7,5m",{"$f":"VLOOKUP(E162,Árlista!B:J,3,0)","v":"2 550,-Ft "}]
[null,null,null,null,8973005908,"Hose 8x13mm + Univ. Quick Coupling (10 m)","TA","Szerelt PVC tömlő (8x13) 10m",{"$f":"VLOOKUP(E163,Árlista!B:J,3,0)","v":"3 960,-Ft "}]
[null,null,null,null,8973005482,"Hose Reel 6x11mm + Univ. Quick Coupling (20 m)","TA","PVC tömlődob (6x11) 20m",{"$f":"VLOOKUP(E164,Árlista!B:J,3,0)","v":"13 400,-Ft "}]
[null,null,null,null,8973005852,"Filter 1/4\"F","TA","Mini olajozó 1/4\"",{"$f":"VLOOKUP(E165,Árlista!B:J,3,0)","v":"720,-Ft "}]
[null,null,null,null,8973005916,"Pressure regulator 3/8\" + 2 quick universal couplings","TA","3/8\" szűrő szabályozó 2db gyorskuplunggal",{"$f":"VLOOKUP(E166,Árlista!B:J,3,0)","v":"6 880,-Ft "}]
[null,null,null,null,8973005861,"Micro-Pressure regulator 1/4\"F + 1 Quick Coupling","TA","1/4\" micro szűrő szabályozó 1db gyorskuplunggal",{"$f":"VLOOKUP(E167,Árlista!B:J,3,0)","v":"3 830,-Ft "}]
[null,null,null,null,8973005570,"Pressure switch - 1 way monophase 10 bars /145 PSI) 1/4\"F","TA","Nyomáskapcsoló 230V 10bar -1X1/4\"",{"$f":"VLOOKUP(E168,Árlista!B:J,3,0)","v":"2 030,-Ft "}]

{"sheet":"Csatlakozók","index":17,"n_rows":186,"n_cols":15,"rows_kept":186,"cut":false,"hidden":false,"merged":[[144,13,144,15],[150,12,150,15],[182,5,182,7],[182,9,182,11],[182,13,182,15],[164,4,164,7],[164,8,164,11],[164,12,164,15],[181,4,181,7],[181,8,181,11],[181,12,181,15],[165,5,165,7],[165,9,165,11],[165,13,165,15],[93,4,93,7],[93,8,93,11],[93,12,93,15],[143,12,143,15],[129,12,129,15],[130,5,130,7],[130,9,130,11],[130,13,130,15],[129,4,129,7],[129,8,129,11],[122,4,122,7],[122,8,122,11],[122,12,122,15],[123,5,123,7],[123,9,123,11],[123,13,123,15],[84,3,85,3],[86,4,86,7],[86,8,86,11],[42,13,42,15],[72,4,72,7],[72,8,72,11],[72,12,72,15],[56,4,56,7],[86,12,86,15],[73,5,73,7],[73,13,73,15],[56,8,56,11],[56,12,56,15],[57,5,57,7],[57,9,57,11],[57,13,57,15],[20,4,20,7],[20,8,20,11],[20,12,20,15],[21,9,21,11],[21,13,21,15],[21,5,21,7],[36,4,36,7],[36,8,36,11],[36,12,36,15],[87,9,87,11],[87,13,87,15],[37,13,37,15],[42,5,42,7],[42,9,42,11],[73,9,73,11],[37,5,37,7],[37,9,37,11],[87,5,87,7],[141,3,142,3],[162,3,163,3],[150,4,150,7],[150,8,150,11],[143,4,143,7],[143,8,143,11],[144,5,144,7],[144,9,144,11],[105,3,106,3],[107,4,107,7],[107,8,107,11],[107,12,107,15],[108,5,108,7],[108,9,108,11],[108,13,108,15]]}
["RODCRAFT",null,null,null,"Általános karbantartáshoz",null,null,null,null,null,"Ipari karbantartáshoz és gyártáshoz"]
["Árlista"]
["Megrendelő"]
["Fúrók"]
["Racsnis kulcsok"]
["Csavarbehajtók"]
["Sarokcsiszolók"]
["Légkulcsok"]
["Egyenes csiszolók"]
["Szalag és excenter csiszolók"]
["Polír- és fiber csiszolók"]
["Vésők, leverők …"]
["Szóró- és lefúvató pisztolyok"]
["Vágók, fűrészek, szegecshúzók"]
["Dugókulcsok"]
["Csatlakozók"]
["Abroncstöltők"]
["ABAC Levegős szerszámok"]
["Garázsipari eszközök"]
["AKKUMULÁTOROS GÉPEK"]
["Tömlők, tömlődobok",null,null,"Rodcraft","Gyorscsatlakozó kuplung KM",null,null,null,"Gyorscsatlakozó kuplung BM",null,null,null,"Gyorscsatlakozó kuplung TV"]
["Szűrők, szabályozók",null,null,"Típus","EURO 7,2","Külső menet: 1/4\" - 3/8\" - 1/2\"",null,null,"EURO 7,2","Belső menet: 1/4\" - 3/8\" - 1/2\"",null,null,"EURO 7,2","Tömlővéges: 6 - 9 - 13mm"]
["Balancerek",null,null,"Cikkszám / Típus / (Listaár) Nettó ár",8951011784,"1/4\"",{"$f":"VLOOKUP(E23,Árlista!$B:$D,3,0)","v":"TOPS* 1 090,-Ft"},null,8951011787,"1/4\"",{"$f":"VLOOKUP(I23,Árlista!$B:$D,3,0)","v":"TOPS* 1 170,-Ft"},null,8951011790,"6…7mm",{"$f":"VLOOKUP(M23,Árlista!$B:$D,3,0)","v":"TOPS* 1 130,-Ft"}]
[null,null,null,"Cikkszám / Típus / (Listaár) Nettó ár",8951011785,"3/8\"",{"$f":"VLOOKUP(E24,Árlista!$B:$D,3,0)","v":"TOPS* 1 090,-Ft"},null,8951011788,"3/8\"",{"$f":"VLOOKUP(I24,Árlista!$B:$D,3,0)","v":"TOPS* 1 170,-Ft"},null,8951011791,"9…10mm",{"$f":"VLOOKUP(M24,Árlista!$B:$D,3,0)","v":"TOPS* 1 130,-Ft"}]
[{"$f":"Fúrók!$A25","v":"A feltüntett árak a 2020.02.01.-től "},null,null,"Cikkszám / Típus / (Listaár) Nettó ár",8951011786,"1/2\"",{"$f":"VLOOKUP(E25,Árlista!$B:$D,3,0)","v":"TOPS* 1 170,-Ft"},null,8951011789,"1/2\"",{"$f":"VLOOKUP(I25,Árlista!$B:$D,3,0)","v":"TOPS* 1 200,-Ft"},null,8951011792,"13mm",{"$f":"VLOOKUP(M25,Árlista!$B:$D,3,0)","v":"TOPS* 1 130,-Ft"}]
[{"$f":"Fúrók!$A26","v":"érvényes listaárak."}]
[{"$f":"Fúrók!$A27","v":"* jelöléssel ellátott termékek a "}]
[{"$f":"Fúrók!$A28","v":"RC TOPS és CP STAR akciós"}]
[{"$f":"Fúrók!$A29","v":"kiadvány árai"}]
[{"$f":"Fúrók!$A30","v":"SP jelöléssel ellátott termékekre"}]
[{"$f":"Fúrók!$A31","v":"speciális viszonteladói árkézés"}]
[{"$f":"Fúrók!$A32","v":"vonatkozik. Az Extra árak"}]
[{"$f":"Fúrók!$A33","v":"a készlet erejéig, illetve"}]
[{"$f":"Fúrók!$A34","v":"visszavonásig érvényesek."}]
[{"$f":"Fúrók!$A35","v":"Az árista a Techtomat Kft és"}]
[{"$f":"Fúrók!$A36","v":"Kapitár Kft közös gondozásában"}]
[{"$f":"Fúrók!$A37","v":" jelent meg."},null,null,"Rodcraft","Gyorscsatlakozó dugó KM",null,null,null,"Gyorscsatlakozó dugó BM",null,null,null,"Gyorscsatlakozó dugó TV"]
[{"$f":"Fúrók!$A38","v":"Minden jog fenntartva."},null,null,"Típus","EURO 7,2","Külső menet: 1/4\" - 3/8\" - 1/2\"",null,null,"EURO 7,2","Belső menet: 1/4\" - 3/8\" - 1/2\"",null,null,"EURO 7,2","Tömlővéges: 6 - 9 - 13mm"]
[null,null,null,"Cikkszám / Típus / (Listaár) Nettó ár",8951011809,"1/4\"",{"$f":"VLOOKUP(E39,Árlista!$B:$D,3,0)","v":"TOPS* 300,-Ft"},null,8951011812,"1/4\"",{"$f":"VLOOKUP(I39,Árlista!$B:$D,3,0)","v":"TOPS* 290,-Ft"},null,8951011795,"6…7mm",{"$f":"VLOOKUP(M39,Árlista!$B:$D,3,0)","v":"TOPS* 190,-Ft"}]
[{"$f":"Fúrók!$A40","v":"Bővebb információ:"},null,null,"Cikkszám / Típus / (Listaár) Nettó ár",8951011810,"3/8\"",{"$f":"VLOOKUP(E40,Árlista!$B:$D,3,0)","v":"TOPS* 370,-Ft"},null,8951011813,"3/8\"",{"$f":"VLOOKUP(I40,Árlista!$B:$D,3,0)","v":"TOPS* 340,-Ft"},null,8951011796,"9…10mm",{"$f":"VLOOKUP(M40,Árlista!$B:$D,3,0)","v":"TOPS* 210,-Ft"}]
[{"$f":"Fúrók!$A41","v":"Szabó Attila"},null,null,"Cikkszám / Típus / (Listaár) Nettó ár",8951011811,"1/2\"",{"$f":"VLOOKUP(E41,Árlista!$B:$D,3,0)","v":"TOPS* 650,-Ft"},null,8951011814,"1/2\"",{"$f":"VLOOKUP(I41,Árlista!$B:$D,3,0)","v":"TOPS* 620,-Ft"},null,8951011797,"12-13mm",{"$f":"VLOOKUP(M41,Árlista!$B:$D,3,0)","v":"TOPS* 300,-Ft"}]
[{"$f":"Fúrók!$A42","v":"30/201-4931 vagy 30/626-8687"},null,null,"Cikkszám / Típus / (Listaár) Nettó ár",8951011808,"1/4\" acél",{"$f":"VLOOKUP(E42,Árlista!$B:$D,3,0)","v":"560,-Ft "}]
[{"$f":"Fúrók!$A43","v":"e-mail"},null,null,"Típus BIZTONSÁGI ACÉL RODCRAFT","EURO 7,2","Külső menet: 1/4\" - 3/8\" - 1/2\"",null,null,"EURO 7,2","Belső menet: 1/4\" - 3/8\" - 1/2\"",null,null,"EURO 7,2","Tömlővéges: 6 - 9 - 13mm"]
[{"$f":"Fúrók!$A44","v":"Tóth Tamás"},null,null,"Cikkszám / Típus / (Listaár) Nettó ár",8951011756,"1/4\"",{"$f":"VLOOKUP(E44,Árlista!$B:$D,3,0)","v":"1 680,-Ft "},null,8951011759,"1/4\"",{"$f":"VLOOKUP(I44,Árlista!$B:$D,3,0)","v":"1 400,-Ft "},null,8951011751,"6…7mm",{"$f":"VLOOKUP(M44,Árlista!$B:$D,3,0)","v":"1 680,-Ft "}]
[{"$f":"Fúrók!$A45","v":"30/603-1596"},null,null,"Cikkszám / Típus / (Listaár) Nettó ár",8951011757,"3/8\"",{"$f":"VLOOKUP(E45,Árlista!$B:$D,3,0)","v":"1 960,-Ft "},null,8951011760,"3/8\"",{"$f":"VLOOKUP(I45,Árlista!$B:$D,3,0)","v":"2 520,-Ft "},null,8951011754,"9…10mm",{"$f":"VLOOKUP(M45,Árlista!$B:$D,3,0)","v":"1 680,-Ft "}]
[null,null,null,"Cikkszám / Típus / (Listaár) Nettó ár",8951011758,"1/2\"",{"$f":"VLOOKUP(E46,Árlista!$B:$D,3,0)","v":"4 200,-Ft "},null,8951011761,"1/2\"",{"$f":"VLOOKUP(I46,Árlista!$B:$D,3,0)","v":"3 920,-Ft "},null,8951011755,"13mm",{"$f":"VLOOKUP(M46,Árlista!$B:$D,3,0)","v":{"$error":"#N/A"}}]
[]
[]
[]
[]
[]
[]
[]
[]
[]
[]
[null,null,null,"BIZTONSÁGI ACÉL RODCRAFT","Gyorscsatlakozó kuplung KM",null,null,null,"Gyorscsatlakozó kuplung BM",null,null,null,"Gyorscsatlakozó kuplung TV"]
[null,null,null,"Típus","EURO 7,2","Külső menet: 1/4\" - 3/8\" - 1/2\"",null,null,"EURO 7,2","Belső menet: 1/4\" - 3/8\" - 1/2\"",null,null,"EURO 7,2","Tömlővéges: 6 - 9 - 13mm"]
[null,null,null,"Cikkszám / Típus / (Listaár) Nettó ár",8951011740,"1/4\"",{"$f":"VLOOKUP(E59,Árlista!$B:$D,3,0)","v":{"$error":"#N/A"}},null,8951011743,"1/4\"",{"$f":"VLOOKUP(I59,Árlista!$B:$D,3,0)","v":"8 400,-Ft "},null,8951011746,"6…7mm",{"$f":"VLOOKUP(M59,Árlista!$B:$D,3,0)","v":"10 650,-Ft "}]
[null,null,null,"Cikkszám / Típus / (Listaár) Nettó ár",8951011741,"3/8\"",{"$f":"VLOOKUP(E60,Árlista!$B:$D,3,0)","v":{"$error":"#N/A"}},null,8951011744,"3/8\"",{"$f":"VLOOKUP(I60,Árlista!$B:$D,3,0)","v":"10 650,-Ft "},null,8951011748,"9…10mm",{"$f":"VLOOKUP(M60,Árlista!$B:$D,3,0)","v":"10 650,-Ft "}]
[null,null,null,"Cikkszám / Típus / (Listaár) Nettó ár",8951011742,"1/2\"",{"$f":"VLOOKUP(E61,Árlista!$B:$D,3,0)","v":"10 650,-Ft "},null,8951011745,"1/2\"",{"$f":"VLOOKUP(I61,Árlista!$B:$D,3,0)","v":"10 650,-Ft "},null,8951011750,"13mm",{"$f":"VLOOKUP(M61,Árlista!$B:$D,3,0)","v":"10 650,-Ft "}]
[]
[]
[]
[]
[]
[]
[]
[]
[]
[]
[]
[null,null,null,"Rodcraft","Gyorscsatlakozó Y kuplung BM",null,null,null,"Gyorscsatlakozó Y acél kuplung BM",null,null,null,"Gyorscsatlakozó Y3 kuplung BM"]
[null,null,null,"Típus","EURO 7,2","Belső menet: 3/8\"",null,null,"EURO 7,2","Belső menet: 1/4\" - 3/8\" - 1/2\"",null,null,"EURO 7,2","Belső menet: 3/8\""]
[null,null,null,"Cikkszám / Típus / (Listaár) Nettó ár",8951011819,"3/8\"",{"$f":"VLOOKUP(E75,Árlista!$B:$D,3,0)","v":"TOPS* 3 490,-Ft"},null,8951011762,"1/4\"",{"$f":"VLOOKUP(I75,Árlista!$B:$D,3,0)","v":"24 650,-Ft "},null,8951011820,"3/8\"",{"$f":"VLOOKUP(M75,Árlista!$B:$D,3,0)","v":"TOPS* 5 400,-Ft"}]
[null,null,null,"Cikkszám / Típus / (Listaár) Nettó ár",null,null,null,null,8951011763,"3/8\"",{"$f":"VLOOKUP(I76,Árlista!$B:$D,3,0)","v":"24 930,-Ft "}]
[null,null,null,"Cikkszám / Típus / (Listaár) Nettó ár",null,null,null,null,8951011764,"1/2\"",{"$f":"VLOOKUP(I77,Árlista!$B:$D,3,0)","v":"27 180,-Ft "}]
[]
[]
[]
[]
[]
[]
[]
[]
[]
[null,null,null,"Chicago Pneumatic","Gyorscsatlakozó kuplung KM -bedugós",null,null,null,"Gyorscsatlakozó kuplung BM -bedugós",null,null,null,"Gyorscsatlakozó kuplung TV -bedugós"]
[null,null,null,"Típus",null,"Külső menet: 1/4\"- 3/8\" - 1/2\" - 3/4\"",null,null,null,"Belső menet: 1/4\"- 3/8\" - 1/2\" - 3/4\"",null,null,null,"Tömlővéges: 8 - 10 - 13 - 16 - 19mm"]
[null,null,null,"Cikkszám / Típus / (Listaár) Nettó ár",6158110720,"1/4\"",{"$f":"VLOOKUP(E89,Árlista!$B:$D,3,0)","v":"STARS* 3 420,-Ft"},null,6158110750,"1/4\"",{"$f":"VLOOKUP(I89,Árlista!$B:$D,3,0)","v":"STARS* 3 990,-Ft"},null,6158110790,"8mm",{"$f":"VLOOKUP(M89,Árlista!$B:$D,3,0)","v":"STARS* 3 990,-Ft"}]
[null,null,null,"Cikkszám / Típus / (Listaár) Nettó ár",6158110730,"1/2\"",{"$f":"VLOOKUP(E90,Árlista!$B:$D,3,0)","v":"STARS* 3 990,-Ft"},null,6158110760,"3/8\"",{"$f":"VLOOKUP(I90,Árlista!$B:$D,3,0)","v":"STARS* 3 990,-Ft"},null,6158110800,"10mm",{"$f":"VLOOKUP(M90,Árlista!$B:$D,3,0)","v":"STARS* 3 990,-Ft"}]
[null,null,null,"Cikkszám / Típus / (Listaár) Nettó ár",6158110740,"3/4\"",{"$f":"VLOOKUP(E91,Árlista!$B:$D,3,0)","v":"STARS* 3 990,-Ft"},null,6158110770,"1/2\"",{"$f":"VLOOKUP(I91,Árlista!$B:$D,3,0)","v":"STARS* 5 270,-Ft"},null,6158110810,"13mm",{"$f":"VLOOKUP(M91,Árlista!$B:$D,3,0)","v":"STARS* 3 990,-Ft"}]
[]
[]
[null,null,null,"Chicago Pneumatic","Gyorscsatlakozó kuplung KM -bedugós      BIZTONSÁGI!",null,null,null,"Gyorscsatlakozó kuplung BM -bedugós       BIZTONSÁGI!",null,null,null,"Gyorscsatlakozó kuplung TV -bedugós       BIZTONSÁGI!"]
[null,null,null,"Cikkszám / Típus / (Listaár) Nettó ár",6158111700,"1/4\"",{"$f":"VLOOKUP(E95,Árlista!$B:$D,3,0)","v":"8 590,-Ft "},null,6158111740,"1/4\"",{"$f":"VLOOKUP(I95,Árlista!$B:$D,3,0)","v":"8 590,-Ft "},null,6158111670,"8mm",{"$f":"VLOOKUP(M95,Árlista!$B:$D,3,0)","v":"8 590,-Ft "}]
[null,null,null,"Cikkszám / Típus / (Listaár) Nettó ár",6158111710,"1/2\"",{"$f":"VLOOKUP(E96,Árlista!$B:$D,3,0)","v":"8 590,-Ft "},null,6158111750,"3/8\"",{"$f":"VLOOKUP(I96,Árlista!$B:$D,3,0)","v":"8 590,-Ft "},null,6158111680,"10mm",{"$f":"VLOOKUP(M96,Árlista!$B:$D,3,0)","v":"8 590,-Ft "}]
[null,null,null,"Cikkszám / Típus / (Listaár) Nettó ár",6158111720,"3/4\"",{"$f":"VLOOKUP(E97,Árlista!$B:$D,3,0)","v":"8 590,-Ft "},null,6158111760,"1/2\"",{"$f":"VLOOKUP(I97,Árlista!$B:$D,3,0)","v":"8 590,-Ft "},null,6158111690,"13mm",{"$f":"VLOOKUP(M97,Árlista!$B:$D,3,0)","v":"8 590,-Ft "}]
[]
[]
[]
[]
[]
[]
[]
[]
[null,null,null,"EURO ø7,6 mm Acél"]
[]
[null,null,null,"Chicago Pneumatic","Gyorscsatlakozó dugó KM",null,null,null,"Gyorscsatlakozó dugó BM",null,null,null,"Gyorscsatlakozó dugó TV"]
[null,null,null,"Típus",null,"Külső menet: 3/8\" - 1/2\" - 3/4\"",null,null,null,"Belső menet: 1/4\"- 3/8\" - 1/2\" - 3/4\"",null,null,null,"Tömlővéges: 10 - 13 - 16 - 19mm"]
[null,null,null,"Cikkszám / Típus / (Listaár) Nettó ár",6158106880,"1/4\"",{"$f":"VLOOKUP(E110,Árlista!$B:$D,3,0)","v":"1 690,-Ft "},null,6158105910,"1/4\"",{"$f":"VLOOKUP(I110,Árlista!$B:$D,3,0)","v":"STARS* 1 140,-Ft"},null,6158106220,"6mm",{"$f":"VLOOKUP(M110,Árlista!$B:$D,3,0)","v":"1 370,-Ft "}]
[null,null,null,"Cikkszám / Típus / (Listaár) Nettó ár",6158105890,"3/8\"",{"$f":"VLOOKUP(E111,Árlista!$B:$D,3,0)","v":"STARS* 1 140,-Ft"},null,6158105920,"3/8\"",{"$f":"VLOOKUP(I111,Árlista!$B:$D,3,0)","v":"STARS* 1 140,-Ft"},null,6158106250,"8mm",{"$f":"VLOOKUP(M111,Árlista!$B:$D,3,0)","v":"STARS* 1 140,-Ft"}]
[null,null,null,"Cikkszám / Típus / (Listaár) Nettó ár",6158105900,"1/2\"",{"$f":"VLOOKUP(E112,Árlista!$B:$D,3,0)","v":"STARS* 1 140,-Ft"},null,6158105930,"1/2\"",{"$f":"VLOOKUP(I112,Árlista!$B:$D,3,0)","v":"STARS* 1 140,-Ft"},null,6158106260,"10mm",{"$f":"VLOOKUP(M112,Árlista!$B:$D,3,0)","v":"STARS* 1 140,-Ft"}]
[null,null,null,null,null,null,null,null,null,null,null,null,6158106270,"13mm",{"$f":"VLOOKUP(M113,Árlista!$B:$D,3,0)","v":"STARS* 2 280,-Ft"}]
[]
[]
[]
[]
[]
[]
[]
[]
[]
[null,null,null,"Chicago Pneumatic","Gyorscsatlakozó kuplung KM -elfordítós",null,null,null,"Gyorscsatlakozó kuplung BM -elfordítós",null,null,null,"Gyorscsatlakozó kuplung TV -elfordítós"]
[null,null,null,"Típus","EURO 7,2","Külső menet: 1/4\"- 3/8\" - 1/2\" - 3/4\"",null,null,"EURO 10,4","Belső menet: 3/8\" - 1/2\" - 3/4\"",null,null,"EURO 10,4","Tömlővéges: 8 - 10 - 13 - 16 - 19mm"]
[null,null,null,"Cikkszám / Típus / (Listaár) Nettó ár",6158105140,"1/4\"",{"$f":"VLOOKUP(E125,Árlista!$B:$D,3,0)","v":"8 590,-Ft "},null,6158105170,"1/4\"",{"$f":"VLOOKUP(I125,Árlista!$B:$D,3,0)","v":"8 590,-Ft "},null,6158105530,"8mm",{"$f":"VLOOKUP(M125,Árlista!$B:$D,3,0)","v":"8 590,-Ft "}]
[null,null,null,"Cikkszám / Típus / (Listaár) Nettó ár",6158105150,"3/8\"",{"$f":"VLOOKUP(E126,Árlista!$B:$D,3,0)","v":"8 590,-Ft "},null,6158105180,"3/8\"",{"$f":"VLOOKUP(I126,Árlista!$B:$D,3,0)","v":"8 590,-Ft "},null,6158105540,"10mm",{"$f":"VLOOKUP(M126,Árlista!$B:$D,3,0)","v":"8 590,-Ft "}]
[null,null,null,"Cikkszám / Típus / (Listaár) Nettó ár",6158105160,"1/2\"",{"$f":"VLOOKUP(E127,Árlista!$B:$D,3,0)","v":"8 590,-Ft "},null,6158105190,"1/2\"",{"$f":"VLOOKUP(I127,Árlista!$B:$D,3,0)","v":"8 590,-Ft "},null,6158105550,"13mm",{"$f":"VLOOKUP(M127,Árlista!$B:$D,3,0)","v":"8 590,-Ft "}]
[]
[]
[null,null,null,"Chicago Pneumatic","Gyorscsatlakozó kuplung KM -elfordítós",null,null,null,"Gyorscsatlakozó kuplung BM -elfordítós",null,null,null,"Gyorscsatlakozó kuplung TV -elfordítós"]
[null,null,null,"Típus","EURO 10,4","Külső menet: 3/8\" - 1/2\" - 3/4\"",null,null,"EURO 10,4","Belső menet: 3/8\" - 1/2\" - 3/4\"",null,null,"EURO 10,4","Tömlővéges: 10 - 13 - 16 - 19mm"]
[null,null,null,"Cikkszám / Típus / (Listaár) Nettó ár",6158106390,"3/8\"",{"$f":"VLOOKUP(E132,Árlista!$B:$D,3,0)","v":"12 720,-Ft "},null,6158106420,"3/8\"",{"$f":"VLOOKUP(I132,Árlista!$B:$D,3,0)","v":"12 720,-Ft "},null,6158106510,"10mm",{"$f":"VLOOKUP(M132,Árlista!$B:$D,3,0)","v":"12 720,-Ft "}]
[null,null,null,"Cikkszám / Típus / (Listaár) Nettó ár",6158106400,"1/2\"",{"$f":"VLOOKUP(E133,Árlista!$B:$D,3,0)","v":"12 720,-Ft "},null,6158106430,"1/2\"",{"$f":"VLOOKUP(I133,Árlista!$B:$D,3,0)","v":"12 720,-Ft "},null,6158106520,"13mm",{"$f":"VLOOKUP(M133,Árlista!$B:$D,3,0)","v":"12 720,-Ft "}]
[null,null,null,"Cikkszám / Típus / (Listaár) Nettó ár",6158106410,"3/4\"",{"$f":"VLOOKUP(E134,Árlista!$B:$D,3,0)","v":"12 720,-Ft "},null,6158106440,"3/4\"",{"$f":"VLOOKUP(I134,Árlista!$B:$D,3,0)","v":"12 720,-Ft "},null,6158106530,"16mm",{"$f":"VLOOKUP(M134,Árlista!$B:$D,3,0)","v":"12 720,-Ft "}]
[null,null,null,"Cikkszám / Típus / (Listaár) Nettó ár",null,null,null,null,null,null,null,null,6158106540,"19mm",{"$f":"VLOOKUP(M135,Árlista!$B:$D,3,0)","v":"12 720,-Ft "}]
[]
[]
[]
[]
[]
[]
[]
[]
[null,null,null,"Chicago Pneumatic","Gyorscsatlakozó kuplung KM -bedugós",null,null,null,"Gyorscsatlakozó kuplung BM -bedugós",null,null,null,"Gyorscsatlakozó kuplung TV -bedugós"]
[null,null,null,"Típus","EURO 10,4","Külső menet: 3/8\" - 1/2\" - 3/4\"",null,null,"EURO 10,4","Belső menet: 3/8\" - 1/2\" - 3/4\"",null,null,"EURO 10,4","Tömlővéges: 10 - 13 - 16 - 19mm"]
[null,null,null,"Cikkszám / Típus / (Listaár) Nettó ár",6158110820,"1/4\"",{"$f":"VLOOKUP(E146,Árlista!$B:$D,3,0)","v":"STARS* 9 120,-Ft"},null,6158110850,"1/4\"",{"$f":"VLOOKUP(I146,Árlista!$B:$D,3,0)","v":"STARS* 7 980,-Ft"},null,6158110880,"10mm",{"$f":"VLOOKUP(M146,Árlista!$B:$D,3,0)","v":",-Ft "}]
[null,null,null,"Cikkszám / Típus / (Listaár) Nettó ár",6158110830,"1/2\"",{"$f":"VLOOKUP(E147,Árlista!$B:$D,3,0)","v":"STARS* 9 120,-Ft"},null,6158110860,"1/2\"",{"$f":"VLOOKUP(I147,Árlista!$B:$D,3,0)","v":"STARS* 7 980,-Ft"},null,6158110890,"13mm",{"$f":"VLOOKUP(M147,Árlista!$B:$D,3,0)","v":"STARS* 9 220,-Ft"}]
[null,null,null,"Cikkszám / Típus / (Listaár) Nettó ár",6158110840,"3/4\"",{"$f":"VLOOKUP(E148,Árlista!$B:$D,3,0)","v":"STARS* 9 120,-Ft"},null,6158110870,"3/4\"",{"$f":"VLOOKUP(I148,Árlista!$B:$D,3,0)","v":"STARS* 9 120,-Ft"},null,6158110900,"16mm",{"$f":"VLOOKUP(M148,Árlista!$B:$D,3,0)","v":"STARS* 9 220,-Ft"}]
[]
[]
[null,null,null,"Chicago Pneumatic","Gyorscsatlakozó kuplung KM -bedugós      BIZTONSÁGI!",null,null,null,"Gyorscsatlakozó kuplung BM -bedugós       BIZTONSÁGI!",null,null,null,"Gyorscsatlakozó kuplung TV -bedugós       BIZTONSÁGI!"]
[null,null,null,"Cikkszám / Típus / (Listaár) Nettó ár",6158111870,"3/8\"",{"$f":"VLOOKUP(E152,Árlista!$B:$D,3,0)","v":"13 770,-Ft "},null,6158111900,"1/2\"",{"$f":"VLOOKUP(I152,Árlista!$B:$D,3,0)","v":"13 770,-Ft "},null,6158111840,"10mm",{"$f":"VLOOKUP(M152,Árlista!$B:$D,3,0)","v":"13 770,-Ft "}]
[null,null,null,"Cikkszám / Típus / (Listaár) Nettó ár",6158111880,"1/2\"",{"$f":"VLOOKUP(E153,Árlista!$B:$D,3,0)","v":"13 770,-Ft "},null,null,null,null,null,6158111850,"13mm",{"$f":"VLOOKUP(M153,Árlista!$B:$D,3,0)","v":"13 770,-Ft "}]
[null,null,null,"Cikkszám / Típus / (Listaár) Nettó ár",6158111890,"3/4\"",{"$f":"VLOOKUP(E154,Árlista!$B:$D,3,0)","v":"13 770,-Ft "},null,null,null,null,null,6158111860,"16mm",{"$f":"VLOOKUP(M154,Árlista!$B:$D,3,0)","v":"13 770,-Ft "}]
[]
[]
[]
[null,null,null," "]
[]
[]
[]
[]
[null,null,null,"EURO ø10,4 mm Acél"]
[]
[null,null,null,"Chicago Pneumatic","Gyorscsatlakozó dugó KM",null,null,null,"Gyorscsatlakozó dugó BM",null,null,null,"Gyorscsatlakozó dugó TV"]
[null,null,null,"Típus","EURO 10,4","Külső menet: 3/8\" - 1/2\" - 3/4\"",null,null,"EURO 10,4","Belső menet: 3/8\" - 1/2\" - 3/4\"",null,null,"EURO 10,4","Tömlővéges: 10 - 13 - 16 - 19mm"]
[null,null,null,"Cikkszám / Típus / (Listaár) Nettó ár",6158106650,"3/8\"",{"$f":"VLOOKUP(E167,Árlista!$B:$D,3,0)","v":"STARS* 2 280,-Ft"},null,6158106710,"1/4\"",{"$f":"VLOOKUP(I167,Árlista!$B:$D,3,0)","v":"STARS* 2 280,-Ft"},null,6158106770,"10mm",{"$f":"VLOOKUP(M167,Árlista!$B:$D,3,0)","v":"STARS* 1 840,-Ft"}]
[null,null,null,"Cikkszám / Típus / (Listaár) Nettó ár",6158106660,"1/2\"",{"$f":"VLOOKUP(E168,Árlista!$B:$D,3,0)","v":"STARS* 2 280,-Ft"},null,6158106720,"3/8\"",{"$f":"VLOOKUP(I168,Árlista!$B:$D,3,0)","v":"STARS* 2 280,-Ft"},null,6158106780,"13mm",{"$f":"VLOOKUP(M168,Árlista!$B:$D,3,0)","v":"STARS* 1 840,-Ft"}]
[null,null,null,"Cikkszám / Típus / (Listaár) Nettó ár",6158106670,"3/4\"",{"$f":"VLOOKUP(E169,Árlista!$B:$D,3,0)","v":"STARS* 2 850,-Ft"},null,6158106730,"1/2\"",{"$f":"VLOOKUP(I169,Árlista!$B:$D,3,0)","v":"STARS* 3 060,-Ft"},null,6158106790,"16mm",{"$f":"VLOOKUP(M169,Árlista!$B:$D,3,0)","v":"STARS* 1 840,-Ft"}]
[null,null,null,null,null,null,null,null,null,null,null,null,6158106800,"19mm",{"$f":"VLOOKUP(M170,Árlista!$B:$D,3,0)","v":"2 400,-Ft "}]
[]
[]
[]
[]
[]
[]
[]
[]
[]
[null,null,null,null,null,null,"Szabályzóval"]
[]
[null,null,null,"Rodcraft","Gyorscsatlakozó kuplung KM",null,null,null,"CP-Atlas Copco AIRFLEX csatlakozó 360° BSP/NPT",null,null,null,"Átfolyás szabályozó"]
[null,null,null,"Típus","Csatlakozás: 1/4\"KM - 1/4\"BM",null,null,null,"Csatlakozás: KM - BM",null,null,null,"Csatlakozás: 1/4\"KM - 1/4\"BM"]
[null,null,null,"Cikkszám / Típus / (Listaár) Nettó ár",8951011859,"DG1",{"$f":"VLOOKUP(E184,Árlista!$B:$D,3,0)","v":"5 040,-Ft "},null,8940171566,"1/2\" BSP",{"$f":"VLOOKUP(I184,Árlista!$B:$D,3,0)","v":"31 950,-Ft "},null,8951011858,"AR1",{"$f":"VLOOKUP(M184,Árlista!$B:$D,3,0)","v":"5 320,-Ft "}]
[null,null,null,"Cikkszám / Típus / (Listaár) Nettó ár",8951011860,"DG1 R",{"$f":"VLOOKUP(E185,Árlista!$B:$D,3,0)","v":{"$error":"#N/A"}},null,8940171570,"3/8\" BSP",{"$f":"VLOOKUP(I185,Árlista!$B:$D,3,0)","v":"31 950,-Ft "}]
[null,null,null,"Cikkszám / Típus / (Listaár) Nettó ár",null,null,null,null,8940171568,"1/4\" BSP",{"$f":"VLOOKUP(I186,Árlista!$B:$D,3,0)","v":"24 860,-Ft "}]

{"sheet":"Abroncstöltők","index":18,"n_rows":62,"n_cols":16,"rows_kept":62,"cut":false,"hidden":false,"merged":[[60,12,60,15],[60,4,60,7],[60,8,60,11],[32,12,32,15],[32,4,32,7],[47,4,47,7],[32,8,32,11],[47,12,47,15],[33,4,33,7],[33,8,33,11],[33,12,33,15],[59,4,59,7],[59,8,59,11],[59,12,59,15],[47,8,47,11],[48,4,48,7],[48,12,48,15],[48,8,48,11],[15,4,15,7],[15,8,15,11],[15,12,15,15],[16,12,16,15],[16,8,16,11],[16,4,16,7]]}
["RODCRAFT",null,null,null,"Általános karbantartáshoz",null,null,null,null,null,"Ipari karbantartáshoz és gyártáshoz"]
["Árlista"]
["Megrendelő"]
["Fúrók"]
["Racsnis kulcsok"]
["Csavarbehajtók"]
["Sarokcsiszolók"]
["Légkulcsok"]
["Egyenes csiszolók"]
["Szalag és excenter csiszolók"]
["Polír- és fiber csiszolók"]
["Vésők, leverők …"]
["Szóró- és lefúvató pisztolyok"]
["Vágók, fűrészek, szegecshúzók"]
["Dugókulcsok"]
["Csatlakozók",null,null,"Rodcraft","Tömlőfújató pisztoly",null,null,null,"Tömlőfújató pisztoly",null,null,null,"Tömlőfújató pisztoly"]
["Abroncstöltők",null,null,"Típus","Kalibrált 0-10bar, 500mm tömlővel",null,null,null,"0-10bar, 400mm tömlővel",null,null,null,"0-10bar, 2m tömlővel"]
["ABAC Levegős szerszámok",null,null,"Cikkszám / Típus / (Listaár) Nettó ár",8951011019,"RF02G",{"$f":"VLOOKUP(E18,Árlista!$B:$D,3,0)","v":"TOPS* 15 970,-Ft"},null,8951211010,"AM8087",{"$f":"VLOOKUP(I18,Árlista!$B:$D,3,0)","v":"TOPS* 2 500,-Ft"},null,8951211011,"AM8088",{"$f":"VLOOKUP(M18,Árlista!$B:$D,3,0)","v":"TOPS* 2 750,-Ft"}]
["Garázsipari eszközök"]
["AKKUMULÁTOROS GÉPEK"]
["Tömlők, tömlődobok"]
["Szűrők, szabályozók"]
["Balancerek"]
[]
[{"$f":"Fúrók!$A25","v":"A feltüntett árak a 2020.02.01.-től "}]
[{"$f":"Fúrók!$A26","v":"érvényes listaárak."}]
[{"$f":"Fúrók!$A27","v":"* jelöléssel ellátott termékek a "}]
[{"$f":"Fúrók!$A28","v":"RC TOPS és CP STAR akciós"}]
[{"$f":"Fúrók!$A29","v":"kiadvány árai"}]
[{"$f":"Fúrók!$A30","v":"SP jelöléssel ellátott termékekre"}]
[{"$f":"Fúrók!$A31","v":"speciális viszonteladói árkézés"}]
[{"$f":"Fúrók!$A32","v":"vonatkozik. Az Extra árak"}]
[{"$f":"Fúrók!$A33","v":"a készlet erejéig, illetve"},null,null,"BIZTONSÁGI ACÉL RODCRAFT","Tömlőfújató pisztoly -Professzionális, digitális",null,null,null,"Tömlőfújató pisztoly -Professzionális kivitel",null,null,null,"Tömlőfújató pisztoly - ABAC"]
[{"$f":"Fúrók!$A34","v":"visszavonásig érvényesek."},null,null,"Típus","Kalibrált, hitelesíthető: 0-12bar, 500mm tömlővel",null,null,null,"Kalibrált, hitelesíthető: 0-11bar, 1500mm tömlővel",null,null,null,"0-10bar, 500mm tömlővel"]
[{"$f":"Fúrók!$A35","v":"Az árista a Techtomat Kft és"},null,null,"Cikkszám / Típus / (Listaár) Nettó ár",8951011020,"RFP03DG",{"$f":"VLOOKUP(E35,Árlista!$B:$D,3,0)","v":",-Ft "},null,8951012306,"RFP04G",{"$f":"VLOOKUP(I35,Árlista!$B:$D,3,0)","v":"TOPS* 36 260,-Ft"},null,8973005910,"ABFP",{"$f":"VLOOKUP(M35,Árlista!$B:$D,3,0)","v":"2 800,-Ft "}]
[{"$f":"Fúrók!$A36","v":"Kapitár Kft közös gondozásában"},null,null,null,null,null,null,null,null,null,null,null,null,null,null,","]
[{"$f":"Fúrók!$A37","v":" jelent meg."}]
[{"$f":"Fúrók!$A38","v":"Minden jog fenntartva."}]
[]
[{"$f":"Fúrók!$A40","v":"Bővebb információ:"}]
[{"$f":"Fúrók!$A41","v":"Szabó Attila"}]
[{"$f":"Fúrók!$A42","v":"30/201-4931 vagy 30/626-8687"}]
[{"$f":"Fúrók!$A43","v":"e-mail"}]
[{"$f":"Fúrók!$A44","v":"Tóth Tamás"}]
[{"$f":"Fúrók!$A45","v":"30/603-1596"}]
[]
[]
[null,null,null,"BIZTONSÁGI ACÉL RODCRAFT","AIRFIX NETZ Abroncstöltő",null,null,null,"AIRFIX Klassic Abroncstöltő",null,null,null,"AIRFIX WAND Abroncstöltő"]
[null,null,null,"Típus","Hordozható abroncstöltő, vizálló, ikerszárral",null,null,null,"Légaku 6l-es tartállyal, vizálló, ikerszárral",null,null,null,"Falraszerelhető, vizálló, 12m tömlő"]
[null,null,null,"Cikkszám / Típus / (Listaár) Nettó ár",800200052,"AFN",{"$f":"VLOOKUP(E50,Árlista!$B:$D,3,0)","v":"148 700,-Ft "},null,800200100,"AFK",{"$f":"VLOOKUP(I50,Árlista!$B:$D,3,0)","v":"186 300,-Ft "},null,800200053,"AFW",{"$f":"VLOOKUP(M50,Árlista!$B:$D,3,0)","v":"160 800,-Ft "}]
[]
[]
[]
[]
[]
[]
[]
[]
[]
[null,null,null,"BIZTONSÁGI ACÉL RODCRAFT","Csiptetős tömlőfúvató csatlakozó",null,null,null,"Szelep KIT 3db",null,null,null,"Digitális guminyomás mérő"]
[null,null,null,"Típus","Hordozható abroncstöltő, vizálló, ikerszárral",null,null,null,"Légaku 6l-es tartállyal, vizálló, ikerszárral",null,null,null,"Mérési tartomány: 0-10bar"]
[null,null,null,"Cikkszám / Típus / (Listaár) Nettó ár",8973005842,"AFN",{"$f":"VLOOKUP(E62,Árlista!$B:$D,3,0)","v":"360,-Ft "},null,8973005854,"AFK",{"$f":"VLOOKUP(I62,Árlista!$B:$D,3,0)","v":"540,-Ft "},null,8951011021,"RPD10",{"$f":"VLOOKUP(M62,Árlista!$B:$D,3,0)","v":"7 000,-Ft "}]

{"sheet":"Garázsipari eszközök","index":19,"n_rows":455,"n_cols":17,"rows_kept":455,"cut":false,"hidden":false,"merged":[[212,3,216,3],[212,4,216,7],[212,8,216,8],[212,9,216,11],[212,12,216,15],[240,9,240,11],[233,4,233,7],[233,9,233,11],[233,12,233,15],[234,3,238,3],[234,4,238,7],[234,8,238,8],[234,9,238,11],[234,12,238,15],[239,9,239,11],[217,9,217,11],[377,9,377,11],[389,4,389,7],[389,9,389,11],[389,12,389,15],[374,4,374,7],[375,4,376,7],[374,9,374,11],[211,4,211,7],[211,9,211,11],[211,12,211,15],[349,12,349,15],[350,4,360,7],[350,8,360,8],[350,12,360,15],[351,9,351,11],[352,9,352,11],[353,9,353,11],[354,9,354,11],[355,9,355,11],[356,9,356,11],[357,9,357,11],[358,9,358,11],[359,9,359,11],[360,9,360,11],[116,3,117,3],[116,4,117,7],[116,8,117,8],[116,9,117,11],[116,12,117,15],[133,3,137,3],[133,4,137,7],[133,8,137,8],[133,9,137,11],[133,12,137,15],[101,9,101,11],[138,9,138,11],[118,9,118,11],[132,4,132,7],[132,9,132,11],[132,12,132,15],[115,4,115,7],[115,9,115,11],[115,12,115,15],[81,9,81,11],[59,9,59,11],[76,4,76,7],[76,9,76,11],[76,12,76,15],[95,4,95,7],[95,9,95,11],[95,12,95,15],[96,3,100,3],[96,4,100,7],[96,8,100,8],[96,9,100,11],[96,12,100,15],[51,3,52,3],[51,4,52,7],[51,12,52,15],[51,8,52,8],[51,9,52,11],[53,9,53,11],[57,9,57,11],[77,3,80,3],[77,4,80,7],[77,8,80,8],[77,9,80,11],[77,12,80,15],[58,9,58,11],[60,9,60,11],[61,9,61,11],[62,9,62,11],[63,9,63,11],[29,4,29,7],[29,8,29,11],[29,12,29,15],[54,9,54,11],[55,9,55,11],[56,9,56,11],[50,4,50,7],[50,12,50,15],[50,9,50,11],[15,4,15,7],[15,8,15,11],[15,12,15,15],[16,4,16,7],[16,8,16,11],[16,12,16,15],[28,4,28,7],[28,8,28,11],[28,12,28,15],[166,9,166,11],[182,4,182,7],[182,9,182,11],[182,12,182,15],[183,4,192,7],[183,8,192,8],[165,9,165,11],[154,4,154,7],[154,9,154,11],[154,12,154,15],[155,4,164,7],[155,8,164,8],[155,12,164,15],[179,1,179,2],[183,9,187,11],[188,9,192,11],[183,12,187,15],[188,12,192,15],[193,9,193,11],[194,9,194,11],[180,1,180,2],[181,1,181,2],[183,1,183,2],[288,8,298,8],[288,12,298,15],[289,9,289,11],[290,9,290,11],[291,9,291,11],[292,9,292,11],[293,9,293,11],[294,9,294,11],[295,9,295,11],[296,9,296,11],[297,9,297,11],[298,9,298,11],[260,3,265,3],[260,9,262,11],[263,9,265,11],[259,4,259,7],[259,9,259,11],[259,12,259,15],[260,4,265,7],[260,8,265,8],[260,12,262,15],[263,12,265,15],[454,9,454,11],[451,4,451,7],[451,9,451,11],[317,12,317,15],[318,4,328,7],[318,8,328,8],[318,12,328,15],[319,9,319,11],[320,9,320,11],[321,9,321,11],[322,9,322,11],[323,9,323,11],[324,9,324,11],[317,4,317,7],[317,9,317,11],[325,9,325,11],[326,9,326,11],[327,9,327,11],[328,9,328,11],[374,12,374,15],[375,12,376,15],[390,4,391,7],[390,12,391,15],[392,9,392,11],[375,3,376,3],[390,3,391,3],[410,3,412,3],[425,3,427,3],[409,12,409,15],[410,9,412,11],[410,12,412,15],[266,9,266,11],[267,9,267,11],[299,9,299,11],[329,9,329,11],[413,9,413,11],[394,9,394,11],[409,9,409,11],[361,9,361,11],[349,4,349,7],[349,9,349,11],[375,9,376,11],[390,9,391,11],[268,9,268,11],[287,4,287,7],[287,9,287,11],[287,12,287,15],[288,4,298,7],[451,12,451,15],[452,3,453,3],[452,4,453,7],[452,9,453,11],[452,12,453,15],[424,4,424,7],[425,4,427,7],[393,9,393,11],[409,4,409,7],[410,4,412,7]]}
["RODCRAFT",null,null,null,"Általános karbantartáshoz",null,null,null,null,null,"Ipari karbantartáshoz és gyártáshoz"]
["Árlista"]
["Megrendelő"]
["Fúrók"]
["Racsnis kulcsok"]
["Csavarbehajtók"]
["Sarokcsiszolók"]
["Légkulcsok"]
["Egyenes csiszolók"]
["Szalag és excenter csiszolók"]
["Polír- és fiber csiszolók"]
["Vésők, leverők …"]
["Szóró- és lefúvató pisztolyok"]
["Vágók, fűrészek, szegecshúzók"]
["Dugókulcsok"]
["Csatlakozók",null,null,"Rodcraft","Nyitott olajtálca",null,null,null,"Nyitott olajtálca",null,null,null,"Zárt olajtálca"]
["Abroncstöltők",null,null,"Típus","8 literes",null,null,null,"16 literes",null,null,null,"17 literes"]
["ABAC Levegős szerszámok",null,null,"Cikkszám / Típus / (Listaár) Nettó ár",8951000057,"P2",{"$f":"VLOOKUP(E18,Árlista!$B:$D,3,0)","v":"TOPS* 4 560,-Ft"},null,8951000058,"P46",{"$f":"VLOOKUP(I18,Árlista!$B:$D,3,0)","v":"TOPS* 6 840,-Ft"},null,8951081032,"P4",{"$f":"VLOOKUP(M18,Árlista!$B:$D,3,0)","v":"TOPS* 10 840,-Ft"}]
["Garázsipari eszközök"]
["AKKUMULÁTOROS GÉPEK"]
["Tömlők, tömlődobok"]
["Szűrők, szabályozók"]
["Balancerek"]
[]
[{"$f":"Fúrók!$A25","v":"A feltüntett árak a 2020.02.01.-től "}]
[{"$f":"Fúrók!$A26","v":"érvényes listaárak."}]
[{"$f":"Fúrók!$A27","v":"* jelöléssel ellátott termékek a "}]
[{"$f":"Fúrók!$A28","v":"RC TOPS és CP STAR akciós"}]
[{"$f":"Fúrók!$A29","v":"kiadvány árai"},null,null,"Rodcraft","Mágneses tálca",null,null,null,"Nyitott olajtálca",null,null,null,"AUTÓÜVEG KISZEDŐ SZETT HUZALLAL"]
[{"$f":"Fúrók!$A30","v":"SP jelöléssel ellátott termékekre"},null,null,"Típus","Mágneses tálca csavaroknak, szegeknek. ",null,null,null,"Tapadókorong 40kg-os teherbírással, illeve SZETT",null,null,null,"50m kiszedő huzal 0,6x0,6 mm"]
[{"$f":"Fúrók!$A31","v":"speciális viszonteladói árkézés"},null,null,"Cikkszám / Típus / (Listaár) Nettó ár",8951011488,"D150 mm",{"$f":"VLOOKUP(E31,Árlista!$B:$D,3,0)","v":"2 240,-Ft "},null,8951089056,"STS70K",{"$f":"VLOOKUP(I31,Árlista!$B:$D,3,0)","v":"9 250,-Ft "},null,8951089055,"AGS185",{"$f":"VLOOKUP(M31,Árlista!$B:$D,3,0)","v":"50 390,-Ft "}]
[{"$f":"Fúrók!$A32","v":"vonatkozik. Az Extra árak"},null,null,"Cikkszám / Típus / (Listaár) Nettó ár",8951011489,"240x140",{"$f":"VLOOKUP(E32,Árlista!$B:$D,3,0)","v":"3 360,-Ft "},null,8951011087,"STS71K",{"$f":"VLOOKUP(I32,Árlista!$B:$D,3,0)","v":"44 270,-Ft "}]
[{"$f":"Fúrók!$A33","v":"a készlet erejéig, illetve"},null,null,"Cikkszám / Típus / (Listaár) Nettó ár",8951011490,"360x160",{"$f":"VLOOKUP(E33,Árlista!$B:$D,3,0)","v":"5 320,-Ft "}]
[{"$f":"Fúrók!$A34","v":"visszavonásig érvényesek."},null,null,"Cikkszám / Típus / (Listaár) Nettó ár",8951011491,"235x250"]
[{"$f":"Fúrók!$A35","v":"Az árista a Techtomat Kft és"}]
[{"$f":"Fúrók!$A36","v":"Kapitár Kft közös gondozásában"}]
[{"$f":"Fúrók!$A37","v":" jelent meg."}]
[{"$f":"Fúrók!$A38","v":"Minden jog fenntartva."}]
[]
[{"$f":"Fúrók!$A40","v":"Bővebb információ:"},null,null,null,null,null,null,null,null,null,null,null,null,null,null,"Menetes"]
[{"$f":"Fúrók!$A41","v":"Szabó Attila"}]
[{"$f":"Fúrók!$A42","v":"30/201-4931 vagy 30/626-8687"},null,null,null,null,null,null,null,null,null,null,null,null,null,null,null,"Fogasléces"]
[{"$f":"Fúrók!$A43","v":"e-mail"}]
[{"$f":"Fúrók!$A44","v":"Tóth Tamás"}]
[{"$f":"Fúrók!$A45","v":"30/603-1596"}]
[]
[]
[]
[]
[]
[null,null,null,"Rodcraft","Hidraulikus emelő",null,null,null,null,"Rodcraft",null,null,"Támasztóbak"]
[null,null,null,"Típus","Hegesztett szerkezet, teljesen tömített. Dupla dugattyús kivitel, extra széles alaplemez.",null,null,null,null,"Típus",null,null,"Hegesztett horganyzott acél csőszerkezet, különösen stabi."]
[]
[null,null,null,"Cikkszám / Típus / (Listaár) Nettó ár",8951000009,"MNG-2",{"$f":"VLOOKUP(E54,Árlista!$B:$D,3,0)","v":"TOPS* 10 840,-Ft"},null,null,"Cikkszám / Típus / Nettó ár (Listaár)",null,null,8951000096,"USB1,5",{"$f":"VLOOKUP(M54,Árlista!$B:$D,3,0)","v":"49 840,-Ft "}]
[null,null,null,"Cikkszám / Típus / (Listaár) Nettó ár",8951000010,"MNG-3",{"$f":"VLOOKUP(E55,Árlista!$B:$D,3,0)","v":"18 490,-Ft "},null,null,"Cikkszám / Típus / Nettó ár (Listaár)",null,null,8951000098,"USB3",{"$f":"VLOOKUP(M55,Árlista!$B:$D,3,0)","v":"63 100,-Ft "}]
[null,null,null,"Cikkszám / Típus / (Listaár) Nettó ár",8951000011,"MNG-5",{"$f":"VLOOKUP(E56,Árlista!$B:$D,3,0)","v":"TOPS* 15 400,-Ft"},null,null,"Cikkszám / Típus / Nettó ár (Listaár)",null,null,8951000099,"USB5",{"$f":"VLOOKUP(M56,Árlista!$B:$D,3,0)","v":"81 100,-Ft "}]
[null,null,null,"Cikkszám / Típus / (Listaár) Nettó ár",8951000012,"MNG-8",{"$f":"VLOOKUP(E57,Árlista!$B:$D,3,0)","v":"TOPS* 20 530,-Ft"},null,null,"Cikkszám / Típus / Nettó ár (Listaár)",null,null,8951000100,"USBN5",{"$f":"VLOOKUP(M57,Árlista!$B:$D,3,0)","v":",-Ft "}]
[null,null,null,"Cikkszám / Típus / (Listaár) Nettó ár",8951000013,"MNG-12",{"$f":"VLOOKUP(E58,Árlista!$B:$D,3,0)","v":"TOPS* 25 090,-Ft"},null,null,"Cikkszám / Típus / Nettó ár (Listaár)",null,null,8951000102,"USB8H",{"$f":"VLOOKUP(M58,Árlista!$B:$D,3,0)","v":"164 700,-Ft "}]
[null,null,null,"Cikkszám / Típus / (Listaár) Nettó ár",8951000014,"MNG-20",{"$f":"VLOOKUP(E59,Árlista!$B:$D,3,0)","v":"TOPS* 31 160,-Ft"},null,null,"Cikkszám / Típus / Nettó ár (Listaár)",null,null,8951000103,"USB12G",{"$f":"VLOOKUP(M59,Árlista!$B:$D,3,0)","v":",-Ft "}]
[null,null,null,"Cikkszám / Típus / (Listaár) Nettó ár",8951000015,"MNG-30",{"$f":"VLOOKUP(E60,Árlista!$B:$D,3,0)","v":"TOPS* 46 460,-Ft"},null,null,"Cikkszám / Típus / Nettó ár (Listaár)",null,null,8951000104,"USB12HG",{"$f":"VLOOKUP(M60,Árlista!$B:$D,3,0)","v":",-Ft "}]
[null,null,null,null,null,null,null,null,null,"Cikkszám / Típus / Nettó ár (Listaár)",null,null,8951000106,"USB16H",{"$f":"VLOOKUP(M61,Árlista!$B:$D,3,0)","v":",-Ft "}]
[null,null,null,null,null,null,null,null,null,"Cikkszám / Típus / Nettó ár (Listaár)",null,null,8951000027,"UBZ-2",{"$f":"VLOOKUP(M62,Árlista!$B:$D,3,0)","v":"TOPS* 11 180,-Ft"}]
[null,null,null,null,null,null,null,null,null,"Cikkszám / Típus / Nettó ár (Listaár)",null,null,8951000028,"UBZ-3",{"$f":"VLOOKUP(M63,Árlista!$B:$D,3,0)","v":"TOPS* 13 980,-Ft"}]
[null,null,null,null,null,null,null,null,null,"Cikkszám / Típus / Nettó ár (Listaár)",null,null,8951000029,"UBZ-5",{"$f":"VLOOKUP(M64,Árlista!$B:$D,3,0)","v":"TOPS* 25 160,-Ft"}]
[]
[]
[]
[]
[null,null,null,"Emelési tartomány: ",null,null,null,null,null,"Emelési tartomány: "]
[null,null,null,"80 - 375 mm",null,null,null,null,null,"85 - 460 mm"]
[]
[]
[]
[]
[]
[]
[null,null,null,"Rodcraft","ALUMÍNIUM KOCSIEMELŐ 1300 kg",null,null,null,null,"Rodcraft",null,null,"ALUMÍNIUM KOCSIEMELŐ 2000 kg"]
[null,null,null,"Típus","Szuper könnyű kocsiemelő (10,5 kg), elegendő a legtöbb személyautóhoz. Ideális műszaki segélyszolgálatnak, rallycsapatoknak és mobil szervizeknek.",null,null,null,null,"Típus",null,null,"Professzionális szuper könnyű kocsiemelő (20,5 kg) legfeljebb 2 tonnáig. Ideális a gyors szervizek számára. Kompakt kivitel fogantyúval. Gyors kettős hidraulikus szivattyú rendszerrel\n"]
[]
[]
[]
[null,null,null,"Cikkszám / Típus / (Listaár) Nettó ár",8951082025,"RH135",{"$f":"VLOOKUP(E82,Árlista!$B:$D,3,0)","v":"TOPS* 61 900,-Ft"},null,null,"Cikkszám / Típus / Nettó ár (Listaár)",null,null,8951000003,"RH201",{"$f":"VLOOKUP(M82,Árlista!$B:$D,3,0)","v":"TOPS* 109 100,-Ft"}]
[]
[]
[null,null,null,"Emelési tartomány: ",null,null,null,null,null,"Emelési tartomány: "]
[null,null,null,"135 - 800 mm",null,null,null,null,null,null,null,"80 -540 mm"]
[]
[]
[]
[]
[]
[]
[]
[]
[]
[null,null,null,"Rodcraft","MAGASEMELÉSŰ KOCSIEMELŐ 2 t",null,null,null,null,"Rodcraft",null,null,"HOSSZÍTOTT HIDRAULIKUS KOCSIEMELŐ 1,5 t"]
[null,null,null,"Típus","Kiemelkedően nagy max. magasság (800 mm), robusztus acél konstrukció, hosszú lábpedál a gyors üresemeléshez, finoman állítható leeresztő szelep, sima és csendes műanyag kerekek, zsírzószemek az összes szükséges helyen.",null,null,null,null,"Típus",null,null,"Mindentudó - sokoldalú, rendkívül stabil emelő minden garázs számára. Alacsony profil, jó emelési magasság, gyors emelés ergonómikus pedállal, robusztus hegesztett konstrukció szánkó funkcióval hogy csússzon egyenetlen felületeken is.\n"]
[]
[]
[]
[]
[null,null,null,"Cikkszám / Típus / (Listaár) Nettó ár",8951082024,"RH251",{"$f":"VLOOKUP(E102,Árlista!$B:$D,3,0)","v":"TOPS* 129 700,-Ft"},null,null,"Cikkszám / Típus / Nettó ár (Listaár)",null,null,8951000051,"RH151",{"$f":"VLOOKUP(M102,Árlista!$B:$D,3,0)","v":"TOPS* 100 200,-Ft"}]
[]
[]
[]
[]
[]
[null,null,null,"Emelési tartomány: ",null,null,null,null,null,"Emelési tartomány: "]
[null,null,null,"145 - 510 mm",null,null,null,null,null,null,null,"120 - 490 mm"]
[]
[]
[]
[]
[]
[]
[null,null,null,"Rodcraft","HIDRAULIKUS EMELŐ 3 t",null,null,null,null,"Rodcraft",null,null,"HIDRAULIKUS EMELŐ 2,25 t "]
[null,null,null,"Típus","Rövid kialakítás, gyors pedélszerkezettel.\nKétrészes kar, a könnyu szállítás érdekében. (38,2kg)",null,null,null,null,"Típus",null,null,"Rövid kialakítás, kétrészes kar, a könnyu szállítás érdekében. (37kg)\n"]
[]
[null,null,null,"Cikkszám / Típus / (Listaár) Nettó ár",8951082031,"RH290A",{"$f":"VLOOKUP(E119,Árlista!$B:$D,3,0)","v":"TOPS* 60 800,-Ft"},null,null,"Cikkszám / Típus / Nettó ár (Listaár)",null,null,8951082020,"RH225E",{"$f":"VLOOKUP(M119,Árlista!$B:$D,3,0)","v":"Kifutó, érdeklődj!"}]
[]
[]
[]
[]
[]
[null,null,null,"Emelési tartomány: ",null,null,null,null,null,"Emelési tartomány: "]
[null,null,null,"75 - 505 mm",null,null,null,null,null,null,null,"95 -550 mm"]
[]
[]
[]
[]
[]
[]
[null,null,null,"Rodcraft","HIDRAULIKUS KOCSIEMELŐ 2 t",null,null,null,null,"Rodcraft",null,null,"HIDRAULIKUS KOCSIEMELŐ 3 t"]
[null,null,null,"Típus","Mindentudó - sokoldalú, rendkívül stabil emelő minden garázs számára. Alacsony profil, jó emelési magasság, gyors emelés ergonómikus pedállal, robusztus hegesztett konstrukció szánkó funkcióval. Csendes működés, műanyag kerekek, csúszásvédő.  (40 kg)",null,null,null,null,"Típus",null,null,"Mindentudó - sokoldalú, rendkívül stabil emelő minden garázs számára. Alacsony profil, jó emelési magasság, gyors emelés ergonómikus pedállal, robusztus hegesztett konstrukció szánkó funkcióval. Csendes működés, műanyag kerekek, csúszásvédő.  (45 kg)"]
[]
[]
[]
[]
[null,null,null,"Cikkszám / Típus / (Listaár) Nettó ár",8951082026,"RH215",{"$f":"VLOOKUP(E139,Árlista!$B:$D,3,0)","v":"TOPS* 79 900,-Ft"},null,null,"Cikkszám / Típus / Nettó ár (Listaár)",null,null,8951000063,"RH315",{"$f":"VLOOKUP(M139,Árlista!$B:$D,3,0)","v":"TOPS* 147 600,-Ft"}]
[]
[]
[]
[]
[]
[]
[]
[]
[]
[]
[]
[]
[]
[]
[]
[null,null,null,"Rodcraft","HORDOZHATÓ HIDRO-PNEUMATIKUS JÁRMŰEMELŐ",null,null,null,null,"Rodcraft",null,null,"HIDRO-PNEUMATIKUS KOCSIEMELŐ"]
[null,null,null,"Típus: \n","Teleszkópos dugattyúval, minden pozícióban hatékony (alacsonyan és magasan is). A levegőcsatlakozó adapter is kényelmes magasságban található. A megfelelő adapterek mindkét oldalon tárolhatók. Az összehajtható fogantyú tépőzáras kötéssel rögzíthető, így könnyen hordozható. Egyszerű emelés és süllyesztés, joy-stickel állítható hidraulikus szivattyú. Kemény krómozott dugattyúrúd. Puha gumi kerekek.",null,null,null,null,"Típus                            LHH22",null,"LHH35","Teleszkópos munkahengerrel, azaz alacsony beállási magassággal és nagy emelési magassággal, hosszabító adapterrel. Emelés és süllyesztés a fogantyúnál lévő karral történik. Tartalmaz 4 adaptert 100 mm magasságig:\nAdapter 1: átmérő 68 mm, height 20 mm\nAdapter 2: átmérő 48, magasság 20 mm\nAdapter 3: átmérő 48, magasság 60 mm\nAdapter 4: átmérő 48, magasság 100 mm"]
[null,null,null,"teherbírás (C) [t]             30t / 50t / 80t",null,null,null,null,null,"teherbírás (C) [t]             20t",null,32]
[null,null,null,"A [mm]                            166",null,null,null,null,null,"A [mm]                            210",null,255]
[null,null,null,"B 1 [mm]                         238",null,null,null,null,null,"B 1 [mm]                         325",null,368]
[null,null,null,"B 2 [mm]                         320",null,null,null,null,null,"B 2 [mm]      "]
[null,null,null,"adapter (+X) [mm]         100",null,null,null,null,null,"adapter (+X) [mm]         100",null,100]
[null,null,null,"alváz hossza [mm]         470",null,null,null,null,null,"alváz hossza [mm]         430",null,610]
[null,null,null,"fogantyú hossza [mm]   964",null,null,null,null,null,"szélesség [mm]              205",null,250]
[null,null,null,"szélesség [mm]              270",null,null,null,null,null,"szélesség [mm]              270",null,54.5]
[null,null,null,"súly[kg]*                          28",null,null,null,null,null,"súly[kg]*                          28",null,54.5]
[null,null,null,"Cikkszám / Típus / (Listaár) Nettó ár",8951000269,"ATJ30-2",{"$f":"VLOOKUP(E166,Árlista!$B:$D,3,0)","v":"TOPS* 413 000,-Ft"},null,null,"Cikkszám / Típus / Nettó ár (Listaár)",null,null,8951084201,"LHH22",{"$f":"VLOOKUP(M166,Árlista!$B:$D,3,0)","v":"331 000,-Ft "}]
[null,null,null,"Cikkszám / Típus / (Listaár) Nettó ár",8951000270,"ATJ50-3",{"$f":"VLOOKUP(E167,Árlista!$B:$D,3,0)","v":"C #: 581 000,-Ft "},null,null,"Cikkszám / Típus / Nettó ár (Listaár)",null,null,8951084350,"LHH35",{"$f":"VLOOKUP(M167,Árlista!$B:$D,3,0)","v":"386 000,-Ft "}]
[null,null,null,"Cikkszám / Típus / (Listaár) Nettó ár",8951000272,"ATJ80-3",{"$f":"VLOOKUP(E168,Árlista!$B:$D,3,0)","v":"C #: 916 000,-Ft "}]
[]
[]
[]
[]
[]
[]
[]
[]
[]
[]
[]
[null,370]
[300,280]
[220,220]
[null,null,null,"Rodcraft","HORDOZHATÓ HIDRO-PNEUMATIKUS JÁRMŰEMELŐ",null,null,null,null,"Rodcraft"]
[155,155,null,"Típus:                     LHHT30-2   LHHT50-3\n\n","Teleszkópos munkahengerrel, azaz alacsony beállási- és nagy emelési magasság végett.\n3 bővítő a gyors magasságnöveléshez. Gyors emelés és süllyesztés joystick és a levegő-hidraulikus pumpa segítségével.\n(alacsony levegőfogyasztás max. 220 l/perc 7 bar-nál)",null,null,null,null,"RG600\nIDRAULIKUS\nJÁRMU-POZÍCIONÁLÓ ",null,null,"Járművek problémamentes, minden irányba történő\nmozgatásához. Egyszerűen lábpedállal működtethető -\nrobosztus hidraulika."]
[null,null,null,"teherbírás (C) [t]           30/15  50/25/10"]
[null,null,null,"A [mm]                            155        155"]
[null,null,null,"B 1 [mm]                         220        220"]
[null,null,null,"B 2 [mm]                         300        280"]
[null,null,null,"B 3 [mm]                         ---          370",null,null,null,null,null,"RHW1\nKERÉKSZERELŐ KOCSI\n",null,null,"Kézreálló segédeszköz nem csak teherjármű kerékcserénél. Állítható különféle kerékméretekhez. Görgőkkel felszerelt, így a\nkerék jól pozicionálható. Ergonómikusan állítható emelőkarhossz és biztonsági fogantyú."]
[null,null,null,"adapter (+X) [mm] 120/60/10  75/45/10"]
[null,null,null,"alváz hossza [mm]         465        660"]
[null,null,null,"szélesség [mm]              290        290"]
[null,null,null,"súly[kg]*                        41,9        57,1"]
[null,null,null,"Cikkszám / Típus / (Listaár) Nettó ár",8951000172,"LHHT3-20t",null,null,null,"Cikkszám / Típus / Nettó ár (Listaár)",null,null,8951089045,"RG600",{"$f":"VLOOKUP(M194,Árlista!$B:$D,3,0)","v":"TOPS* 55 700,-Ft"}]
[null,null,null,"Cikkszám / Típus / (Listaár) Nettó ár",8951000173,"LHHT5-30t",null,null,null,"Cikkszám / Típus / Nettó ár (Listaár)",null,null,8951089091,"RHW1",{"$f":"VLOOKUP(M195,Árlista!$B:$D,3,0)","v":"TOPS* 58 500,-Ft"}]
[]
[]
[]
[]
[]
[]
[]
[]
[]
[]
[]
[]
[]
[]
[]
[]
[null,null,null,"Rodcraft","Kerékpozicionáló - TRAKTOR",null,null,null,null,"Rodcraft",null,null,"Kerékpozicionáló - KAMION, TGK"]
[null,null,null,"Típus","Rodcraft RHW120 kerékpozíconáló traktor és nagyméretű munkagépek kerekeinek mozgatására, emeléséhez egészen 2,2m átmérőig és 1,2 tonnáig. ",null,null,null,null,"Típus",null,null,"RHW703 iker kerékpozicionáló szimpla és dupla kerekek mozgatásához, pozícionálásához. Az állítható kar alkalmas 545-1280mm átmérőjű kerekekhez. Gyors, egy emberes munkavégzést tesz lehetővé. Minden kamionszerviz számára nélkülözhetetlen! "]
[]
[]
[]
[]
[null,null,null,"Cikkszám / Típus / (Listaár) Nettó ár",8951000169,"RHW120",{"$f":"VLOOKUP(E218,Árlista!$B:$D,3,0)","v":"C #: 508 000,-Ft "},null,null,"Cikkszám / Típus / Nettó ár (Listaár)",null,null,8951000168,"RHW703",{"$f":"VLOOKUP(M218,Árlista!$B:$D,3,0)","v":"TOPS* 375 000,-Ft"}]
[]
[]
[]
[]
[]
[]
[]
[]
["Karosszéria kapocs: 101"]
[]
[]
[]
[]
[]
[]
[null,null,null,"Rodcraft","Pneumatikus KOCSIEMELŐ 2 t",null,null,null,null,"Rodcraft",null,null,"Pneumatikus KOCSIEMELŐ 2 t"]
["Karosszéria kapocs: 102",null,null,"Típus","Pneumatikus-hidraulikus ballonos emelő A rendkívül ellenálló és erős,  szöveterősítésű, 4 rétegű tömlők gondoskodnak a biztonságról és a hosszú élettartamról. Max. 19 kg súlyával az emelő rendkívül könnyű. Fogantyúról működtethető vezérlés.",null,null,null,null,"Típus",null,null,"Pneumatikus-hidraulikus ballonos emelő A rendkívül ellenálló és erős,  szöveterősítésű, 4 rétegű tömlők gondoskodnak a biztonságról és a hosszú élettartamról.  „L” verziók műanyag görgőkkel vannak felszerelve. Fogantyúról működtethető vezérlés."]
[]
[]
[]
[]
[null,null,null,"Cikkszám / Típus / (Listaár) Nettó ár",8951000177,"BC2-2S",{"$f":"VLOOKUP(E240,Árlista!$B:$D,3,0)","v":"TOPS* 180 900,-Ft"},null,null,"Cikkszám / Típus / Nettó ár (Listaár)",null,null,8951000178,"BC2-2L",{"$f":"VLOOKUP(M240,Árlista!$B:$D,3,0)","v":"TOPS* 180 900,-Ft"}]
[null,null,null,null,null,null,null,null,null,"Cikkszám / Típus / Nettó ár (Listaár)",null,null,8951000179,"BC2-3L",{"$f":"VLOOKUP(M241,Árlista!$B:$D,3,0)","v":"TOPS* 245 100,-Ft"}]
[]
["Karosszéria kapocs: 301"]
[]
[]
[]
[]
[]
[]
[]
[]
[]
[]
[]
[]
[]
[]
[]
[]
[null,null,null,"Rodcraft","KAROSSZÉRIA HUZATÓPAD, elfordítható",null,null,null,null,"Rodcraft",null,null,"HIDRAULIKUS KINYOMÓ KÉSZLET"]
[null,null,null,"Típus:\n\n","10 t hidraulikahengerrel, pumpával, kapcsokkal és húzató tartozékokkal.\nTovábbi kiegészítők is rendelhetők, pl. a PHP10 hidropneumatikus pumpa gyors munkák esetén,\nvagy egyéb karosszériakapcsaink.",null,null,null,null,"HIDRAULIKUS KINYOMÓ KÉSZLET\n4 és 10 tonnás kivitelben",null,null,"17 darabos készlet ami tartalmazza a 10 t-ás (370 - 520 mm) nyomó munkahengert, 500 kg-os feszítőéket, a 700 bar 0,5 l-es pumpát, görgős műanyag bőröndben."]
[]
[]
[null,null,null,null,null,null,null,null,null,"HIDRAULIKUS KINYOMÓ KÉSZLET \n20 tonna",null,null,"20-részes, csavarozott, 20 t (280 - 410 mm) munkahengerrel, 700 bar - 0,9 l (gyors / erős) kétfokozatú pumpával. Szállítás 2 fémdobozban."]
[]
[]
[null,null,null,"Cikkszám / Típus / (Listaár) Nettó ár",8951089054,"RSG100",{"$f":"VLOOKUP(E267,Árlista!$B:$D,3,0)","v":"C #: 572 000,-Ft "},null,null,"Cikkszám / Típus / Nettó ár (Listaár)",null,null,8951000124,"HRS04",{"$f":"VLOOKUP(M267,Árlista!$B:$D,3,0)","v":"TOPS* 100 800,-Ft"}]
[null,null,null,"Cikkszám / Típus / (Listaár) Nettó ár",8951011064,"101",{"$f":"VLOOKUP(E268,Árlista!$B:$D,3,0)","v":"24 930,-Ft "},null,null,"Cikkszám / Típus / Nettó ár (Listaár)",null,null,8951000125,"HRS10",{"$f":"VLOOKUP(M268,Árlista!$B:$D,3,0)","v":"TOPS* 166 700,-Ft"}]
[null,null,null,"Cikkszám / Típus / (Listaár) Nettó ár",8951011065,102,{"$f":"VLOOKUP(E269,Árlista!$B:$D,3,0)","v":"29 790,-Ft "},null,null,"Cikkszám / Típus / Nettó ár (Listaár)",null,null,8951000126,"HRS20",{"$f":"VLOOKUP(M269,Árlista!$B:$D,3,0)","v":"C #: 480 000,-Ft "}]
[null,null,null,"Cikkszám / Típus / (Listaár) Nettó ár",8951011069,"301",{"$f":"VLOOKUP(E270,Árlista!$B:$D,3,0)","v":"33 130,-Ft "}]
[]
[]
[]
[]
[]
[]
[]
[]
[]
[]
[]
[]
[]
[]
[]
[]
[]
[null,null,null,"Rodcraft","HIDRAULIKUS MŰHELYPRÉS 15 t",null,null,null,null,"Rodcraft",null,null,"HIDRAULIKUS MŰHELYPRÉS 20 t"]
[null,null,null,"Típus: \n","Professzionális műhelyprés stabil hegesztett vázzal és hidraulikus kézi szivattyúval, ergonomikusan kialakított fogantyúval. Alkalmas számos általános muhelyfelhasználásra például csapágyak benyomására. Két sebességű állítható szivattyú, könnyen olvasható nagy kijelzőjű nyomásmérő óra a precízséget szolgálva. A kisebb alkatrészekkel való munkához (pl.: perselyek és csapágyak) adunk kinyomó szettet amely tartalmaz funkciócsavarzatokat illetve különböző betéteket.",null,null,null,null,"Típus: \n",null,null,"Praktikus eszköz általános felhasználásra minden műhelybe, álló kialakítása miatt a nagy munkadarabok sem jelentenek gondot. Robosztus hegesztett vázzal, két sebességes hidraulikus szivattyúval, ergonómikus és erős karral. Alkalmas többféle járműipari felhasználásra (személy- és tehergépkocsikhoz is). Könnyű gombbal váltható váltószerkezettel, könnyen olvasható nagy kialakítású órával a precíz munka érdekében. A kisebb átmérőjű csapágyak nyomatásához is alkalmas kinyomó szettet adunk mellé tartozéknak, gyors tokmánnyal és kinyomólemezzel."]
[null,null,null,"teherbírás [t]                                     15t ",null,null,null,null,null,"teherbírás [t]                                     20t "]
[null,null,null,"Méret AxBxC [mm]            700x540x882",null,null,null,null,null,"Méret AxBxC [mm]            740x700x1772"]
[null,null,null,"E kereten belül szélesség [mm]       500",null,null,null,null,null,"E kereten belül szélesség [mm]       510"]
[null,null,null,"F távolság kereten belül [mm]        120",null,null,null,null,null,"F távolság kereten belül [mm]        132"]
[null,null,null,"F1 min. távolság asztal [mm]          157",null,null,null,null,null,"F1 min. távolság asztal [mm]          185"]
[null,null,null,"F2 max. távolság asztal [mm]         457",null,null,null,null,null,"F2 max. távolság asztal [mm]         1175"]
[null,null,null,"R hidraulikus löket [mm]                160",null,null,null,null,null,"R hidraulikus löket [mm]                 186"]
[null,null,null,"M változó oldalra [mm]                   ---",null,null,null,null,null,"M változó oldalra [mm]                   ---"]
[null,null,null,"olaj térfogata [l]                              0,6\n",null,null,null,null,null,"olaj térfogata [l]                              0,95\n"]
[null,null,null,"súly[kg]*                                        75,5",null,null,null,null,null,"súly[kg]*                                         105"]
[null,null,null,"Cikkszám / Típus / (Listaár) Nettó ár",8951000064,"WP15",{"$f":"VLOOKUP(E300,Árlista!$B:$D,3,0)","v":"318 000,-Ft "},null,null,"Cikkszám / Típus / Nettó ár (Listaár)",null,null,8951000065,"WP20S",{"$f":"VLOOKUP(M300,Árlista!$B:$D,3,0)","v":"TOPS* 241 700,-Ft"}]
[]
[]
[]
[]
[]
[]
[]
[]
[]
[]
[]
[]
[]
[]
[]
[]
[]
[null,null,null,"Rodcraft","HIDRAULIKUS MŰHELYPRÉS 30 t",null,null,null,null,"Rodcraft",null,null,"HIDRAULIKUS MŰHELYPRÉS 50 t"]
[null,null,null,"Típus: \n","Kialakítása miatt a nagy munkadarabok sem jelentenek gondot. Robosztus hegesztett vázzal, két sebességes hidraulikus szivattyúval, ergonómikus és erős karral. Alkalmas többféle járműipari felhasználásra. Könnyű kezelhető váltószerkezettel, könnyen olvasható nagy kialakítású órával a precíz munka érdekében. Extra széles kialakításának és csörlős nyomószerkezetének köszönhetően a legnagyobb munkák is könnyen elvégezhetők vele, akár egy kezelővel. A kisebb átmérőjű csapágyak nyomatásához is alkalmas bővített kinyomó szettet adunk mellé tartozéknak.",null,null,null,null,"Típus: \n",null,null,"Kialakítása miatt a nagy munkadarabok sem jelentenek gondot. Robosztus hegesztett vázzal, két sebességes hidraulikus szivattyúval, ergonómikus és erős karral. Alkalmas többféle járműipari felhasználásra. Könnyű kezelhető váltószerkezettel, könnyen olvasható nagy kialakítású órával a precíz munka érdekében. Extra széles kialakításának és csörlős nyomószerkezetének köszönhetően a legnagyobb munkák is könnyen elvégezhetők vele, akár egy kezelővel. A kisebb átmérőjű csapágyak nyomatásához is alkalmas bővített kinyomó szettet adunk mellé tartozéknak."]
[null,null,null,"teherbírás [t]                                     30t ",null,null,null,null,null,"teherbírás [t]                                        50t "]
[null,null,null,"Méret AxBxC [mm]        795x7000x1772",null,null,null,null,null,"Méret AxBxC [mm]         1030x800x1830"]
[null,null,null,"E kereten belül szélesség [mm]       535",null,null,null,null,null,"E kereten belül szélesség [mm]         730"]
[null,null,null,"F távolság kereten belül [mm]        140",null,null,null,null,null,"F távolság kereten belül [mm]           207"]
[null,null,null,"F1 min. távolság asztal [mm]          151",null,null,null,null,null,"F1 min. távolság asztal [mm]              68"]
[null,null,null,"F2 max. távolság asztal [mm]       1031",null,null,null,null,null,"F2 max. távolság asztal [mm]         1048"]
[null,null,null,"R hidraulikus löket [mm]                 160",null,null,null,null,null,"R hidraulikus löket [mm]                   200"]
[null,null,null,"M változó oldalra [mm]                   200",null,null,null,null,null,"M változó oldalra [mm]                     245"]
[null,null,null,"olaj térfogata [l]                                1,1\n",null,null,null,null,null,"olaj térfogata [l]                                    2,5\n"]
[null,null,null,"súly[kg]*                                        166,1",null,null,null,null,null,"súly[kg]*                                            298"]
[null,null,null,"Cikkszám / Típus / (Listaár) Nettó ár",8951000071,"WP30P",{"$f":"VLOOKUP(E330,Árlista!$B:$D,3,0)","v":"C #: 421 000,-Ft "},null,null,"Cikkszám / Típus / Nettó ár (Listaár)",null,null,8951000072,"WP50P",{"$f":"VLOOKUP(M330,Árlista!$B:$D,3,0)","v":"C #: 639 000,-Ft "}]
[]
[]
[]
[]
[]
[]
[]
[]
[]
[]
[]
[]
[]
[]
[]
[]
[]
[]
[]
[null,null,null,"Rodcraft","HIDRAULIKUS MŰHELYPRÉS 75 t",null,null,null,null,"Rodcraft",null,null,"HIDRAULIKUS MŰHELYPRÉS 100 t"]
[null,null,null,"Típus: \n","Kialakítása miatt a nagy munkadarabok sem jelentenek gondot. Robosztus hegesztett vázzal, két sebességes hidraulikus szivattyúval, ergonómikus és erős karral. Alkalmas többféle járműipari felhasználásra. Könnyű kezelhető váltószerkezettel, könnyen olvasható nagy kialakítású órával a precíz munka érdekében. Extra széles kialakításának és csörlős nyomószerkezetének köszönhetően a legnagyobb munkák is könnyen elvégezhetők vele, akár egy kezelővel. A kisebb átmérőjű csapágyak nyomatásához is alkalmas bővített kinyomó szettet adunk mellé tartozéknak.",null,null,null,null,"Típus: \n",null,null,"Kialakítása miatt a nagy munkadarabok sem jelentenek gondot. Robosztus hegesztett vázzal, két sebességes hidraulikus szivattyúval, ergonómikus és erős karral. Alkalmas többféle járműipari felhasználásra. Könnyű kezelhető váltószerkezettel, könnyen olvasható nagy kialakítású órával a precíz munka érdekében. Extra széles kialakításának és csörlős nyomószerkezetének köszönhetően a legnagyobb munkák is könnyen elvégezhetők vele, akár egy kezelővel. A kisebb átmérőjű csapágyak nyomatásához is alkalmas bővített kinyomó szettet adunk mellé tartozéknak."]
[null,null,null,"teherbírás [t]                                     30t ",null,null,null,null,null,"teherbírás [t]                                        50t "]
[null,null,null,"Méret AxBxC [mm]        795x7000x1772",null,null,null,null,null,"Méret AxBxC [mm]         1030x800x1830"]
[null,null,null,"E kereten belül szélesség [mm]       535",null,null,null,null,null,"E kereten belül szélesség [mm]         730"]
[null,null,null,"F távolság kereten belül [mm]        140",null,null,null,null,null,"F távolság kereten belül [mm]           207"]
[null,null,null,"F1 min. távolság asztal [mm]          151",null,null,null,null,null,"F1 min. távolság asztal [mm]              68"]
[null,null,null,"F2 max. távolság asztal [mm]       1031",null,null,null,null,null,"F2 max. távolság asztal [mm]         1048"]
[null,null,null,"R hidraulikus löket [mm]                 160",null,null,null,null,null,"R hidraulikus löket [mm]                   200"]
[null,null,null,"M változó oldalra [mm]                   200",null,null,null,null,null,"M változó oldalra [mm]                     245"]
[null,null,null,"olaj térfogata [l]                                1,1\n",null,null,null,null,null,"olaj térfogata [l]                                    2,5\n"]
[null,null,null,"súly[kg]*                                        166,1",null,null,null,null,null,"súly[kg]*                                            298"]
[null,null,null,"Cikkszám / Típus / (Listaár) Nettó ár",8951000170,"WP75P",{"$f":"VLOOKUP(E362,Árlista!$B:$D,3,0)","v":"C #: 1 076 000,-Ft "},null,null,"Cikkszám / Típus / Nettó ár (Listaár)",null,null,8951000171,"WP100P",{"$f":"VLOOKUP(M362,Árlista!$B:$D,3,0)","v":"C #: 1 528 000,-Ft "}]
[]
[]
[]
[]
[]
[]
[]
[]
[]
[]
[]
[]
[null,null,null,"Rodcraft","Kondenzátoros bikázó",null,null,null,null,"Rodcraft",null,null,"Kondenzátoros bikázó"]
[null,null,null,"Típus: RC250\n","Kapacitás 250F Indító áramerősség 1300A 12V\n1 millió töltési ciklus, 5 év garancia",null,null,null,null,"Típus: RC500",null,null,"Kapacitás 500F Indító áramerősség 1600A 12V\n1 millió töltési ciklus, 5 év garancia"]
[]
[null,null,null,"Cikkszám / Típus / (Listaár) Nettó ár",8956001300,"RC250",{"$f":"VLOOKUP(E378,Árlista!$B:$D,3,0)","v":"TOPS* 255 000,-Ft"},null,null,"Cikkszám / Típus / Nettó ár (Listaár)",null,null,8956001301,"TK05",{"$f":"VLOOKUP(M378,Árlista!$B:$D,3,0)","v":"TOPS* 277 200,-Ft"}]
[]
[]
[]
[]
[]
[]
[]
[]
[]
[]
[]
[null,null,null,"Rodcraft","MŰHELYDARU, összecsukható",null,null,null,null,"Rodcraft",null,null,"HIDRAULIKUS VÁLTÓEMELŐ"]
[null,null,null,"Típus: \n","Biztonságos emelő kihúzható teherkarral. Sűlyeszett\nműanyag kerekekkel (olaj- és saválló).",null,null,null,null,"Típus",null,null,"Rozsdásodás ellen krómozott dugattyúrúddal és precíz, kézi működtetésű leeresztőszeleppel. "]
[]
[null,null,null,null,null,null,null,null,null,"Cikkszám / Típus / Nettó ár (Listaár)",null,null,8951000131,"GH300",{"$f":"VLOOKUP(M393,Árlista!$B:$D,3,0)","v":"TOPS* 106 300,-Ft"}]
[null,null,null,"Cikkszám / Típus / (Listaár) Nettó ár",8951080101,"WK102K",{"$f":"VLOOKUP(E394,Árlista!$B:$D,3,0)","v":",-Ft "},null,null,"Cikkszám / Típus / Nettó ár (Listaár)",null,null,8951000132,"GH500",{"$f":"VLOOKUP(M394,Árlista!$B:$D,3,0)","v":"TOPS* 118 000,-Ft"}]
[null,null,null,"Cikkszám / Típus / (Listaár) Nettó ár",8951000166,"WK1000",{"$f":"VLOOKUP(E395,Árlista!$B:$D,3,0)","v":"TOPS* 187 300,-Ft"},null,null,null,null,null,8951000133,"GH1000",{"$f":"VLOOKUP(M395,Árlista!$B:$D,3,0)","v":"TOPS* 153 800,-Ft"}]
[]
[]
[]
[]
[]
[]
[]
[]
[]
[]
[]
[]
[]
[]
[null,null,null,"Rodcraft","GÖRGŐS 2 FUNKCIÓS és MŰANYAG ALÁFEKVŐ",null,null,null,null,"Rodcraft"]
[null,null,null,"Típus: \n","Nagyon tartós, megerősített kivitel, 7 gumikerékkel (olaj- és saválló). Állítható fejtámasz. Max terhelhetőség: 90 kg",null,null,null,null,"Típus",null,null,"500 kg teherbírású motorszerelő híd. A támasztólábak 730-1668 mm szélességben állíthatóak."]
[]
[]
[null,null,null,"Cikkszám / Típus / (Listaár) Nettó ár",8951089021,"RSF01",{"$f":"VLOOKUP(E414,Árlista!$B:$D,3,0)","v":"TOPS* 28 330,-Ft"},null,null,"Cikkszám / Típus / Nettó ár (Listaár)",null,null,8951000176,"MGM2",{"$f":"VLOOKUP(M414,Árlista!$B:$D,3,0)","v":"TOPS* 71 800,-Ft"}]
[null,null,null,"Cikkszám / Típus / (Listaár) Nettó ár",8951089020,"RSF02",{"$f":"VLOOKUP(E415,Árlista!$B:$D,3,0)","v":"30 900,-Ft "}]
[]
[]
[]
[]
[]
[]
[]
[]
[]
[null,null,null,"Rodcraft / Chicago Pneumatic","Nyomatékkulcs"]
[null,null,null,"Típus","Pontosság: 4% (ISO6789/2003) Tarós pontosság: 25000 cikl. Alu markolat, nagyon finom, pontos beállítás. Robosztus, erős fejkialakítás."]
[]
[]
[null,null,null,"Cikkszám / Típus / Nettó ár (Listaár)",8951000091,"1/4\"",{"$f":"VLOOKUP(E429,Árlista!$B:$D,3,0)","v":"67 500,-Ft "}]
[null,null,null,"Cikkszám / Típus / Nettó ár (Listaár)",8951000092,"3/8\"",{"$f":"VLOOKUP(E430,Árlista!$B:$D,3,0)","v":"TOPS* 41 360,-Ft"}]
[null,null,null,"Cikkszám / Típus / Nettó ár (Listaár)",8951000093,"1/2\"",{"$f":"VLOOKUP(E431,Árlista!$B:$D,3,0)","v":"TOPS* 41 360,-Ft"}]
[null,null,null,"Cikkszám / Típus / Nettó ár (Listaár)",8951000094,"3/4\"",{"$f":"VLOOKUP(E432,Árlista!$B:$D,3,0)","v":"TOPS* 153 800,-Ft"}]
[null,null,null,"Cikkszám / Típus / Nettó ár (Listaár)",8951000095,"1\"",{"$f":"VLOOKUP(E433,Árlista!$B:$D,3,0)","v":"TOPS* 177 300,-Ft"}]
[]
[]
[]
[]
[]
[]
[]
[]
[]
[]
[]
[]
[]
[]
[]
[]
[]
[]
[null,null,null,"Rodcraft","LED 30",null,null,null,null,"Rodcraft",null,null,"FÁRADTOLAJ GYŰJTO KÉSZÜLÉK"]
[null,null,null,"Típus: \n","Tölthető LED lámpa. \nLUX@50 2250     Lumens 55",null,null,null,null,null,null,null,"Triszta, gyors olajcseréhez. Állítható magasság, 1250-1900mm  Max 80l. Sűrített levegős leeresztő."]
[]
[null,null,null,"Cikkszám / Típus / (Listaár) Nettó ár",8951000120,"LED30",{"$f":"VLOOKUP(E455,Árlista!$B:$D,3,0)","v":",-Ft "},null,null,"Cikkszám / Típus / Nettó ár (Listaár)",null,null,8951081013,"TK05",{"$f":"VLOOKUP(M455,Árlista!$B:$D,3,0)","v":",-Ft "}]

{"sheet":"Akkumulátoros gépek","index":20,"n_rows":174,"n_cols":17,"rows_kept":174,"cut":false,"hidden":false,"merged":[[89,9,90,9],[89,3,90,5],[89,6,90,6],[91,6,92,6],[69,8,72,8],[91,3,92,5],[91,7,92,7],[89,7,90,7],[89,8,90,8],[91,8,92,8],[91,14,92,14],[93,9,94,9],[91,17,92,17],[93,17,94,17],[93,15,94,15],[91,16,92,16],[93,16,94,16],[93,14,94,14],[91,15,92,15],[91,9,92,9],[93,8,94,8],[91,11,92,13],[93,11,94,13],[93,3,94,5],[93,6,94,6],[93,7,94,7],[130,3,131,5],[130,6,131,6],[130,7,131,7],[130,8,131,8],[130,9,131,9],[130,11,131,13],[130,14,131,14],[130,15,131,15],[130,16,131,16],[130,17,131,17],[167,11,168,13],[167,14,168,14],[167,15,168,15],[167,16,168,16],[167,17,168,17],[165,11,166,13],[165,14,166,14],[165,15,166,15],[165,16,166,16],[165,17,166,17],[173,11,174,13],[173,14,174,14],[173,15,174,15],[173,16,174,16],[173,17,174,17],[171,11,172,13],[171,14,172,14],[171,15,172,15],[171,16,172,16],[171,17,172,17],[173,3,174,5],[173,6,174,6],[173,7,174,7],[173,8,174,8],[173,9,174,9],[171,3,172,5],[171,6,172,6],[171,7,172,7],[171,8,172,8],[171,9,172,9],[47,9,48,9],[49,3,50,5],[49,6,50,6],[49,7,50,7],[49,8,50,8],[49,9,50,9],[47,3,48,5],[47,6,48,6],[47,7,48,7],[47,8,48,8],[49,11,50,13],[49,14,50,14],[49,15,50,15],[49,16,50,16],[49,17,50,17],[47,11,48,13],[47,14,48,14],[47,15,48,15],[47,16,48,16],[47,17,48,17]]}
["RODCRAFT",null,null,"Általános karbantartáshoz",null,null,null,"Ipari karbantartáshoz és gyártáshoz",null,null,null,null,"Ipari körülményekhez -sorozatgyártás"]
["Árlista"]
["Megrendelő"]
["Fúrók"]
["Racsnis kulcsok"]
["Csavarbehajtók"]
["Sarokcsiszolók"]
["Légkulcsok"]
["Egyenes csiszolók"]
["Szalag és excenter csiszolók"]
["Polír- és fiber csiszolók"]
["Vésők, leverők …"]
["Szóró- és lefúvató pisztolyok"]
["Vágók, fűrészek, szegecshúzók"]
["Dugókulcsok"]
["Csatlakozók"]
["Abroncstöltők"]
["ABAC Levegős szerszámok"]
["Garázsipari eszközök"]
["AKKUMULÁTOROS GÉPEK"]
["Tömlők, tömlődobok"]
["Szűrők, szabályozók"]
["Balancerek"]
[]
[{"$f":"Fúrók!$A25","v":"A feltüntett árak a 2020.02.01.-től "}]
[{"$f":"Fúrók!$A26","v":"érvényes listaárak."}]
[{"$f":"Fúrók!$A27","v":"* jelöléssel ellátott termékek a "}]
[{"$f":"Fúrók!$A28","v":"RC TOPS és CP STAR akciós"}]
[{"$f":"Fúrók!$A29","v":"kiadvány árai"}]
[{"$f":"Fúrók!$A30","v":"SP jelöléssel ellátott termékekre"}]
[{"$f":"Fúrók!$A31","v":"speciális viszonteladói árkézés"}]
[{"$f":"Fúrók!$A32","v":"vonatkozik. Az Extra árak"}]
[{"$f":"Fúrók!$A33","v":"a készlet erejéig, illetve"}]
[{"$f":"Fúrók!$A34","v":"visszavonásig érvényesek."}]
[{"$f":"Fúrók!$A35","v":"Az árista a Techtomat Kft és"}]
[{"$f":"Fúrók!$A36","v":"Kapitár Kft közös gondozásában"}]
[{"$f":"Fúrók!$A37","v":" jelent meg."}]
[{"$f":"Fúrók!$A38","v":"Minden jog fenntartva."}]
[]
[{"$f":"Fúrók!$A40","v":"Bővebb információ:"}]
[{"$f":"Fúrók!$A41","v":"Szabó Attila"}]
[{"$f":"Fúrók!$A42","v":"30/201-4931 vagy 30/626-8687"}]
[{"$f":"Fúrók!$A43","v":"e-mail"}]
[{"$f":"Fúrók!$A44","v":"Tóth Tamás"}]
[{"$f":"Fúrók!$A45","v":"30/603-1596"}]
[]
[null,null,null,"Chicago Pneumatic",null,null,"CP8848",null,null,null,null,"Chicago Pneumatic",null,null,"CP8848"]
[null,null,null,"Táskában gép + 2 akku + töltő",null,null,8941088490,"CP8849 4Ah ",{"$f":"VLOOKUP(G48,Árlista!$B:$D,3,0)","v":"STARS* 235 000,-Ft"},null,null,"Táskában gép + 2 akku + töltő",null,null,8941083504,null,{"$f":"VLOOKUP(O48,Árlista!$B:$D,3,0)","v":"STARS* 167 800,-Ft"}]
[]
[null,null,null,"Táskában gép + 2 akku + töltő",null,null,8941088492,"CP8848 6Ah",{"$f":"VLOOKUP(G50,Árlista!$B:$D,3,0)","v":"STARS* 254 000,-Ft"},null,null,"Táskában gép + 2 akku + töltő",null,null,8941083506,null,{"$f":"VLOOKUP(O50,Árlista!$B:$D,3,0)","v":"STARS* 188 700,-Ft"}]
[]
[]
[]
[]
[]
[]
[]
[]
[]
[]
[]
[]
[]
[]
[]
[]
[]
[]
[]
[]
[]
[]
[]
[]
[]
[]
[]
[]
[]
[]
[]
[]
[]
[]
[]
[]
[]
[]
[null,null,null,"Chicago Pneumatic",null,null,"CP8848"]
[null,null,null,"Kofferben gép + 2 akku + töltő",null,null,8941088484,"CP8848 Pack \n6Ah"]
[null,null,null,null,null,null,null,null,null,null,null,"Chicago Pneumatic",null,null,"CP8828"]
[null,null,null,"Kofferben gép + 2 akku + töltő",null,null,8941088480,"CP8848 Pack \n4Ah",null,null,null,"Nettó ár:    Kofferben gép + 2 akku + töltő",null,null,8941088280,"CP8828 Pack",{"$f":"VLOOKUP(O92,Árlista!$B:$D,3,0)","v":"STARS* 147 100,-Ft"}]
[]
[]
[]
[]
[]
[]
[]
[]
[]
[]
[]
[]
[]
[]
[]
[]
[]
[]
[]
[]
[]
[]
[]
[]
[]
[]
[]
[]
[]
[]
[]
[]
[]
[]
[]
[]
[]
[null,null,null,"Chicago Pneumatic",null,null,"CP8818",null,null,null,null,"Chicago Pneumatic",null,null,"CP8548"]
[null,null,null,"Nettó ár:    Kofferben gép + 2 akku + töltő",null,null,8941088180,"CP8818 Pack",{"$f":"VLOOKUP(G131,Árlista!$B:$D,3,0)","v":"STARS* 69 200,-Ft"},null,null,"Nettó ár:    Kofferben gép + 2 akku + töltő",null,null,8941085480,"CP8548 Pack",{"$f":"VLOOKUP(O131,Árlista!$B:$D,3,0)","v":"STARS* 152 700,-Ft"}]
[]
[]
[]
[]
[]
[]
[]
[]
[]
[]
[]
[]
[]
[]
[]
[]
[]
[]
[]
[]
[]
[]
[]
[]
[]
[]
[]
[]
[]
[]
[]
[]
[]
[null,null,null,null,null,null,null,null,null,null,null,"Chicago Pneumatic",null,null,"Akkumulátor 12V-1,5Ah és töltő"]
[null,null,null,null,null,null,null,null,null,null,null,"Cikkszám / Típus / (Listaár) Nettó ár",null,null,8940172263,"Akku",{"$f":"VLOOKUP(O166,Árlista!$B:$D,3,0)","v":"17 930,-Ft "}]
[]
[null,null,null,null,null,null,null,null,null,null,null,"Cikkszám / Típus / (Listaár) Nettó ár",null,null,8940172259,"Töltő",{"$f":"VLOOKUP(O168,Árlista!$B:$D,3,0)","v":"26 620,-Ft "}]
[]
[]
[null,null,null,"Chicago Pneumatic",null,null,"CP8528",null,null,null,null,"Chicago Pneumatic",null,null,"Akkumulátor 20V-4Ah és töltő"]
[null,null,null,"Nettó ár:    Csak a gép, akksi nélkül",null,null,8941085280,"CP8528 Pack",{"$f":"VLOOKUP(G172,Árlista!$B:$D,3,0)","v":"STARS* 72 600,-Ft"},null,null,"Cikkszám / Típus / (Listaár) Nettó ár",null,null,8940172261,"Akku",{"$f":"VLOOKUP(O172,Árlista!$B:$D,3,0)","v":"60 600,-Ft "}]
[]
[null,null,null,null,null,null,null,null,null,null,null,"Cikkszám / Típus / (Listaár) Nettó ár",null,null,8940172262,"Töltő",{"$f":"VLOOKUP(O174,Árlista!$B:$D,3,0)","v":"25 490,-Ft "}]

{"sheet":"Tömlők, tömlődobok","index":21,"n_rows":62,"n_cols":19,"rows_kept":62,"cut":false,"hidden":false,"merged":[[58,5,58,8],[58,9,58,12],[58,13,58,16],[54,5,54,8],[54,9,54,12],[54,13,54,16],[57,5,57,8],[57,9,57,12],[57,13,57,16],[53,5,53,8],[53,9,53,12],[53,13,53,16],[17,5,17,8],[17,9,17,12],[17,13,17,16],[18,5,18,8],[18,9,18,12],[18,13,18,16],[32,5,32,7],[32,8,32,11],[32,12,32,16]]}
["RODCRAFT",null,null,null,null,"Általános karbantartáshoz",null,null,null,null,null,"Ipari karbantartáshoz és gyártáshoz"]
["Árlista"]
["Megrendelő"]
["Fúrók"]
["Racsnis kulcsok"]
["Csavarbehajtók"]
["Sarokcsiszolók"]
["Légkulcsok"]
["Egyenes csiszolók"]
["Szalag és excenter csiszolók"]
["Polír- és fiber csiszolók"]
["Vésők, leverők …"]
["Szóró- és lefúvató pisztolyok"]
["Vágók, fűrészek, szegecshúzók"]
["Dugókulcsok"]
["Csatlakozók"]
["Abroncstöltők"]
["ABAC Levegős szerszámok",null,null,null,"Rodcraft","RC-PE spiráltömlő",null,null,null,"RC-PUR spiráltömlő",null,null,null,"RC-PUR spiráltömlő"]
["Garázsipari eszközök",null,null,null,"Típus","Minőségi PE spiráltömlő 8x10 mm acél kuplunggal",null,null,null,"Minőségi PUR spiráltömlő 8x12 mm acél kuplunggal",null,null,null,"PUR spiráltömlő elforgó csatlakozóval"]
["AKKUMULÁTOROS GÉPEK",null,null,null,"Cikkszám / Típus / (Listaár) Nettó ár",8951011831,"6 m",{"$f":"VLOOKUP(F20,Árlista!$B:$D,3,0)","v":"20 450,-Ft "},null,8951011842,"4 m",{"$f":"VLOOKUP(J20,Árlista!$B:$D,3,0)","v":"21 850,-Ft "},null,8951011847,"    8x12  4m",{"$f":"VLOOKUP(N20,Árlista!$B:$D,3,0)","v":"16 250,-Ft "}]
["Tömlők, tömlődobok",null,null,null,"Cikkszám / Típus / (Listaár) Nettó ár",8951011833,"8 m",{"$f":"VLOOKUP(F21,Árlista!$B:$D,3,0)","v":"25 770,-Ft "},null,8951011843,"6 m",{"$f":"VLOOKUP(J21,Árlista!$B:$D,3,0)","v":"24 370,-Ft "},null,8951011845,"6,5x10  6m",{"$f":"VLOOKUP(N21,Árlista!$B:$D,3,0)","v":"15 410,-Ft "}]
["Szűrők, szabályozók",null,null,null,"Cikkszám / Típus / (Listaár) Nettó ár",8951011835,"10 m",{"$f":"VLOOKUP(F22,Árlista!$B:$D,3,0)","v":"29 230,-Ft "},null,8951011844,"8 m",{"$f":"VLOOKUP(J22,Árlista!$B:$D,3,0)","v":"TOPS* 22 240,-Ft"},null,8951011846,"    8x10  6m",{"$f":"VLOOKUP(N22,Árlista!$B:$D,3,0)","v":"19 330,-Ft "}]
["Balancerek",null,null,null,null,null,null,null,null,null,null,null,null,8951011848,"    8x12  8m",{"$f":"VLOOKUP(N23,Árlista!$B:$D,3,0)","v":"22 970,-Ft "}]
[]
[{"$f":"Fúrók!$A25","v":"A feltüntett árak a 2020.02.01.-től "}]
[{"$f":"Fúrók!$A26","v":"érvényes listaárak."}]
[{"$f":"Fúrók!$A27","v":"* jelöléssel ellátott termékek a "}]
[{"$f":"Fúrók!$A28","v":"RC TOPS és CP STAR akciós"}]
[{"$f":"Fúrók!$A29","v":"kiadvány árai"}]
[{"$f":"Fúrók!$A30","v":"SP jelöléssel ellátott termékekre"}]
[{"$f":"Fúrók!$A31","v":"speciális viszonteladói árkézés"}]
[{"$f":"Fúrók!$A32","v":"vonatkozik. Az Extra árak"}]
[{"$f":"Fúrók!$A33","v":"a készlet erejéig, illetve"},null,null,null,"Rodcraft","ABAC PE spiráltömlő",null,null,"Spiráltömlő elforgós KM 1/4\" csatlkozással 10m",null,null,null,"Spiráltömlő elforgós KM 3/8\" csatlkozással 10m"]
[{"$f":"Fúrók!$A34","v":"visszavonásig érvényesek."},null,null,null,"Típus","Minőségi PE spiráltömlő 8x10 mm acél kuplunggal",null,null,null,"Minőségi PUR spiráltömlő 8x12 mm acél kuplunggal",null,null,null,"PUR spiráltömlő elforgó csatlakozóval"]
[{"$f":"Fúrók!$A35","v":"Az árista a Techtomat Kft és"},null,null,null,"Cikkszám / Típus / (Listaár) Nettó ár",8973005473,"5 m",{"$f":"VLOOKUP(F35,Árlista!$B:$D,3,0)","v":"1 950,-Ft "},null,"KO-SU30805010","8 x 5 10m",{"$f":"VLOOKUP(J35,Árlista!$B:$D,3,0)","v":"4 858,-Ft "},null,"KO-SU30120810","12 x 8 10n",{"$f":"VLOOKUP(N35,Árlista!$B:$D,3,0)","v":"11 260,-Ft "}]
[{"$f":"Fúrók!$A36","v":"Kapitár Kft közös gondozásában"},null,null,null,"Cikkszám / Típus / (Listaár) Nettó ár",8973005519,"10 m",{"$f":"VLOOKUP(F36,Árlista!$B:$D,3,0)","v":"2 550,-Ft "},null,"KO-SU30106510","10 x 6,5 10m",{"$f":"VLOOKUP(J36,Árlista!$B:$D,3,0)","v":"9 213,-Ft "},null,"KO-SU30161110","16 x11  10m",{"$f":"VLOOKUP(N36,Árlista!$B:$D,3,0)","v":"18 110,-Ft "}]
[{"$f":"Fúrók!$A37","v":" jelent meg."},null,null,null,"Cikkszám / Típus / (Listaár) Nettó ár",8973005520,"15 m",{"$f":"VLOOKUP(F37,Árlista!$B:$D,3,0)","v":"3 180,-Ft "}]
[{"$f":"Fúrók!$A38","v":"Minden jog fenntartva."}]
[]
[{"$f":"Fúrók!$A40","v":"Bővebb információ:"}]
[{"$f":"Fúrók!$A41","v":"Szabó Attila"}]
[{"$f":"Fúrók!$A42","v":"30/201-4931 vagy 30/626-8687"}]
[{"$f":"Fúrók!$A43","v":"e-mail"}]
[{"$f":"Fúrók!$A44","v":"Tóth Tamás"},null,null,null,null,null,null,null,null,null,null,null,null,null,"C"]
[{"$f":"Fúrók!$A45","v":"30/603-1596"}]
[null,null,null,null,null,null,null,null,null,null,null,null,null,null,null,null,null,null,{"$f":"IFERROR(MATCH($J62,Árlista!$B:$B,0),\"\")","v":3256}]
[]
[]
[]
[]
[]
[null,null,null,null,null,null,null,null,"A",null,null,null,"B",null,null,null,"D"]
[]
[null,null,null,null,"Rodcraft","Rodcraft SAR21 /SAR31",null,null,null,"Rodcraft SAR22 / SAR32"]
[null,null,null,null,"Típus","Műanyag és Alu házas zárt tömlődob 10 m",null,null,null,"Műanyag és Alu házas zárt tömlődob 16 m",null,null,null,"Fémházas nyitott tömlődob"]
[null,null,null,null,"Cikkszám / Típus / (Listaár) Nettó ár",8951000148,"D8/10m",{"$f":"VLOOKUP(F56,Árlista!$B:$D,3,0)","v":"TOPS* 47 030,-Ft"},null,8951000149,"D10/16m",{"$f":"VLOOKUP(J56,Árlista!$B:$D,3,0)","v":"TOPS* 71 500,-Ft"},null,"KO-AR301212","D12/8 10 m",{"$f":"VLOOKUP(N56,Árlista!$B:$D,3,0)","v":"29 200,-Ft "}]
[null,null,null,null,"Cikkszám / Típus / (Listaár) Nettó ár",8951000150,"D8/10m AL",{"$f":"VLOOKUP(F57,Árlista!$B:$D,3,0)","v":"TOPS* 64 700,-Ft"},null,8951000151,"D10/16m AL",{"$f":"VLOOKUP(J57,Árlista!$B:$D,3,0)","v":"TOPS* 95 100,-Ft"}]
[null,null,null,null,null,"Chicago Pneumatic A",null,null,null,"Chicago Pneumatic B",null,null,null,"Chicago Pneumatic D"]
[null,null,null,null,"Típus","Műanyag és Alu házas zárt tömlődob 10 m",null,null,null,"Műanyag és Alu házas zárt tömlődob 16 m",null,null,null,"Fémházas nyitott tömlődob"]
[null,null,null,null,"Cikkszám / Típus / (Listaár) Nettó ár",8940171991,"D8/10m",{"$f":"VLOOKUP(F60,Árlista!$B:$D,3,0)","v":"STARS* 52 130,-Ft"},null,8940171993,"D10/16m",{"$f":"VLOOKUP(J60,Árlista!$B:$D,3,0)","v":"STARS* 77 100,-Ft"},null,8940172001,"D10/21 m",{"$f":"VLOOKUP(N60,Árlista!$B:$D,3,0)","v":"STARS* 147 600,-Ft"}]
[null,null,null,null,"Cikkszám / Típus / (Listaár) Nettó ár",8940171995,"D8/10m AL",{"$f":"VLOOKUP(F61,Árlista!$B:$D,3,0)","v":"STARS* 69 200,-Ft"},null,8940171997,"D10/16m AL",{"$f":"VLOOKUP(J61,Árlista!$B:$D,3,0)","v":"STARS* 98 500,-Ft"},null,8940172003,"D13/16 m",{"$f":"VLOOKUP(N61,Árlista!$B:$D,3,0)","v":"STARS* 158 300,-Ft"}]
[null,null,null,null,"Cikkszám / Típus / (Listaár) Nettó ár",null,null,null,null,8940171999,"D13/16 m",{"$f":"VLOOKUP(J62,Árlista!$B:$D,3,0)","v":"STARS* 117 400,-Ft"}]

{"sheet":"Szűrők, szabályzók, olajzók","index":22,"n_rows":52,"n_cols":19,"rows_kept":52,"cut":false,"hidden":false,"merged":[[15,5,15,8],[15,9,15,12],[15,13,15,16],[16,5,16,8],[16,10,16,12],[16,14,16,16],[30,5,30,8],[30,9,30,12],[30,13,30,16],[31,5,33,8],[31,9,33,12],[31,13,33,16],[46,5,46,8],[46,9,46,12],[46,13,46,16],[47,5,49,8],[47,9,49,12],[47,13,49,16]]}
["RODCRAFT"]
["Árlista"]
["Megrendelő"]
["Fúrók"]
["Racsnis kulcsok"]
["Csavarbehajtók"]
["Sarokcsiszolók"]
["Légkulcsok"]
["Egyenes csiszolók"]
["Szalag és excenter csiszolók"]
["Polír- és fiber csiszolók"]
["Vésők, leverők …"]
["Szóró- és lefúvató pisztolyok"]
["Vágók, fűrészek, szegecshúzók"]
["Dugókulcsok"]
["Csatlakozók",null,null,null,"Rodcraft","Napi olajozó RC-G1K (4ml)",null,null,null,"Napi olajozó RC-G1M (12ml)",null,null,null,"Napi olajozó RC-G2 (28ml)"]
["Abroncstöltők",null,null,null,"Típus","Csatlakozás: 1/4\"KM - 1/4\"BM",null,null,null,"Csatlakozás: 1/4\"KM - 1/4\"BM",null,null,null,"Csatlakozás: 3/8\"KM - 3/8\"BM"]
["ABAC Levegős szerszámok",null,null,null,"Cikkszám / Típus / (Listaár) Nettó ár",8951011851,"RC-G1K",{"$f":"VLOOKUP(F18,Árlista!$B:$D,3,0)","v":"TOPS* 3 420,-Ft"},null,8951011856,null,{"$f":"VLOOKUP(J18,Árlista!$B:$D,3,0)","v":"11 490,-Ft "},null,8951011853,"6…7mm",{"$f":"VLOOKUP(N18,Árlista!$B:$D,3,0)","v":"19 890,-Ft "},null,null,{"$f":"VLOOKUP(F18,Árlista!$B:$L,10,0)","v":0}]
["Garázsipari eszközök",null,null,null,"Cikkszám / Típus / (Listaár) Nettó ár",8973005852,"ABAC",{"$f":"VLOOKUP(F19,Árlista!$B:$D,3,0)","v":"720,-Ft "},null,null,null,null,null,null,null,null,null,null,{"$f":"VLOOKUP(F19,Árlista!$B:$L,10,0)","v":0}]
["AKKUMULÁTOROS GÉPEK"]
["Tömlők, tömlődobok"]
["Szűrők, szabályozók"]
["Balancerek"]
[]
[{"$f":"Fúrók!$A25","v":"A feltüntett árak a 2020.02.01.-től "}]
[{"$f":"Fúrók!$A26","v":"érvényes listaárak."}]
[{"$f":"Fúrók!$A27","v":"* jelöléssel ellátott termékek a "}]
[{"$f":"Fúrók!$A28","v":"RC TOPS és CP STAR akciós"}]
[{"$f":"Fúrók!$A29","v":"kiadvány árai"}]
[{"$f":"Fúrók!$A30","v":"SP jelöléssel ellátott termékekre"}]
[{"$f":"Fúrók!$A31","v":"speciális viszonteladói árkézés"},null,null,null,"Rodcraft","Bemeneti szűrő",null,null,null,"RC FRL levegőelőkészítő egység",null,null,null,"RC MN2-14 / MN3-14"]
[{"$f":"Fúrók!$A32","v":"vonatkozik. Az Extra árak"},null,null,null,"Típus","Csatlakozás: 1/4\"KM - 1/4\"BM",null,null,null,"Nyomáscsökkentő, 5 micronos szűrő, olajozó. \n2080l/min, 15bar",null,null,null,"Két- és háromrészes ALU házas automata előkészítő egység. Nyomáscsökkentő, 5 micronos szűrő, olajozó. 2220l/min, 10bar, 100ml olajozó"]
[{"$f":"Fúrók!$A33","v":"a készlet erejéig, illetve"}]
[{"$f":"Fúrók!$A34","v":"visszavonásig érvényesek."}]
[{"$f":"Fúrók!$A35","v":"Az árista a Techtomat Kft és"},null,null,null,"Cikkszám / Típus / (Listaár) Nettó ár",8951011855,"RC-F1G",{"$f":"VLOOKUP(F35,Árlista!$B:$D,3,0)","v":"6 160,-Ft "},null,8951000162,"1/4\"",{"$f":"VLOOKUP(J35,Árlista!$B:$D,3,0)","v":"TOPS* 27 760,-Ft"},null,8940168574,"MN2-14",{"$f":"VLOOKUP(N35,Árlista!$B:$D,3,0)","v":"48 440,-Ft "}]
[{"$f":"Fúrók!$A36","v":"Kapitár Kft közös gondozásában"},null,null,null,"Cikkszám / Típus / (Listaár) Nettó ár",null,null,null,null,8951000164,"1/2\"",{"$f":"VLOOKUP(J36,Árlista!$B:$D,3,0)","v":"TOPS* 27 760,-Ft"},null,8940168575,"MN3-14",{"$f":"VLOOKUP(N36,Árlista!$B:$D,3,0)","v":"53 730,-Ft "}]
[{"$f":"Fúrók!$A37","v":" jelent meg."}]
[{"$f":"Fúrók!$A38","v":"Minden jog fenntartva."}]
[]
[{"$f":"Fúrók!$A40","v":"Bővebb információ:"}]
[{"$f":"Fúrók!$A41","v":"Szabó Attila"}]
[{"$f":"Fúrók!$A42","v":"30/201-4931 vagy 30/626-8687"}]
[{"$f":"Fúrók!$A43","v":"e-mail"}]
[{"$f":"Fúrók!$A44","v":"Tóth Tamás"}]
[{"$f":"Fúrók!$A45","v":"30/603-1596"}]
[]
[null,null,null,null,"Rodcraft","RC MN2-12 / MN3-12",null,null,null,"RC MD2LAK-12"]
[null,null,null,null,"Típus","Két- és háromrészes ALU házas, automata előkészítő egység. Nyomáscsökkentő, 5 micronos szűrő, olajozó. 3000l/min, 17bar, 200ml olajozó",null,null,null,"Víz- olajmentes alkalmazásokhoz. ALU házas 1 mikronos előszűrő és 0,01 mikronos finomszűrő szilárd. Maradék olajtartalom max 0,01mg/m3"]
[]
[]
[null,null,null,null,"Cikkszám / Típus / (Listaár) Nettó ár",8940168576," MN2-12",{"$f":"VLOOKUP(F51,Árlista!$B:$D,3,0)","v":"73 000,-Ft "},null,8940168482,"MD2LAK-12",{"$f":"VLOOKUP(J51,Árlista!$B:$D,3,0)","v":"TOPS* 95 100,-Ft"},null,null,null,null,null,null,{"$f":"VLOOKUP(F51,Árlista!$B:$L,10,0)","v":0}]
[null,null,null,null,"Cikkszám / Típus / (Listaár) Nettó ár",8940168577," MN3-12",{"$f":"VLOOKUP(F52,Árlista!$B:$D,3,0)","v":"82 200,-Ft "},null,null,null,null,null,null,null,null,null,null,{"$f":"VLOOKUP(F52,Árlista!$B:$L,10,0)","v":0}]

{"sheet":"Balancerek","index":23,"n_rows":45,"n_cols":15,"rows_kept":45,"cut":false,"hidden":false,"merged":[[34,4,34,7],[34,8,34,11],[34,12,34,15],[35,5,35,15],[16,4,16,7],[16,8,16,11],[16,12,16,15],[17,5,17,7],[17,9,17,11],[17,13,17,15]]}
["RODCRAFT"]
["Árlista"]
["Megrendelő"]
["Fúrók"]
["Racsnis kulcsok"]
["Csavarbehajtók"]
["Sarokcsiszolók"]
["Légkulcsok"]
["Egyenes csiszolók"]
["Szalag és excenter csiszolók"]
["Polír- és fiber csiszolók"]
["Vésők, leverők …"]
["Szóró- és lefúvató pisztolyok"]
["Vágók, fűrészek, szegecshúzók"]
["Dugókulcsok"]
["Csatlakozók"]
["Abroncstöltők",null,null,"Típus","Rodcraft Balancer 9311, 9312, 9313",null,null,null,"Rodcraft Balancer 9320, 9321, 9322, 9323",null,null,null,"Rodcraft Balancer 9336, 9337, 9338, 9339"]
["ABAC Levegős szerszámok",null,null,"Munkahossz [mm]","1600","Hosszhatárolóval",null,null,"2000","Hosszhatárolóval",null,null,"25000","Hosszhatárolóval"]
["Garázsipari eszközök",null,null,"Cikkszám / Típus / (Listaár) Nettó ár",8951011260,"0,4-1,0 kg",{"$f":"VLOOKUP(E19,Árlista!$B:$D,3,0)","v":"24 930,-Ft "},null,8951011263,"1,0-2,5 kg",{"$f":"VLOOKUP(I19,Árlista!$B:$D,3,0)","v":"53 730,-Ft "},null,8951011267,"2,0-4,0 kg",{"$f":"VLOOKUP(M19,Árlista!$B:$D,3,0)","v":"78 800,-Ft "}]
["AKKUMULÁTOROS GÉPEK",null,null,"Cikkszám / Típus / (Listaár) Nettó ár",8951011261,"1,0-2,0 kg",{"$f":"VLOOKUP(E20,Árlista!$B:$D,3,0)","v":"28 120,-Ft "},null,8951011264,"2,0-4,0 kg",null,null,8951011268,"4,0-6,0 kg",{"$f":"VLOOKUP(M20,Árlista!$B:$D,3,0)","v":"86 300,-Ft "}]
["Tömlők, tömlődobok",null,null,"Cikkszám / Típus / (Listaár) Nettó ár",8951011262,"2,0-3,0 kg",{"$f":"VLOOKUP(E21,Árlista!$B:$D,3,0)","v":"29 790,-Ft "},null,8951011265,"4,0-6,0 kg",{"$f":"VLOOKUP(I21,Árlista!$B:$D,3,0)","v":"76 100,-Ft "},null,8951011269,"6,0-8,0 kg",{"$f":"VLOOKUP(M21,Árlista!$B:$D,3,0)","v":"93 000,-Ft "}]
["Szűrők, szabályozók",null,null,"Cikkszám / Típus / (Listaár) Nettó ár",null,null,null,null,8951011266,"6,0-8,0 kg",{"$f":"VLOOKUP(I22,Árlista!$B:$D,3,0)","v":"86 300,-Ft "},null,8951011270,"8,0-10,0 kg",{"$f":"VLOOKUP(M22,Árlista!$B:$D,3,0)","v":"104 300,-Ft "}]
["Balancerek"]
[]
[{"$f":"Fúrók!$A25","v":"A feltüntett árak a 2020.02.01.-től "}]
[{"$f":"Fúrók!$A26","v":"érvényes listaárak."}]
[{"$f":"Fúrók!$A27","v":"* jelöléssel ellátott termékek a "}]
[{"$f":"Fúrók!$A28","v":"RC TOPS és CP STAR akciós"}]
[{"$f":"Fúrók!$A29","v":"kiadvány árai"}]
[{"$f":"Fúrók!$A30","v":"SP jelöléssel ellátott termékekre"}]
[{"$f":"Fúrók!$A31","v":"speciális viszonteladói árkézés"}]
[{"$f":"Fúrók!$A32","v":"vonatkozik. Az Extra árak"}]
[{"$f":"Fúrók!$A33","v":"a készlet erejéig, illetve"}]
[{"$f":"Fúrók!$A34","v":"visszavonásig érvényesek."}]
[{"$f":"Fúrók!$A35","v":"Az árista a Techtomat Kft és"},null,null,"Típus","Rodcraft Balancer",null,null,null,"Rodcraft Balancer",null,null,null,"Rodcraft Balancer"]
[{"$f":"Fúrók!$A36","v":"Kapitár Kft közös gondozásában"},null,null,"Munkahossz [mm]","2000","Hosszhatárolóval amely minden pozícióban rögzíthető, állítható húzóerővel, csapágyazott rögzítőhoroggal."]
[{"$f":"Fúrók!$A37","v":" jelent meg."},null,null,"Cikkszám / Típus / (Listaár) Nettó ár",8951011276,"4,0-7,0 kg",{"$f":"VLOOKUP(E37,Árlista!$B:$D,3,0)","v":"194 400,-Ft "},null,8951011279,"14-18 kg",{"$f":"VLOOKUP(I37,Árlista!$B:$D,3,0)","v":"206 200,-Ft "},null,8951011287,"35-45 kg",{"$f":"VLOOKUP(M37,Árlista!$B:$D,3,0)","v":"387 000,-Ft "}]
[{"$f":"Fúrók!$A38","v":"Minden jog fenntartva."},null,null,"Cikkszám / Típus / (Listaár) Nettó ár",8951011277,"7-10 kg",{"$f":"VLOOKUP(E38,Árlista!$B:$D,3,0)","v":"194 400,-Ft "},null,8951011280,"18-22 kg",{"$f":"VLOOKUP(I38,Árlista!$B:$D,3,0)","v":"215 800,-Ft "},null,8951011288,"45-55 kg",{"$f":"VLOOKUP(M38,Árlista!$B:$D,3,0)","v":"457 000,-Ft "}]
[null,null,null,"Cikkszám / Típus / (Listaár) Nettó ár",8951011278,"10-14 kg",{"$f":"VLOOKUP(E39,Árlista!$B:$D,3,0)","v":"206 200,-Ft "},null,8951011285,"25-30 kg",{"$f":"VLOOKUP(I39,Árlista!$B:$D,3,0)","v":"356 000,-Ft "},null,8951011290,"65-75 kg",{"$f":"VLOOKUP(M39,Árlista!$B:$D,3,0)","v":"C #: 533 000,-Ft"}]
[{"$f":"Fúrók!$A40","v":"Bővebb információ:"}]
[{"$f":"Fúrók!$A41","v":"Szabó Attila"}]
[{"$f":"Fúrók!$A42","v":"30/201-4931 vagy 30/626-8687"}]
[{"$f":"Fúrók!$A43","v":"e-mail"}]
[{"$f":"Fúrók!$A44","v":"Tóth Tamás"}]
[{"$f":"Fúrók!$A45","v":"30/603-1596"}]